{"text_format":"1","workbook":"xlsx","n_sheets":2,"sheets":["Sheet1","Sheet2"],"not_rendered":{"charts":0,"images":0,"macros":1,"external_links":0,"defined_names":4,"comments":1,"pivot_tables":0},"unopened":[],"bounds":{"document_bytes":16777216,"sheet_cells":100000,"rows_first":2000,"rows_last":500,"rows_between":2000,"halvings":0,"cell_chars":16384,"cell_head_chars":4096},"cells_cut":0,"cells_raw":0,"read":"whole","date_system":"1900"}

{"sheet":"Sheet1","index":0,"n_rows":504,"n_cols":18,"rows_kept":504,"cut":false,"hidden":false,"merged":[[2,1,2,9],[0,2,0,10],[1,1,1,4],[1,5,1,6]]}
[null,null,"SITE VISIT Qm CREATOR v1.3.2"]
["SiteVisit Email:","YOUR_ID@usgs.gov",null,null,null,"Collection Agency:",null,"USGS"]
["Output Path:","C:\\"]
["Meas No.","Station No.","Date\n(YYYYMMDD)","Time\n(HHMM)","Party\n(AAA/AAA)","Width\n(ft)","Area\n(ft3)","Velocity\n(ft/s)","Gage Ht\n(ft)","Discharge\n(ft3/s)","Qm Rated","Disch Method","Control Condition","Water Temp\n(°C)","Air Temp\n(°C)","Entry Status",{"$f":"COUNTIF(P5:P504,\"WARNING\")","v":0}]
[1,"01010000",20110101,954,"YES",253,200,0.5,6.3,100,"P","QSCMM","Light debris",12,2,{"$f":"IF(OR(A5<>\"\",B5<>\"\",C5<>\"\",E5<>\"\",F5<>\"\",G5<>\"\",H5<>\"\",I5<>\"\",J5<>\"\",K5<>\"\",L5<>\"\",M5<>\"\",N5<>\"\",O5<>\"\"),IF(AND(A5<>\"\",B5<>\"\",C5<>\"\",E5<>\"\",J5<>\"\",L5<>\"\"),IF(AND(G5<>\"\",H5<>\"\"),IF(AND(J5<(G5*H5)*1.02,J5>(G5*H5)*0.98),\"COMPLETE\",IF(OR(UPPER(L5)=\"QSCMM\",UPPER(L5)=\"QADCP\"),\"WARNING\",\"COMPLETE\")),\"COMPLETE\"),\"INCOMPLETE\"),\"\")","v":"COMPLETE"},{"$f":"IF(K5<>\"\",VLOOKUP(UPPER(K5),Sheet2!$A$3:$B$7,2,FALSE),\"\")","v":"POOR"},{"$f":"IF(M5<>\"\",VLOOKUP(UPPER(M5),Sheet2!$A$9:$B$24,2,FALSE),\"\")","v":"LGDB"}]
[null,null,null,null,null,null,null,null,null,null,null,null,null,null,null,{"$f":"IF(OR(A6<>\"\",B6<>\"\",C6<>\"\",E6<>\"\",F6<>\"\",G6<>\"\",H6<>\"\",I6<>\"\",J6<>\"\",K6<>\"\",L6<>\"\",M6<>\"\",N6<>\"\",O6<>\"\"),IF(AND(A6<>\"\",B6<>\"\",C6<>\"\",E6<>\"\",J6<>\"\",L6<>\"\"),IF(AND(G6<>\"\",H6<>\"\"),IF(AND(J6<(G6*H6)*1.02,J6>(G6*H6)*0.98),\"COMPLETE\",IF(OR(UPPER(L6)=\"QSCMM\",UPPER(L6)=\"QADCP\"),\"WARNING\",\"COMPLETE\")),\"COMPLETE\"),\"INCOMPLETE\"),\"\")","v":""},{"$f":"IF(K6<>\"\",VLOOKUP(UPPER(K6),Sheet2!$A$3:$B$7,2,FALSE),\"\")","v":""},{"$f":"IF(M6<>\"\",VLOOKUP(UPPER(M6),Sheet2!$A$9:$B$24,2,FALSE),\"\")","v":""}]
[null,null,null,null,null,null,null,null,null,null,null,null,null,null,null,"",{"$f":"IF(K7<>\"\",VLOOKUP(UPPER(K7),Sheet2!$A$3:$B$7,2,FALSE),\"\")","v":""},{"$f":"IF(M7<>\"\",VLOOKUP(UPPER(M7),Sheet2!$A$9:$B$24,2,FALSE),\"\")","v":""}]
[null,null,null,null,null,null,null,null,null,null,null,null,null,null,null,"",{"$f":"IF(K8<>\"\",VLOOKUP(UPPER(K8),Sheet2!$A$3:$B$7,2,FALSE),\"\")","v":""},{"$f":"IF(M8<>\"\",VLOOKUP(UPPER(M8),Sheet2!$A$9:$B$24,2,FALSE),\"\")","v":""}]
[null,null,null,null,null,null,null,null,null,null,null,null,null,null,null,"",{"$f":"IF(K9<>\"\",VLOOKUP(UPPER(K9),Sheet2!$A$3:$B$7,2,FALSE),\"\")","v":""},{"$f":"IF(M9<>\"\",VLOOKUP(UPPER(M9),Sheet2!$A$9:$B$24,2,FALSE),\"\")","v":""}]
[null,null,null,null,null,null,null,null,null,null,null,null,null,null,null,"",{"$f":"IF(K10<>\"\",VLOOKUP(UPPER(K10),Sheet2!$A$3:$B$7,2,FALSE),\"\")","v":""},{"$f":"IF(M10<>\"\",VLOOKUP(UPPER(M10),Sheet2!$A$9:$B$24,2,FALSE),\"\")","v":""}]
[null,null,null,null,null,null,null,null,null,null,null,null,null,null,null,"",{"$f":"IF(K11<>\"\",VLOOKUP(UPPER(K11),Sheet2!$A$3:$B$7,2,FALSE),\"\")","v":""},{"$f":"IF(M11<>\"\",VLOOKUP(UPPER(M11),Sheet2!$A$9:$B$24,2,FALSE),\"\")","v":""}]
[null,null,null,null,null,null,null,null,null,null,null,null,null,null,null,"",{"$f":"IF(K12<>\"\",VLOOKUP(UPPER(K12),Sheet2!$A$3:$B$7,2,FALSE),\"\")","v":""},{"$f":"IF(M12<>\"\",VLOOKUP(UPPER(M12),Sheet2!$A$9:$B$24,2,FALSE),\"\")","v":""}]
[null,null,null,null,null,null,null,null,null,null,null,null,null,null,null,"",{"$f":"IF(K13<>\"\",VLOOKUP(UPPER(K13),Sheet2!$A$3:$B$7,2,FALSE),\"\")","v":""},{"$f":"IF(M13<>\"\",VLOOKUP(UPPER(M13),Sheet2!$A$9:$B$24,2,FALSE),\"\")","v":""}]
[null,null,null,null,null,null,null,null,null,null,null,null,null,null,null,"",{"$f":"IF(K14<>\"\",VLOOKUP(UPPER(K14),Sheet2!$A$3:$B$7,2,FALSE),\"\")","v":""},{"$f":"IF(M14<>\"\",VLOOKUP(UPPER(M14),Sheet2!$A$9:$B$24,2,FALSE),\"\")","v":""}]
[null,null,null,null,null,null,null,null,null,null,null,null,null,null,null,"",{"$f":"IF(K15<>\"\",VLOOKUP(UPPER(K15),Sheet2!$A$3:$B$7,2,FALSE),\"\")","v":""},{"$f":"IF(M15<>\"\",VLOOKUP(UPPER(M15),Sheet2!$A$9:$B$24,2,FALSE),\"\")","v":""}]
[null,null,null,null,null,null,null,null,null,null,null,null,null,null,null,"",{"$f":"IF(K16<>\"\",VLOOKUP(UPPER(K16),Sheet2!$A$3:$B$7,2,FALSE),\"\")","v":""},{"$f":"IF(M16<>\"\",VLOOKUP(UPPER(M16),Sheet2!$A$9:$B$24,2,FALSE),\"\")","v":""}]
[null,null,null,null,null,null,null,null,null,null,null,null,null,null,null,"",{"$f":"IF(K17<>\"\",VLOOKUP(UPPER(K17),Sheet2!$A$3:$B$7,2,FALSE),\"\")","v":""},{"$f":"IF(M17<>\"\",VLOOKUP(UPPER(M17),Sheet2!$A$9:$B$24,2,FALSE),\"\")","v":""}]
[null,null,null,null,null,null,null,null,null,null,null,null,null,null,null,"",{"$f":"IF(K18<>\"\",VLOOKUP(UPPER(K18),Sheet2!$A$3:$B$7,2,FALSE),\"\")","v":""},{"$f":"IF(M18<>\"\",VLOOKUP(UPPER(M18),Sheet2!$A$9:$B$24,2,FALSE),\"\")","v":""}]
[null,null,null,null,null,null,null,null,null,null,null,null,null,null,null,"",{"$f":"IF(K19<>\"\",VLOOKUP(UPPER(K19),Sheet2!$A$3:$B$7,2,FALSE),\"\")","v":""},{"$f":"IF(M19<>\"\",VLOOKUP(UPPER(M19),Sheet2!$A$9:$B$24,2,FALSE),\"\")","v":""}]
[null,null,null,null,null,null,null,null,null,null,null,null,null,null,null,"",{"$f":"IF(K20<>\"\",VLOOKUP(UPPER(K20),Sheet2!$A$3:$B$7,2,FALSE),\"\")","v":""},{"$f":"IF(M20<>\"\",VLOOKUP(UPPER(M20),Sheet2!$A$9:$B$24,2,FALSE),\"\")","v":""}]
[null,null,null,null,null,null,null,null,null,null,null,null,null,null,null,"",{"$f":"IF(K21<>\"\",VLOOKUP(UPPER(K21),Sheet2!$A$3:$B$7,2,FALSE),\"\")","v":""},{"$f":"IF(M21<>\"\",VLOOKUP(UPPER(M21),Sheet2!$A$9:$B$24,2,FALSE),\"\")","v":""}]
[null,null,null,null,null,null,null,null,null,null,null,null,null,null,null,"",{"$f":"IF(K22<>\"\",VLOOKUP(UPPER(K22),Sheet2!$A$3:$B$7,2,FALSE),\"\")","v":""},{"$f":"IF(M22<>\"\",VLOOKUP(UPPER(M22),Sheet2!$A$9:$B$24,2,FALSE),\"\")","v":""}]
[null,null,null,null,null,null,null,null,null,null,null,null,null,null,null,"",{"$f":"IF(K23<>\"\",VLOOKUP(UPPER(K23),Sheet2!$A$3:$B$7,2,FALSE),\"\")","v":""},{"$f":"IF(M23<>\"\",VLOOKUP(UPPER(M23),Sheet2!$A$9:$B$24,2,FALSE),\"\")","v":""}]
[null,null,null,null,null,null,null,null,null,null,null,null,null,null,null,"",{"$f":"IF(K24<>\"\",VLOOKUP(UPPER(K24),Sheet2!$A$3:$B$7,2,FALSE),\"\")","v":""},{"$f":"IF(M24<>\"\",VLOOKUP(UPPER(M24),Sheet2!$A$9:$B$24,2,FALSE),\"\")","v":""}]
[null,null,null,null,null,null,null,null,null,null,null,null,null,null,null,"",{"$f":"IF(K25<>\"\",VLOOKUP(UPPER(K25),Sheet2!$A$3:$B$7,2,FALSE),\"\")","v":""},{"$f":"IF(M25<>\"\",VLOOKUP(UPPER(M25),Sheet2!$A$9:$B$24,2,FALSE),\"\")","v":""}]
[null,null,null,null,null,null,null,null,null,null,null,null,null,null,null,"",{"$f":"IF(K26<>\"\",VLOOKUP(UPPER(K26),Sheet2!$A$3:$B$7,2,FALSE),\"\")","v":""},{"$f":"IF(M26<>\"\",VLOOKUP(UPPER(M26),Sheet2!$A$9:$B$24,2,FALSE),\"\")","v":""}]
[null,null,null,null,null,null,null,null,null,null,null,null,null,null,null,"",{"$f":"IF(K27<>\"\",VLOOKUP(UPPER(K27),Sheet2!$A$3:$B$7,2,FALSE),\"\")","v":""},{"$f":"IF(M27<>\"\",VLOOKUP(UPPER(M27),Sheet2!$A$9:$B$24,2,FALSE),\"\")","v":""}]
[null,null,null,null,null,null,null,null,null,null,null,null,null,null,null,"",{"$f":"IF(K28<>\"\",VLOOKUP(UPPER(K28),Sheet2!$A$3:$B$7,2,FALSE),\"\")","v":""},{"$f":"IF(M28<>\"\",VLOOKUP(UPPER(M28),Sheet2!$A$9:$B$24,2,FALSE),\"\")","v":""}]
[null,null,null,null,null,null,null,null,null,null,null,null,null,null,null,"",{"$f":"IF(K29<>\"\",VLOOKUP(UPPER(K29),Sheet2!$A$3:$B$7,2,FALSE),\"\")","v":""},{"$f":"IF(M29<>\"\",VLOOKUP(UPPER(M29),Sheet2!$A$9:$B$24,2,FALSE),\"\")","v":""}]
[null,null,null,null,null,null,null,null,null,null,null,null,null,null,null,"",{"$f":"IF(K30<>\"\",VLOOKUP(UPPER(K30),Sheet2!$A$3:$B$7,2,FALSE),\"\")","v":""},{"$f":"IF(M30<>\"\",VLOOKUP(UPPER(M30),Sheet2!$A$9:$B$24,2,FALSE),\"\")","v":""}]
[null,null,null,null,null,null,null,null,null,null,null,null,null,null,null,"",{"$f":"IF(K31<>\"\",VLOOKUP(UPPER(K31),Sheet2!$A$3:$B$7,2,FALSE),\"\")","v":""},{"$f":"IF(M31<>\"\",VLOOKUP(UPPER(M31),Sheet2!$A$9:$B$24,2,FALSE),\"\")","v":""}]
[null,null,null,null,null,null,null,null,null,null,null,null,null,null,null,"",{"$f":"IF(K32<>\"\",VLOOKUP(UPPER(K32),Sheet2!$A$3:$B$7,2,FALSE),\"\")","v":""},{"$f":"IF(M32<>\"\",VLOOKUP(UPPER(M32),Sheet2!$A$9:$B$24,2,FALSE),\"\")","v":""}]
[null,null,null,null,null,null,null,null,null,null,null,null,null,null,null,"",{"$f":"IF(K33<>\"\",VLOOKUP(UPPER(K33),Sheet2!$A$3:$B$7,2,FALSE),\"\")","v":""},{"$f":"IF(M33<>\"\",VLOOKUP(UPPER(M33),Sheet2!$A$9:$B$24,2,FALSE),\"\")","v":""}]
[null,null,null,null,null,null,null,null,null,null,null,null,null,null,null,"",{"$f":"IF(K34<>\"\",VLOOKUP(UPPER(K34),Sheet2!$A$3:$B$7,2,FALSE),\"\")","v":""},{"$f":"IF(M34<>\"\",VLOOKUP(UPPER(M34),Sheet2!$A$9:$B$24,2,FALSE),\"\")","v":""}]
[null,null,null,null,null,null,null,null,null,null,null,null,null,null,null,"",{"$f":"IF(K35<>\"\",VLOOKUP(UPPER(K35),Sheet2!$A$3:$B$7,2,FALSE),\"\")","v":""},{"$f":"IF(M35<>\"\",VLOOKUP(UPPER(M35),Sheet2!$A$9:$B$24,2,FALSE),\"\")","v":""}]
[null,null,null,null,null,null,null,null,null,null,null,null,null,null,null,"",{"$f":"IF(K36<>\"\",VLOOKUP(UPPER(K36),Sheet2!$A$3:$B$7,2,FALSE),\"\")","v":""},{"$f":"IF(M36<>\"\",VLOOKUP(UPPER(M36),Sheet2!$A$9:$B$24,2,FALSE),\"\")","v":""}]
[null,null,null,null,null,null,null,null,null,null,null,null,null,null,null,"",{"$f":"IF(K37<>\"\",VLOOKUP(UPPER(K37),Sheet2!$A$3:$B$7,2,FALSE),\"\")","v":""},{"$f":"IF(M37<>\"\",VLOOKUP(UPPER(M37),Sheet2!$A$9:$B$24,2,FALSE),\"\")","v":""}]
[null,null,null,null,null,null,null,null,null,null,null,null,null,null,null,"",{"$f":"IF(K38<>\"\",VLOOKUP(UPPER(K38),Sheet2!$A$3:$B$7,2,FALSE),\"\")","v":""},{"$f":"IF(M38<>\"\",VLOOKUP(UPPER(M38),Sheet2!$A$9:$B$24,2,FALSE),\"\")","v":""}]
[null,null,null,null,null,null,null,null,null,null,null,null,null,null,null,"",{"$f":"IF(K39<>\"\",VLOOKUP(UPPER(K39),Sheet2!$A$3:$B$7,2,FALSE),\"\")","v":""},{"$f":"IF(M39<>\"\",VLOOKUP(UPPER(M39),Sheet2!$A$9:$B$24,2,FALSE),\"\")","v":""}]
[null,null,null,null,null,null,null,null,null,null,null,null,null,null,null,"",{"$f":"IF(K40<>\"\",VLOOKUP(UPPER(K40),Sheet2!$A$3:$B$7,2,FALSE),\"\")","v":""},{"$f":"IF(M40<>\"\",VLOOKUP(UPPER(M40),Sheet2!$A$9:$B$24,2,FALSE),\"\")","v":""}]
[null,null,null,null,null,null,null,null,null,null,null,null,null,null,null,"",{"$f":"IF(K41<>\"\",VLOOKUP(UPPER(K41),Sheet2!$A$3:$B$7,2,FALSE),\"\")","v":""},{"$f":"IF(M41<>\"\",VLOOKUP(UPPER(M41),Sheet2!$A$9:$B$24,2,FALSE),\"\")","v":""}]
[null,null,null,null,null,null,null,null,null,null,null,null,null,null,null,"",{"$f":"IF(K42<>\"\",VLOOKUP(UPPER(K42),Sheet2!$A$3:$B$7,2,FALSE),\"\")","v":""},{"$f":"IF(M42<>\"\",VLOOKUP(UPPER(M42),Sheet2!$A$9:$B$24,2,FALSE),\"\")","v":""}]
[null,null,null,null,null,null,null,null,null,null,null,null,null,null,null,"",{"$f":"IF(K43<>\"\",VLOOKUP(UPPER(K43),Sheet2!$A$3:$B$7,2,FALSE),\"\")","v":""},{"$f":"IF(M43<>\"\",VLOOKUP(UPPER(M43),Sheet2!$A$9:$B$24,2,FALSE),\"\")","v":""}]
[null,null,null,null,null,null,null,null,null,null,null,null,null,null,null,"",{"$f":"IF(K44<>\"\",VLOOKUP(UPPER(K44),Sheet2!$A$3:$B$7,2,FALSE),\"\")","v":""},{"$f":"IF(M44<>\"\",VLOOKUP(UPPER(M44),Sheet2!$A$9:$B$24,2,FALSE),\"\")","v":""}]
[null,null,null,null,null,null,null,null,null,null,null,null,null,null,null,"",{"$f":"IF(K45<>\"\",VLOOKUP(UPPER(K45),Sheet2!$A$3:$B$7,2,FALSE),\"\")","v":""},{"$f":"IF(M45<>\"\",VLOOKUP(UPPER(M45),Sheet2!$A$9:$B$24,2,FALSE),\"\")","v":""}]
[null,null,null,null,null,null,null,null,null,null,null,null,null,null,null,"",{"$f":"IF(K46<>\"\",VLOOKUP(UPPER(K46),Sheet2!$A$3:$B$7,2,FALSE),\"\")","v":""},{"$f":"IF(M46<>\"\",VLOOKUP(UPPER(M46),Sheet2!$A$9:$B$24,2,FALSE),\"\")","v":""}]
[null,null,null,null,null,null,null,null,null,null,null,null,null,null,null,"",{"$f":"IF(K47<>\"\",VLOOKUP(UPPER(K47),Sheet2!$A$3:$B$7,2,FALSE),\"\")","v":""},{"$f":"IF(M47<>\"\",VLOOKUP(UPPER(M47),Sheet2!$A$9:$B$24,2,FALSE),\"\")","v":""}]
[null,null,null,null,null,null,null,null,null,null,null,null,null,null,null,"",{"$f":"IF(K48<>\"\",VLOOKUP(UPPER(K48),Sheet2!$A$3:$B$7,2,FALSE),\"\")","v":""},{"$f":"IF(M48<>\"\",VLOOKUP(UPPER(M48),Sheet2!$A$9:$B$24,2,FALSE),\"\")","v":""}]
[null,null,null,null,null,null,null,null,null,null,null,null,null,null,null,"",{"$f":"IF(K49<>\"\",VLOOKUP(UPPER(K49),Sheet2!$A$3:$B$7,2,FALSE),\"\")","v":""},{"$f":"IF(M49<>\"\",VLOOKUP(UPPER(M49),Sheet2!$A$9:$B$24,2,FALSE),\"\")","v":""}]
[null,null,null,null,null,null,null,null,null,null,null,null,null,null,null,"",{"$f":"IF(K50<>\"\",VLOOKUP(UPPER(K50),Sheet2!$A$3:$B$7,2,FALSE),\"\")","v":""},{"$f":"IF(M50<>\"\",VLOOKUP(UPPER(M50),Sheet2!$A$9:$B$24,2,FALSE),\"\")","v":""}]
[null,null,null,null,null,null,null,null,null,null,null,null,null,null,null,"",{"$f":"IF(K51<>\"\",VLOOKUP(UPPER(K51),Sheet2!$A$3:$B$7,2,FALSE),\"\")","v":""},{"$f":"IF(M51<>\"\",VLOOKUP(UPPER(M51),Sheet2!$A$9:$B$24,2,FALSE),\"\")","v":""}]
[null,null,null,null,null,null,null,null,null,null,null,null,null,null,null,"",{"$f":"IF(K52<>\"\",VLOOKUP(UPPER(K52),Sheet2!$A$3:$B$7,2,FALSE),\"\")","v":""},{"$f":"IF(M52<>\"\",VLOOKUP(UPPER(M52),Sheet2!$A$9:$B$24,2,FALSE),\"\")","v":""}]
[null,null,null,null,null,null,null,null,null,null,null,null,null,null,null,"",{"$f":"IF(K53<>\"\",VLOOKUP(UPPER(K53),Sheet2!$A$3:$B$7,2,FALSE),\"\")","v":""},{"$f":"IF(M53<>\"\",VLOOKUP(UPPER(M53),Sheet2!$A$9:$B$24,2,FALSE),\"\")","v":""}]
[null,null,null,null,null,null,null,null,null,null,null,null,null,null,null,"",{"$f":"IF(K54<>\"\",VLOOKUP(UPPER(K54),Sheet2!$A$3:$B$7,2,FALSE),\"\")","v":""},{"$f":"IF(M54<>\"\",VLOOKUP(UPPER(M54),Sheet2!$A$9:$B$24,2,FALSE),\"\")","v":""}]
[null,null,null,null,null,null,null,null,null,null,null,null,null,null,null,"",{"$f":"IF(K55<>\"\",VLOOKUP(UPPER(K55),Sheet2!$A$3:$B$7,2,FALSE),\"\")","v":""},{"$f":"IF(M55<>\"\",VLOOKUP(UPPER(M55),Sheet2!$A$9:$B$24,2,FALSE),\"\")","v":""}]
[null,null,null,null,null,null,null,null,null,null,null,null,null,null,null,"",{"$f":"IF(K56<>\"\",VLOOKUP(UPPER(K56),Sheet2!$A$3:$B$7,2,FALSE),\"\")","v":""},{"$f":"IF(M56<>\"\",VLOOKUP(UPPER(M56),Sheet2!$A$9:$B$24,2,FALSE),\"\")","v":""}]
[null,null,null,null,null,null,null,null,null,null,null,null,null,null,null,"",{"$f":"IF(K57<>\"\",VLOOKUP(UPPER(K57),Sheet2!$A$3:$B$7,2,FALSE),\"\")","v":""},{"$f":"IF(M57<>\"\",VLOOKUP(UPPER(M57),Sheet2!$A$9:$B$24,2,FALSE),\"\")","v":""}]
[null,null,null,null,null,null,null,null,null,null,null,null,null,null,null,"",{"$f":"IF(K58<>\"\",VLOOKUP(UPPER(K58),Sheet2!$A$3:$B$7,2,FALSE),\"\")","v":""},{"$f":"IF(M58<>\"\",VLOOKUP(UPPER(M58),Sheet2!$A$9:$B$24,2,FALSE),\"\")","v":""}]
[null,null,null,null,null,null,null,null,null,null,null,null,null,null,null,"",{"$f":"IF(K59<>\"\",VLOOKUP(UPPER(K59),Sheet2!$A$3:$B$7,2,FALSE),\"\")","v":""},{"$f":"IF(M59<>\"\",VLOOKUP(UPPER(M59),Sheet2!$A$9:$B$24,2,FALSE),\"\")","v":""}]
[null,null,null,null,null,null,null,null,null,null,null,null,null,null,null,"",{"$f":"IF(K60<>\"\",VLOOKUP(UPPER(K60),Sheet2!$A$3:$B$7,2,FALSE),\"\")","v":""},{"$f":"IF(M60<>\"\",VLOOKUP(UPPER(M60),Sheet2!$A$9:$B$24,2,FALSE),\"\")","v":""}]
[null,null,null,null,null,null,null,null,null,null,null,null,null,null,null,"",{"$f":"IF(K61<>\"\",VLOOKUP(UPPER(K61),Sheet2!$A$3:$B$7,2,FALSE),\"\")","v":""},{"$f":"IF(M61<>\"\",VLOOKUP(UPPER(M61),Sheet2!$A$9:$B$24,2,FALSE),\"\")","v":""}]
[null,null,null,null,null,null,null,null,null,null,null,null,null,null,null,"",{"$f":"IF(K62<>\"\",VLOOKUP(UPPER(K62),Sheet2!$A$3:$B$7,2,FALSE),\"\")","v":""},{"$f":"IF(M62<>\"\",VLOOKUP(UPPER(M62),Sheet2!$A$9:$B$24,2,FALSE),\"\")","v":""}]
[null,null,null,null,null,null,null,null,null,null,null,null,null,null,null,"",{"$f":"IF(K63<>\"\",VLOOKUP(UPPER(K63),Sheet2!$A$3:$B$7,2,FALSE),\"\")","v":""},{"$f":"IF(M63<>\"\",VLOOKUP(UPPER(M63),Sheet2!$A$9:$B$24,2,FALSE),\"\")","v":""}]
[null,null,null,null,null,null,null,null,null,null,null,null,null,null,null,"",{"$f":"IF(K64<>\"\",VLOOKUP(UPPER(K64),Sheet2!$A$3:$B$7,2,FALSE),\"\")","v":""},{"$f":"IF(M64<>\"\",VLOOKUP(UPPER(M64),Sheet2!$A$9:$B$24,2,FALSE),\"\")","v":""}]
[null,null,null,null,null,null,null,null,null,null,null,null,null,null,null,"",{"$f":"IF(K65<>\"\",VLOOKUP(UPPER(K65),Sheet2!$A$3:$B$7,2,FALSE),\"\")","v":""},{"$f":"IF(M65<>\"\",VLOOKUP(UPPER(M65),Sheet2!$A$9:$B$24,2,FALSE),\"\")","v":""}]
[null,null,null,null,null,null,null,null,null,null,null,null,null,null,null,"",{"$f":"IF(K66<>\"\",VLOOKUP(UPPER(K66),Sheet2!$A$3:$B$7,2,FALSE),\"\")","v":""},{"$f":"IF(M66<>\"\",VLOOKUP(UPPER(M66),Sheet2!$A$9:$B$24,2,FALSE),\"\")","v":""}]
[null,null,null,null,null,null,null,null,null,null,null,null,null,null,null,"",{"$f":"IF(K67<>\"\",VLOOKUP(UPPER(K67),Sheet2!$A$3:$B$7,2,FALSE),\"\")","v":""},{"$f":"IF(M67<>\"\",VLOOKUP(UPPER(M67),Sheet2!$A$9:$B$24,2,FALSE),\"\")","v":""}]
[null,null,null,null,null,null,null,null,null,null,null,null,null,null,null,"",{"$f":"IF(K68<>\"\",VLOOKUP(UPPER(K68),Sheet2!$A$3:$B$7,2,FALSE),\"\")","v":""},{"$f":"IF(M68<>\"\",VLOOKUP(UPPER(M68),Sheet2!$A$9:$B$24,2,FALSE),\"\")","v":""}]
[null,null,null,null,null,null,null,null,null,null,null,null,null,null,null,"",{"$f":"IF(K69<>\"\",VLOOKUP(UPPER(K69),Sheet2!$A$3:$B$7,2,FALSE),\"\")","v":""},{"$f":"IF(M69<>\"\",VLOOKUP(UPPER(M69),Sheet2!$A$9:$B$24,2,FALSE),\"\")","v":""}]
[null,null,null,null,null,null,null,null,null,null,null,null,null,null,null,{"$f":"IF(OR(A70<>\"\",B70<>\"\",C70<>\"\",E70<>\"\",F70<>\"\",G70<>\"\",H70<>\"\",I70<>\"\",J70<>\"\",K70<>\"\",L70<>\"\",M70<>\"\",N70<>\"\",O70<>\"\"),IF(AND(A70<>\"\",B70<>\"\",C70<>\"\",E70<>\"\",J70<>\"\",L70<>\"\"),IF(AND(G70<>\"\",H70<>\"\"),IF(AND(J70<(G70*H70)*1.02,J70>(G70*H70)*0.98),\"COMPLETE\",IF(OR(UPPER(L70)=\"QSCMM\",UPPER(L70)=\"QADCP\"),\"WARNING\",\"COMPLETE\")),\"COMPLETE\"),\"INCOMPLETE\"),\"\")","v":""},{"$f":"IF(K70<>\"\",VLOOKUP(UPPER(K70),Sheet2!$A$3:$B$7,2,FALSE),\"\")","v":""},{"$f":"IF(M70<>\"\",VLOOKUP(UPPER(M70),Sheet2!$A$9:$B$24,2,FALSE),\"\")","v":""}]
[null,null,null,null,null,null,null,null,null,null,null,null,null,null,null,"",{"$f":"IF(K71<>\"\",VLOOKUP(UPPER(K71),Sheet2!$A$3:$B$7,2,FALSE),\"\")","v":""},{"$f":"IF(M71<>\"\",VLOOKUP(UPPER(M71),Sheet2!$A$9:$B$24,2,FALSE),\"\")","v":""}]
[null,null,null,null,null,null,null,null,null,null,null,null,null,null,null,"",{"$f":"IF(K72<>\"\",VLOOKUP(UPPER(K72),Sheet2!$A$3:$B$7,2,FALSE),\"\")","v":""},{"$f":"IF(M72<>\"\",VLOOKUP(UPPER(M72),Sheet2!$A$9:$B$24,2,FALSE),\"\")","v":""}]
[null,null,null,null,null,null,null,null,null,null,null,null,null,null,null,"",{"$f":"IF(K73<>\"\",VLOOKUP(UPPER(K73),Sheet2!$A$3:$B$7,2,FALSE),\"\")","v":""},{"$f":"IF(M73<>\"\",VLOOKUP(UPPER(M73),Sheet2!$A$9:$B$24,2,FALSE),\"\")","v":""}]
[null,null,null,null,null,null,null,null,null,null,null,null,null,null,null,"",{"$f":"IF(K74<>\"\",VLOOKUP(UPPER(K74),Sheet2!$A$3:$B$7,2,FALSE),\"\")","v":""},{"$f":"IF(M74<>\"\",VLOOKUP(UPPER(M74),Sheet2!$A$9:$B$24,2,FALSE),\"\")","v":""}]
[null,null,null,null,null,null,null,null,null,null,null,null,null,null,null,"",{"$f":"IF(K75<>\"\",VLOOKUP(UPPER(K75),Sheet2!$A$3:$B$7,2,FALSE),\"\")","v":""},{"$f":"IF(M75<>\"\",VLOOKUP(UPPER(M75),Sheet2!$A$9:$B$24,2,FALSE),\"\")","v":""}]
[null,null,null,null,null,null,null,null,null,null,null,null,null,null,null,"",{"$f":"IF(K76<>\"\",VLOOKUP(UPPER(K76),Sheet2!$A$3:$B$7,2,FALSE),\"\")","v":""},{"$f":"IF(M76<>\"\",VLOOKUP(UPPER(M76),Sheet2!$A$9:$B$24,2,FALSE),\"\")","v":""}]
[null,null,null,null,null,null,null,null,null,null,null,null,null,null,null,"",{"$f":"IF(K77<>\"\",VLOOKUP(UPPER(K77),Sheet2!$A$3:$B$7,2,FALSE),\"\")","v":""},{"$f":"IF(M77<>\"\",VLOOKUP(UPPER(M77),Sheet2!$A$9:$B$24,2,FALSE),\"\")","v":""}]
[null,null,null,null,null,null,null,null,null,null,null,null,null,null,null,"",{"$f":"IF(K78<>\"\",VLOOKUP(UPPER(K78),Sheet2!$A$3:$B$7,2,FALSE),\"\")","v":""},{"$f":"IF(M78<>\"\",VLOOKUP(UPPER(M78),Sheet2!$A$9:$B$24,2,FALSE),\"\")","v":""}]
[null,null,null,null,null,null,null,null,null,null,null,null,null,null,null,"",{"$f":"IF(K79<>\"\",VLOOKUP(UPPER(K79),Sheet2!$A$3:$B$7,2,FALSE),\"\")","v":""},{"$f":"IF(M79<>\"\",VLOOKUP(UPPER(M79),Sheet2!$A$9:$B$24,2,FALSE),\"\")","v":""}]
[null,null,null,null,null,null,null,null,null,null,null,null,null,null,null,"",{"$f":"IF(K80<>\"\",VLOOKUP(UPPER(K80),Sheet2!$A$3:$B$7,2,FALSE),\"\")","v":""},{"$f":"IF(M80<>\"\",VLOOKUP(UPPER(M80),Sheet2!$A$9:$B$24,2,FALSE),\"\")","v":""}]
[null,null,null,null,null,null,null,null,null,null,null,null,null,null,null,"",{"$f":"IF(K81<>\"\",VLOOKUP(UPPER(K81),Sheet2!$A$3:$B$7,2,FALSE),\"\")","v":""},{"$f":"IF(M81<>\"\",VLOOKUP(UPPER(M81),Sheet2!$A$9:$B$24,2,FALSE),\"\")","v":""}]
[null,null,null,null,null,null,null,null,null,null,null,null,null,null,null,"",{"$f":"IF(K82<>\"\",VLOOKUP(UPPER(K82),Sheet2!$A$3:$B$7,2,FALSE),\"\")","v":""},{"$f":"IF(M82<>\"\",VLOOKUP(UPPER(M82),Sheet2!$A$9:$B$24,2,FALSE),\"\")","v":""}]
[null,null,null,null,null,null,null,null,null,null,null,null,null,null,null,"",{"$f":"IF(K83<>\"\",VLOOKUP(UPPER(K83),Sheet2!$A$3:$B$7,2,FALSE),\"\")","v":""},{"$f":"IF(M83<>\"\",VLOOKUP(UPPER(M83),Sheet2!$A$9:$B$24,2,FALSE),\"\")","v":""}]
[null,null,null,null,null,null,null,null,null,null,null,null,null,null,null,"",{"$f":"IF(K84<>\"\",VLOOKUP(UPPER(K84),Sheet2!$A$3:$B$7,2,FALSE),\"\")","v":""},{"$f":"IF(M84<>\"\",VLOOKUP(UPPER(M84),Sheet2!$A$9:$B$24,2,FALSE),\"\")","v":""}]
[null,null,null,null,null,null,null,null,null,null,null,null,null,null,null,"",{"$f":"IF(K85<>\"\",VLOOKUP(UPPER(K85),Sheet2!$A$3:$B$7,2,FALSE),\"\")","v":""},{"$f":"IF(M85<>\"\",VLOOKUP(UPPER(M85),Sheet2!$A$9:$B$24,2,FALSE),\"\")","v":""}]
[null,null,null,null,null,null,null,null,null,null,null,null,null,null,null,"",{"$f":"IF(K86<>\"\",VLOOKUP(UPPER(K86),Sheet2!$A$3:$B$7,2,FALSE),\"\")","v":""},{"$f":"IF(M86<>\"\",VLOOKUP(UPPER(M86),Sheet2!$A$9:$B$24,2,FALSE),\"\")","v":""}]
[null,null,null,null,null,null,null,null,null,null,null,null,null,null,null,"",{"$f":"IF(K87<>\"\",VLOOKUP(UPPER(K87),Sheet2!$A$3:$B$7,2,FALSE),\"\")","v":""},{"$f":"IF(M87<>\"\",VLOOKUP(UPPER(M87),Sheet2!$A$9:$B$24,2,FALSE),\"\")","v":""}]
[null,null,null,null,null,null,null,null,null,null,null,null,null,null,null,"",{"$f":"IF(K88<>\"\",VLOOKUP(UPPER(K88),Sheet2!$A$3:$B$7,2,FALSE),\"\")","v":""},{"$f":"IF(M88<>\"\",VLOOKUP(UPPER(M88),Sheet2!$A$9:$B$24,2,FALSE),\"\")","v":""}]
[null,null,null,null,null,null,null,null,null,null,null,null,null,null,null,"",{"$f":"IF(K89<>\"\",VLOOKUP(UPPER(K89),Sheet2!$A$3:$B$7,2,FALSE),\"\")","v":""},{"$f":"IF(M89<>\"\",VLOOKUP(UPPER(M89),Sheet2!$A$9:$B$24,2,FALSE),\"\")","v":""}]
[null,null,null,null,null,null,null,null,null,null,null,null,null,null,null,"",{"$f":"IF(K90<>\"\",VLOOKUP(UPPER(K90),Sheet2!$A$3:$B$7,2,FALSE),\"\")","v":""},{"$f":"IF(M90<>\"\",VLOOKUP(UPPER(M90),Sheet2!$A$9:$B$24,2,FALSE),\"\")","v":""}]
[null,null,null,null,null,null,null,null,null,null,null,null,null,null,null,"",{"$f":"IF(K91<>\"\",VLOOKUP(UPPER(K91),Sheet2!$A$3:$B$7,2,FALSE),\"\")","v":""},{"$f":"IF(M91<>\"\",VLOOKUP(UPPER(M91),Sheet2!$A$9:$B$24,2,FALSE),\"\")","v":""}]
[null,null,null,null,null,null,null,null,null,null,null,null,null,null,null,"",{"$f":"IF(K92<>\"\",VLOOKUP(UPPER(K92),Sheet2!$A$3:$B$7,2,FALSE),\"\")","v":""},{"$f":"IF(M92<>\"\",VLOOKUP(UPPER(M92),Sheet2!$A$9:$B$24,2,FALSE),\"\")","v":""}]
[null,null,null,null,null,null,null,null,null,null,null,null,null,null,null,"",{"$f":"IF(K93<>\"\",VLOOKUP(UPPER(K93),Sheet2!$A$3:$B$7,2,FALSE),\"\")","v":""},{"$f":"IF(M93<>\"\",VLOOKUP(UPPER(M93),Sheet2!$A$9:$B$24,2,FALSE),\"\")","v":""}]
[null,null,null,null,null,null,null,null,null,null,null,null,null,null,null,"",{"$f":"IF(K94<>\"\",VLOOKUP(UPPER(K94),Sheet2!$A$3:$B$7,2,FALSE),\"\")","v":""},{"$f":"IF(M94<>\"\",VLOOKUP(UPPER(M94),Sheet2!$A$9:$B$24,2,FALSE),\"\")","v":""}]
[null,null,null,null,null,null,null,null,null,null,null,null,null,null,null,"",{"$f":"IF(K95<>\"\",VLOOKUP(UPPER(K95),Sheet2!$A$3:$B$7,2,FALSE),\"\")","v":""},{"$f":"IF(M95<>\"\",VLOOKUP(UPPER(M95),Sheet2!$A$9:$B$24,2,FALSE),\"\")","v":""}]
[null,null,null,null,null,null,null,null,null,null,null,null,null,null,null,"",{"$f":"IF(K96<>\"\",VLOOKUP(UPPER(K96),Sheet2!$A$3:$B$7,2,FALSE),\"\")","v":""},{"$f":"IF(M96<>\"\",VLOOKUP(UPPER(M96),Sheet2!$A$9:$B$24,2,FALSE),\"\")","v":""}]
[null,null,null,null,null,null,null,null,null,null,null,null,null,null,null,"",{"$f":"IF(K97<>\"\",VLOOKUP(UPPER(K97),Sheet2!$A$3:$B$7,2,FALSE),\"\")","v":""},{"$f":"IF(M97<>\"\",VLOOKUP(UPPER(M97),Sheet2!$A$9:$B$24,2,FALSE),\"\")","v":""}]
[null,null,null,null,null,null,null,null,null,null,null,null,null,null,null,"",{"$f":"IF(K98<>\"\",VLOOKUP(UPPER(K98),Sheet2!$A$3:$B$7,2,FALSE),\"\")","v":""},{"$f":"IF(M98<>\"\",VLOOKUP(UPPER(M98),Sheet2!$A$9:$B$24,2,FALSE),\"\")","v":""}]
[null,null,null,null,null,null,null,null,null,null,null,null,null,null,null,"",{"$f":"IF(K99<>\"\",VLOOKUP(UPPER(K99),Sheet2!$A$3:$B$7,2,FALSE),\"\")","v":""},{"$f":"IF(M99<>\"\",VLOOKUP(UPPER(M99),Sheet2!$A$9:$B$24,2,FALSE),\"\")","v":""}]
[null,null,null,null,null,null,null,null,null,null,null,null,null,null,null,"",{"$f":"IF(K100<>\"\",VLOOKUP(UPPER(K100),Sheet2!$A$3:$B$7,2,FALSE),\"\")","v":""},{"$f":"IF(M100<>\"\",VLOOKUP(UPPER(M100),Sheet2!$A$9:$B$24,2,FALSE),\"\")","v":""}]
[null,null,null,null,null,null,null,null,null,null,null,null,null,null,null,"",{"$f":"IF(K101<>\"\",VLOOKUP(UPPER(K101),Sheet2!$A$3:$B$7,2,FALSE),\"\")","v":""},{"$f":"IF(M101<>\"\",VLOOKUP(UPPER(M101),Sheet2!$A$9:$B$24,2,FALSE),\"\")","v":""}]
[null,null,null,null,null,null,null,null,null,null,null,null,null,null,null,"",{"$f":"IF(K102<>\"\",VLOOKUP(UPPER(K102),Sheet2!$A$3:$B$7,2,FALSE),\"\")","v":""},{"$f":"IF(M102<>\"\",VLOOKUP(UPPER(M102),Sheet2!$A$9:$B$24,2,FALSE),\"\")","v":""}]
[null,null,null,null,null,null,null,null,null,null,null,null,null,null,null,"",{"$f":"IF(K103<>\"\",VLOOKUP(UPPER(K103),Sheet2!$A$3:$B$7,2,FALSE),\"\")","v":""},{"$f":"IF(M103<>\"\",VLOOKUP(UPPER(M103),Sheet2!$A$9:$B$24,2,FALSE),\"\")","v":""}]
[null,null,null,null,null,null,null,null,null,null,null,null,null,null,null,"",{"$f":"IF(K104<>\"\",VLOOKUP(UPPER(K104),Sheet2!$A$3:$B$7,2,FALSE),\"\")","v":""},{"$f":"IF(M104<>\"\",VLOOKUP(UPPER(M104),Sheet2!$A$9:$B$24,2,FALSE),\"\")","v":""}]
[null,null,null,null,null,null,null,null,null,null,null,null,null,null,null,"",{"$f":"IF(K105<>\"\",VLOOKUP(UPPER(K105),Sheet2!$A$3:$B$7,2,FALSE),\"\")","v":""},{"$f":"IF(M105<>\"\",VLOOKUP(UPPER(M105),Sheet2!$A$9:$B$24,2,FALSE),\"\")","v":""}]
[null,null,null,null,null,null,null,null,null,null,null,null,null,null,null,"",{"$f":"IF(K106<>\"\",VLOOKUP(UPPER(K106),Sheet2!$A$3:$B$7,2,FALSE),\"\")","v":""},{"$f":"IF(M106<>\"\",VLOOKUP(UPPER(M106),Sheet2!$A$9:$B$24,2,FALSE),\"\")","v":""}]
[null,null,null,null,null,null,null,null,null,null,null,null,null,null,null,"",{"$f":"IF(K107<>\"\",VLOOKUP(UPPER(K107),Sheet2!$A$3:$B$7,2,FALSE),\"\")","v":""},{"$f":"IF(M107<>\"\",VLOOKUP(UPPER(M107),Sheet2!$A$9:$B$24,2,FALSE),\"\")","v":""}]
[null,null,null,null,null,null,null,null,null,null,null,null,null,null,null,"",{"$f":"IF(K108<>\"\",VLOOKUP(UPPER(K108),Sheet2!$A$3:$B$7,2,FALSE),\"\")","v":""},{"$f":"IF(M108<>\"\",VLOOKUP(UPPER(M108),Sheet2!$A$9:$B$24,2,FALSE),\"\")","v":""}]
[null,null,null,null,null,null,null,null,null,null,null,null,null,null,null,"",{"$f":"IF(K109<>\"\",VLOOKUP(UPPER(K109),Sheet2!$A$3:$B$7,2,FALSE),\"\")","v":""},{"$f":"IF(M109<>\"\",VLOOKUP(UPPER(M109),Sheet2!$A$9:$B$24,2,FALSE),\"\")","v":""}]
[null,null,null,null,null,null,null,null,null,null,null,null,null,null,null,"",{"$f":"IF(K110<>\"\",VLOOKUP(UPPER(K110),Sheet2!$A$3:$B$7,2,FALSE),\"\")","v":""},{"$f":"IF(M110<>\"\",VLOOKUP(UPPER(M110),Sheet2!$A$9:$B$24,2,FALSE),\"\")","v":""}]
[null,null,null,null,null,null,null,null,null,null,null,null,null,null,null,"",{"$f":"IF(K111<>\"\",VLOOKUP(UPPER(K111),Sheet2!$A$3:$B$7,2,FALSE),\"\")","v":""},{"$f":"IF(M111<>\"\",VLOOKUP(UPPER(M111),Sheet2!$A$9:$B$24,2,FALSE),\"\")","v":""}]
[null,null,null,null,null,null,null,null,null,null,null,null,null,null,null,"",{"$f":"IF(K112<>\"\",VLOOKUP(UPPER(K112),Sheet2!$A$3:$B$7,2,FALSE),\"\")","v":""},{"$f":"IF(M112<>\"\",VLOOKUP(UPPER(M112),Sheet2!$A$9:$B$24,2,FALSE),\"\")","v":""}]
[null,null,null,null,null,null,null,null,null,null,null,null,null,null,null,"",{"$f":"IF(K113<>\"\",VLOOKUP(UPPER(K113),Sheet2!$A$3:$B$7,2,FALSE),\"\")","v":""},{"$f":"IF(M113<>\"\",VLOOKUP(UPPER(M113),Sheet2!$A$9:$B$24,2,FALSE),\"\")","v":""}]
[null,null,null,null,null,null,null,null,null,null,null,null,null,null,null,"",{"$f":"IF(K114<>\"\",VLOOKUP(UPPER(K114),Sheet2!$A$3:$B$7,2,FALSE),\"\")","v":""},{"$f":"IF(M114<>\"\",VLOOKUP(UPPER(M114),Sheet2!$A$9:$B$24,2,FALSE),\"\")","v":""}]
[null,null,null,null,null,null,null,null,null,null,null,null,null,null,null,"",{"$f":"IF(K115<>\"\",VLOOKUP(UPPER(K115),Sheet2!$A$3:$B$7,2,FALSE),\"\")","v":""},{"$f":"IF(M115<>\"\",VLOOKUP(UPPER(M115),Sheet2!$A$9:$B$24,2,FALSE),\"\")","v":""}]
[null,null,null,null,null,null,null,null,null,null,null,null,null,null,null,"",{"$f":"IF(K116<>\"\",VLOOKUP(UPPER(K116),Sheet2!$A$3:$B$7,2,FALSE),\"\")","v":""},{"$f":"IF(M116<>\"\",VLOOKUP(UPPER(M116),Sheet2!$A$9:$B$24,2,FALSE),\"\")","v":""}]
[null,null,null,null,null,null,null,null,null,null,null,null,null,null,null,"",{"$f":"IF(K117<>\"\",VLOOKUP(UPPER(K117),Sheet2!$A$3:$B$7,2,FALSE),\"\")","v":""},{"$f":"IF(M117<>\"\",VLOOKUP(UPPER(M117),Sheet2!$A$9:$B$24,2,FALSE),\"\")","v":""}]
[null,null,null,null,null,null,null,null,null,null,null,null,null,null,null,"",{"$f":"IF(K118<>\"\",VLOOKUP(UPPER(K118),Sheet2!$A$3:$B$7,2,FALSE),\"\")","v":""},{"$f":"IF(M118<>\"\",VLOOKUP(UPPER(M118),Sheet2!$A$9:$B$24,2,FALSE),\"\")","v":""}]
[null,null,null,null,null,null,null,null,null,null,null,null,null,null,null,"",{"$f":"IF(K119<>\"\",VLOOKUP(UPPER(K119),Sheet2!$A$3:$B$7,2,FALSE),\"\")","v":""},{"$f":"IF(M119<>\"\",VLOOKUP(UPPER(M119),Sheet2!$A$9:$B$24,2,FALSE),\"\")","v":""}]
[null,null,null,null,null,null,null,null,null,null,null,null,null,null,null,"",{"$f":"IF(K120<>\"\",VLOOKUP(UPPER(K120),Sheet2!$A$3:$B$7,2,FALSE),\"\")","v":""},{"$f":"IF(M120<>\"\",VLOOKUP(UPPER(M120),Sheet2!$A$9:$B$24,2,FALSE),\"\")","v":""}]
[null,null,null,null,null,null,null,null,null,null,null,null,null,null,null,"",{"$f":"IF(K121<>\"\",VLOOKUP(UPPER(K121),Sheet2!$A$3:$B$7,2,FALSE),\"\")","v":""},{"$f":"IF(M121<>\"\",VLOOKUP(UPPER(M121),Sheet2!$A$9:$B$24,2,FALSE),\"\")","v":""}]
[null,null,null,null,null,null,null,null,null,null,null,null,null,null,null,"",{"$f":"IF(K122<>\"\",VLOOKUP(UPPER(K122),Sheet2!$A$3:$B$7,2,FALSE),\"\")","v":""},{"$f":"IF(M122<>\"\",VLOOKUP(UPPER(M122),Sheet2!$A$9:$B$24,2,FALSE),\"\")","v":""}]
[null,null,null,null,null,null,null,null,null,null,null,null,null,null,null,"",{"$f":"IF(K123<>\"\",VLOOKUP(UPPER(K123),Sheet2!$A$3:$B$7,2,FALSE),\"\")","v":""},{"$f":"IF(M123<>\"\",VLOOKUP(UPPER(M123),Sheet2!$A$9:$B$24,2,FALSE),\"\")","v":""}]
[null,null,null,null,null,null,null,null,null,null,null,null,null,null,null,"",{"$f":"IF(K124<>\"\",VLOOKUP(UPPER(K124),Sheet2!$A$3:$B$7,2,FALSE),\"\")","v":""},{"$f":"IF(M124<>\"\",VLOOKUP(UPPER(M124),Sheet2!$A$9:$B$24,2,FALSE),\"\")","v":""}]
[null,null,null,null,null,null,null,null,null,null,null,null,null,null,null,"",{"$f":"IF(K125<>\"\",VLOOKUP(UPPER(K125),Sheet2!$A$3:$B$7,2,FALSE),\"\")","v":""},{"$f":"IF(M125<>\"\",VLOOKUP(UPPER(M125),Sheet2!$A$9:$B$24,2,FALSE),\"\")","v":""}]
[null,null,null,null,null,null,null,null,null,null,null,null,null,null,null,"",{"$f":"IF(K126<>\"\",VLOOKUP(UPPER(K126),Sheet2!$A$3:$B$7,2,FALSE),\"\")","v":""},{"$f":"IF(M126<>\"\",VLOOKUP(UPPER(M126),Sheet2!$A$9:$B$24,2,FALSE),\"\")","v":""}]
[null,null,null,null,null,null,null,null,null,null,null,null,null,null,null,"",{"$f":"IF(K127<>\"\",VLOOKUP(UPPER(K127),Sheet2!$A$3:$B$7,2,FALSE),\"\")","v":""},{"$f":"IF(M127<>\"\",VLOOKUP(UPPER(M127),Sheet2!$A$9:$B$24,2,FALSE),\"\")","v":""}]
[null,null,null,null,null,null,null,null,null,null,null,null,null,null,null,"",{"$f":"IF(K128<>\"\",VLOOKUP(UPPER(K128),Sheet2!$A$3:$B$7,2,FALSE),\"\")","v":""},{"$f":"IF(M128<>\"\",VLOOKUP(UPPER(M128),Sheet2!$A$9:$B$24,2,FALSE),\"\")","v":""}]
[null,null,null,null,null,null,null,null,null,null,null,null,null,null,null,"",{"$f":"IF(K129<>\"\",VLOOKUP(UPPER(K129),Sheet2!$A$3:$B$7,2,FALSE),\"\")","v":""},{"$f":"IF(M129<>\"\",VLOOKUP(UPPER(M129),Sheet2!$A$9:$B$24,2,FALSE),\"\")","v":""}]
[null,null,null,null,null,null,null,null,null,null,null,null,null,null,null,"",{"$f":"IF(K130<>\"\",VLOOKUP(UPPER(K130),Sheet2!$A$3:$B$7,2,FALSE),\"\")","v":""},{"$f":"IF(M130<>\"\",VLOOKUP(UPPER(M130),Sheet2!$A$9:$B$24,2,FALSE),\"\")","v":""}]
[null,null,null,null,null,null,null,null,null,null,null,null,null,null,null,"",{"$f":"IF(K131<>\"\",VLOOKUP(UPPER(K131),Sheet2!$A$3:$B$7,2,FALSE),\"\")","v":""},{"$f":"IF(M131<>\"\",VLOOKUP(UPPER(M131),Sheet2!$A$9:$B$24,2,FALSE),\"\")","v":""}]
[null,null,null,null,null,null,null,null,null,null,null,null,null,null,null,"",{"$f":"IF(K132<>\"\",VLOOKUP(UPPER(K132),Sheet2!$A$3:$B$7,2,FALSE),\"\")","v":""},{"$f":"IF(M132<>\"\",VLOOKUP(UPPER(M132),Sheet2!$A$9:$B$24,2,FALSE),\"\")","v":""}]
[null,null,null,null,null,null,null,null,null,null,null,null,null,null,null,"",{"$f":"IF(K133<>\"\",VLOOKUP(UPPER(K133),Sheet2!$A$3:$B$7,2,FALSE),\"\")","v":""},{"$f":"IF(M133<>\"\",VLOOKUP(UPPER(M133),Sheet2!$A$9:$B$24,2,FALSE),\"\")","v":""}]
[null,null,null,null,null,null,null,null,null,null,null,null,null,null,null,{"$f":"IF(OR(A134<>\"\",B134<>\"\",C134<>\"\",E134<>\"\",F134<>\"\",G134<>\"\",H134<>\"\",I134<>\"\",J134<>\"\",K134<>\"\",L134<>\"\",M134<>\"\",N134<>\"\",O134<>\"\"),IF(AND(A134<>\"\",B134<>\"\",C134<>\"\",E134<>\"\",J134<>\"\",L134<>\"\"),IF(AND(G134<>\"\",H134<>\"\"),IF(AND(J134<(G134*H134)*1.02,J134>(G134*H134)*0.98),\"COMPLETE\",IF(OR(UPPER(L134)=\"QSCMM\",UPPER(L134)=\"QADCP\"),\"WARNING\",\"COMPLETE\")),\"COMPLETE\"),\"INCOMPLETE\"),\"\")","v":""},{"$f":"IF(K134<>\"\",VLOOKUP(UPPER(K134),Sheet2!$A$3:$B$7,2,FALSE),\"\")","v":""},{"$f":"IF(M134<>\"\",VLOOKUP(UPPER(M134),Sheet2!$A$9:$B$24,2,FALSE),\"\")","v":""}]
[null,null,null,null,null,null,null,null,null,null,null,null,null,null,null,"",{"$f":"IF(K135<>\"\",VLOOKUP(UPPER(K135),Sheet2!$A$3:$B$7,2,FALSE),\"\")","v":""},{"$f":"IF(M135<>\"\",VLOOKUP(UPPER(M135),Sheet2!$A$9:$B$24,2,FALSE),\"\")","v":""}]
[null,null,null,null,null,null,null,null,null,null,null,null,null,null,null,"",{"$f":"IF(K136<>\"\",VLOOKUP(UPPER(K136),Sheet2!$A$3:$B$7,2,FALSE),\"\")","v":""},{"$f":"IF(M136<>\"\",VLOOKUP(UPPER(M136),Sheet2!$A$9:$B$24,2,FALSE),\"\")","v":""}]
[null,null,null,null,null,null,null,null,null,null,null,null,null,null,null,"",{"$f":"IF(K137<>\"\",VLOOKUP(UPPER(K137),Sheet2!$A$3:$B$7,2,FALSE),\"\")","v":""},{"$f":"IF(M137<>\"\",VLOOKUP(UPPER(M137),Sheet2!$A$9:$B$24,2,FALSE),\"\")","v":""}]
[null,null,null,null,null,null,null,null,null,null,null,null,null,null,null,"",{"$f":"IF(K138<>\"\",VLOOKUP(UPPER(K138),Sheet2!$A$3:$B$7,2,FALSE),\"\")","v":""},{"$f":"IF(M138<>\"\",VLOOKUP(UPPER(M138),Sheet2!$A$9:$B$24,2,FALSE),\"\")","v":""}]
[null,null,null,null,null,null,null,null,null,null,null,null,null,null,null,"",{"$f":"IF(K139<>\"\",VLOOKUP(UPPER(K139),Sheet2!$A$3:$B$7,2,FALSE),\"\")","v":""},{"$f":"IF(M139<>\"\",VLOOKUP(UPPER(M139),Sheet2!$A$9:$B$24,2,FALSE),\"\")","v":""}]
[null,null,null,null,null,null,null,null,null,null,null,null,null,null,null,"",{"$f":"IF(K140<>\"\",VLOOKUP(UPPER(K140),Sheet2!$A$3:$B$7,2,FALSE),\"\")","v":""},{"$f":"IF(M140<>\"\",VLOOKUP(UPPER(M140),Sheet2!$A$9:$B$24,2,FALSE),\"\")","v":""}]
[null,null,null,null,null,null,null,null,null,null,null,null,null,null,null,"",{"$f":"IF(K141<>\"\",VLOOKUP(UPPER(K141),Sheet2!$A$3:$B$7,2,FALSE),\"\")","v":""},{"$f":"IF(M141<>\"\",VLOOKUP(UPPER(M141),Sheet2!$A$9:$B$24,2,FALSE),\"\")","v":""}]
[null,null,null,null,null,null,null,null,null,null,null,null,null,null,null,"",{"$f":"IF(K142<>\"\",VLOOKUP(UPPER(K142),Sheet2!$A$3:$B$7,2,FALSE),\"\")","v":""},{"$f":"IF(M142<>\"\",VLOOKUP(UPPER(M142),Sheet2!$A$9:$B$24,2,FALSE),\"\")","v":""}]
[null,null,null,null,null,null,null,null,null,null,null,null,null,null,null,"",{"$f":"IF(K143<>\"\",VLOOKUP(UPPER(K143),Sheet2!$A$3:$B$7,2,FALSE),\"\")","v":""},{"$f":"IF(M143<>\"\",VLOOKUP(UPPER(M143),Sheet2!$A$9:$B$24,2,FALSE),\"\")","v":""}]
[null,null,null,null,null,null,null,null,null,null,null,null,null,null,null,"",{"$f":"IF(K144<>\"\",VLOOKUP(UPPER(K144),Sheet2!$A$3:$B$7,2,FALSE),\"\")","v":""},{"$f":"IF(M144<>\"\",VLOOKUP(UPPER(M144),Sheet2!$A$9:$B$24,2,FALSE),\"\")","v":""}]
[null,null,null,null,null,null,null,null,null,null,null,null,null,null,null,"",{"$f":"IF(K145<>\"\",VLOOKUP(UPPER(K145),Sheet2!$A$3:$B$7,2,FALSE),\"\")","v":""},{"$f":"IF(M145<>\"\",VLOOKUP(UPPER(M145),Sheet2!$A$9:$B$24,2,FALSE),\"\")","v":""}]
[null,null,null,null,null,null,null,null,null,null,null,null,null,null,null,"",{"$f":"IF(K146<>\"\",VLOOKUP(UPPER(K146),Sheet2!$A$3:$B$7,2,FALSE),\"\")","v":""},{"$f":"IF(M146<>\"\",VLOOKUP(UPPER(M146),Sheet2!$A$9:$B$24,2,FALSE),\"\")","v":""}]
[null,null,null,null,null,null,null,null,null,null,null,null,null,null,null,"",{"$f":"IF(K147<>\"\",VLOOKUP(UPPER(K147),Sheet2!$A$3:$B$7,2,FALSE),\"\")","v":""},{"$f":"IF(M147<>\"\",VLOOKUP(UPPER(M147),Sheet2!$A$9:$B$24,2,FALSE),\"\")","v":""}]
[null,null,null,null,null,null,null,null,null,null,null,null,null,null,null,"",{"$f":"IF(K148<>\"\",VLOOKUP(UPPER(K148),Sheet2!$A$3:$B$7,2,FALSE),\"\")","v":""},{"$f":"IF(M148<>\"\",VLOOKUP(UPPER(M148),Sheet2!$A$9:$B$24,2,FALSE),\"\")","v":""}]
[null,null,null,null,null,null,null,null,null,null,null,null,null,null,null,"",{"$f":"IF(K149<>\"\",VLOOKUP(UPPER(K149),Sheet2!$A$3:$B$7,2,FALSE),\"\")","v":""},{"$f":"IF(M149<>\"\",VLOOKUP(UPPER(M149),Sheet2!$A$9:$B$24,2,FALSE),\"\")","v":""}]
[null,null,null,null,null,null,null,null,null,null,null,null,null,null,null,"",{"$f":"IF(K150<>\"\",VLOOKUP(UPPER(K150),Sheet2!$A$3:$B$7,2,FALSE),\"\")","v":""},{"$f":"IF(M150<>\"\",VLOOKUP(UPPER(M150),Sheet2!$A$9:$B$24,2,FALSE),\"\")","v":""}]
[null,null,null,null,null,null,null,null,null,null,null,null,null,null,null,"",{"$f":"IF(K151<>\"\",VLOOKUP(UPPER(K151),Sheet2!$A$3:$B$7,2,FALSE),\"\")","v":""},{"$f":"IF(M151<>\"\",VLOOKUP(UPPER(M151),Sheet2!$A$9:$B$24,2,FALSE),\"\")","v":""}]
[null,null,null,null,null,null,null,null,null,null,null,null,null,null,null,"",{"$f":"IF(K152<>\"\",VLOOKUP(UPPER(K152),Sheet2!$A$3:$B$7,2,FALSE),\"\")","v":""},{"$f":"IF(M152<>\"\",VLOOKUP(UPPER(M152),Sheet2!$A$9:$B$24,2,FALSE),\"\")","v":""}]
[null,null,null,null,null,null,null,null,null,null,null,null,null,null,null,"",{"$f":"IF(K153<>\"\",VLOOKUP(UPPER(K153),Sheet2!$A$3:$B$7,2,FALSE),\"\")","v":""},{"$f":"IF(M153<>\"\",VLOOKUP(UPPER(M153),Sheet2!$A$9:$B$24,2,FALSE),\"\")","v":""}]
[null,null,null,null,null,null,null,null,null,null,null,null,null,null,null,"",{"$f":"IF(K154<>\"\",VLOOKUP(UPPER(K154),Sheet2!$A$3:$B$7,2,FALSE),\"\")","v":""},{"$f":"IF(M154<>\"\",VLOOKUP(UPPER(M154),Sheet2!$A$9:$B$24,2,FALSE),\"\")","v":""}]
[null,null,null,null,null,null,null,null,null,null,null,null,null,null,null,"",{"$f":"IF(K155<>\"\",VLOOKUP(UPPER(K155),Sheet2!$A$3:$B$7,2,FALSE),\"\")","v":""},{"$f":"IF(M155<>\"\",VLOOKUP(UPPER(M155),Sheet2!$A$9:$B$24,2,FALSE),\"\")","v":""}]
[null,null,null,null,null,null,null,null,null,null,null,null,null,null,null,"",{"$f":"IF(K156<>\"\",VLOOKUP(UPPER(K156),Sheet2!$A$3:$B$7,2,FALSE),\"\")","v":""},{"$f":"IF(M156<>\"\",VLOOKUP(UPPER(M156),Sheet2!$A$9:$B$24,2,FALSE),\"\")","v":""}]
[null,null,null,null,null,null,null,null,null,null,null,null,null,null,null,"",{"$f":"IF(K157<>\"\",VLOOKUP(UPPER(K157),Sheet2!$A$3:$B$7,2,FALSE),\"\")","v":""},{"$f":"IF(M157<>\"\",VLOOKUP(UPPER(M157),Sheet2!$A$9:$B$24,2,FALSE),\"\")","v":""}]
[null,null,null,null,null,null,null,null,null,null,null,null,null,null,null,"",{"$f":"IF(K158<>\"\",VLOOKUP(UPPER(K158),Sheet2!$A$3:$B$7,2,FALSE),\"\")","v":""},{"$f":"IF(M158<>\"\",VLOOKUP(UPPER(M158),Sheet2!$A$9:$B$24,2,FALSE),\"\")","v":""}]
[null,null,null,null,null,null,null,null,null,null,null,null,null,null,null,"",{"$f":"IF(K159<>\"\",VLOOKUP(UPPER(K159),Sheet2!$A$3:$B$7,2,FALSE),\"\")","v":""},{"$f":"IF(M159<>\"\",VLOOKUP(UPPER(M159),Sheet2!$A$9:$B$24,2,FALSE),\"\")","v":""}]
[null,null,null,null,null,null,null,null,null,null,null,null,null,null,null,"",{"$f":"IF(K160<>\"\",VLOOKUP(UPPER(K160),Sheet2!$A$3:$B$7,2,FALSE),\"\")","v":""},{"$f":"IF(M160<>\"\",VLOOKUP(UPPER(M160),Sheet2!$A$9:$B$24,2,FALSE),\"\")","v":""}]
[null,null,null,null,null,null,null,null,null,null,null,null,null,null,null,"",{"$f":"IF(K161<>\"\",VLOOKUP(UPPER(K161),Sheet2!$A$3:$B$7,2,FALSE),\"\")","v":""},{"$f":"IF(M161<>\"\",VLOOKUP(UPPER(M161),Sheet2!$A$9:$B$24,2,FALSE),\"\")","v":""}]
[null,null,null,null,null,null,null,null,null,null,null,null,null,null,null,"",{"$f":"IF(K162<>\"\",VLOOKUP(UPPER(K162),Sheet2!$A$3:$B$7,2,FALSE),\"\")","v":""},{"$f":"IF(M162<>\"\",VLOOKUP(UPPER(M162),Sheet2!$A$9:$B$24,2,FALSE),\"\")","v":""}]
[null,null,null,null,null,null,null,null,null,null,null,null,null,null,null,"",{"$f":"IF(K163<>\"\",VLOOKUP(UPPER(K163),Sheet2!$A$3:$B$7,2,FALSE),\"\")","v":""},{"$f":"IF(M163<>\"\",VLOOKUP(UPPER(M163),Sheet2!$A$9:$B$24,2,FALSE),\"\")","v":""}]
[null,null,null,null,null,null,null,null,null,null,null,null,null,null,null,"",{"$f":"IF(K164<>\"\",VLOOKUP(UPPER(K164),Sheet2!$A$3:$B$7,2,FALSE),\"\")","v":""},{"$f":"IF(M164<>\"\",VLOOKUP(UPPER(M164),Sheet2!$A$9:$B$24,2,FALSE),\"\")","v":""}]
[null,null,null,null,null,null,null,null,null,null,null,null,null,null,null,"",{"$f":"IF(K165<>\"\",VLOOKUP(UPPER(K165),Sheet2!$A$3:$B$7,2,FALSE),\"\")","v":""},{"$f":"IF(M165<>\"\",VLOOKUP(UPPER(M165),Sheet2!$A$9:$B$24,2,FALSE),\"\")","v":""}]
[null,null,null,null,null,null,null,null,null,null,null,null,null,null,null,"",{"$f":"IF(K166<>\"\",VLOOKUP(UPPER(K166),Sheet2!$A$3:$B$7,2,FALSE),\"\")","v":""},{"$f":"IF(M166<>\"\",VLOOKUP(UPPER(M166),Sheet2!$A$9:$B$24,2,FALSE),\"\")","v":""}]
[null,null,null,null,null,null,null,null,null,null,null,null,null,null,null,"",{"$f":"IF(K167<>\"\",VLOOKUP(UPPER(K167),Sheet2!$A$3:$B$7,2,FALSE),\"\")","v":""},{"$f":"IF(M167<>\"\",VLOOKUP(UPPER(M167),Sheet2!$A$9:$B$24,2,FALSE),\"\")","v":""}]
[null,null,null,null,null,null,null,null,null,null,null,null,null,null,null,"",{"$f":"IF(K168<>\"\",VLOOKUP(UPPER(K168),Sheet2!$A$3:$B$7,2,FALSE),\"\")","v":""},{"$f":"IF(M168<>\"\",VLOOKUP(UPPER(M168),Sheet2!$A$9:$B$24,2,FALSE),\"\")","v":""}]
[null,null,null,null,null,null,null,null,null,null,null,null,null,null,null,"",{"$f":"IF(K169<>\"\",VLOOKUP(UPPER(K169),Sheet2!$A$3:$B$7,2,FALSE),\"\")","v":""},{"$f":"IF(M169<>\"\",VLOOKUP(UPPER(M169),Sheet2!$A$9:$B$24,2,FALSE),\"\")","v":""}]
[null,null,null,null,null,null,null,null,null,null,null,null,null,null,null,"",{"$f":"IF(K170<>\"\",VLOOKUP(UPPER(K170),Sheet2!$A$3:$B$7,2,FALSE),\"\")","v":""},{"$f":"IF(M170<>\"\",VLOOKUP(UPPER(M170),Sheet2!$A$9:$B$24,2,FALSE),\"\")","v":""}]
[null,null,null,null,null,null,null,null,null,null,null,null,null,null,null,"",{"$f":"IF(K171<>\"\",VLOOKUP(UPPER(K171),Sheet2!$A$3:$B$7,2,FALSE),\"\")","v":""},{"$f":"IF(M171<>\"\",VLOOKUP(UPPER(M171),Sheet2!$A$9:$B$24,2,FALSE),\"\")","v":""}]
[null,null,null,null,null,null,null,null,null,null,null,null,null,null,null,"",{"$f":"IF(K172<>\"\",VLOOKUP(UPPER(K172),Sheet2!$A$3:$B$7,2,FALSE),\"\")","v":""},{"$f":"IF(M172<>\"\",VLOOKUP(UPPER(M172),Sheet2!$A$9:$B$24,2,FALSE),\"\")","v":""}]
[null,null,null,null,null,null,null,null,null,null,null,null,null,null,null,"",{"$f":"IF(K173<>\"\",VLOOKUP(UPPER(K173),Sheet2!$A$3:$B$7,2,FALSE),\"\")","v":""},{"$f":"IF(M173<>\"\",VLOOKUP(UPPER(M173),Sheet2!$A$9:$B$24,2,FALSE),\"\")","v":""}]
[null,null,null,null,null,null,null,null,null,null,null,null,null,null,null,"",{"$f":"IF(K174<>\"\",VLOOKUP(UPPER(K174),Sheet2!$A$3:$B$7,2,FALSE),\"\")","v":""},{"$f":"IF(M174<>\"\",VLOOKUP(UPPER(M174),Sheet2!$A$9:$B$24,2,FALSE),\"\")","v":""}]
[null,null,null,null,null,null,null,null,null,null,null,null,null,null,null,"",{"$f":"IF(K175<>\"\",VLOOKUP(UPPER(K175),Sheet2!$A$3:$B$7,2,FALSE),\"\")","v":""},{"$f":"IF(M175<>\"\",VLOOKUP(UPPER(M175),Sheet2!$A$9:$B$24,2,FALSE),\"\")","v":""}]
[null,null,null,null,null,null,null,null,null,null,null,null,null,null,null,"",{"$f":"IF(K176<>\"\",VLOOKUP(UPPER(K176),Sheet2!$A$3:$B$7,2,FALSE),\"\")","v":""},{"$f":"IF(M176<>\"\",VLOOKUP(UPPER(M176),Sheet2!$A$9:$B$24,2,FALSE),\"\")","v":""}]
[null,null,null,null,null,null,null,null,null,null,null,null,null,null,null,"",{"$f":"IF(K177<>\"\",VLOOKUP(UPPER(K177),Sheet2!$A$3:$B$7,2,FALSE),\"\")","v":""},{"$f":"IF(M177<>\"\",VLOOKUP(UPPER(M177),Sheet2!$A$9:$B$24,2,FALSE),\"\")","v":""}]
[null,null,null,null,null,null,null,null,null,null,null,null,null,null,null,"",{"$f":"IF(K178<>\"\",VLOOKUP(UPPER(K178),Sheet2!$A$3:$B$7,2,FALSE),\"\")","v":""},{"$f":"IF(M178<>\"\",VLOOKUP(UPPER(M178),Sheet2!$A$9:$B$24,2,FALSE),\"\")","v":""}]
[null,null,null,null,null,null,null,null,null,null,null,null,null,null,null,"",{"$f":"IF(K179<>\"\",VLOOKUP(UPPER(K179),Sheet2!$A$3:$B$7,2,FALSE),\"\")","v":""},{"$f":"IF(M179<>\"\",VLOOKUP(UPPER(M179),Sheet2!$A$9:$B$24,2,FALSE),\"\")","v":""}]
[null,null,null,null,null,null,null,null,null,null,null,null,null,null,null,"",{"$f":"IF(K180<>\"\",VLOOKUP(UPPER(K180),Sheet2!$A$3:$B$7,2,FALSE),\"\")","v":""},{"$f":"IF(M180<>\"\",VLOOKUP(UPPER(M180),Sheet2!$A$9:$B$24,2,FALSE),\"\")","v":""}]
[null,null,null,null,null,null,null,null,null,null,null,null,null,null,null,"",{"$f":"IF(K181<>\"\",VLOOKUP(UPPER(K181),Sheet2!$A$3:$B$7,2,FALSE),\"\")","v":""},{"$f":"IF(M181<>\"\",VLOOKUP(UPPER(M181),Sheet2!$A$9:$B$24,2,FALSE),\"\")","v":""}]
[null,null,null,null,null,null,null,null,null,null,null,null,null,null,null,"",{"$f":"IF(K182<>\"\",VLOOKUP(UPPER(K182),Sheet2!$A$3:$B$7,2,FALSE),\"\")","v":""},{"$f":"IF(M182<>\"\",VLOOKUP(UPPER(M182),Sheet2!$A$9:$B$24,2,FALSE),\"\")","v":""}]
[null,null,null,null,null,null,null,null,null,null,null,null,null,null,null,"",{"$f":"IF(K183<>\"\",VLOOKUP(UPPER(K183),Sheet2!$A$3:$B$7,2,FALSE),\"\")","v":""},{"$f":"IF(M183<>\"\",VLOOKUP(UPPER(M183),Sheet2!$A$9:$B$24,2,FALSE),\"\")","v":""}]
[null,null,null,null,null,null,null,null,null,null,null,null,null,null,null,"",{"$f":"IF(K184<>\"\",VLOOKUP(UPPER(K184),Sheet2!$A$3:$B$7,2,FALSE),\"\")","v":""},{"$f":"IF(M184<>\"\",VLOOKUP(UPPER(M184),Sheet2!$A$9:$B$24,2,FALSE),\"\")","v":""}]
[null,null,null,null,null,null,null,null,null,null,null,null,null,null,null,"",{"$f":"IF(K185<>\"\",VLOOKUP(UPPER(K185),Sheet2!$A$3:$B$7,2,FALSE),\"\")","v":""},{"$f":"IF(M185<>\"\",VLOOKUP(UPPER(M185),Sheet2!$A$9:$B$24,2,FALSE),\"\")","v":""}]
[null,null,null,null,null,null,null,null,null,null,null,null,null,null,null,"",{"$f":"IF(K186<>\"\",VLOOKUP(UPPER(K186),Sheet2!$A$3:$B$7,2,FALSE),\"\")","v":""},{"$f":"IF(M186<>\"\",VLOOKUP(UPPER(M186),Sheet2!$A$9:$B$24,2,FALSE),\"\")","v":""}]
[null,null,null,null,null,null,null,null,null,null,null,null,null,null,null,"",{"$f":"IF(K187<>\"\",VLOOKUP(UPPER(K187),Sheet2!$A$3:$B$7,2,FALSE),\"\")","v":""},{"$f":"IF(M187<>\"\",VLOOKUP(UPPER(M187),Sheet2!$A$9:$B$24,2,FALSE),\"\")","v":""}]
[null,null,null,null,null,null,null,null,null,null,null,null,null,null,null,"",{"$f":"IF(K188<>\"\",VLOOKUP(UPPER(K188),Sheet2!$A$3:$B$7,2,FALSE),\"\")","v":""},{"$f":"IF(M188<>\"\",VLOOKUP(UPPER(M188),Sheet2!$A$9:$B$24,2,FALSE),\"\")","v":""}]
[null,null,null,null,null,null,null,null,null,null,null,null,null,null,null,"",{"$f":"IF(K189<>\"\",VLOOKUP(UPPER(K189),Sheet2!$A$3:$B$7,2,FALSE),\"\")","v":""},{"$f":"IF(M189<>\"\",VLOOKUP(UPPER(M189),Sheet2!$A$9:$B$24,2,FALSE),\"\")","v":""}]
[null,null,null,null,null,null,null,null,null,null,null,null,null,null,null,"",{"$f":"IF(K190<>\"\",VLOOKUP(UPPER(K190),Sheet2!$A$3:$B$7,2,FALSE),\"\")","v":""},{"$f":"IF(M190<>\"\",VLOOKUP(UPPER(M190),Sheet2!$A$9:$B$24,2,FALSE),\"\")","v":""}]
[null,null,null,null,null,null,null,null,null,null,null,null,null,null,null,"",{"$f":"IF(K191<>\"\",VLOOKUP(UPPER(K191),Sheet2!$A$3:$B$7,2,FALSE),\"\")","v":""},{"$f":"IF(M191<>\"\",VLOOKUP(UPPER(M191),Sheet2!$A$9:$B$24,2,FALSE),\"\")","v":""}]
[null,null,null,null,null,null,null,null,null,null,null,null,null,null,null,"",{"$f":"IF(K192<>\"\",VLOOKUP(UPPER(K192),Sheet2!$A$3:$B$7,2,FALSE),\"\")","v":""},{"$f":"IF(M192<>\"\",VLOOKUP(UPPER(M192),Sheet2!$A$9:$B$24,2,FALSE),\"\")","v":""}]
[null,null,null,null,null,null,null,null,null,null,null,null,null,null,null,"",{"$f":"IF(K193<>\"\",VLOOKUP(UPPER(K193),Sheet2!$A$3:$B$7,2,FALSE),\"\")","v":""},{"$f":"IF(M193<>\"\",VLOOKUP(UPPER(M193),Sheet2!$A$9:$B$24,2,FALSE),\"\")","v":""}]
[null,null,null,null,null,null,null,null,null,null,null,null,null,null,null,"",{"$f":"IF(K194<>\"\",VLOOKUP(UPPER(K194),Sheet2!$A$3:$B$7,2,FALSE),\"\")","v":""},{"$f":"IF(M194<>\"\",VLOOKUP(UPPER(M194),Sheet2!$A$9:$B$24,2,FALSE),\"\")","v":""}]
[null,null,null,null,null,null,null,null,null,null,null,null,null,null,null,"",{"$f":"IF(K195<>\"\",VLOOKUP(UPPER(K195),Sheet2!$A$3:$B$7,2,FALSE),\"\")","v":""},{"$f":"IF(M195<>\"\",VLOOKUP(UPPER(M195),Sheet2!$A$9:$B$24,2,FALSE),\"\")","v":""}]
[null,null,null,null,null,null,null,null,null,null,null,null,null,null,null,"",{"$f":"IF(K196<>\"\",VLOOKUP(UPPER(K196),Sheet2!$A$3:$B$7,2,FALSE),\"\")","v":""},{"$f":"IF(M196<>\"\",VLOOKUP(UPPER(M196),Sheet2!$A$9:$B$24,2,FALSE),\"\")","v":""}]
[null,null,null,null,null,null,null,null,null,null,null,null,null,null,null,"",{"$f":"IF(K197<>\"\",VLOOKUP(UPPER(K197),Sheet2!$A$3:$B$7,2,FALSE),\"\")","v":""},{"$f":"IF(M197<>\"\",VLOOKUP(UPPER(M197),Sheet2!$A$9:$B$24,2,FALSE),\"\")","v":""}]
[null,null,null,null,null,null,null,null,null,null,null,null,null,null,null,{"$f":"IF(OR(A198<>\"\",B198<>\"\",C198<>\"\",E198<>\"\",F198<>\"\",G198<>\"\",H198<>\"\",I198<>\"\",J198<>\"\",K198<>\"\",L198<>\"\",M198<>\"\",N198<>\"\",O198<>\"\"),IF(AND(A198<>\"\",B198<>\"\",C198<>\"\",E198<>\"\",J198<>\"\",L198<>\"\"),IF(AND(G198<>\"\",H198<>\"\"),IF(AND(J198<(G198*H198)*1.02,J198>(G198*H198)*0.98),\"COMPLETE\",IF(OR(UPPER(L198)=\"QSCMM\",UPPER(L198)=\"QADCP\"),\"WARNING\",\"COMPLETE\")),\"COMPLETE\"),\"INCOMPLETE\"),\"\")","v":""},{"$f":"IF(K198<>\"\",VLOOKUP(UPPER(K198),Sheet2!$A$3:$B$7,2,FALSE),\"\")","v":""},{"$f":"IF(M198<>\"\",VLOOKUP(UPPER(M198),Sheet2!$A$9:$B$24,2,FALSE),\"\")","v":""}]
[null,null,null,null,null,null,null,null,null,null,null,null,null,null,null,"",{"$f":"IF(K199<>\"\",VLOOKUP(UPPER(K199),Sheet2!$A$3:$B$7,2,FALSE),\"\")","v":""},{"$f":"IF(M199<>\"\",VLOOKUP(UPPER(M199),Sheet2!$A$9:$B$24,2,FALSE),\"\")","v":""}]
[null,null,null,null,null,null,null,null,null,null,null,null,null,null,null,"",{"$f":"IF(K200<>\"\",VLOOKUP(UPPER(K200),Sheet2!$A$3:$B$7,2,FALSE),\"\")","v":""},{"$f":"IF(M200<>\"\",VLOOKUP(UPPER(M200),Sheet2!$A$9:$B$24,2,FALSE),\"\")","v":""}]
[null,null,null,null,null,null,null,null,null,null,null,null,null,null,null,"",{"$f":"IF(K201<>\"\",VLOOKUP(UPPER(K201),Sheet2!$A$3:$B$7,2,FALSE),\"\")","v":""},{"$f":"IF(M201<>\"\",VLOOKUP(UPPER(M201),Sheet2!$A$9:$B$24,2,FALSE),\"\")","v":""}]
[null,null,null,null,null,null,null,null,null,null,null,null,null,null,null,"",{"$f":"IF(K202<>\"\",VLOOKUP(UPPER(K202),Sheet2!$A$3:$B$7,2,FALSE),\"\")","v":""},{"$f":"IF(M202<>\"\",VLOOKUP(UPPER(M202),Sheet2!$A$9:$B$24,2,FALSE),\"\")","v":""}]
[null,null,null,null,null,null,null,null,null,null,null,null,null,null,null,"",{"$f":"IF(K203<>\"\",VLOOKUP(UPPER(K203),Sheet2!$A$3:$B$7,2,FALSE),\"\")","v":""},{"$f":"IF(M203<>\"\",VLOOKUP(UPPER(M203),Sheet2!$A$9:$B$24,2,FALSE),\"\")","v":""}]
[null,null,null,null,null,null,null,null,null,null,null,null,null,null,null,"",{"$f":"IF(K204<>\"\",VLOOKUP(UPPER(K204),Sheet2!$A$3:$B$7,2,FALSE),\"\")","v":""},{"$f":"IF(M204<>\"\",VLOOKUP(UPPER(M204),Sheet2!$A$9:$B$24,2,FALSE),\"\")","v":""}]
[null,null,null,null,null,null,null,null,null,null,null,null,null,null,null,"",{"$f":"IF(K205<>\"\",VLOOKUP(UPPER(K205),Sheet2!$A$3:$B$7,2,FALSE),\"\")","v":""},{"$f":"IF(M205<>\"\",VLOOKUP(UPPER(M205),Sheet2!$A$9:$B$24,2,FALSE),\"\")","v":""}]
[null,null,null,null,null,null,null,null,null,null,null,null,null,null,null,"",{"$f":"IF(K206<>\"\",VLOOKUP(UPPER(K206),Sheet2!$A$3:$B$7,2,FALSE),\"\")","v":""},{"$f":"IF(M206<>\"\",VLOOKUP(UPPER(M206),Sheet2!$A$9:$B$24,2,FALSE),\"\")","v":""}]
[null,null,null,null,null,null,null,null,null,null,null,null,null,null,null,"",{"$f":"IF(K207<>\"\",VLOOKUP(UPPER(K207),Sheet2!$A$3:$B$7,2,FALSE),\"\")","v":""},{"$f":"IF(M207<>\"\",VLOOKUP(UPPER(M207),Sheet2!$A$9:$B$24,2,FALSE),\"\")","v":""}]
[null,null,null,null,null,null,null,null,null,null,null,null,null,null,null,"",{"$f":"IF(K208<>\"\",VLOOKUP(UPPER(K208),Sheet2!$A$3:$B$7,2,FALSE),\"\")","v":""},{"$f":"IF(M208<>\"\",VLOOKUP(UPPER(M208),Sheet2!$A$9:$B$24,2,FALSE),\"\")","v":""}]
[null,null,null,null,null,null,null,null,null,null,null,null,null,null,null,"",{"$f":"IF(K209<>\"\",VLOOKUP(UPPER(K209),Sheet2!$A$3:$B$7,2,FALSE),\"\")","v":""},{"$f":"IF(M209<>\"\",VLOOKUP(UPPER(M209),Sheet2!$A$9:$B$24,2,FALSE),\"\")","v":""}]
[null,null,null,null,null,null,null,null,null,null,null,null,null,null,null,"",{"$f":"IF(K210<>\"\",VLOOKUP(UPPER(K210),Sheet2!$A$3:$B$7,2,FALSE),\"\")","v":""},{"$f":"IF(M210<>\"\",VLOOKUP(UPPER(M210),Sheet2!$A$9:$B$24,2,FALSE),\"\")","v":""}]
[null,null,null,null,null,null,null,null,null,null,null,null,null,null,null,"",{"$f":"IF(K211<>\"\",VLOOKUP(UPPER(K211),Sheet2!$A$3:$B$7,2,FALSE),\"\")","v":""},{"$f":"IF(M211<>\"\",VLOOKUP(UPPER(M211),Sheet2!$A$9:$B$24,2,FALSE),\"\")","v":""}]
[null,null,null,null,null,null,null,null,null,null,null,null,null,null,null,"",{"$f":"IF(K212<>\"\",VLOOKUP(UPPER(K212),Sheet2!$A$3:$B$7,2,FALSE),\"\")","v":""},{"$f":"IF(M212<>\"\",VLOOKUP(UPPER(M212),Sheet2!$A$9:$B$24,2,FALSE),\"\")","v":""}]
[null,null,null,null,null,null,null,null,null,null,null,null,null,null,null,"",{"$f":"IF(K213<>\"\",VLOOKUP(UPPER(K213),Sheet2!$A$3:$B$7,2,FALSE),\"\")","v":""},{"$f":"IF(M213<>\"\",VLOOKUP(UPPER(M213),Sheet2!$A$9:$B$24,2,FALSE),\"\")","v":""}]
[null,null,null,null,null,null,null,null,null,null,null,null,null,null,null,"",{"$f":"IF(K214<>\"\",VLOOKUP(UPPER(K214),Sheet2!$A$3:$B$7,2,FALSE),\"\")","v":""},{"$f":"IF(M214<>\"\",VLOOKUP(UPPER(M214),Sheet2!$A$9:$B$24,2,FALSE),\"\")","v":""}]
[null,null,null,null,null,null,null,null,null,null,null,null,null,null,null,"",{"$f":"IF(K215<>\"\",VLOOKUP(UPPER(K215),Sheet2!$A$3:$B$7,2,FALSE),\"\")","v":""},{"$f":"IF(M215<>\"\",VLOOKUP(UPPER(M215),Sheet2!$A$9:$B$24,2,FALSE),\"\")","v":""}]
[null,null,null,null,null,null,null,null,null,null,null,null,null,null,null,"",{"$f":"IF(K216<>\"\",VLOOKUP(UPPER(K216),Sheet2!$A$3:$B$7,2,FALSE),\"\")","v":""},{"$f":"IF(M216<>\"\",VLOOKUP(UPPER(M216),Sheet2!$A$9:$B$24,2,FALSE),\"\")","v":""}]
[null,null,null,null,null,null,null,null,null,null,null,null,null,null,null,"",{"$f":"IF(K217<>\"\",VLOOKUP(UPPER(K217),Sheet2!$A$3:$B$7,2,FALSE),\"\")","v":""},{"$f":"IF(M217<>\"\",VLOOKUP(UPPER(M217),Sheet2!$A$9:$B$24,2,FALSE),\"\")","v":""}]
[null,null,null,null,null,null,null,null,null,null,null,null,null,null,null,"",{"$f":"IF(K218<>\"\",VLOOKUP(UPPER(K218),Sheet2!$A$3:$B$7,2,FALSE),\"\")","v":""},{"$f":"IF(M218<>\"\",VLOOKUP(UPPER(M218),Sheet2!$A$9:$B$24,2,FALSE),\"\")","v":""}]
[null,null,null,null,null,null,null,null,null,null,null,null,null,null,null,"",{"$f":"IF(K219<>\"\",VLOOKUP(UPPER(K219),Sheet2!$A$3:$B$7,2,FALSE),\"\")","v":""},{"$f":"IF(M219<>\"\",VLOOKUP(UPPER(M219),Sheet2!$A$9:$B$24,2,FALSE),\"\")","v":""}]
[null,null,null,null,null,null,null,null,null,null,null,null,null,null,null,"",{"$f":"IF(K220<>\"\",VLOOKUP(UPPER(K220),Sheet2!$A$3:$B$7,2,FALSE),\"\")","v":""},{"$f":"IF(M220<>\"\",VLOOKUP(UPPER(M220),Sheet2!$A$9:$B$24,2,FALSE),\"\")","v":""}]
[null,null,null,null,null,null,null,null,null,null,null,null,null,null,null,"",{"$f":"IF(K221<>\"\",VLOOKUP(UPPER(K221),Sheet2!$A$3:$B$7,2,FALSE),\"\")","v":""},{"$f":"IF(M221<>\"\",VLOOKUP(UPPER(M221),Sheet2!$A$9:$B$24,2,FALSE),\"\")","v":""}]
[null,null,null,null,null,null,null,null,null,null,null,null,null,null,null,"",{"$f":"IF(K222<>\"\",VLOOKUP(UPPER(K222),Sheet2!$A$3:$B$7,2,FALSE),\"\")","v":""},{"$f":"IF(M222<>\"\",VLOOKUP(UPPER(M222),Sheet2!$A$9:$B$24,2,FALSE),\"\")","v":""}]
[null,null,null,null,null,null,null,null,null,null,null,null,null,null,null,"",{"$f":"IF(K223<>\"\",VLOOKUP(UPPER(K223),Sheet2!$A$3:$B$7,2,FALSE),\"\")","v":""},{"$f":"IF(M223<>\"\",VLOOKUP(UPPER(M223),Sheet2!$A$9:$B$24,2,FALSE),\"\")","v":""}]
[null,null,null,null,null,null,null,null,null,null,null,null,null,null,null,"",{"$f":"IF(K224<>\"\",VLOOKUP(UPPER(K224),Sheet2!$A$3:$B$7,2,FALSE),\"\")","v":""},{"$f":"IF(M224<>\"\",VLOOKUP(UPPER(M224),Sheet2!$A$9:$B$24,2,FALSE),\"\")","v":""}]
[null,null,null,null,null,null,null,null,null,null,null,null,null,null,null,"",{"$f":"IF(K225<>\"\",VLOOKUP(UPPER(K225),Sheet2!$A$3:$B$7,2,FALSE),\"\")","v":""},{"$f":"IF(M225<>\"\",VLOOKUP(UPPER(M225),Sheet2!$A$9:$B$24,2,FALSE),\"\")","v":""}]
[null,null,null,null,null,null,null,null,null,null,null,null,null,null,null,"",{"$f":"IF(K226<>\"\",VLOOKUP(UPPER(K226),Sheet2!$A$3:$B$7,2,FALSE),\"\")","v":""},{"$f":"IF(M226<>\"\",VLOOKUP(UPPER(M226),Sheet2!$A$9:$B$24,2,FALSE),\"\")","v":""}]
[null,null,null,null,null,null,null,null,null,null,null,null,null,null,null,"",{"$f":"IF(K227<>\"\",VLOOKUP(UPPER(K227),Sheet2!$A$3:$B$7,2,FALSE),\"\")","v":""},{"$f":"IF(M227<>\"\",VLOOKUP(UPPER(M227),Sheet2!$A$9:$B$24,2,FALSE),\"\")","v":""}]
[null,null,null,null,null,null,null,null,null,null,null,null,null,null,null,"",{"$f":"IF(K228<>\"\",VLOOKUP(UPPER(K228),Sheet2!$A$3:$B$7,2,FALSE),\"\")","v":""},{"$f":"IF(M228<>\"\",VLOOKUP(UPPER(M228),Sheet2!$A$9:$B$24,2,FALSE),\"\")","v":""}]
[null,null,null,null,null,null,null,null,null,null,null,null,null,null,null,"",{"$f":"IF(K229<>\"\",VLOOKUP(UPPER(K229),Sheet2!$A$3:$B$7,2,FALSE),\"\")","v":""},{"$f":"IF(M229<>\"\",VLOOKUP(UPPER(M229),Sheet2!$A$9:$B$24,2,FALSE),\"\")","v":""}]
[null,null,null,null,null,null,null,null,null,null,null,null,null,null,null,"",{"$f":"IF(K230<>\"\",VLOOKUP(UPPER(K230),Sheet2!$A$3:$B$7,2,FALSE),\"\")","v":""},{"$f":"IF(M230<>\"\",VLOOKUP(UPPER(M230),Sheet2!$A$9:$B$24,2,FALSE),\"\")","v":""}]
[null,null,null,null,null,null,null,null,null,null,null,null,null,null,null,"",{"$f":"IF(K231<>\"\",VLOOKUP(UPPER(K231),Sheet2!$A$3:$B$7,2,FALSE),\"\")","v":""},{"$f":"IF(M231<>\"\",VLOOKUP(UPPER(M231),Sheet2!$A$9:$B$24,2,FALSE),\"\")","v":""}]
[null,null,null,null,null,null,null,null,null,null,null,null,null,null,null,"",{"$f":"IF(K232<>\"\",VLOOKUP(UPPER(K232),Sheet2!$A$3:$B$7,2,FALSE),\"\")","v":""},{"$f":"IF(M232<>\"\",VLOOKUP(UPPER(M232),Sheet2!$A$9:$B$24,2,FALSE),\"\")","v":""}]
[null,null,null,null,null,null,null,null,null,null,null,null,null,null,null,"",{"$f":"IF(K233<>\"\",VLOOKUP(UPPER(K233),Sheet2!$A$3:$B$7,2,FALSE),\"\")","v":""},{"$f":"IF(M233<>\"\",VLOOKUP(UPPER(M233),Sheet2!$A$9:$B$24,2,FALSE),\"\")","v":""}]
[null,null,null,null,null,null,null,null,null,null,null,null,null,null,null,"",{"$f":"IF(K234<>\"\",VLOOKUP(UPPER(K234),Sheet2!$A$3:$B$7,2,FALSE),\"\")","v":""},{"$f":"IF(M234<>\"\",VLOOKUP(UPPER(M234),Sheet2!$A$9:$B$24,2,FALSE),\"\")","v":""}]
[null,null,null,null,null,null,null,null,null,null,null,null,null,null,null,"",{"$f":"IF(K235<>\"\",VLOOKUP(UPPER(K235),Sheet2!$A$3:$B$7,2,FALSE),\"\")","v":""},{"$f":"IF(M235<>\"\",VLOOKUP(UPPER(M235),Sheet2!$A$9:$B$24,2,FALSE),\"\")","v":""}]
[null,null,null,null,null,null,null,null,null,null,null,null,null,null,null,"",{"$f":"IF(K236<>\"\",VLOOKUP(UPPER(K236),Sheet2!$A$3:$B$7,2,FALSE),\"\")","v":""},{"$f":"IF(M236<>\"\",VLOOKUP(UPPER(M236),Sheet2!$A$9:$B$24,2,FALSE),\"\")","v":""}]
[null,null,null,null,null,null,null,null,null,null,null,null,null,null,null,"",{"$f":"IF(K237<>\"\",VLOOKUP(UPPER(K237),Sheet2!$A$3:$B$7,2,FALSE),\"\")","v":""},{"$f":"IF(M237<>\"\",VLOOKUP(UPPER(M237),Sheet2!$A$9:$B$24,2,FALSE),\"\")","v":""}]
[null,null,null,null,null,null,null,null,null,null,null,null,null,null,null,"",{"$f":"IF(K238<>\"\",VLOOKUP(UPPER(K238),Sheet2!$A$3:$B$7,2,FALSE),\"\")","v":""},{"$f":"IF(M238<>\"\",VLOOKUP(UPPER(M238),Sheet2!$A$9:$B$24,2,FALSE),\"\")","v":""}]
[null,null,null,null,null,null,null,null,null,null,null,null,null,null,null,"",{"$f":"IF(K239<>\"\",VLOOKUP(UPPER(K239),Sheet2!$A$3:$B$7,2,FALSE),\"\")","v":""},{"$f":"IF(M239<>\"\",VLOOKUP(UPPER(M239),Sheet2!$A$9:$B$24,2,FALSE),\"\")","v":""}]
[null,null,null,null,null,null,null,null,null,null,null,null,null,null,null,"",{"$f":"IF(K240<>\"\",VLOOKUP(UPPER(K240),Sheet2!$A$3:$B$7,2,FALSE),\"\")","v":""},{"$f":"IF(M240<>\"\",VLOOKUP(UPPER(M240),Sheet2!$A$9:$B$24,2,FALSE),\"\")","v":""}]
[null,null,null,null,null,null,null,null,null,null,null,null,null,null,null,"",{"$f":"IF(K241<>\"\",VLOOKUP(UPPER(K241),Sheet2!$A$3:$B$7,2,FALSE),\"\")","v":""},{"$f":"IF(M241<>\"\",VLOOKUP(UPPER(M241),Sheet2!$A$9:$B$24,2,FALSE),\"\")","v":""}]
[null,null,null,null,null,null,null,null,null,null,null,null,null,null,null,"",{"$f":"IF(K242<>\"\",VLOOKUP(UPPER(K242),Sheet2!$A$3:$B$7,2,FALSE),\"\")","v":""},{"$f":"IF(M242<>\"\",VLOOKUP(UPPER(M242),Sheet2!$A$9:$B$24,2,FALSE),\"\")","v":""}]
[null,null,null,null,null,null,null,null,null,null,null,null,null,null,null,"",{"$f":"IF(K243<>\"\",VLOOKUP(UPPER(K243),Sheet2!$A$3:$B$7,2,FALSE),\"\")","v":""},{"$f":"IF(M243<>\"\",VLOOKUP(UPPER(M243),Sheet2!$A$9:$B$24,2,FALSE),\"\")","v":""}]
[null,null,null,null,null,null,null,null,null,null,null,null,null,null,null,"",{"$f":"IF(K244<>\"\",VLOOKUP(UPPER(K244),Sheet2!$A$3:$B$7,2,FALSE),\"\")","v":""},{"$f":"IF(M244<>\"\",VLOOKUP(UPPER(M244),Sheet2!$A$9:$B$24,2,FALSE),\"\")","v":""}]
[null,null,null,null,null,null,null,null,null,null,null,null,null,null,null,"",{"$f":"IF(K245<>\"\",VLOOKUP(UPPER(K245),Sheet2!$A$3:$B$7,2,FALSE),\"\")","v":""},{"$f":"IF(M245<>\"\",VLOOKUP(UPPER(M245),Sheet2!$A$9:$B$24,2,FALSE),\"\")","v":""}]
[null,null,null,null,null,null,null,null,null,null,null,null,null,null,null,"",{"$f":"IF(K246<>\"\",VLOOKUP(UPPER(K246),Sheet2!$A$3:$B$7,2,FALSE),\"\")","v":""},{"$f":"IF(M246<>\"\",VLOOKUP(UPPER(M246),Sheet2!$A$9:$B$24,2,FALSE),\"\")","v":""}]
[null,null,null,null,null,null,null,null,null,null,null,null,null,null,null,"",{"$f":"IF(K247<>\"\",VLOOKUP(UPPER(K247),Sheet2!$A$3:$B$7,2,FALSE),\"\")","v":""},{"$f":"IF(M247<>\"\",VLOOKUP(UPPER(M247),Sheet2!$A$9:$B$24,2,FALSE),\"\")","v":""}]
[null,null,null,null,null,null,null,null,null,null,null,null,null,null,null,"",{"$f":"IF(K248<>\"\",VLOOKUP(UPPER(K248),Sheet2!$A$3:$B$7,2,FALSE),\"\")","v":""},{"$f":"IF(M248<>\"\",VLOOKUP(UPPER(M248),Sheet2!$A$9:$B$24,2,FALSE),\"\")","v":""}]
[null,null,null,null,null,null,null,null,null,null,null,null,null,null,null,"",{"$f":"IF(K249<>\"\",VLOOKUP(UPPER(K249),Sheet2!$A$3:$B$7,2,FALSE),\"\")","v":""},{"$f":"IF(M249<>\"\",VLOOKUP(UPPER(M249),Sheet2!$A$9:$B$24,2,FALSE),\"\")","v":""}]
[null,null,null,null,null,null,null,null,null,null,null,null,null,null,null,"",{"$f":"IF(K250<>\"\",VLOOKUP(UPPER(K250),Sheet2!$A$3:$B$7,2,FALSE),\"\")","v":""},{"$f":"IF(M250<>\"\",VLOOKUP(UPPER(M250),Sheet2!$A$9:$B$24,2,FALSE),\"\")","v":""}]
[null,null,null,null,null,null,null,null,null,null,null,null,null,null,null,"",{"$f":"IF(K251<>\"\",VLOOKUP(UPPER(K251),Sheet2!$A$3:$B$7,2,FALSE),\"\")","v":""},{"$f":"IF(M251<>\"\",VLOOKUP(UPPER(M251),Sheet2!$A$9:$B$24,2,FALSE),\"\")","v":""}]
[null,null,null,null,null,null,null,null,null,null,null,null,null,null,null,"",{"$f":"IF(K252<>\"\",VLOOKUP(UPPER(K252),Sheet2!$A$3:$B$7,2,FALSE),\"\")","v":""},{"$f":"IF(M252<>\"\",VLOOKUP(UPPER(M252),Sheet2!$A$9:$B$24,2,FALSE),\"\")","v":""}]
[null,null,null,null,null,null,null,null,null,null,null,null,null,null,null,"",{"$f":"IF(K253<>\"\",VLOOKUP(UPPER(K253),Sheet2!$A$3:$B$7,2,FALSE),\"\")","v":""},{"$f":"IF(M253<>\"\",VLOOKUP(UPPER(M253),Sheet2!$A$9:$B$24,2,FALSE),\"\")","v":""}]
[null,null,null,null,null,null,null,null,null,null,null,null,null,null,null,"",{"$f":"IF(K254<>\"\",VLOOKUP(UPPER(K254),Sheet2!$A$3:$B$7,2,FALSE),\"\")","v":""},{"$f":"IF(M254<>\"\",VLOOKUP(UPPER(M254),Sheet2!$A$9:$B$24,2,FALSE),\"\")","v":""}]
[null,null,null,null,null,null,null,null,null,null,null,null,null,null,null,"",{"$f":"IF(K255<>\"\",VLOOKUP(UPPER(K255),Sheet2!$A$3:$B$7,2,FALSE),\"\")","v":""},{"$f":"IF(M255<>\"\",VLOOKUP(UPPER(M255),Sheet2!$A$9:$B$24,2,FALSE),\"\")","v":""}]
[null,null,null,null,null,null,null,null,null,null,null,null,null,null,null,"",{"$f":"IF(K256<>\"\",VLOOKUP(UPPER(K256),Sheet2!$A$3:$B$7,2,FALSE),\"\")","v":""},{"$f":"IF(M256<>\"\",VLOOKUP(UPPER(M256),Sheet2!$A$9:$B$24,2,FALSE),\"\")","v":""}]
[null,null,null,null,null,null,null,null,null,null,null,null,null,null,null,"",{"$f":"IF(K257<>\"\",VLOOKUP(UPPER(K257),Sheet2!$A$3:$B$7,2,FALSE),\"\")","v":""},{"$f":"IF(M257<>\"\",VLOOKUP(UPPER(M257),Sheet2!$A$9:$B$24,2,FALSE),\"\")","v":""}]
[null,null,null,null,null,null,null,null,null,null,null,null,null,null,null,"",{"$f":"IF(K258<>\"\",VLOOKUP(UPPER(K258),Sheet2!$A$3:$B$7,2,FALSE),\"\")","v":""},{"$f":"IF(M258<>\"\",VLOOKUP(UPPER(M258),Sheet2!$A$9:$B$24,2,FALSE),\"\")","v":""}]
[null,null,null,null,null,null,null,null,null,null,null,null,null,null,null,"",{"$f":"IF(K259<>\"\",VLOOKUP(UPPER(K259),Sheet2!$A$3:$B$7,2,FALSE),\"\")","v":""},{"$f":"IF(M259<>\"\",VLOOKUP(UPPER(M259),Sheet2!$A$9:$B$24,2,FALSE),\"\")","v":""}]
[null,null,null,null,null,null,null,null,null,null,null,null,null,null,null,"",{"$f":"IF(K260<>\"\",VLOOKUP(UPPER(K260),Sheet2!$A$3:$B$7,2,FALSE),\"\")","v":""},{"$f":"IF(M260<>\"\",VLOOKUP(UPPER(M260),Sheet2!$A$9:$B$24,2,FALSE),\"\")","v":""}]
[null,null,null,null,null,null,null,null,null,null,null,null,null,null,null,"",{"$f":"IF(K261<>\"\",VLOOKUP(UPPER(K261),Sheet2!$A$3:$B$7,2,FALSE),\"\")","v":""},{"$f":"IF(M261<>\"\",VLOOKUP(UPPER(M261),Sheet2!$A$9:$B$24,2,FALSE),\"\")","v":""}]
[null,null,null,null,null,null,null,null,null,null,null,null,null,null,null,{"$f":"IF(OR(A262<>\"\",B262<>\"\",C262<>\"\",E262<>\"\",F262<>\"\",G262<>\"\",H262<>\"\",I262<>\"\",J262<>\"\",K262<>\"\",L262<>\"\",M262<>\"\",N262<>\"\",O262<>\"\"),IF(AND(A262<>\"\",B262<>\"\",C262<>\"\",E262<>\"\",J262<>\"\",L262<>\"\"),IF(AND(G262<>\"\",H262<>\"\"),IF(AND(J262<(G262*H262)*1.02,J262>(G262*H262)*0.98),\"COMPLETE\",IF(OR(UPPER(L262)=\"QSCMM\",UPPER(L262)=\"QADCP\"),\"WARNING\",\"COMPLETE\")),\"COMPLETE\"),\"INCOMPLETE\"),\"\")","v":""},{"$f":"IF(K262<>\"\",VLOOKUP(UPPER(K262),Sheet2!$A$3:$B$7,2,FALSE),\"\")","v":""},{"$f":"IF(M262<>\"\",VLOOKUP(UPPER(M262),Sheet2!$A$9:$B$24,2,FALSE),\"\")","v":""}]
[null,null,null,null,null,null,null,null,null,null,null,null,null,null,null,"",{"$f":"IF(K263<>\"\",VLOOKUP(UPPER(K263),Sheet2!$A$3:$B$7,2,FALSE),\"\")","v":""},{"$f":"IF(M263<>\"\",VLOOKUP(UPPER(M263),Sheet2!$A$9:$B$24,2,FALSE),\"\")","v":""}]
[null,null,null,null,null,null,null,null,null,null,null,null,null,null,null,"",{"$f":"IF(K264<>\"\",VLOOKUP(UPPER(K264),Sheet2!$A$3:$B$7,2,FALSE),\"\")","v":""},{"$f":"IF(M264<>\"\",VLOOKUP(UPPER(M264),Sheet2!$A$9:$B$24,2,FALSE),\"\")","v":""}]
[null,null,null,null,null,null,null,null,null,null,null,null,null,null,null,"",{"$f":"IF(K265<>\"\",VLOOKUP(UPPER(K265),Sheet2!$A$3:$B$7,2,FALSE),\"\")","v":""},{"$f":"IF(M265<>\"\",VLOOKUP(UPPER(M265),Sheet2!$A$9:$B$24,2,FALSE),\"\")","v":""}]
[null,null,null,null,null,null,null,null,null,null,null,null,null,null,null,"",{"$f":"IF(K266<>\"\",VLOOKUP(UPPER(K266),Sheet2!$A$3:$B$7,2,FALSE),\"\")","v":""},{"$f":"IF(M266<>\"\",VLOOKUP(UPPER(M266),Sheet2!$A$9:$B$24,2,FALSE),\"\")","v":""}]
[null,null,null,null,null,null,null,null,null,null,null,null,null,null,null,"",{"$f":"IF(K267<>\"\",VLOOKUP(UPPER(K267),Sheet2!$A$3:$B$7,2,FALSE),\"\")","v":""},{"$f":"IF(M267<>\"\",VLOOKUP(UPPER(M267),Sheet2!$A$9:$B$24,2,FALSE),\"\")","v":""}]
[null,null,null,null,null,null,null,null,null,null,null,null,null,null,null,"",{"$f":"IF(K268<>\"\",VLOOKUP(UPPER(K268),Sheet2!$A$3:$B$7,2,FALSE),\"\")","v":""},{"$f":"IF(M268<>\"\",VLOOKUP(UPPER(M268),Sheet2!$A$9:$B$24,2,FALSE),\"\")","v":""}]
[null,null,null,null,null,null,null,null,null,null,null,null,null,null,null,"",{"$f":"IF(K269<>\"\",VLOOKUP(UPPER(K269),Sheet2!$A$3:$B$7,2,FALSE),\"\")","v":""},{"$f":"IF(M269<>\"\",VLOOKUP(UPPER(M269),Sheet2!$A$9:$B$24,2,FALSE),\"\")","v":""}]
[null,null,null,null,null,null,null,null,null,null,null,null,null,null,null,"",{"$f":"IF(K270<>\"\",VLOOKUP(UPPER(K270),Sheet2!$A$3:$B$7,2,FALSE),\"\")","v":""},{"$f":"IF(M270<>\"\",VLOOKUP(UPPER(M270),Sheet2!$A$9:$B$24,2,FALSE),\"\")","v":""}]
[null,null,null,null,null,null,null,null,null,null,null,null,null,null,null,"",{"$f":"IF(K271<>\"\",VLOOKUP(UPPER(K271),Sheet2!$A$3:$B$7,2,FALSE),\"\")","v":""},{"$f":"IF(M271<>\"\",VLOOKUP(UPPER(M271),Sheet2!$A$9:$B$24,2,FALSE),\"\")","v":""}]
[null,null,null,null,null,null,null,null,null,null,null,null,null,null,null,"",{"$f":"IF(K272<>\"\",VLOOKUP(UPPER(K272),Sheet2!$A$3:$B$7,2,FALSE),\"\")","v":""},{"$f":"IF(M272<>\"\",VLOOKUP(UPPER(M272),Sheet2!$A$9:$B$24,2,FALSE),\"\")","v":""}]
[null,null,null,null,null,null,null,null,null,null,null,null,null,null,null,"",{"$f":"IF(K273<>\"\",VLOOKUP(UPPER(K273),Sheet2!$A$3:$B$7,2,FALSE),\"\")","v":""},{"$f":"IF(M273<>\"\",VLOOKUP(UPPER(M273),Sheet2!$A$9:$B$24,2,FALSE),\"\")","v":""}]
[null,null,null,null,null,null,null,null,null,null,null,null,null,null,null,"",{"$f":"IF(K274<>\"\",VLOOKUP(UPPER(K274),Sheet2!$A$3:$B$7,2,FALSE),\"\")","v":""},{"$f":"IF(M274<>\"\",VLOOKUP(UPPER(M274),Sheet2!$A$9:$B$24,2,FALSE),\"\")","v":""}]
[null,null,null,null,null,null,null,null,null,null,null,null,null,null,null,"",{"$f":"IF(K275<>\"\",VLOOKUP(UPPER(K275),Sheet2!$A$3:$B$7,2,FALSE),\"\")","v":""},{"$f":"IF(M275<>\"\",VLOOKUP(UPPER(M275),Sheet2!$A$9:$B$24,2,FALSE),\"\")","v":""}]
[null,null,null,null,null,null,null,null,null,null,null,null,null,null,null,"",{"$f":"IF(K276<>\"\",VLOOKUP(UPPER(K276),Sheet2!$A$3:$B$7,2,FALSE),\"\")","v":""},{"$f":"IF(M276<>\"\",VLOOKUP(UPPER(M276),Sheet2!$A$9:$B$24,2,FALSE),\"\")","v":""}]
[null,null,null,null,null,null,null,null,null,null,null,null,null,null,null,"",{"$f":"IF(K277<>\"\",VLOOKUP(UPPER(K277),Sheet2!$A$3:$B$7,2,FALSE),\"\")","v":""},{"$f":"IF(M277<>\"\",VLOOKUP(UPPER(M277),Sheet2!$A$9:$B$24,2,FALSE),\"\")","v":""}]
[null,null,null,null,null,null,null,null,null,null,null,null,null,null,null,"",{"$f":"IF(K278<>\"\",VLOOKUP(UPPER(K278),Sheet2!$A$3:$B$7,2,FALSE),\"\")","v":""},{"$f":"IF(M278<>\"\",VLOOKUP(UPPER(M278),Sheet2!$A$9:$B$24,2,FALSE),\"\")","v":""}]
[null,null,null,null,null,null,null,null,null,null,null,null,null,null,null,"",{"$f":"IF(K279<>\"\",VLOOKUP(UPPER(K279),Sheet2!$A$3:$B$7,2,FALSE),\"\")","v":""},{"$f":"IF(M279<>\"\",VLOOKUP(UPPER(M279),Sheet2!$A$9:$B$24,2,FALSE),\"\")","v":""}]
[null,null,null,null,null,null,null,null,null,null,null,null,null,null,null,"",{"$f":"IF(K280<>\"\",VLOOKUP(UPPER(K280),Sheet2!$A$3:$B$7,2,FALSE),\"\")","v":""},{"$f":"IF(M280<>\"\",VLOOKUP(UPPER(M280),Sheet2!$A$9:$B$24,2,FALSE),\"\")","v":""}]
[null,null,null,null,null,null,null,null,null,null,null,null,null,null,null,"",{"$f":"IF(K281<>\"\",VLOOKUP(UPPER(K281),Sheet2!$A$3:$B$7,2,FALSE),\"\")","v":""},{"$f":"IF(M281<>\"\",VLOOKUP(UPPER(M281),Sheet2!$A$9:$B$24,2,FALSE),\"\")","v":""}]
[null,null,null,null,null,null,null,null,null,null,null,null,null,null,null,"",{"$f":"IF(K282<>\"\",VLOOKUP(UPPER(K282),Sheet2!$A$3:$B$7,2,FALSE),\"\")","v":""},{"$f":"IF(M282<>\"\",VLOOKUP(UPPER(M282),Sheet2!$A$9:$B$24,2,FALSE),\"\")","v":""}]
[null,null,null,null,null,null,null,null,null,null,null,null,null,null,null,"",{"$f":"IF(K283<>\"\",VLOOKUP(UPPER(K283),Sheet2!$A$3:$B$7,2,FALSE),\"\")","v":""},{"$f":"IF(M283<>\"\",VLOOKUP(UPPER(M283),Sheet2!$A$9:$B$24,2,FALSE),\"\")","v":""}]
[null,null,null,null,null,null,null,null,null,null,null,null,null,null,null,"",{"$f":"IF(K284<>\"\",VLOOKUP(UPPER(K284),Sheet2!$A$3:$B$7,2,FALSE),\"\")","v":""},{"$f":"IF(M284<>\"\",VLOOKUP(UPPER(M284),Sheet2!$A$9:$B$24,2,FALSE),\"\")","v":""}]
[null,null,null,null,null,null,null,null,null,null,null,null,null,null,null,"",{"$f":"IF(K285<>\"\",VLOOKUP(UPPER(K285),Sheet2!$A$3:$B$7,2,FALSE),\"\")","v":""},{"$f":"IF(M285<>\"\",VLOOKUP(UPPER(M285),Sheet2!$A$9:$B$24,2,FALSE),\"\")","v":""}]
[null,null,null,null,null,null,null,null,null,null,null,null,null,null,null,"",{"$f":"IF(K286<>\"\",VLOOKUP(UPPER(K286),Sheet2!$A$3:$B$7,2,FALSE),\"\")","v":""},{"$f":"IF(M286<>\"\",VLOOKUP(UPPER(M286),Sheet2!$A$9:$B$24,2,FALSE),\"\")","v":""}]
[null,null,null,null,null,null,null,null,null,null,null,null,null,null,null,"",{"$f":"IF(K287<>\"\",VLOOKUP(UPPER(K287),Sheet2!$A$3:$B$7,2,FALSE),\"\")","v":""},{"$f":"IF(M287<>\"\",VLOOKUP(UPPER(M287),Sheet2!$A$9:$B$24,2,FALSE),\"\")","v":""}]
[null,null,null,null,null,null,null,null,null,null,null,null,null,null,null,"",{"$f":"IF(K288<>\"\",VLOOKUP(UPPER(K288),Sheet2!$A$3:$B$7,2,FALSE),\"\")","v":""},{"$f":"IF(M288<>\"\",VLOOKUP(UPPER(M288),Sheet2!$A$9:$B$24,2,FALSE),\"\")","v":""}]
[null,null,null,null,null,null,null,null,null,null,null,null,null,null,null,"",{"$f":"IF(K289<>\"\",VLOOKUP(UPPER(K289),Sheet2!$A$3:$B$7,2,FALSE),\"\")","v":""},{"$f":"IF(M289<>\"\",VLOOKUP(UPPER(M289),Sheet2!$A$9:$B$24,2,FALSE),\"\")","v":""}]
[null,null,null,null,null,null,null,null,null,null,null,null,null,null,null,"",{"$f":"IF(K290<>\"\",VLOOKUP(UPPER(K290),Sheet2!$A$3:$B$7,2,FALSE),\"\")","v":""},{"$f":"IF(M290<>\"\",VLOOKUP(UPPER(M290),Sheet2!$A$9:$B$24,2,FALSE),\"\")","v":""}]
[null,null,null,null,null,null,null,null,null,null,null,null,null,null,null,"",{"$f":"IF(K291<>\"\",VLOOKUP(UPPER(K291),Sheet2!$A$3:$B$7,2,FALSE),\"\")","v":""},{"$f":"IF(M291<>\"\",VLOOKUP(UPPER(M291),Sheet2!$A$9:$B$24,2,FALSE),\"\")","v":""}]
[null,null,null,null,null,null,null,null,null,null,null,null,null,null,null,"",{"$f":"IF(K292<>\"\",VLOOKUP(UPPER(K292),Sheet2!$A$3:$B$7,2,FALSE),\"\")","v":""},{"$f":"IF(M292<>\"\",VLOOKUP(UPPER(M292),Sheet2!$A$9:$B$24,2,FALSE),\"\")","v":""}]
[null,null,null,null,null,null,null,null,null,null,null,null,null,null,null,"",{"$f":"IF(K293<>\"\",VLOOKUP(UPPER(K293),Sheet2!$A$3:$B$7,2,FALSE),\"\")","v":""},{"$f":"IF(M293<>\"\",VLOOKUP(UPPER(M293),Sheet2!$A$9:$B$24,2,FALSE),\"\")","v":""}]
[null,null,null,null,null,null,null,null,null,null,null,null,null,null,null,"",{"$f":"IF(K294<>\"\",VLOOKUP(UPPER(K294),Sheet2!$A$3:$B$7,2,FALSE),\"\")","v":""},{"$f":"IF(M294<>\"\",VLOOKUP(UPPER(M294),Sheet2!$A$9:$B$24,2,FALSE),\"\")","v":""}]
[null,null,null,null,null,null,null,null,null,null,null,null,null,null,null,"",{"$f":"IF(K295<>\"\",VLOOKUP(UPPER(K295),Sheet2!$A$3:$B$7,2,FALSE),\"\")","v":""},{"$f":"IF(M295<>\"\",VLOOKUP(UPPER(M295),Sheet2!$A$9:$B$24,2,FALSE),\"\")","v":""}]
[null,null,null,null,null,null,null,null,null,null,null,null,null,null,null,"",{"$f":"IF(K296<>\"\",VLOOKUP(UPPER(K296),Sheet2!$A$3:$B$7,2,FALSE),\"\")","v":""},{"$f":"IF(M296<>\"\",VLOOKUP(UPPER(M296),Sheet2!$A$9:$B$24,2,FALSE),\"\")","v":""}]
[null,null,null,null,null,null,null,null,null,null,null,null,null,null,null,"",{"$f":"IF(K297<>\"\",VLOOKUP(UPPER(K297),Sheet2!$A$3:$B$7,2,FALSE),\"\")","v":""},{"$f":"IF(M297<>\"\",VLOOKUP(UPPER(M297),Sheet2!$A$9:$B$24,2,FALSE),\"\")","v":""}]
[null,null,null,null,null,null,null,null,null,null,null,null,null,null,null,"",{"$f":"IF(K298<>\"\",VLOOKUP(UPPER(K298),Sheet2!$A$3:$B$7,2,FALSE),\"\")","v":""},{"$f":"IF(M298<>\"\",VLOOKUP(UPPER(M298),Sheet2!$A$9:$B$24,2,FALSE),\"\")","v":""}]
[null,null,null,null,null,null,null,null,null,null,null,null,null,null,null,"",{"$f":"IF(K299<>\"\",VLOOKUP(UPPER(K299),Sheet2!$A$3:$B$7,2,FALSE),\"\")","v":""},{"$f":"IF(M299<>\"\",VLOOKUP(UPPER(M299),Sheet2!$A$9:$B$24,2,FALSE),\"\")","v":""}]
[null,null,null,null,null,null,null,null,null,null,null,null,null,null,null,"",{"$f":"IF(K300<>\"\",VLOOKUP(UPPER(K300),Sheet2!$A$3:$B$7,2,FALSE),\"\")","v":""},{"$f":"IF(M300<>\"\",VLOOKUP(UPPER(M300),Sheet2!$A$9:$B$24,2,FALSE),\"\")","v":""}]
[null,null,null,null,null,null,null,null,null,null,null,null,null,null,null,"",{"$f":"IF(K301<>\"\",VLOOKUP(UPPER(K301),Sheet2!$A$3:$B$7,2,FALSE),\"\")","v":""},{"$f":"IF(M301<>\"\",VLOOKUP(UPPER(M301),Sheet2!$A$9:$B$24,2,FALSE),\"\")","v":""}]
[null,null,null,null,null,null,null,null,null,null,null,null,null,null,null,"",{"$f":"IF(K302<>\"\",VLOOKUP(UPPER(K302),Sheet2!$A$3:$B$7,2,FALSE),\"\")","v":""},{"$f":"IF(M302<>\"\",VLOOKUP(UPPER(M302),Sheet2!$A$9:$B$24,2,FALSE),\"\")","v":""}]
[null,null,null,null,null,null,null,null,null,null,null,null,null,null,null,"",{"$f":"IF(K303<>\"\",VLOOKUP(UPPER(K303),Sheet2!$A$3:$B$7,2,FALSE),\"\")","v":""},{"$f":"IF(M303<>\"\",VLOOKUP(UPPER(M303),Sheet2!$A$9:$B$24,2,FALSE),\"\")","v":""}]
[null,null,null,null,null,null,null,null,null,null,null,null,null,null,null,"",{"$f":"IF(K304<>\"\",VLOOKUP(UPPER(K304),Sheet2!$A$3:$B$7,2,FALSE),\"\")","v":""},{"$f":"IF(M304<>\"\",VLOOKUP(UPPER(M304),Sheet2!$A$9:$B$24,2,FALSE),\"\")","v":""}]
[null,null,null,null,null,null,null,null,null,null,null,null,null,null,null,"",{"$f":"IF(K305<>\"\",VLOOKUP(UPPER(K305),Sheet2!$A$3:$B$7,2,FALSE),\"\")","v":""},{"$f":"IF(M305<>\"\",VLOOKUP(UPPER(M305),Sheet2!$A$9:$B$24,2,FALSE),\"\")","v":""}]
[null,null,null,null,null,null,null,null,null,null,null,null,null,null,null,"",{"$f":"IF(K306<>\"\",VLOOKUP(UPPER(K306),Sheet2!$A$3:$B$7,2,FALSE),\"\")","v":""},{"$f":"IF(M306<>\"\",VLOOKUP(UPPER(M306),Sheet2!$A$9:$B$24,2,FALSE),\"\")","v":""}]
[null,null,null,null,null,null,null,null,null,null,null,null,null,null,null,"",{"$f":"IF(K307<>\"\",VLOOKUP(UPPER(K307),Sheet2!$A$3:$B$7,2,FALSE),\"\")","v":""},{"$f":"IF(M307<>\"\",VLOOKUP(UPPER(M307),Sheet2!$A$9:$B$24,2,FALSE),\"\")","v":""}]
[null,null,null,null,null,null,null,null,null,null,null,null,null,null,null,"",{"$f":"IF(K308<>\"\",VLOOKUP(UPPER(K308),Sheet2!$A$3:$B$7,2,FALSE),\"\")","v":""},{"$f":"IF(M308<>\"\",VLOOKUP(UPPER(M308),Sheet2!$A$9:$B$24,2,FALSE),\"\")","v":""}]
[null,null,null,null,null,null,null,null,null,null,null,null,null,null,null,"",{"$f":"IF(K309<>\"\",VLOOKUP(UPPER(K309),Sheet2!$A$3:$B$7,2,FALSE),\"\")","v":""},{"$f":"IF(M309<>\"\",VLOOKUP(UPPER(M309),Sheet2!$A$9:$B$24,2,FALSE),\"\")","v":""}]
[null,null,null,null,null,null,null,null,null,null,null,null,null,null,null,"",{"$f":"IF(K310<>\"\",VLOOKUP(UPPER(K310),Sheet2!$A$3:$B$7,2,FALSE),\"\")","v":""},{"$f":"IF(M310<>\"\",VLOOKUP(UPPER(M310),Sheet2!$A$9:$B$24,2,FALSE),\"\")","v":""}]
[null,null,null,null,null,null,null,null,null,null,null,null,null,null,null,"",{"$f":"IF(K311<>\"\",VLOOKUP(UPPER(K311),Sheet2!$A$3:$B$7,2,FALSE),\"\")","v":""},{"$f":"IF(M311<>\"\",VLOOKUP(UPPER(M311),Sheet2!$A$9:$B$24,2,FALSE),\"\")","v":""}]
[null,null,null,null,null,null,null,null,null,null,null,null,null,null,null,"",{"$f":"IF(K312<>\"\",VLOOKUP(UPPER(K312),Sheet2!$A$3:$B$7,2,FALSE),\"\")","v":""},{"$f":"IF(M312<>\"\",VLOOKUP(UPPER(M312),Sheet2!$A$9:$B$24,2,FALSE),\"\")","v":""}]
[null,null,null,null,null,null,null,null,null,null,null,null,null,null,null,"",{"$f":"IF(K313<>\"\",VLOOKUP(UPPER(K313),Sheet2!$A$3:$B$7,2,FALSE),\"\")","v":""},{"$f":"IF(M313<>\"\",VLOOKUP(UPPER(M313),Sheet2!$A$9:$B$24,2,FALSE),\"\")","v":""}]
[null,null,null,null,null,null,null,null,null,null,null,null,null,null,null,"",{"$f":"IF(K314<>\"\",VLOOKUP(UPPER(K314),Sheet2!$A$3:$B$7,2,FALSE),\"\")","v":""},{"$f":"IF(M314<>\"\",VLOOKUP(UPPER(M314),Sheet2!$A$9:$B$24,2,FALSE),\"\")","v":""}]
[null,null,null,null,null,null,null,null,null,null,null,null,null,null,null,"",{"$f":"IF(K315<>\"\",VLOOKUP(UPPER(K315),Sheet2!$A$3:$B$7,2,FALSE),\"\")","v":""},{"$f":"IF(M315<>\"\",VLOOKUP(UPPER(M315),Sheet2!$A$9:$B$24,2,FALSE),\"\")","v":""}]
[null,null,null,null,null,null,null,null,null,null,null,null,null,null,null,"",{"$f":"IF(K316<>\"\",VLOOKUP(UPPER(K316),Sheet2!$A$3:$B$7,2,FALSE),\"\")","v":""},{"$f":"IF(M316<>\"\",VLOOKUP(UPPER(M316),Sheet2!$A$9:$B$24,2,FALSE),\"\")","v":""}]
[null,null,null,null,null,null,null,null,null,null,null,null,null,null,null,"",{"$f":"IF(K317<>\"\",VLOOKUP(UPPER(K317),Sheet2!$A$3:$B$7,2,FALSE),\"\")","v":""},{"$f":"IF(M317<>\"\",VLOOKUP(UPPER(M317),Sheet2!$A$9:$B$24,2,FALSE),\"\")","v":""}]
[null,null,null,null,null,null,null,null,null,null,null,null,null,null,null,"",{"$f":"IF(K318<>\"\",VLOOKUP(UPPER(K318),Sheet2!$A$3:$B$7,2,FALSE),\"\")","v":""},{"$f":"IF(M318<>\"\",VLOOKUP(UPPER(M318),Sheet2!$A$9:$B$24,2,FALSE),\"\")","v":""}]
[null,null,null,null,null,null,null,null,null,null,null,null,null,null,null,"",{"$f":"IF(K319<>\"\",VLOOKUP(UPPER(K319),Sheet2!$A$3:$B$7,2,FALSE),\"\")","v":""},{"$f":"IF(M319<>\"\",VLOOKUP(UPPER(M319),Sheet2!$A$9:$B$24,2,FALSE),\"\")","v":""}]
[null,null,null,null,null,null,null,null,null,null,null,null,null,null,null,"",{"$f":"IF(K320<>\"\",VLOOKUP(UPPER(K320),Sheet2!$A$3:$B$7,2,FALSE),\"\")","v":""},{"$f":"IF(M320<>\"\",VLOOKUP(UPPER(M320),Sheet2!$A$9:$B$24,2,FALSE),\"\")","v":""}]
[null,null,null,null,null,null,null,null,null,null,null,null,null,null,null,"",{"$f":"IF(K321<>\"\",VLOOKUP(UPPER(K321),Sheet2!$A$3:$B$7,2,FALSE),\"\")","v":""},{"$f":"IF(M321<>\"\",VLOOKUP(UPPER(M321),Sheet2!$A$9:$B$24,2,FALSE),\"\")","v":""}]
[null,null,null,null,null,null,null,null,null,null,null,null,null,null,null,"",{"$f":"IF(K322<>\"\",VLOOKUP(UPPER(K322),Sheet2!$A$3:$B$7,2,FALSE),\"\")","v":""},{"$f":"IF(M322<>\"\",VLOOKUP(UPPER(M322),Sheet2!$A$9:$B$24,2,FALSE),\"\")","v":""}]
[null,null,null,null,null,null,null,null,null,null,null,null,null,null,null,"",{"$f":"IF(K323<>\"\",VLOOKUP(UPPER(K323),Sheet2!$A$3:$B$7,2,FALSE),\"\")","v":""},{"$f":"IF(M323<>\"\",VLOOKUP(UPPER(M323),Sheet2!$A$9:$B$24,2,FALSE),\"\")","v":""}]
[null,null,null,null,null,null,null,null,null,null,null,null,null,null,null,"",{"$f":"IF(K324<>\"\",VLOOKUP(UPPER(K324),Sheet2!$A$3:$B$7,2,FALSE),\"\")","v":""},{"$f":"IF(M324<>\"\",VLOOKUP(UPPER(M324),Sheet2!$A$9:$B$24,2,FALSE),\"\")","v":""}]
[null,null,null,null,null,null,null,null,null,null,null,null,null,null,null,"",{"$f":"IF(K325<>\"\",VLOOKUP(UPPER(K325),Sheet2!$A$3:$B$7,2,FALSE),\"\")","v":""},{"$f":"IF(M325<>\"\",VLOOKUP(UPPER(M325),Sheet2!$A$9:$B$24,2,FALSE),\"\")","v":""}]
[null,null,null,null,null,null,null,null,null,null,null,null,null,null,null,{"$f":"IF(OR(A326<>\"\",B326<>\"\",C326<>\"\",E326<>\"\",F326<>\"\",G326<>\"\",H326<>\"\",I326<>\"\",J326<>\"\",K326<>\"\",L326<>\"\",M326<>\"\",N326<>\"\",O326<>\"\"),IF(AND(A326<>\"\",B326<>\"\",C326<>\"\",E326<>\"\",J326<>\"\",L326<>\"\"),IF(AND(G326<>\"\",H326<>\"\"),IF(AND(J326<(G326*H326)*1.02,J326>(G326*H326)*0.98),\"COMPLETE\",IF(OR(UPPER(L326)=\"QSCMM\",UPPER(L326)=\"QADCP\"),\"WARNING\",\"COMPLETE\")),\"COMPLETE\"),\"INCOMPLETE\"),\"\")","v":""},{"$f":"IF(K326<>\"\",VLOOKUP(UPPER(K326),Sheet2!$A$3:$B$7,2,FALSE),\"\")","v":""},{"$f":"IF(M326<>\"\",VLOOKUP(UPPER(M326),Sheet2!$A$9:$B$24,2,FALSE),\"\")","v":""}]
[null,null,null,null,null,null,null,null,null,null,null,null,null,null,null,"",{"$f":"IF(K327<>\"\",VLOOKUP(UPPER(K327),Sheet2!$A$3:$B$7,2,FALSE),\"\")","v":""},{"$f":"IF(M327<>\"\",VLOOKUP(UPPER(M327),Sheet2!$A$9:$B$24,2,FALSE),\"\")","v":""}]
[null,null,null,null,null,null,null,null,null,null,null,null,null,null,null,"",{"$f":"IF(K328<>\"\",VLOOKUP(UPPER(K328),Sheet2!$A$3:$B$7,2,FALSE),\"\")","v":""},{"$f":"IF(M328<>\"\",VLOOKUP(UPPER(M328),Sheet2!$A$9:$B$24,2,FALSE),\"\")","v":""}]
[null,null,null,null,null,null,null,null,null,null,null,null,null,null,null,"",{"$f":"IF(K329<>\"\",VLOOKUP(UPPER(K329),Sheet2!$A$3:$B$7,2,FALSE),\"\")","v":""},{"$f":"IF(M329<>\"\",VLOOKUP(UPPER(M329),Sheet2!$A$9:$B$24,2,FALSE),\"\")","v":""}]
[null,null,null,null,null,null,null,null,null,null,null,null,null,null,null,"",{"$f":"IF(K330<>\"\",VLOOKUP(UPPER(K330),Sheet2!$A$3:$B$7,2,FALSE),\"\")","v":""},{"$f":"IF(M330<>\"\",VLOOKUP(UPPER(M330),Sheet2!$A$9:$B$24,2,FALSE),\"\")","v":""}]
[null,null,null,null,null,null,null,null,null,null,null,null,null,null,null,"",{"$f":"IF(K331<>\"\",VLOOKUP(UPPER(K331),Sheet2!$A$3:$B$7,2,FALSE),\"\")","v":""},{"$f":"IF(M331<>\"\",VLOOKUP(UPPER(M331),Sheet2!$A$9:$B$24,2,FALSE),\"\")","v":""}]
[null,null,null,null,null,null,null,null,null,null,null,null,null,null,null,"",{"$f":"IF(K332<>\"\",VLOOKUP(UPPER(K332),Sheet2!$A$3:$B$7,2,FALSE),\"\")","v":""},{"$f":"IF(M332<>\"\",VLOOKUP(UPPER(M332),Sheet2!$A$9:$B$24,2,FALSE),\"\")","v":""}]
[null,null,null,null,null,null,null,null,null,null,null,null,null,null,null,"",{"$f":"IF(K333<>\"\",VLOOKUP(UPPER(K333),Sheet2!$A$3:$B$7,2,FALSE),\"\")","v":""},{"$f":"IF(M333<>\"\",VLOOKUP(UPPER(M333),Sheet2!$A$9:$B$24,2,FALSE),\"\")","v":""}]
[null,null,null,null,null,null,null,null,null,null,null,null,null,null,null,"",{"$f":"IF(K334<>\"\",VLOOKUP(UPPER(K334),Sheet2!$A$3:$B$7,2,FALSE),\"\")","v":""},{"$f":"IF(M334<>\"\",VLOOKUP(UPPER(M334),Sheet2!$A$9:$B$24,2,FALSE),\"\")","v":""}]
[null,null,null,null,null,null,null,null,null,null,null,null,null,null,null,"",{"$f":"IF(K335<>\"\",VLOOKUP(UPPER(K335),Sheet2!$A$3:$B$7,2,FALSE),\"\")","v":""},{"$f":"IF(M335<>\"\",VLOOKUP(UPPER(M335),Sheet2!$A$9:$B$24,2,FALSE),\"\")","v":""}]
[null,null,null,null,null,null,null,null,null,null,null,null,null,null,null,"",{"$f":"IF(K336<>\"\",VLOOKUP(UPPER(K336),Sheet2!$A$3:$B$7,2,FALSE),\"\")","v":""},{"$f":"IF(M336<>\"\",VLOOKUP(UPPER(M336),Sheet2!$A$9:$B$24,2,FALSE),\"\")","v":""}]
[null,null,null,null,null,null,null,null,null,null,null,null,null,null,null,"",{"$f":"IF(K337<>\"\",VLOOKUP(UPPER(K337),Sheet2!$A$3:$B$7,2,FALSE),\"\")","v":""},{"$f":"IF(M337<>\"\",VLOOKUP(UPPER(M337),Sheet2!$A$9:$B$24,2,FALSE),\"\")","v":""}]
[null,null,null,null,null,null,null,null,null,null,null,null,null,null,null,"",{"$f":"IF(K338<>\"\",VLOOKUP(UPPER(K338),Sheet2!$A$3:$B$7,2,FALSE),\"\")","v":""},{"$f":"IF(M338<>\"\",VLOOKUP(UPPER(M338),Sheet2!$A$9:$B$24,2,FALSE),\"\")","v":""}]
[null,null,null,null,null,null,null,null,null,null,null,null,null,null,null,"",{"$f":"IF(K339<>\"\",VLOOKUP(UPPER(K339),Sheet2!$A$3:$B$7,2,FALSE),\"\")","v":""},{"$f":"IF(M339<>\"\",VLOOKUP(UPPER(M339),Sheet2!$A$9:$B$24,2,FALSE),\"\")","v":""}]
[null,null,null,null,null,null,null,null,null,null,null,null,null,null,null,"",{"$f":"IF(K340<>\"\",VLOOKUP(UPPER(K340),Sheet2!$A$3:$B$7,2,FALSE),\"\")","v":""},{"$f":"IF(M340<>\"\",VLOOKUP(UPPER(M340),Sheet2!$A$9:$B$24,2,FALSE),\"\")","v":""}]
[null,null,null,null,null,null,null,null,null,null,null,null,null,null,null,"",{"$f":"IF(K341<>\"\",VLOOKUP(UPPER(K341),Sheet2!$A$3:$B$7,2,FALSE),\"\")","v":""},{"$f":"IF(M341<>\"\",VLOOKUP(UPPER(M341),Sheet2!$A$9:$B$24,2,FALSE),\"\")","v":""}]
[null,null,null,null,null,null,null,null,null,null,null,null,null,null,null,"",{"$f":"IF(K342<>\"\",VLOOKUP(UPPER(K342),Sheet2!$A$3:$B$7,2,FALSE),\"\")","v":""},{"$f":"IF(M342<>\"\",VLOOKUP(UPPER(M342),Sheet2!$A$9:$B$24,2,FALSE),\"\")","v":""}]
[null,null,null,null,null,null,null,null,null,null,null,null,null,null,null,"",{"$f":"IF(K343<>\"\",VLOOKUP(UPPER(K343),Sheet2!$A$3:$B$7,2,FALSE),\"\")","v":""},{"$f":"IF(M343<>\"\",VLOOKUP(UPPER(M343),Sheet2!$A$9:$B$24,2,FALSE),\"\")","v":""}]
[null,null,null,null,null,null,null,null,null,null,null,null,null,null,null,"",{"$f":"IF(K344<>\"\",VLOOKUP(UPPER(K344),Sheet2!$A$3:$B$7,2,FALSE),\"\")","v":""},{"$f":"IF(M344<>\"\",VLOOKUP(UPPER(M344),Sheet2!$A$9:$B$24,2,FALSE),\"\")","v":""}]
[null,null,null,null,null,null,null,null,null,null,null,null,null,null,null,"",{"$f":"IF(K345<>\"\",VLOOKUP(UPPER(K345),Sheet2!$A$3:$B$7,2,FALSE),\"\")","v":""},{"$f":"IF(M345<>\"\",VLOOKUP(UPPER(M345),Sheet2!$A$9:$B$24,2,FALSE),\"\")","v":""}]
[null,null,null,null,null,null,null,null,null,null,null,null,null,null,null,"",{"$f":"IF(K346<>\"\",VLOOKUP(UPPER(K346),Sheet2!$A$3:$B$7,2,FALSE),\"\")","v":""},{"$f":"IF(M346<>\"\",VLOOKUP(UPPER(M346),Sheet2!$A$9:$B$24,2,FALSE),\"\")","v":""}]
[null,null,null,null,null,null,null,null,null,null,null,null,null,null,null,"",{"$f":"IF(K347<>\"\",VLOOKUP(UPPER(K347),Sheet2!$A$3:$B$7,2,FALSE),\"\")","v":""},{"$f":"IF(M347<>\"\",VLOOKUP(UPPER(M347),Sheet2!$A$9:$B$24,2,FALSE),\"\")","v":""}]
[null,null,null,null,null,null,null,null,null,null,null,null,null,null,null,"",{"$f":"IF(K348<>\"\",VLOOKUP(UPPER(K348),Sheet2!$A$3:$B$7,2,FALSE),\"\")","v":""},{"$f":"IF(M348<>\"\",VLOOKUP(UPPER(M348),Sheet2!$A$9:$B$24,2,FALSE),\"\")","v":""}]
[null,null,null,null,null,null,null,null,null,null,null,null,null,null,null,"",{"$f":"IF(K349<>\"\",VLOOKUP(UPPER(K349),Sheet2!$A$3:$B$7,2,FALSE),\"\")","v":""},{"$f":"IF(M349<>\"\",VLOOKUP(UPPER(M349),Sheet2!$A$9:$B$24,2,FALSE),\"\")","v":""}]
[null,null,null,null,null,null,null,null,null,null,null,null,null,null,null,"",{"$f":"IF(K350<>\"\",VLOOKUP(UPPER(K350),Sheet2!$A$3:$B$7,2,FALSE),\"\")","v":""},{"$f":"IF(M350<>\"\",VLOOKUP(UPPER(M350),Sheet2!$A$9:$B$24,2,FALSE),\"\")","v":""}]
[null,null,null,null,null,null,null,null,null,null,null,null,null,null,null,"",{"$f":"IF(K351<>\"\",VLOOKUP(UPPER(K351),Sheet2!$A$3:$B$7,2,FALSE),\"\")","v":""},{"$f":"IF(M351<>\"\",VLOOKUP(UPPER(M351),Sheet2!$A$9:$B$24,2,FALSE),\"\")","v":""}]
[null,null,null,null,null,null,null,null,null,null,null,null,null,null,null,"",{"$f":"IF(K352<>\"\",VLOOKUP(UPPER(K352),Sheet2!$A$3:$B$7,2,FALSE),\"\")","v":""},{"$f":"IF(M352<>\"\",VLOOKUP(UPPER(M352),Sheet2!$A$9:$B$24,2,FALSE),\"\")","v":""}]
[null,null,null,null,null,null,null,null,null,null,null,null,null,null,null,"",{"$f":"IF(K353<>\"\",VLOOKUP(UPPER(K353),Sheet2!$A$3:$B$7,2,FALSE),\"\")","v":""},{"$f":"IF(M353<>\"\",VLOOKUP(UPPER(M353),Sheet2!$A$9:$B$24,2,FALSE),\"\")","v":""}]
[null,null,null,null,null,null,null,null,null,null,null,null,null,null,null,"",{"$f":"IF(K354<>\"\",VLOOKUP(UPPER(K354),Sheet2!$A$3:$B$7,2,FALSE),\"\")","v":""},{"$f":"IF(M354<>\"\",VLOOKUP(UPPER(M354),Sheet2!$A$9:$B$24,2,FALSE),\"\")","v":""}]
[null,null,null,null,null,null,null,null,null,null,null,null,null,null,null,"",{"$f":"IF(K355<>\"\",VLOOKUP(UPPER(K355),Sheet2!$A$3:$B$7,2,FALSE),\"\")","v":""},{"$f":"IF(M355<>\"\",VLOOKUP(UPPER(M355),Sheet2!$A$9:$B$24,2,FALSE),\"\")","v":""}]
[null,null,null,null,null,null,null,null,null,null,null,null,null,null,null,"",{"$f":"IF(K356<>\"\",VLOOKUP(UPPER(K356),Sheet2!$A$3:$B$7,2,FALSE),\"\")","v":""},{"$f":"IF(M356<>\"\",VLOOKUP(UPPER(M356),Sheet2!$A$9:$B$24,2,FALSE),\"\")","v":""}]
[null,null,null,null,null,null,null,null,null,null,null,null,null,null,null,"",{"$f":"IF(K357<>\"\",VLOOKUP(UPPER(K357),Sheet2!$A$3:$B$7,2,FALSE),\"\")","v":""},{"$f":"IF(M357<>\"\",VLOOKUP(UPPER(M357),Sheet2!$A$9:$B$24,2,FALSE),\"\")","v":""}]
[null,null,null,null,null,null,null,null,null,null,null,null,null,null,null,"",{"$f":"IF(K358<>\"\",VLOOKUP(UPPER(K358),Sheet2!$A$3:$B$7,2,FALSE),\"\")","v":""},{"$f":"IF(M358<>\"\",VLOOKUP(UPPER(M358),Sheet2!$A$9:$B$24,2,FALSE),\"\")","v":""}]
[null,null,null,null,null,null,null,null,null,null,null,null,null,null,null,"",{"$f":"IF(K359<>\"\",VLOOKUP(UPPER(K359),Sheet2!$A$3:$B$7,2,FALSE),\"\")","v":""},{"$f":"IF(M359<>\"\",VLOOKUP(UPPER(M359),Sheet2!$A$9:$B$24,2,FALSE),\"\")","v":""}]
[null,null,null,null,null,null,null,null,null,null,null,null,null,null,null,"",{"$f":"IF(K360<>\"\",VLOOKUP(UPPER(K360),Sheet2!$A$3:$B$7,2,FALSE),\"\")","v":""},{"$f":"IF(M360<>\"\",VLOOKUP(UPPER(M360),Sheet2!$A$9:$B$24,2,FALSE),\"\")","v":""}]
[null,null,null,null,null,null,null,null,null,null,null,null,null,null,null,"",{"$f":"IF(K361<>\"\",VLOOKUP(UPPER(K361),Sheet2!$A$3:$B$7,2,FALSE),\"\")","v":""},{"$f":"IF(M361<>\"\",VLOOKUP(UPPER(M361),Sheet2!$A$9:$B$24,2,FALSE),\"\")","v":""}]
[null,null,null,null,null,null,null,null,null,null,null,null,null,null,null,"",{"$f":"IF(K362<>\"\",VLOOKUP(UPPER(K362),Sheet2!$A$3:$B$7,2,FALSE),\"\")","v":""},{"$f":"IF(M362<>\"\",VLOOKUP(UPPER(M362),Sheet2!$A$9:$B$24,2,FALSE),\"\")","v":""}]
[null,null,null,null,null,null,null,null,null,null,null,null,null,null,null,"",{"$f":"IF(K363<>\"\",VLOOKUP(UPPER(K363),Sheet2!$A$3:$B$7,2,FALSE),\"\")","v":""},{"$f":"IF(M363<>\"\",VLOOKUP(UPPER(M363),Sheet2!$A$9:$B$24,2,FALSE),\"\")","v":""}]
[null,null,null,null,null,null,null,null,null,null,null,null,null,null,null,"",{"$f":"IF(K364<>\"\",VLOOKUP(UPPER(K364),Sheet2!$A$3:$B$7,2,FALSE),\"\")","v":""},{"$f":"IF(M364<>\"\",VLOOKUP(UPPER(M364),Sheet2!$A$9:$B$24,2,FALSE),\"\")","v":""}]
[null,null,null,null,null,null,null,null,null,null,null,null,null,null,null,"",{"$f":"IF(K365<>\"\",VLOOKUP(UPPER(K365),Sheet2!$A$3:$B$7,2,FALSE),\"\")","v":""},{"$f":"IF(M365<>\"\",VLOOKUP(UPPER(M365),Sheet2!$A$9:$B$24,2,FALSE),\"\")","v":""}]
[null,null,null,null,null,null,null,null,null,null,null,null,null,null,null,"",{"$f":"IF(K366<>\"\",VLOOKUP(UPPER(K366),Sheet2!$A$3:$B$7,2,FALSE),\"\")","v":""},{"$f":"IF(M366<>\"\",VLOOKUP(UPPER(M366),Sheet2!$A$9:$B$24,2,FALSE),\"\")","v":""}]
[null,null,null,null,null,null,null,null,null,null,null,null,null,null,null,"",{"$f":"IF(K367<>\"\",VLOOKUP(UPPER(K367),Sheet2!$A$3:$B$7,2,FALSE),\"\")","v":""},{"$f":"IF(M367<>\"\",VLOOKUP(UPPER(M367),Sheet2!$A$9:$B$24,2,FALSE),\"\")","v":""}]
[null,null,null,null,null,null,null,null,null,null,null,null,null,null,null,"",{"$f":"IF(K368<>\"\",VLOOKUP(UPPER(K368),Sheet2!$A$3:$B$7,2,FALSE),\"\")","v":""},{"$f":"IF(M368<>\"\",VLOOKUP(UPPER(M368),Sheet2!$A$9:$B$24,2,FALSE),\"\")","v":""}]
[null,null,null,null,null,null,null,null,null,null,null,null,null,null,null,"",{"$f":"IF(K369<>\"\",VLOOKUP(UPPER(K369),Sheet2!$A$3:$B$7,2,FALSE),\"\")","v":""},{"$f":"IF(M369<>\"\",VLOOKUP(UPPER(M369),Sheet2!$A$9:$B$24,2,FALSE),\"\")","v":""}]
[null,null,null,null,null,null,null,null,null,null,null,null,null,null,null,"",{"$f":"IF(K370<>\"\",VLOOKUP(UPPER(K370),Sheet2!$A$3:$B$7,2,FALSE),\"\")","v":""},{"$f":"IF(M370<>\"\",VLOOKUP(UPPER(M370),Sheet2!$A$9:$B$24,2,FALSE),\"\")","v":""}]
[null,null,null,null,null,null,null,null,null,null,null,null,null,null,null,"",{"$f":"IF(K371<>\"\",VLOOKUP(UPPER(K371),Sheet2!$A$3:$B$7,2,FALSE),\"\")","v":""},{"$f":"IF(M371<>\"\",VLOOKUP(UPPER(M371),Sheet2!$A$9:$B$24,2,FALSE),\"\")","v":""}]
[null,null,null,null,null,null,null,null,null,null,null,null,null,null,null,"",{"$f":"IF(K372<>\"\",VLOOKUP(UPPER(K372),Sheet2!$A$3:$B$7,2,FALSE),\"\")","v":""},{"$f":"IF(M372<>\"\",VLOOKUP(UPPER(M372),Sheet2!$A$9:$B$24,2,FALSE),\"\")","v":""}]
[null,null,null,null,null,null,null,null,null,null,null,null,null,null,null,"",{"$f":"IF(K373<>\"\",VLOOKUP(UPPER(K373),Sheet2!$A$3:$B$7,2,FALSE),\"\")","v":""},{"$f":"IF(M373<>\"\",VLOOKUP(UPPER(M373),Sheet2!$A$9:$B$24,2,FALSE),\"\")","v":""}]
[null,null,null,null,null,null,null,null,null,null,null,null,null,null,null,"",{"$f":"IF(K374<>\"\",VLOOKUP(UPPER(K374),Sheet2!$A$3:$B$7,2,FALSE),\"\")","v":""},{"$f":"IF(M374<>\"\",VLOOKUP(UPPER(M374),Sheet2!$A$9:$B$24,2,FALSE),\"\")","v":""}]
[null,null,null,null,null,null,null,null,null,null,null,null,null,null,null,"",{"$f":"IF(K375<>\"\",VLOOKUP(UPPER(K375),Sheet2!$A$3:$B$7,2,FALSE),\"\")","v":""},{"$f":"IF(M375<>\"\",VLOOKUP(UPPER(M375),Sheet2!$A$9:$B$24,2,FALSE),\"\")","v":""}]
[null,null,null,null,null,null,null,null,null,null,null,null,null,null,null,"",{"$f":"IF(K376<>\"\",VLOOKUP(UPPER(K376),Sheet2!$A$3:$B$7,2,FALSE),\"\")","v":""},{"$f":"IF(M376<>\"\",VLOOKUP(UPPER(M376),Sheet2!$A$9:$B$24,2,FALSE),\"\")","v":""}]
[null,null,null,null,null,null,null,null,null,null,null,null,null,null,null,"",{"$f":"IF(K377<>\"\",VLOOKUP(UPPER(K377),Sheet2!$A$3:$B$7,2,FALSE),\"\")","v":""},{"$f":"IF(M377<>\"\",VLOOKUP(UPPER(M377),Sheet2!$A$9:$B$24,2,FALSE),\"\")","v":""}]
[null,null,null,null,null,null,null,null,null,null,null,null,null,null,null,"",{"$f":"IF(K378<>\"\",VLOOKUP(UPPER(K378),Sheet2!$A$3:$B$7,2,FALSE),\"\")","v":""},{"$f":"IF(M378<>\"\",VLOOKUP(UPPER(M378),Sheet2!$A$9:$B$24,2,FALSE),\"\")","v":""}]
[null,null,null,null,null,null,null,null,null,null,null,null,null,null,null,"",{"$f":"IF(K379<>\"\",VLOOKUP(UPPER(K379),Sheet2!$A$3:$B$7,2,FALSE),\"\")","v":""},{"$f":"IF(M379<>\"\",VLOOKUP(UPPER(M379),Sheet2!$A$9:$B$24,2,FALSE),\"\")","v":""}]
[null,null,null,null,null,null,null,null,null,null,null,null,null,null,null,"",{"$f":"IF(K380<>\"\",VLOOKUP(UPPER(K380),Sheet2!$A$3:$B$7,2,FALSE),\"\")","v":""},{"$f":"IF(M380<>\"\",VLOOKUP(UPPER(M380),Sheet2!$A$9:$B$24,2,FALSE),\"\")","v":""}]
[null,null,null,null,null,null,null,null,null,null,null,null,null,null,null,"",{"$f":"IF(K381<>\"\",VLOOKUP(UPPER(K381),Sheet2!$A$3:$B$7,2,FALSE),\"\")","v":""},{"$f":"IF(M381<>\"\",VLOOKUP(UPPER(M381),Sheet2!$A$9:$B$24,2,FALSE),\"\")","v":""}]
[null,null,null,null,null,null,null,null,null,null,null,null,null,null,null,"",{"$f":"IF(K382<>\"\",VLOOKUP(UPPER(K382),Sheet2!$A$3:$B$7,2,FALSE),\"\")","v":""},{"$f":"IF(M382<>\"\",VLOOKUP(UPPER(M382),Sheet2!$A$9:$B$24,2,FALSE),\"\")","v":""}]
[null,null,null,null,null,null,null,null,null,null,null,null,null,null,null,"",{"$f":"IF(K383<>\"\",VLOOKUP(UPPER(K383),Sheet2!$A$3:$B$7,2,FALSE),\"\")","v":""},{"$f":"IF(M383<>\"\",VLOOKUP(UPPER(M383),Sheet2!$A$9:$B$24,2,FALSE),\"\")","v":""}]
[null,null,null,null,null,null,null,null,null,null,null,null,null,null,null,"",{"$f":"IF(K384<>\"\",VLOOKUP(UPPER(K384),Sheet2!$A$3:$B$7,2,FALSE),\"\")","v":""},{"$f":"IF(M384<>\"\",VLOOKUP(UPPER(M384),Sheet2!$A$9:$B$24,2,FALSE),\"\")","v":""}]
[null,null,null,null,null,null,null,null,null,null,null,null,null,null,null,"",{"$f":"IF(K385<>\"\",VLOOKUP(UPPER(K385),Sheet2!$A$3:$B$7,2,FALSE),\"\")","v":""},{"$f":"IF(M385<>\"\",VLOOKUP(UPPER(M385),Sheet2!$A$9:$B$24,2,FALSE),\"\")","v":""}]
[null,null,null,null,null,null,null,null,null,null,null,null,null,null,null,"",{"$f":"IF(K386<>\"\",VLOOKUP(UPPER(K386),Sheet2!$A$3:$B$7,2,FALSE),\"\")","v":""},{"$f":"IF(M386<>\"\",VLOOKUP(UPPER(M386),Sheet2!$A$9:$B$24,2,FALSE),\"\")","v":""}]
[null,null,null,null,null,null,null,null,null,null,null,null,null,null,null,"",{"$f":"IF(K387<>\"\",VLOOKUP(UPPER(K387),Sheet2!$A$3:$B$7,2,FALSE),\"\")","v":""},{"$f":"IF(M387<>\"\",VLOOKUP(UPPER(M387),Sheet2!$A$9:$B$24,2,FALSE),\"\")","v":""}]
[null,null,null,null,null,null,null,null,null,null,null,null,null,null,null,"",{"$f":"IF(K388<>\"\",VLOOKUP(UPPER(K388),Sheet2!$A$3:$B$7,2,FALSE),\"\")","v":""},{"$f":"IF(M388<>\"\",VLOOKUP(UPPER(M388),Sheet2!$A$9:$B$24,2,FALSE),\"\")","v":""}]
[null,null,null,null,null,null,null,null,null,null,null,null,null,null,null,"",{"$f":"IF(K389<>\"\",VLOOKUP(UPPER(K389),Sheet2!$A$3:$B$7,2,FALSE),\"\")","v":""},{"$f":"IF(M389<>\"\",VLOOKUP(UPPER(M389),Sheet2!$A$9:$B$24,2,FALSE),\"\")","v":""}]
[null,null,null,null,null,null,null,null,null,null,null,null,null,null,null,{"$f":"IF(OR(A390<>\"\",B390<>\"\",C390<>\"\",E390<>\"\",F390<>\"\",G390<>\"\",H390<>\"\",I390<>\"\",J390<>\"\",K390<>\"\",L390<>\"\",M390<>\"\",N390<>\"\",O390<>\"\"),IF(AND(A390<>\"\",B390<>\"\",C390<>\"\",E390<>\"\",J390<>\"\",L390<>\"\"),IF(AND(G390<>\"\",H390<>\"\"),IF(AND(J390<(G390*H390)*1.02,J390>(G390*H390)*0.98),\"COMPLETE\",IF(OR(UPPER(L390)=\"QSCMM\",UPPER(L390)=\"QADCP\"),\"WARNING\",\"COMPLETE\")),\"COMPLETE\"),\"INCOMPLETE\"),\"\")","v":""},{"$f":"IF(K390<>\"\",VLOOKUP(UPPER(K390),Sheet2!$A$3:$B$7,2,FALSE),\"\")","v":""},{"$f":"IF(M390<>\"\",VLOOKUP(UPPER(M390),Sheet2!$A$9:$B$24,2,FALSE),\"\")","v":""}]
[null,null,null,null,null,null,null,null,null,null,null,null,null,null,null,"",{"$f":"IF(K391<>\"\",VLOOKUP(UPPER(K391),Sheet2!$A$3:$B$7,2,FALSE),\"\")","v":""},{"$f":"IF(M391<>\"\",VLOOKUP(UPPER(M391),Sheet2!$A$9:$B$24,2,FALSE),\"\")","v":""}]
[null,null,null,null,null,null,null,null,null,null,null,null,null,null,null,"",{"$f":"IF(K392<>\"\",VLOOKUP(UPPER(K392),Sheet2!$A$3:$B$7,2,FALSE),\"\")","v":""},{"$f":"IF(M392<>\"\",VLOOKUP(UPPER(M392),Sheet2!$A$9:$B$24,2,FALSE),\"\")","v":""}]
[null,null,null,null,null,null,null,null,null,null,null,null,null,null,null,"",{"$f":"IF(K393<>\"\",VLOOKUP(UPPER(K393),Sheet2!$A$3:$B$7,2,FALSE),\"\")","v":""},{"$f":"IF(M393<>\"\",VLOOKUP(UPPER(M393),Sheet2!$A$9:$B$24,2,FALSE),\"\")","v":""}]
[null,null,null,null,null,null,null,null,null,null,null,null,null,null,null,"",{"$f":"IF(K394<>\"\",VLOOKUP(UPPER(K394),Sheet2!$A$3:$B$7,2,FALSE),\"\")","v":""},{"$f":"IF(M394<>\"\",VLOOKUP(UPPER(M394),Sheet2!$A$9:$B$24,2,FALSE),\"\")","v":""}]
[null,null,null,null,null,null,null,null,null,null,null,null,null,null,null,"",{"$f":"IF(K395<>\"\",VLOOKUP(UPPER(K395),Sheet2!$A$3:$B$7,2,FALSE),\"\")","v":""},{"$f":"IF(M395<>\"\",VLOOKUP(UPPER(M395),Sheet2!$A$9:$B$24,2,FALSE),\"\")","v":""}]
[null,null,null,null,null,null,null,null,null,null,null,null,null,null,null,"",{"$f":"IF(K396<>\"\",VLOOKUP(UPPER(K396),Sheet2!$A$3:$B$7,2,FALSE),\"\")","v":""},{"$f":"IF(M396<>\"\",VLOOKUP(UPPER(M396),Sheet2!$A$9:$B$24,2,FALSE),\"\")","v":""}]
[null,null,null,null,null,null,null,null,null,null,null,null,null,null,null,"",{"$f":"IF(K397<>\"\",VLOOKUP(UPPER(K397),Sheet2!$A$3:$B$7,2,FALSE),\"\")","v":""},{"$f":"IF(M397<>\"\",VLOOKUP(UPPER(M397),Sheet2!$A$9:$B$24,2,FALSE),\"\")","v":""}]
[null,null,null,null,null,null,null,null,null,null,null,null,null,null,null,"",{"$f":"IF(K398<>\"\",VLOOKUP(UPPER(K398),Sheet2!$A$3:$B$7,2,FALSE),\"\")","v":""},{"$f":"IF(M398<>\"\",VLOOKUP(UPPER(M398),Sheet2!$A$9:$B$24,2,FALSE),\"\")","v":""}]
[null,null,null,null,null,null,null,null,null,null,null,null,null,null,null,"",{"$f":"IF(K399<>\"\",VLOOKUP(UPPER(K399),Sheet2!$A$3:$B$7,2,FALSE),\"\")","v":""},{"$f":"IF(M399<>\"\",VLOOKUP(UPPER(M399),Sheet2!$A$9:$B$24,2,FALSE),\"\")","v":""}]
[null,null,null,null,null,null,null,null,null,null,null,null,null,null,null,"",{"$f":"IF(K400<>\"\",VLOOKUP(UPPER(K400),Sheet2!$A$3:$B$7,2,FALSE),\"\")","v":""},{"$f":"IF(M400<>\"\",VLOOKUP(UPPER(M400),Sheet2!$A$9:$B$24,2,FALSE),\"\")","v":""}]
[null,null,null,null,null,null,null,null,null,null,null,null,null,null,null,"",{"$f":"IF(K401<>\"\",VLOOKUP(UPPER(K401),Sheet2!$A$3:$B$7,2,FALSE),\"\")","v":""},{"$f":"IF(M401<>\"\",VLOOKUP(UPPER(M401),Sheet2!$A$9:$B$24,2,FALSE),\"\")","v":""}]
[null,null,null,null,null,null,null,null,null,null,null,null,null,null,null,"",{"$f":"IF(K402<>\"\",VLOOKUP(UPPER(K402),Sheet2!$A$3:$B$7,2,FALSE),\"\")","v":""},{"$f":"IF(M402<>\"\",VLOOKUP(UPPER(M402),Sheet2!$A$9:$B$24,2,FALSE),\"\")","v":""}]
[null,null,null,null,null,null,null,null,null,null,null,null,null,null,null,"",{"$f":"IF(K403<>\"\",VLOOKUP(UPPER(K403),Sheet2!$A$3:$B$7,2,FALSE),\"\")","v":""},{"$f":"IF(M403<>\"\",VLOOKUP(UPPER(M403),Sheet2!$A$9:$B$24,2,FALSE),\"\")","v":""}]
[null,null,null,null,null,null,null,null,null,null,null,null,null,null,null,"",{"$f":"IF(K404<>\"\",VLOOKUP(UPPER(K404),Sheet2!$A$3:$B$7,2,FALSE),\"\")","v":""},{"$f":"IF(M404<>\"\",VLOOKUP(UPPER(M404),Sheet2!$A$9:$B$24,2,FALSE),\"\")","v":""}]
[null,null,null,null,null,null,null,null,null,null,null,null,null,null,null,"",{"$f":"IF(K405<>\"\",VLOOKUP(UPPER(K405),Sheet2!$A$3:$B$7,2,FALSE),\"\")","v":""},{"$f":"IF(M405<>\"\",VLOOKUP(UPPER(M405),Sheet2!$A$9:$B$24,2,FALSE),\"\")","v":""}]
[null,null,null,null,null,null,null,null,null,null,null,null,null,null,null,"",{"$f":"IF(K406<>\"\",VLOOKUP(UPPER(K406),Sheet2!$A$3:$B$7,2,FALSE),\"\")","v":""},{"$f":"IF(M406<>\"\",VLOOKUP(UPPER(M406),Sheet2!$A$9:$B$24,2,FALSE),\"\")","v":""}]
[null,null,null,null,null,null,null,null,null,null,null,null,null,null,null,"",{"$f":"IF(K407<>\"\",VLOOKUP(UPPER(K407),Sheet2!$A$3:$B$7,2,FALSE),\"\")","v":""},{"$f":"IF(M407<>\"\",VLOOKUP(UPPER(M407),Sheet2!$A$9:$B$24,2,FALSE),\"\")","v":""}]
[null,null,null,null,null,null,null,null,null,null,null,null,null,null,null,"",{"$f":"IF(K408<>\"\",VLOOKUP(UPPER(K408),Sheet2!$A$3:$B$7,2,FALSE),\"\")","v":""},{"$f":"IF(M408<>\"\",VLOOKUP(UPPER(M408),Sheet2!$A$9:$B$24,2,FALSE),\"\")","v":""}]
[null,null,null,null,null,null,null,null,null,null,null,null,null,null,null,"",{"$f":"IF(K409<>\"\",VLOOKUP(UPPER(K409),Sheet2!$A$3:$B$7,2,FALSE),\"\")","v":""},{"$f":"IF(M409<>\"\",VLOOKUP(UPPER(M409),Sheet2!$A$9:$B$24,2,FALSE),\"\")","v":""}]
[null,null,null,null,null,null,null,null,null,null,null,null,null,null,null,"",{"$f":"IF(K410<>\"\",VLOOKUP(UPPER(K410),Sheet2!$A$3:$B$7,2,FALSE),\"\")","v":""},{"$f":"IF(M410<>\"\",VLOOKUP(UPPER(M410),Sheet2!$A$9:$B$24,2,FALSE),\"\")","v":""}]
[null,null,null,null,null,null,null,null,null,null,null,null,null,null,null,"",{"$f":"IF(K411<>\"\",VLOOKUP(UPPER(K411),Sheet2!$A$3:$B$7,2,FALSE),\"\")","v":""},{"$f":"IF(M411<>\"\",VLOOKUP(UPPER(M411),Sheet2!$A$9:$B$24,2,FALSE),\"\")","v":""}]
[null,null,null,null,null,null,null,null,null,null,null,null,null,null,null,"",{"$f":"IF(K412<>\"\",VLOOKUP(UPPER(K412),Sheet2!$A$3:$B$7,2,FALSE),\"\")","v":""},{"$f":"IF(M412<>\"\",VLOOKUP(UPPER(M412),Sheet2!$A$9:$B$24,2,FALSE),\"\")","v":""}]
[null,null,null,null,null,null,null,null,null,null,null,null,null,null,null,"",{"$f":"IF(K413<>\"\",VLOOKUP(UPPER(K413),Sheet2!$A$3:$B$7,2,FALSE),\"\")","v":""},{"$f":"IF(M413<>\"\",VLOOKUP(UPPER(M413),Sheet2!$A$9:$B$24,2,FALSE),\"\")","v":""}]
[null,null,null,null,null,null,null,null,null,null,null,null,null,null,null,"",{"$f":"IF(K414<>\"\",VLOOKUP(UPPER(K414),Sheet2!$A$3:$B$7,2,FALSE),\"\")","v":""},{"$f":"IF(M414<>\"\",VLOOKUP(UPPER(M414),Sheet2!$A$9:$B$24,2,FALSE),\"\")","v":""}]
[null,null,null,null,null,null,null,null,null,null,null,null,null,null,null,"",{"$f":"IF(K415<>\"\",VLOOKUP(UPPER(K415),Sheet2!$A$3:$B$7,2,FALSE),\"\")","v":""},{"$f":"IF(M415<>\"\",VLOOKUP(UPPER(M415),Sheet2!$A$9:$B$24,2,FALSE),\"\")","v":""}]
[null,null,null,null,null,null,null,null,null,null,null,null,null,null,null,"",{"$f":"IF(K416<>\"\",VLOOKUP(UPPER(K416),Sheet2!$A$3:$B$7,2,FALSE),\"\")","v":""},{"$f":"IF(M416<>\"\",VLOOKUP(UPPER(M416),Sheet2!$A$9:$B$24,2,FALSE),\"\")","v":""}]
[null,null,null,null,null,null,null,null,null,null,null,null,null,null,null,"",{"$f":"IF(K417<>\"\",VLOOKUP(UPPER(K417),Sheet2!$A$3:$B$7,2,FALSE),\"\")","v":""},{"$f":"IF(M417<>\"\",VLOOKUP(UPPER(M417),Sheet2!$A$9:$B$24,2,FALSE),\"\")","v":""}]
[null,null,null,null,null,null,null,null,null,null,null,null,null,null,null,"",{"$f":"IF(K418<>\"\",VLOOKUP(UPPER(K418),Sheet2!$A$3:$B$7,2,FALSE),\"\")","v":""},{"$f":"IF(M418<>\"\",VLOOKUP(UPPER(M418),Sheet2!$A$9:$B$24,2,FALSE),\"\")","v":""}]
[null,null,null,null,null,null,null,null,null,null,null,null,null,null,null,"",{"$f":"IF(K419<>\"\",VLOOKUP(UPPER(K419),Sheet2!$A$3:$B$7,2,FALSE),\"\")","v":""},{"$f":"IF(M419<>\"\",VLOOKUP(UPPER(M419),Sheet2!$A$9:$B$24,2,FALSE),\"\")","v":""}]
[null,null,null,null,null,null,null,null,null,null,null,null,null,null,null,"",{"$f":"IF(K420<>\"\",VLOOKUP(UPPER(K420),Sheet2!$A$3:$B$7,2,FALSE),\"\")","v":""},{"$f":"IF(M420<>\"\",VLOOKUP(UPPER(M420),Sheet2!$A$9:$B$24,2,FALSE),\"\")","v":""}]
[null,null,null,null,null,null,null,null,null,null,null,null,null,null,null,"",{"$f":"IF(K421<>\"\",VLOOKUP(UPPER(K421),Sheet2!$A$3:$B$7,2,FALSE),\"\")","v":""},{"$f":"IF(M421<>\"\",VLOOKUP(UPPER(M421),Sheet2!$A$9:$B$24,2,FALSE),\"\")","v":""}]
[null,null,null,null,null,null,null,null,null,null,null,null,null,null,null,"",{"$f":"IF(K422<>\"\",VLOOKUP(UPPER(K422),Sheet2!$A$3:$B$7,2,FALSE),\"\")","v":""},{"$f":"IF(M422<>\"\",VLOOKUP(UPPER(M422),Sheet2!$A$9:$B$24,2,FALSE),\"\")","v":""}]
[null,null,null,null,null,null,null,null,null,null,null,null,null,null,null,"",{"$f":"IF(K423<>\"\",VLOOKUP(UPPER(K423),Sheet2!$A$3:$B$7,2,FALSE),\"\")","v":""},{"$f":"IF(M423<>\"\",VLOOKUP(UPPER(M423),Sheet2!$A$9:$B$24,2,FALSE),\"\")","v":""}]
[null,null,null,null,null,null,null,null,null,null,null,null,null,null,null,"",{"$f":"IF(K424<>\"\",VLOOKUP(UPPER(K424),Sheet2!$A$3:$B$7,2,FALSE),\"\")","v":""},{"$f":"IF(M424<>\"\",VLOOKUP(UPPER(M424),Sheet2!$A$9:$B$24,2,FALSE),\"\")","v":""}]
[null,null,null,null,null,null,null,null,null,null,null,null,null,null,null,"",{"$f":"IF(K425<>\"\",VLOOKUP(UPPER(K425),Sheet2!$A$3:$B$7,2,FALSE),\"\")","v":""},{"$f":"IF(M425<>\"\",VLOOKUP(UPPER(M425),Sheet2!$A$9:$B$24,2,FALSE),\"\")","v":""}]
[null,null,null,null,null,null,null,null,null,null,null,null,null,null,null,"",{"$f":"IF(K426<>\"\",VLOOKUP(UPPER(K426),Sheet2!$A$3:$B$7,2,FALSE),\"\")","v":""},{"$f":"IF(M426<>\"\",VLOOKUP(UPPER(M426),Sheet2!$A$9:$B$24,2,FALSE),\"\")","v":""}]
[null,null,null,null,null,null,null,null,null,null,null,null,null,null,null,"",{"$f":"IF(K427<>\"\",VLOOKUP(UPPER(K427),Sheet2!$A$3:$B$7,2,FALSE),\"\")","v":""},{"$f":"IF(M427<>\"\",VLOOKUP(UPPER(M427),Sheet2!$A$9:$B$24,2,FALSE),\"\")","v":""}]
[null,null,null,null,null,null,null,null,null,null,null,null,null,null,null,"",{"$f":"IF(K428<>\"\",VLOOKUP(UPPER(K428),Sheet2!$A$3:$B$7,2,FALSE),\"\")","v":""},{"$f":"IF(M428<>\"\",VLOOKUP(UPPER(M428),Sheet2!$A$9:$B$24,2,FALSE),\"\")","v":""}]
[null,null,null,null,null,null,null,null,null,null,null,null,null,null,null,"",{"$f":"IF(K429<>\"\",VLOOKUP(UPPER(K429),Sheet2!$A$3:$B$7,2,FALSE),\"\")","v":""},{"$f":"IF(M429<>\"\",VLOOKUP(UPPER(M429),Sheet2!$A$9:$B$24,2,FALSE),\"\")","v":""}]
[null,null,null,null,null,null,null,null,null,null,null,null,null,null,null,"",{"$f":"IF(K430<>\"\",VLOOKUP(UPPER(K430),Sheet2!$A$3:$B$7,2,FALSE),\"\")","v":""},{"$f":"IF(M430<>\"\",VLOOKUP(UPPER(M430),Sheet2!$A$9:$B$24,2,FALSE),\"\")","v":""}]
[null,null,null,null,null,null,null,null,null,null,null,null,null,null,null,"",{"$f":"IF(K431<>\"\",VLOOKUP(UPPER(K431),Sheet2!$A$3:$B$7,2,FALSE),\"\")","v":""},{"$f":"IF(M431<>\"\",VLOOKUP(UPPER(M431),Sheet2!$A$9:$B$24,2,FALSE),\"\")","v":""}]
[null,null,null,null,null,null,null,null,null,null,null,null,null,null,null,"",{"$f":"IF(K432<>\"\",VLOOKUP(UPPER(K432),Sheet2!$A$3:$B$7,2,FALSE),\"\")","v":""},{"$f":"IF(M432<>\"\",VLOOKUP(UPPER(M432),Sheet2!$A$9:$B$24,2,FALSE),\"\")","v":""}]
[null,null,null,null,null,null,null,null,null,null,null,null,null,null,null,"",{"$f":"IF(K433<>\"\",VLOOKUP(UPPER(K433),Sheet2!$A$3:$B$7,2,FALSE),\"\")","v":""},{"$f":"IF(M433<>\"\",VLOOKUP(UPPER(M433),Sheet2!$A$9:$B$24,2,FALSE),\"\")","v":""}]
[null,null,null,null,null,null,null,null,null,null,null,null,null,null,null,"",{"$f":"IF(K434<>\"\",VLOOKUP(UPPER(K434),Sheet2!$A$3:$B$7,2,FALSE),\"\")","v":""},{"$f":"IF(M434<>\"\",VLOOKUP(UPPER(M434),Sheet2!$A$9:$B$24,2,FALSE),\"\")","v":""}]
[null,null,null,null,null,null,null,null,null,null,null,null,null,null,null,"",{"$f":"IF(K435<>\"\",VLOOKUP(UPPER(K435),Sheet2!$A$3:$B$7,2,FALSE),\"\")","v":""},{"$f":"IF(M435<>\"\",VLOOKUP(UPPER(M435),Sheet2!$A$9:$B$24,2,FALSE),\"\")","v":""}]
[null,null,null,null,null,null,null,null,null,null,null,null,null,null,null,"",{"$f":"IF(K436<>\"\",VLOOKUP(UPPER(K436),Sheet2!$A$3:$B$7,2,FALSE),\"\")","v":""},{"$f":"IF(M436<>\"\",VLOOKUP(UPPER(M436),Sheet2!$A$9:$B$24,2,FALSE),\"\")","v":""}]
[null,null,null,null,null,null,null,null,null,null,null,null,null,null,null,"",{"$f":"IF(K437<>\"\",VLOOKUP(UPPER(K437),Sheet2!$A$3:$B$7,2,FALSE),\"\")","v":""},{"$f":"IF(M437<>\"\",VLOOKUP(UPPER(M437),Sheet2!$A$9:$B$24,2,FALSE),\"\")","v":""}]
[null,null,null,null,null,null,null,null,null,null,null,null,null,null,null,"",{"$f":"IF(K438<>\"\",VLOOKUP(UPPER(K438),Sheet2!$A$3:$B$7,2,FALSE),\"\")","v":""},{"$f":"IF(M438<>\"\",VLOOKUP(UPPER(M438),Sheet2!$A$9:$B$24,2,FALSE),\"\")","v":""}]
[null,null,null,null,null,null,null,null,null,null,null,null,null,null,null,"",{"$f":"IF(K439<>\"\",VLOOKUP(UPPER(K439),Sheet2!$A$3:$B$7,2,FALSE),\"\")","v":""},{"$f":"IF(M439<>\"\",VLOOKUP(UPPER(M439),Sheet2!$A$9:$B$24,2,FALSE),\"\")","v":""}]
[null,null,null,null,null,null,null,null,null,null,null,null,null,null,null,"",{"$f":"IF(K440<>\"\",VLOOKUP(UPPER(K440),Sheet2!$A$3:$B$7,2,FALSE),\"\")","v":""},{"$f":"IF(M440<>\"\",VLOOKUP(UPPER(M440),Sheet2!$A$9:$B$24,2,FALSE),\"\")","v":""}]
[null,null,null,null,null,null,null,null,null,null,null,null,null,null,null,"",{"$f":"IF(K441<>\"\",VLOOKUP(UPPER(K441),Sheet2!$A$3:$B$7,2,FALSE),\"\")","v":""},{"$f":"IF(M441<>\"\",VLOOKUP(UPPER(M441),Sheet2!$A$9:$B$24,2,FALSE),\"\")","v":""}]
[null,null,null,null,null,null,null,null,null,null,null,null,null,null,null,"",{"$f":"IF(K442<>\"\",VLOOKUP(UPPER(K442),Sheet2!$A$3:$B$7,2,FALSE),\"\")","v":""},{"$f":"IF(M442<>\"\",VLOOKUP(UPPER(M442),Sheet2!$A$9:$B$24,2,FALSE),\"\")","v":""}]
[null,null,null,null,null,null,null,null,null,null,null,null,null,null,null,"",{"$f":"IF(K443<>\"\",VLOOKUP(UPPER(K443),Sheet2!$A$3:$B$7,2,FALSE),\"\")","v":""},{"$f":"IF(M443<>\"\",VLOOKUP(UPPER(M443),Sheet2!$A$9:$B$24,2,FALSE),\"\")","v":""}]
[null,null,null,null,null,null,null,null,null,null,null,null,null,null,null,"",{"$f":"IF(K444<>\"\",VLOOKUP(UPPER(K444),Sheet2!$A$3:$B$7,2,FALSE),\"\")","v":""},{"$f":"IF(M444<>\"\",VLOOKUP(UPPER(M444),Sheet2!$A$9:$B$24,2,FALSE),\"\")","v":""}]
[null,null,null,null,null,null,null,null,null,null,null,null,null,null,null,"",{"$f":"IF(K445<>\"\",VLOOKUP(UPPER(K445),Sheet2!$A$3:$B$7,2,FALSE),\"\")","v":""},{"$f":"IF(M445<>\"\",VLOOKUP(UPPER(M445),Sheet2!$A$9:$B$24,2,FALSE),\"\")","v":""}]
[null,null,null,null,null,null,null,null,null,null,null,null,null,null,null,"",{"$f":"IF(K446<>\"\",VLOOKUP(UPPER(K446),Sheet2!$A$3:$B$7,2,FALSE),\"\")","v":""},{"$f":"IF(M446<>\"\",VLOOKUP(UPPER(M446),Sheet2!$A$9:$B$24,2,FALSE),\"\")","v":""}]
[null,null,null,null,null,null,null,null,null,null,null,null,null,null,null,"",{"$f":"IF(K447<>\"\",VLOOKUP(UPPER(K447),Sheet2!$A$3:$B$7,2,FALSE),\"\")","v":""},{"$f":"IF(M447<>\"\",VLOOKUP(UPPER(M447),Sheet2!$A$9:$B$24,2,FALSE),\"\")","v":""}]
[null,null,null,null,null,null,null,null,null,null,null,null,null,null,null,"",{"$f":"IF(K448<>\"\",VLOOKUP(UPPER(K448),Sheet2!$A$3:$B$7,2,FALSE),\"\")","v":""},{"$f":"IF(M448<>\"\",VLOOKUP(UPPER(M448),Sheet2!$A$9:$B$24,2,FALSE),\"\")","v":""}]
[null,null,null,null,null,null,null,null,null,null,null,null,null,null,null,"",{"$f":"IF(K449<>\"\",VLOOKUP(UPPER(K449),Sheet2!$A$3:$B$7,2,FALSE),\"\")","v":""},{"$f":"IF(M449<>\"\",VLOOKUP(UPPER(M449),Sheet2!$A$9:$B$24,2,FALSE),\"\")","v":""}]
[null,null,null,null,null,null,null,null,null,null,null,null,null,null,null,"",{"$f":"IF(K450<>\"\",VLOOKUP(UPPER(K450),Sheet2!$A$3:$B$7,2,FALSE),\"\")","v":""},{"$f":"IF(M450<>\"\",VLOOKUP(UPPER(M450),Sheet2!$A$9:$B$24,2,FALSE),\"\")","v":""}]
[null,null,null,null,null,null,null,null,null,null,null,null,null,null,null,"",{"$f":"IF(K451<>\"\",VLOOKUP(UPPER(K451),Sheet2!$A$3:$B$7,2,FALSE),\"\")","v":""},{"$f":"IF(M451<>\"\",VLOOKUP(UPPER(M451),Sheet2!$A$9:$B$24,2,FALSE),\"\")","v":""}]
[null,null,null,null,null,null,null,null,null,null,null,null,null,null,null,"",{"$f":"IF(K452<>\"\",VLOOKUP(UPPER(K452),Sheet2!$A$3:$B$7,2,FALSE),\"\")","v":""},{"$f":"IF(M452<>\"\",VLOOKUP(UPPER(M452),Sheet2!$A$9:$B$24,2,FALSE),\"\")","v":""}]
[null,null,null,null,null,null,null,null,null,null,null,null,null,null,null,"",{"$f":"IF(K453<>\"\",VLOOKUP(UPPER(K453),Sheet2!$A$3:$B$7,2,FALSE),\"\")","v":""},{"$f":"IF(M453<>\"\",VLOOKUP(UPPER(M453),Sheet2!$A$9:$B$24,2,FALSE),\"\")","v":""}]
[null,null,null,null,null,null,null,null,null,null,null,null,null,null,null,{"$f":"IF(OR(A454<>\"\",B454<>\"\",C454<>\"\",E454<>\"\",F454<>\"\",G454<>\"\",H454<>\"\",I454<>\"\",J454<>\"\",K454<>\"\",L454<>\"\",M454<>\"\",N454<>\"\",O454<>\"\"),IF(AND(A454<>\"\",B454<>\"\",C454<>\"\",E454<>\"\",J454<>\"\",L454<>\"\"),IF(AND(G454<>\"\",H454<>\"\"),IF(AND(J454<(G454*H454)*1.02,J454>(G454*H454)*0.98),\"COMPLETE\",IF(OR(UPPER(L454)=\"QSCMM\",UPPER(L454)=\"QADCP\"),\"WARNING\",\"COMPLETE\")),\"COMPLETE\"),\"INCOMPLETE\"),\"\")","v":""},{"$f":"IF(K454<>\"\",VLOOKUP(UPPER(K454),Sheet2!$A$3:$B$7,2,FALSE),\"\")","v":""},{"$f":"IF(M454<>\"\",VLOOKUP(UPPER(M454),Sheet2!$A$9:$B$24,2,FALSE),\"\")","v":""}]
[null,null,null,null,null,null,null,null,null,null,null,null,null,null,null,"",{"$f":"IF(K455<>\"\",VLOOKUP(UPPER(K455),Sheet2!$A$3:$B$7,2,FALSE),\"\")","v":""},{"$f":"IF(M455<>\"\",VLOOKUP(UPPER(M455),Sheet2!$A$9:$B$24,2,FALSE),\"\")","v":""}]
[null,null,null,null,null,null,null,null,null,null,null,null,null,null,null,"",{"$f":"IF(K456<>\"\",VLOOKUP(UPPER(K456),Sheet2!$A$3:$B$7,2,FALSE),\"\")","v":""},{"$f":"IF(M456<>\"\",VLOOKUP(UPPER(M456),Sheet2!$A$9:$B$24,2,FALSE),\"\")","v":""}]
[null,null,null,null,null,null,null,null,null,null,null,null,null,null,null,"",{"$f":"IF(K457<>\"\",VLOOKUP(UPPER(K457),Sheet2!$A$3:$B$7,2,FALSE),\"\")","v":""},{"$f":"IF(M457<>\"\",VLOOKUP(UPPER(M457),Sheet2!$A$9:$B$24,2,FALSE),\"\")","v":""}]
[null,null,null,null,null,null,null,null,null,null,null,null,null,null,null,"",{"$f":"IF(K458<>\"\",VLOOKUP(UPPER(K458),Sheet2!$A$3:$B$7,2,FALSE),\"\")","v":""},{"$f":"IF(M458<>\"\",VLOOKUP(UPPER(M458),Sheet2!$A$9:$B$24,2,FALSE),\"\")","v":""}]
[null,null,null,null,null,null,null,null,null,null,null,null,null,null,null,"",{"$f":"IF(K459<>\"\",VLOOKUP(UPPER(K459),Sheet2!$A$3:$B$7,2,FALSE),\"\")","v":""},{"$f":"IF(M459<>\"\",VLOOKUP(UPPER(M459),Sheet2!$A$9:$B$24,2,FALSE),\"\")","v":""}]
[null,null,null,null,null,null,null,null,null,null,null,null,null,null,null,"",{"$f":"IF(K460<>\"\",VLOOKUP(UPPER(K460),Sheet2!$A$3:$B$7,2,FALSE),\"\")","v":""},{"$f":"IF(M460<>\"\",VLOOKUP(UPPER(M460),Sheet2!$A$9:$B$24,2,FALSE),\"\")","v":""}]
[null,null,null,null,null,null,null,null,null,null,null,null,null,null,null,"",{"$f":"IF(K461<>\"\",VLOOKUP(UPPER(K461),Sheet2!$A$3:$B$7,2,FALSE),\"\")","v":""},{"$f":"IF(M461<>\"\",VLOOKUP(UPPER(M461),Sheet2!$A$9:$B$24,2,FALSE),\"\")","v":""}]
[null,null,null,null,null,null,null,null,null,null,null,null,null,null,null,"",{"$f":"IF(K462<>\"\",VLOOKUP(UPPER(K462),Sheet2!$A$3:$B$7,2,FALSE),\"\")","v":""},{"$f":"IF(M462<>\"\",VLOOKUP(UPPER(M462),Sheet2!$A$9:$B$24,2,FALSE),\"\")","v":""}]
[null,null,null,null,null,null,null,null,null,null,null,null,null,null,null,"",{"$f":"IF(K463<>\"\",VLOOKUP(UPPER(K463),Sheet2!$A$3:$B$7,2,FALSE),\"\")","v":""},{"$f":"IF(M463<>\"\",VLOOKUP(UPPER(M463),Sheet2!$A$9:$B$24,2,FALSE),\"\")","v":""}]
[null,null,null,null,null,null,null,null,null,null,null,null,null,null,null,"",{"$f":"IF(K464<>\"\",VLOOKUP(UPPER(K464),Sheet2!$A$3:$B$7,2,FALSE),\"\")","v":""},{"$f":"IF(M464<>\"\",VLOOKUP(UPPER(M464),Sheet2!$A$9:$B$24,2,FALSE),\"\")","v":""}]
[null,null,null,null,null,null,null,null,null,null,null,null,null,null,null,"",{"$f":"IF(K465<>\"\",VLOOKUP(UPPER(K465),Sheet2!$A$3:$B$7,2,FALSE),\"\")","v":""},{"$f":"IF(M465<>\"\",VLOOKUP(UPPER(M465),Sheet2!$A$9:$B$24,2,FALSE),\"\")","v":""}]
[null,null,null,null,null,null,null,null,null,null,null,null,null,null,null,"",{"$f":"IF(K466<>\"\",VLOOKUP(UPPER(K466),Sheet2!$A$3:$B$7,2,FALSE),\"\")","v":""},{"$f":"IF(M466<>\"\",VLOOKUP(UPPER(M466),Sheet2!$A$9:$B$24,2,FALSE),\"\")","v":""}]
[null,null,null,null,null,null,null,null,null,null,null,null,null,null,null,"",{"$f":"IF(K467<>\"\",VLOOKUP(UPPER(K467),Sheet2!$A$3:$B$7,2,FALSE),\"\")","v":""},{"$f":"IF(M467<>\"\",VLOOKUP(UPPER(M467),Sheet2!$A$9:$B$24,2,FALSE),\"\")","v":""}]
[null,null,null,null,null,null,null,null,null,null,null,null,null,null,null,"",{"$f":"IF(K468<>\"\",VLOOKUP(UPPER(K468),Sheet2!$A$3:$B$7,2,FALSE),\"\")","v":""},{"$f":"IF(M468<>\"\",VLOOKUP(UPPER(M468),Sheet2!$A$9:$B$24,2,FALSE),\"\")","v":""}]
[null,null,null,null,null,null,null,null,null,null,null,null,null,null,null,"",{"$f":"IF(K469<>\"\",VLOOKUP(UPPER(K469),Sheet2!$A$3:$B$7,2,FALSE),\"\")","v":""},{"$f":"IF(M469<>\"\",VLOOKUP(UPPER(M469),Sheet2!$A$9:$B$24,2,FALSE),\"\")","v":""}]
[null,null,null,null,null,null,null,null,null,null,null,null,null,null,null,"",{"$f":"IF(K470<>\"\",VLOOKUP(UPPER(K470),Sheet2!$A$3:$B$7,2,FALSE),\"\")","v":""},{"$f":"IF(M470<>\"\",VLOOKUP(UPPER(M470),Sheet2!$A$9:$B$24,2,FALSE),\"\")","v":""}]
[null,null,null,null,null,null,null,null,null,null,null,null,null,null,null,"",{"$f":"IF(K471<>\"\",VLOOKUP(UPPER(K471),Sheet2!$A$3:$B$7,2,FALSE),\"\")","v":""},{"$f":"IF(M471<>\"\",VLOOKUP(UPPER(M471),Sheet2!$A$9:$B$24,2,FALSE),\"\")","v":""}]
[null,null,null,null,null,null,null,null,null,null,null,null,null,null,null,"",{"$f":"IF(K472<>\"\",VLOOKUP(UPPER(K472),Sheet2!$A$3:$B$7,2,FALSE),\"\")","v":""},{"$f":"IF(M472<>\"\",VLOOKUP(UPPER(M472),Sheet2!$A$9:$B$24,2,FALSE),\"\")","v":""}]
[null,null,null,null,null,null,null,null,null,null,null,null,null,null,null,"",{"$f":"IF(K473<>\"\",VLOOKUP(UPPER(K473),Sheet2!$A$3:$B$7,2,FALSE),\"\")","v":""},{"$f":"IF(M473<>\"\",VLOOKUP(UPPER(M473),Sheet2!$A$9:$B$24,2,FALSE),\"\")","v":""}]
[null,null,null,null,null,null,null,null,null,null,null,null,null,null,null,"",{"$f":"IF(K474<>\"\",VLOOKUP(UPPER(K474),Sheet2!$A$3:$B$7,2,FALSE),\"\")","v":""},{"$f":"IF(M474<>\"\",VLOOKUP(UPPER(M474),Sheet2!$A$9:$B$24,2,FALSE),\"\")","v":""}]
[null,null,null,null,null,null,null,null,null,null,null,null,null,null,null,"",{"$f":"IF(K475<>\"\",VLOOKUP(UPPER(K475),Sheet2!$A$3:$B$7,2,FALSE),\"\")","v":""},{"$f":"IF(M475<>\"\",VLOOKUP(UPPER(M475),Sheet2!$A$9:$B$24,2,FALSE),\"\")","v":""}]
[null,null,null,null,null,null,null,null,null,null,null,null,null,null,null,"",{"$f":"IF(K476<>\"\",VLOOKUP(UPPER(K476),Sheet2!$A$3:$B$7,2,FALSE),\"\")","v":""},{"$f":"IF(M476<>\"\",VLOOKUP(UPPER(M476),Sheet2!$A$9:$B$24,2,FALSE),\"\")","v":""}]
[null,null,null,null,null,null,null,null,null,null,null,null,null,null,null,"",{"$f":"IF(K477<>\"\",VLOOKUP(UPPER(K477),Sheet2!$A$3:$B$7,2,FALSE),\"\")","v":""},{"$f":"IF(M477<>\"\",VLOOKUP(UPPER(M477),Sheet2!$A$9:$B$24,2,FALSE),\"\")","v":""}]
[null,null,null,null,null,null,null,null,null,null,null,null,null,null,null,"",{"$f":"IF(K478<>\"\",VLOOKUP(UPPER(K478),Sheet2!$A$3:$B$7,2,FALSE),\"\")","v":""},{"$f":"IF(M478<>\"\",VLOOKUP(UPPER(M478),Sheet2!$A$9:$B$24,2,FALSE),\"\")","v":""}]
[null,null,null,null,null,null,null,null,null,null,null,null,null,null,null,"",{"$f":"IF(K479<>\"\",VLOOKUP(UPPER(K479),Sheet2!$A$3:$B$7,2,FALSE),\"\")","v":""},{"$f":"IF(M479<>\"\",VLOOKUP(UPPER(M479),Sheet2!$A$9:$B$24,2,FALSE),\"\")","v":""}]
[null,null,null,null,null,null,null,null,null,null,null,null,null,null,null,"",{"$f":"IF(K480<>\"\",VLOOKUP(UPPER(K480),Sheet2!$A$3:$B$7,2,FALSE),\"\")","v":""},{"$f":"IF(M480<>\"\",VLOOKUP(UPPER(M480),Sheet2!$A$9:$B$24,2,FALSE),\"\")","v":""}]
[null,null,null,null,null,null,null,null,null,null,null,null,null,null,null,"",{"$f":"IF(K481<>\"\",VLOOKUP(UPPER(K481),Sheet2!$A$3:$B$7,2,FALSE),\"\")","v":""},{"$f":"IF(M481<>\"\",VLOOKUP(UPPER(M481),Sheet2!$A$9:$B$24,2,FALSE),\"\")","v":""}]
[null,null,null,null,null,null,null,null,null,null,null,null,null,null,null,"",{"$f":"IF(K482<>\"\",VLOOKUP(UPPER(K482),Sheet2!$A$3:$B$7,2,FALSE),\"\")","v":""},{"$f":"IF(M482<>\"\",VLOOKUP(UPPER(M482),Sheet2!$A$9:$B$24,2,FALSE),\"\")","v":""}]
[null,null,null,null,null,null,null,null,null,null,null,null,null,null,null,"",{"$f":"IF(K483<>\"\",VLOOKUP(UPPER(K483),Sheet2!$A$3:$B$7,2,FALSE),\"\")","v":""},{"$f":"IF(M483<>\"\",VLOOKUP(UPPER(M483),Sheet2!$A$9:$B$24,2,FALSE),\"\")","v":""}]
[null,null,null,null,null,null,null,null,null,null,null,null,null,null,null,"",{"$f":"IF(K484<>\"\",VLOOKUP(UPPER(K484),Sheet2!$A$3:$B$7,2,FALSE),\"\")","v":""},{"$f":"IF(M484<>\"\",VLOOKUP(UPPER(M484),Sheet2!$A$9:$B$24,2,FALSE),\"\")","v":""}]
[null,null,null,null,null,null,null,null,null,null,null,null,null,null,null,"",{"$f":"IF(K485<>\"\",VLOOKUP(UPPER(K485),Sheet2!$A$3:$B$7,2,FALSE),\"\")","v":""},{"$f":"IF(M485<>\"\",VLOOKUP(UPPER(M485),Sheet2!$A$9:$B$24,2,FALSE),\"\")","v":""}]
[null,null,null,null,null,null,null,null,null,null,null,null,null,null,null,"",{"$f":"IF(K486<>\"\",VLOOKUP(UPPER(K486),Sheet2!$A$3:$B$7,2,FALSE),\"\")","v":""},{"$f":"IF(M486<>\"\",VLOOKUP(UPPER(M486),Sheet2!$A$9:$B$24,2,FALSE),\"\")","v":""}]
[null,null,null,null,null,null,null,null,null,null,null,null,null,null,null,"",{"$f":"IF(K487<>\"\",VLOOKUP(UPPER(K487),Sheet2!$A$3:$B$7,2,FALSE),\"\")","v":""},{"$f":"IF(M487<>\"\",VLOOKUP(UPPER(M487),Sheet2!$A$9:$B$24,2,FALSE),\"\")","v":""}]
[null,null,null,null,null,null,null,null,null,null,null,null,null,null,null,"",{"$f":"IF(K488<>\"\",VLOOKUP(UPPER(K488),Sheet2!$A$3:$B$7,2,FALSE),\"\")","v":""},{"$f":"IF(M488<>\"\",VLOOKUP(UPPER(M488),Sheet2!$A$9:$B$24,2,FALSE),\"\")","v":""}]
[null,null,null,null,null,null,null,null,null,null,null,null,null,null,null,"",{"$f":"IF(K489<>\"\",VLOOKUP(UPPER(K489),Sheet2!$A$3:$B$7,2,FALSE),\"\")","v":""},{"$f":"IF(M489<>\"\",VLOOKUP(UPPER(M489),Sheet2!$A$9:$B$24,2,FALSE),\"\")","v":""}]
[null,null,null,null,null,null,null,null,null,null,null,null,null,null,null,"",{"$f":"IF(K490<>\"\",VLOOKUP(UPPER(K490),Sheet2!$A$3:$B$7,2,FALSE),\"\")","v":""},{"$f":"IF(M490<>\"\",VLOOKUP(UPPER(M490),Sheet2!$A$9:$B$24,2,FALSE),\"\")","v":""}]
[null,null,null,null,null,null,null,null,null,null,null,null,null,null,null,"",{"$f":"IF(K491<>\"\",VLOOKUP(UPPER(K491),Sheet2!$A$3:$B$7,2,FALSE),\"\")","v":""},{"$f":"IF(M491<>\"\",VLOOKUP(UPPER(M491),Sheet2!$A$9:$B$24,2,FALSE),\"\")","v":""}]
[null,null,null,null,null,null,null,null,null,null,null,null,null,null,null,"",{"$f":"IF(K492<>\"\",VLOOKUP(UPPER(K492),Sheet2!$A$3:$B$7,2,FALSE),\"\")","v":""},{"$f":"IF(M492<>\"\",VLOOKUP(UPPER(M492),Sheet2!$A$9:$B$24,2,FALSE),\"\")","v":""}]
[null,null,null,null,null,null,null,null,null,null,null,null,null,null,null,"",{"$f":"IF(K493<>\"\",VLOOKUP(UPPER(K493),Sheet2!$A$3:$B$7,2,FALSE),\"\")","v":""},{"$f":"IF(M493<>\"\",VLOOKUP(UPPER(M493),Sheet2!$A$9:$B$24,2,FALSE),\"\")","v":""}]
[null,null,null,null,null,null,null,null,null,null,null,null,null,null,null,"",{"$f":"IF(K494<>\"\",VLOOKUP(UPPER(K494),Sheet2!$A$3:$B$7,2,FALSE),\"\")","v":""},{"$f":"IF(M494<>\"\",VLOOKUP(UPPER(M494),Sheet2!$A$9:$B$24,2,FALSE),\"\")","v":""}]
[null,null,null,null,null,null,null,null,null,null,null,null,null,null,null,"",{"$f":"IF(K495<>\"\",VLOOKUP(UPPER(K495),Sheet2!$A$3:$B$7,2,FALSE),\"\")","v":""},{"$f":"IF(M495<>\"\",VLOOKUP(UPPER(M495),Sheet2!$A$9:$B$24,2,FALSE),\"\")","v":""}]
[null,null,null,null,null,null,null,null,null,null,null,null,null,null,null,"",{"$f":"IF(K496<>\"\",VLOOKUP(UPPER(K496),Sheet2!$A$3:$B$7,2,FALSE),\"\")","v":""},{"$f":"IF(M496<>\"\",VLOOKUP(UPPER(M496),Sheet2!$A$9:$B$24,2,FALSE),\"\")","v":""}]
[null,null,null,null,null,null,null,null,null,null,null,null,null,null,null,"",{"$f":"IF(K497<>\"\",VLOOKUP(UPPER(K497),Sheet2!$A$3:$B$7,2,FALSE),\"\")","v":""},{"$f":"IF(M497<>\"\",VLOOKUP(UPPER(M497),Sheet2!$A$9:$B$24,2,FALSE),\"\")","v":""}]
[null,null,null,null,null,null,null,null,null,null,null,null,null,null,null,"",{"$f":"IF(K498<>\"\",VLOOKUP(UPPER(K498),Sheet2!$A$3:$B$7,2,FALSE),\"\")","v":""},{"$f":"IF(M498<>\"\",VLOOKUP(UPPER(M498),Sheet2!$A$9:$B$24,2,FALSE),\"\")","v":""}]
[null,null,null,null,null,null,null,null,null,null,null,null,null,null,null,"",{"$f":"IF(K499<>\"\",VLOOKUP(UPPER(K499),Sheet2!$A$3:$B$7,2,FALSE),\"\")","v":""},{"$f":"IF(M499<>\"\",VLOOKUP(UPPER(M499),Sheet2!$A$9:$B$24,2,FALSE),\"\")","v":""}]
[null,null,null,null,null,null,null,null,null,null,null,null,null,null,null,"",{"$f":"IF(K500<>\"\",VLOOKUP(UPPER(K500),Sheet2!$A$3:$B$7,2,FALSE),\"\")","v":""},{"$f":"IF(M500<>\"\",VLOOKUP(UPPER(M500),Sheet2!$A$9:$B$24,2,FALSE),\"\")","v":""}]
[null,null,null,null,null,null,null,null,null,null,null,null,null,null,null,"",{"$f":"IF(K501<>\"\",VLOOKUP(UPPER(K501),Sheet2!$A$3:$B$7,2,FALSE),\"\")","v":""},{"$f":"IF(M501<>\"\",VLOOKUP(UPPER(M501),Sheet2!$A$9:$B$24,2,FALSE),\"\")","v":""}]
[null,null,null,null,null,null,null,null,null,null,null,null,null,null,null,"",{"$f":"IF(K502<>\"\",VLOOKUP(UPPER(K502),Sheet2!$A$3:$B$7,2,FALSE),\"\")","v":""},{"$f":"IF(M502<>\"\",VLOOKUP(UPPER(M502),Sheet2!$A$9:$B$24,2,FALSE),\"\")","v":""}]
[null,null,null,null,null,null,null,null,null,null,null,null,null,null,null,"",{"$f":"IF(K503<>\"\",VLOOKUP(UPPER(K503),Sheet2!$A$3:$B$7,2,FALSE),\"\")","v":""},{"$f":"IF(M503<>\"\",VLOOKUP(UPPER(M503),Sheet2!$A$9:$B$24,2,FALSE),\"\")","v":""}]
[null,null,null,null,null,null,null,null,null,null,null,null,null,null,null,"",{"$f":"IF(K504<>\"\",VLOOKUP(UPPER(K504),Sheet2!$A$3:$B$7,2,FALSE),\"\")","v":""},{"$f":"IF(M504<>\"\",VLOOKUP(UPPER(M504),Sheet2!$A$9:$B$24,2,FALSE),\"\")","v":""}]

{"sheet":"Sheet2","index":1,"n_rows":24,"n_cols":4,"rows_kept":24,"cut":false,"hidden":false,"merged":[[0,1,0,2]]}
[null,"Reference Lists"]
[]
["E","EXCL",null,"QADCP"]
["G","GOOD",null,"QFLUM"]
["F","FAIR",null,"QSCMM"]
["P","POOR",null,"QVOLM"]
["U","UNSP",null,"QWEIR"]
[null,null,null,"QUNSP"]
[]
["Unspecified","UNSP"]
["Anchor ice","AICE"]
["Ice cover","CICE"]
["Clear","CLER"]
["Fill control changed","FILL"]
["Heavy debris","HVDB"]
["Light debris","LGDB"]
["Heavy moss/algae","MAHV"]
["Light moss/algae","MALT"]
["Moderate moss/algae","MAMD"]
["Moderate debris","MDDB"]
["No flow","NFLW"]
["Scour control changed","SCUR"]
["Shore ice","SICE"]
["Submerged","SUBM"]