{"text_format":"1","workbook":"xlsx","n_sheets":2,"sheets":["Sheet1","Sheet2"],"not_rendered":{"charts":0,"images":0,"macros":1,"external_links":0,"defined_names":0,"comments":0,"pivot_tables":0},"unopened":[],"bounds":{"document_bytes":16777216,"sheet_cells":100000,"rows_first":2000,"rows_last":500,"rows_between":2000,"halvings":0,"cell_chars":16384,"cell_head_chars":4096},"cells_cut":0,"cells_raw":0,"read":"whole","date_system":"1900"}

{"sheet":"Sheet1","index":0,"n_rows":504,"n_cols":17,"rows_kept":504,"cut":false,"hidden":false,"merged":[[2,1,2,8],[0,2,0,9],[1,1,1,3]]}
[null,null,"SITE VISIT Qm CREATOR v1.1"]
["SiteVisit Email:","YOURID@usgs.gov"]
["Output Path:","C:\\Documents and Settings\\jnielsen\\Desktop\\"]
["Meas No.","Station No.","Date","Party","Width","Area","Velocity","Gage Ht","Discharge","Qm Rated","Disch Method","Control Condition","Water Temp (°C)","Air Temp (°C)","Entry Status"]
[1,"01010000","2010-10-01","jjj",null,null,null,null,12,null,"QFLUM",null,100,50,{"$f":"IF(OR(A5<>\"\",B5<>\"\",C5<>\"\",D5<>\"\",E5<>\"\",F5<>\"\",G5<>\"\",H5<>\"\",I5<>\"\",J5<>\"\",K5<>\"\",L5<>\"\",M5<>\"\",N5<>\"\"),IF(AND(A5<>\"\",B5<>\"\",C5<>\"\",D5<>\"\",I5<>\"\",K5<>\"\"),\"COMPLETE\",\"INCOMPLETE\"),\"\")","v":"COMPLETE"},{"$f":"IF(J5<>\"\",VLOOKUP(UPPER(J5),Sheet2!$A$3:$B$7,2,FALSE),\"\")","v":""},{"$f":"IF(L5<>\"\",VLOOKUP(UPPER(L5),Sheet2!$A$9:$B$24,2,FALSE),\"\")","v":""}]
[null,null,null,null,null,null,null,null,null,null,null,null,null,null,{"$f":"IF(OR(A6<>\"\",B6<>\"\",C6<>\"\",D6<>\"\",E6<>\"\",F6<>\"\",G6<>\"\",H6<>\"\",I6<>\"\",J6<>\"\",K6<>\"\",L6<>\"\",M6<>\"\",N6<>\"\"),IF(AND(A6<>\"\",B6<>\"\",C6<>\"\",D6<>\"\",I6<>\"\",K6<>\"\"),\"COMPLETE\",\"INCOMPLETE\"),\"\")","v":""},{"$f":"IF(J6<>\"\",VLOOKUP(UPPER(J6),Sheet2!$A$3:$B$7,2,FALSE),\"\")","v":""},{"$f":"IF(L6<>\"\",VLOOKUP(UPPER(L6),Sheet2!$A$9:$B$24,2,FALSE),\"\")","v":""}]
[null,null,null,null,null,null,null,null,null,null,null,null,null,null,"",{"$f":"IF(J7<>\"\",VLOOKUP(UPPER(J7),Sheet2!$A$3:$B$7,2,FALSE),\"\")","v":""},{"$f":"IF(L7<>\"\",VLOOKUP(UPPER(L7),Sheet2!$A$9:$B$24,2,FALSE),\"\")","v":""}]
[null,null,null,null,null,null,null,null,null,null,null,null,null,null,"",{"$f":"IF(J8<>\"\",VLOOKUP(UPPER(J8),Sheet2!$A$3:$B$7,2,FALSE),\"\")","v":""},{"$f":"IF(L8<>\"\",VLOOKUP(UPPER(L8),Sheet2!$A$9:$B$24,2,FALSE),\"\")","v":""}]
[null,null,null,null,null,null,null,null,null,null,null,null,null,null,"",{"$f":"IF(J9<>\"\",VLOOKUP(UPPER(J9),Sheet2!$A$3:$B$7,2,FALSE),\"\")","v":""},{"$f":"IF(L9<>\"\",VLOOKUP(UPPER(L9),Sheet2!$A$9:$B$24,2,FALSE),\"\")","v":""}]
[null,null,null,null,null,null,null,null,null,null,null,null,null,null,"",{"$f":"IF(J10<>\"\",VLOOKUP(UPPER(J10),Sheet2!$A$3:$B$7,2,FALSE),\"\")","v":""},{"$f":"IF(L10<>\"\",VLOOKUP(UPPER(L10),Sheet2!$A$9:$B$24,2,FALSE),\"\")","v":""}]
[null,null,null,null,null,null,null,null,null,null,null,null,null,null,"",{"$f":"IF(J11<>\"\",VLOOKUP(UPPER(J11),Sheet2!$A$3:$B$7,2,FALSE),\"\")","v":""},{"$f":"IF(L11<>\"\",VLOOKUP(UPPER(L11),Sheet2!$A$9:$B$24,2,FALSE),\"\")","v":""}]
[null,null,null,null,null,null,null,null,null,null,null,null,null,null,"",{"$f":"IF(J12<>\"\",VLOOKUP(UPPER(J12),Sheet2!$A$3:$B$7,2,FALSE),\"\")","v":""},{"$f":"IF(L12<>\"\",VLOOKUP(UPPER(L12),Sheet2!$A$9:$B$24,2,FALSE),\"\")","v":""}]
[null,null,null,null,null,null,null,null,null,null,null,null,null,null,"",{"$f":"IF(J13<>\"\",VLOOKUP(UPPER(J13),Sheet2!$A$3:$B$7,2,FALSE),\"\")","v":""},{"$f":"IF(L13<>\"\",VLOOKUP(UPPER(L13),Sheet2!$A$9:$B$24,2,FALSE),\"\")","v":""}]
[null,null,null,null,null,null,null,null,null,null,null,null,null,null,"",{"$f":"IF(J14<>\"\",VLOOKUP(UPPER(J14),Sheet2!$A$3:$B$7,2,FALSE),\"\")","v":""},{"$f":"IF(L14<>\"\",VLOOKUP(UPPER(L14),Sheet2!$A$9:$B$24,2,FALSE),\"\")","v":""}]
[null,null,null,null,null,null,null,null,null,null,null,null,null,null,"",{"$f":"IF(J15<>\"\",VLOOKUP(UPPER(J15),Sheet2!$A$3:$B$7,2,FALSE),\"\")","v":""},{"$f":"IF(L15<>\"\",VLOOKUP(UPPER(L15),Sheet2!$A$9:$B$24,2,FALSE),\"\")","v":""}]
[null,null,null,null,null,null,null,null,null,null,null,null,null,null,"",{"$f":"IF(J16<>\"\",VLOOKUP(UPPER(J16),Sheet2!$A$3:$B$7,2,FALSE),\"\")","v":""},{"$f":"IF(L16<>\"\",VLOOKUP(UPPER(L16),Sheet2!$A$9:$B$24,2,FALSE),\"\")","v":""}]
[null,null,null,null,null,null,null,null,null,null,null,null,null,null,"",{"$f":"IF(J17<>\"\",VLOOKUP(UPPER(J17),Sheet2!$A$3:$B$7,2,FALSE),\"\")","v":""},{"$f":"IF(L17<>\"\",VLOOKUP(UPPER(L17),Sheet2!$A$9:$B$24,2,FALSE),\"\")","v":""}]
[null,null,null,null,null,null,null,null,null,null,null,null,null,null,"",{"$f":"IF(J18<>\"\",VLOOKUP(UPPER(J18),Sheet2!$A$3:$B$7,2,FALSE),\"\")","v":""},{"$f":"IF(L18<>\"\",VLOOKUP(UPPER(L18),Sheet2!$A$9:$B$24,2,FALSE),\"\")","v":""}]
[null,null,null,null,null,null,null,null,null,null,null,null,null,null,"",{"$f":"IF(J19<>\"\",VLOOKUP(UPPER(J19),Sheet2!$A$3:$B$7,2,FALSE),\"\")","v":""},{"$f":"IF(L19<>\"\",VLOOKUP(UPPER(L19),Sheet2!$A$9:$B$24,2,FALSE),\"\")","v":""}]
[null,null,null,null,null,null,null,null,null,null,null,null,null,null,"",{"$f":"IF(J20<>\"\",VLOOKUP(UPPER(J20),Sheet2!$A$3:$B$7,2,FALSE),\"\")","v":""},{"$f":"IF(L20<>\"\",VLOOKUP(UPPER(L20),Sheet2!$A$9:$B$24,2,FALSE),\"\")","v":""}]
[null,null,null,null,null,null,null,null,null,null,null,null,null,null,"",{"$f":"IF(J21<>\"\",VLOOKUP(UPPER(J21),Sheet2!$A$3:$B$7,2,FALSE),\"\")","v":""},{"$f":"IF(L21<>\"\",VLOOKUP(UPPER(L21),Sheet2!$A$9:$B$24,2,FALSE),\"\")","v":""}]
[null,null,null,null,null,null,null,null,null,null,null,null,null,null,"",{"$f":"IF(J22<>\"\",VLOOKUP(UPPER(J22),Sheet2!$A$3:$B$7,2,FALSE),\"\")","v":""},{"$f":"IF(L22<>\"\",VLOOKUP(UPPER(L22),Sheet2!$A$9:$B$24,2,FALSE),\"\")","v":""}]
[null,null,null,null,null,null,null,null,null,null,null,null,null,null,"",{"$f":"IF(J23<>\"\",VLOOKUP(UPPER(J23),Sheet2!$A$3:$B$7,2,FALSE),\"\")","v":""},{"$f":"IF(L23<>\"\",VLOOKUP(UPPER(L23),Sheet2!$A$9:$B$24,2,FALSE),\"\")","v":""}]
[null,null,null,null,null,null,null,null,null,null,null,null,null,null,"",{"$f":"IF(J24<>\"\",VLOOKUP(UPPER(J24),Sheet2!$A$3:$B$7,2,FALSE),\"\")","v":""},{"$f":"IF(L24<>\"\",VLOOKUP(UPPER(L24),Sheet2!$A$9:$B$24,2,FALSE),\"\")","v":""}]
[null,null,null,null,null,null,null,null,null,null,null,null,null,null,"",{"$f":"IF(J25<>\"\",VLOOKUP(UPPER(J25),Sheet2!$A$3:$B$7,2,FALSE),\"\")","v":""},{"$f":"IF(L25<>\"\",VLOOKUP(UPPER(L25),Sheet2!$A$9:$B$24,2,FALSE),\"\")","v":""}]
[null,null,null,null,null,null,null,null,null,null,null,null,null,null,"",{"$f":"IF(J26<>\"\",VLOOKUP(UPPER(J26),Sheet2!$A$3:$B$7,2,FALSE),\"\")","v":""},{"$f":"IF(L26<>\"\",VLOOKUP(UPPER(L26),Sheet2!$A$9:$B$24,2,FALSE),\"\")","v":""}]
[null,null,null,null,null,null,null,null,null,null,null,null,null,null,"",{"$f":"IF(J27<>\"\",VLOOKUP(UPPER(J27),Sheet2!$A$3:$B$7,2,FALSE),\"\")","v":""},{"$f":"IF(L27<>\"\",VLOOKUP(UPPER(L27),Sheet2!$A$9:$B$24,2,FALSE),\"\")","v":""}]
[null,null,null,null,null,null,null,null,null,null,null,null,null,null,"",{"$f":"IF(J28<>\"\",VLOOKUP(UPPER(J28),Sheet2!$A$3:$B$7,2,FALSE),\"\")","v":""},{"$f":"IF(L28<>\"\",VLOOKUP(UPPER(L28),Sheet2!$A$9:$B$24,2,FALSE),\"\")","v":""}]
[null,null,null,null,null,null,null,null,null,null,null,null,null,null,"",{"$f":"IF(J29<>\"\",VLOOKUP(UPPER(J29),Sheet2!$A$3:$B$7,2,FALSE),\"\")","v":""},{"$f":"IF(L29<>\"\",VLOOKUP(UPPER(L29),Sheet2!$A$9:$B$24,2,FALSE),\"\")","v":""}]
[null,null,null,null,null,null,null,null,null,null,null,null,null,null,"",{"$f":"IF(J30<>\"\",VLOOKUP(UPPER(J30),Sheet2!$A$3:$B$7,2,FALSE),\"\")","v":""},{"$f":"IF(L30<>\"\",VLOOKUP(UPPER(L30),Sheet2!$A$9:$B$24,2,FALSE),\"\")","v":""}]
[null,null,null,null,null,null,null,null,null,null,null,null,null,null,"",{"$f":"IF(J31<>\"\",VLOOKUP(UPPER(J31),Sheet2!$A$3:$B$7,2,FALSE),\"\")","v":""},{"$f":"IF(L31<>\"\",VLOOKUP(UPPER(L31),Sheet2!$A$9:$B$24,2,FALSE),\"\")","v":""}]
[null,null,null,null,null,null,null,null,null,null,null,null,null,null,"",{"$f":"IF(J32<>\"\",VLOOKUP(UPPER(J32),Sheet2!$A$3:$B$7,2,FALSE),\"\")","v":""},{"$f":"IF(L32<>\"\",VLOOKUP(UPPER(L32),Sheet2!$A$9:$B$24,2,FALSE),\"\")","v":""}]
[null,null,null,null,null,null,null,null,null,null,null,null,null,null,"",{"$f":"IF(J33<>\"\",VLOOKUP(UPPER(J33),Sheet2!$A$3:$B$7,2,FALSE),\"\")","v":""},{"$f":"IF(L33<>\"\",VLOOKUP(UPPER(L33),Sheet2!$A$9:$B$24,2,FALSE),\"\")","v":""}]
[null,null,null,null,null,null,null,null,null,null,null,null,null,null,"",{"$f":"IF(J34<>\"\",VLOOKUP(UPPER(J34),Sheet2!$A$3:$B$7,2,FALSE),\"\")","v":""},{"$f":"IF(L34<>\"\",VLOOKUP(UPPER(L34),Sheet2!$A$9:$B$24,2,FALSE),\"\")","v":""}]
[null,null,null,null,null,null,null,null,null,null,null,null,null,null,"",{"$f":"IF(J35<>\"\",VLOOKUP(UPPER(J35),Sheet2!$A$3:$B$7,2,FALSE),\"\")","v":""},{"$f":"IF(L35<>\"\",VLOOKUP(UPPER(L35),Sheet2!$A$9:$B$24,2,FALSE),\"\")","v":""}]
[null,null,null,null,null,null,null,null,null,null,null,null,null,null,"",{"$f":"IF(J36<>\"\",VLOOKUP(UPPER(J36),Sheet2!$A$3:$B$7,2,FALSE),\"\")","v":""},{"$f":"IF(L36<>\"\",VLOOKUP(UPPER(L36),Sheet2!$A$9:$B$24,2,FALSE),\"\")","v":""}]
[null,null,null,null,null,null,null,null,null,null,null,null,null,null,"",{"$f":"IF(J37<>\"\",VLOOKUP(UPPER(J37),Sheet2!$A$3:$B$7,2,FALSE),\"\")","v":""},{"$f":"IF(L37<>\"\",VLOOKUP(UPPER(L37),Sheet2!$A$9:$B$24,2,FALSE),\"\")","v":""}]
[null,null,null,null,null,null,null,null,null,null,null,null,null,null,"",{"$f":"IF(J38<>\"\",VLOOKUP(UPPER(J38),Sheet2!$A$3:$B$7,2,FALSE),\"\")","v":""},{"$f":"IF(L38<>\"\",VLOOKUP(UPPER(L38),Sheet2!$A$9:$B$24,2,FALSE),\"\")","v":""}]
[null,null,null,null,null,null,null,null,null,null,null,null,null,null,"",{"$f":"IF(J39<>\"\",VLOOKUP(UPPER(J39),Sheet2!$A$3:$B$7,2,FALSE),\"\")","v":""},{"$f":"IF(L39<>\"\",VLOOKUP(UPPER(L39),Sheet2!$A$9:$B$24,2,FALSE),\"\")","v":""}]
[null,null,null,null,null,null,null,null,null,null,null,null,null,null,"",{"$f":"IF(J40<>\"\",VLOOKUP(UPPER(J40),Sheet2!$A$3:$B$7,2,FALSE),\"\")","v":""},{"$f":"IF(L40<>\"\",VLOOKUP(UPPER(L40),Sheet2!$A$9:$B$24,2,FALSE),\"\")","v":""}]
[null,null,null,null,null,null,null,null,null,null,null,null,null,null,"",{"$f":"IF(J41<>\"\",VLOOKUP(UPPER(J41),Sheet2!$A$3:$B$7,2,FALSE),\"\")","v":""},{"$f":"IF(L41<>\"\",VLOOKUP(UPPER(L41),Sheet2!$A$9:$B$24,2,FALSE),\"\")","v":""}]
[null,null,null,null,null,null,null,null,null,null,null,null,null,null,"",{"$f":"IF(J42<>\"\",VLOOKUP(UPPER(J42),Sheet2!$A$3:$B$7,2,FALSE),\"\")","v":""},{"$f":"IF(L42<>\"\",VLOOKUP(UPPER(L42),Sheet2!$A$9:$B$24,2,FALSE),\"\")","v":""}]
[null,null,null,null,null,null,null,null,null,null,null,null,null,null,"",{"$f":"IF(J43<>\"\",VLOOKUP(UPPER(J43),Sheet2!$A$3:$B$7,2,FALSE),\"\")","v":""},{"$f":"IF(L43<>\"\",VLOOKUP(UPPER(L43),Sheet2!$A$9:$B$24,2,FALSE),\"\")","v":""}]
[null,null,null,null,null,null,null,null,null,null,null,null,null,null,"",{"$f":"IF(J44<>\"\",VLOOKUP(UPPER(J44),Sheet2!$A$3:$B$7,2,FALSE),\"\")","v":""},{"$f":"IF(L44<>\"\",VLOOKUP(UPPER(L44),Sheet2!$A$9:$B$24,2,FALSE),\"\")","v":""}]
[null,null,null,null,null,null,null,null,null,null,null,null,null,null,"",{"$f":"IF(J45<>\"\",VLOOKUP(UPPER(J45),Sheet2!$A$3:$B$7,2,FALSE),\"\")","v":""},{"$f":"IF(L45<>\"\",VLOOKUP(UPPER(L45),Sheet2!$A$9:$B$24,2,FALSE),\"\")","v":""}]
[null,null,null,null,null,null,null,null,null,null,null,null,null,null,"",{"$f":"IF(J46<>\"\",VLOOKUP(UPPER(J46),Sheet2!$A$3:$B$7,2,FALSE),\"\")","v":""},{"$f":"IF(L46<>\"\",VLOOKUP(UPPER(L46),Sheet2!$A$9:$B$24,2,FALSE),\"\")","v":""}]
[null,null,null,null,null,null,null,null,null,null,null,null,null,null,"",{"$f":"IF(J47<>\"\",VLOOKUP(UPPER(J47),Sheet2!$A$3:$B$7,2,FALSE),\"\")","v":""},{"$f":"IF(L47<>\"\",VLOOKUP(UPPER(L47),Sheet2!$A$9:$B$24,2,FALSE),\"\")","v":""}]
[null,null,null,null,null,null,null,null,null,null,null,null,null,null,"",{"$f":"IF(J48<>\"\",VLOOKUP(UPPER(J48),Sheet2!$A$3:$B$7,2,FALSE),\"\")","v":""},{"$f":"IF(L48<>\"\",VLOOKUP(UPPER(L48),Sheet2!$A$9:$B$24,2,FALSE),\"\")","v":""}]
[null,null,null,null,null,null,null,null,null,null,null,null,null,null,"",{"$f":"IF(J49<>\"\",VLOOKUP(UPPER(J49),Sheet2!$A$3:$B$7,2,FALSE),\"\")","v":""},{"$f":"IF(L49<>\"\",VLOOKUP(UPPER(L49),Sheet2!$A$9:$B$24,2,FALSE),\"\")","v":""}]
[null,null,null,null,null,null,null,null,null,null,null,null,null,null,"",{"$f":"IF(J50<>\"\",VLOOKUP(UPPER(J50),Sheet2!$A$3:$B$7,2,FALSE),\"\")","v":""},{"$f":"IF(L50<>\"\",VLOOKUP(UPPER(L50),Sheet2!$A$9:$B$24,2,FALSE),\"\")","v":""}]
[null,null,null,null,null,null,null,null,null,null,null,null,null,null,"",{"$f":"IF(J51<>\"\",VLOOKUP(UPPER(J51),Sheet2!$A$3:$B$7,2,FALSE),\"\")","v":""},{"$f":"IF(L51<>\"\",VLOOKUP(UPPER(L51),Sheet2!$A$9:$B$24,2,FALSE),\"\")","v":""}]
[null,null,null,null,null,null,null,null,null,null,null,null,null,null,"",{"$f":"IF(J52<>\"\",VLOOKUP(UPPER(J52),Sheet2!$A$3:$B$7,2,FALSE),\"\")","v":""},{"$f":"IF(L52<>\"\",VLOOKUP(UPPER(L52),Sheet2!$A$9:$B$24,2,FALSE),\"\")","v":""}]
[null,null,null,null,null,null,null,null,null,null,null,null,null,null,"",{"$f":"IF(J53<>\"\",VLOOKUP(UPPER(J53),Sheet2!$A$3:$B$7,2,FALSE),\"\")","v":""},{"$f":"IF(L53<>\"\",VLOOKUP(UPPER(L53),Sheet2!$A$9:$B$24,2,FALSE),\"\")","v":""}]
[null,null,null,null,null,null,null,null,null,null,null,null,null,null,"",{"$f":"IF(J54<>\"\",VLOOKUP(UPPER(J54),Sheet2!$A$3:$B$7,2,FALSE),\"\")","v":""},{"$f":"IF(L54<>\"\",VLOOKUP(UPPER(L54),Sheet2!$A$9:$B$24,2,FALSE),\"\")","v":""}]
[null,null,null,null,null,null,null,null,null,null,null,null,null,null,"",{"$f":"IF(J55<>\"\",VLOOKUP(UPPER(J55),Sheet2!$A$3:$B$7,2,FALSE),\"\")","v":""},{"$f":"IF(L55<>\"\",VLOOKUP(UPPER(L55),Sheet2!$A$9:$B$24,2,FALSE),\"\")","v":""}]
[null,null,null,null,null,null,null,null,null,null,null,null,null,null,"",{"$f":"IF(J56<>\"\",VLOOKUP(UPPER(J56),Sheet2!$A$3:$B$7,2,FALSE),\"\")","v":""},{"$f":"IF(L56<>\"\",VLOOKUP(UPPER(L56),Sheet2!$A$9:$B$24,2,FALSE),\"\")","v":""}]
[null,null,null,null,null,null,null,null,null,null,null,null,null,null,"",{"$f":"IF(J57<>\"\",VLOOKUP(UPPER(J57),Sheet2!$A$3:$B$7,2,FALSE),\"\")","v":""},{"$f":"IF(L57<>\"\",VLOOKUP(UPPER(L57),Sheet2!$A$9:$B$24,2,FALSE),\"\")","v":""}]
[null,null,null,null,null,null,null,null,null,null,null,null,null,null,"",{"$f":"IF(J58<>\"\",VLOOKUP(UPPER(J58),Sheet2!$A$3:$B$7,2,FALSE),\"\")","v":""},{"$f":"IF(L58<>\"\",VLOOKUP(UPPER(L58),Sheet2!$A$9:$B$24,2,FALSE),\"\")","v":""}]
[null,null,null,null,null,null,null,null,null,null,null,null,null,null,"",{"$f":"IF(J59<>\"\",VLOOKUP(UPPER(J59),Sheet2!$A$3:$B$7,2,FALSE),\"\")","v":""},{"$f":"IF(L59<>\"\",VLOOKUP(UPPER(L59),Sheet2!$A$9:$B$24,2,FALSE),\"\")","v":""}]
[null,null,null,null,null,null,null,null,null,null,null,null,null,null,"",{"$f":"IF(J60<>\"\",VLOOKUP(UPPER(J60),Sheet2!$A$3:$B$7,2,FALSE),\"\")","v":""},{"$f":"IF(L60<>\"\",VLOOKUP(UPPER(L60),Sheet2!$A$9:$B$24,2,FALSE),\"\")","v":""}]
[null,null,null,null,null,null,null,null,null,null,null,null,null,null,"",{"$f":"IF(J61<>\"\",VLOOKUP(UPPER(J61),Sheet2!$A$3:$B$7,2,FALSE),\"\")","v":""},{"$f":"IF(L61<>\"\",VLOOKUP(UPPER(L61),Sheet2!$A$9:$B$24,2,FALSE),\"\")","v":""}]
[null,null,null,null,null,null,null,null,null,null,null,null,null,null,"",{"$f":"IF(J62<>\"\",VLOOKUP(UPPER(J62),Sheet2!$A$3:$B$7,2,FALSE),\"\")","v":""},{"$f":"IF(L62<>\"\",VLOOKUP(UPPER(L62),Sheet2!$A$9:$B$24,2,FALSE),\"\")","v":""}]
[null,null,null,null,null,null,null,null,null,null,null,null,null,null,"",{"$f":"IF(J63<>\"\",VLOOKUP(UPPER(J63),Sheet2!$A$3:$B$7,2,FALSE),\"\")","v":""},{"$f":"IF(L63<>\"\",VLOOKUP(UPPER(L63),Sheet2!$A$9:$B$24,2,FALSE),\"\")","v":""}]
[null,null,null,null,null,null,null,null,null,null,null,null,null,null,"",{"$f":"IF(J64<>\"\",VLOOKUP(UPPER(J64),Sheet2!$A$3:$B$7,2,FALSE),\"\")","v":""},{"$f":"IF(L64<>\"\",VLOOKUP(UPPER(L64),Sheet2!$A$9:$B$24,2,FALSE),\"\")","v":""}]
[null,null,null,null,null,null,null,null,null,null,null,null,null,null,"",{"$f":"IF(J65<>\"\",VLOOKUP(UPPER(J65),Sheet2!$A$3:$B$7,2,FALSE),\"\")","v":""},{"$f":"IF(L65<>\"\",VLOOKUP(UPPER(L65),Sheet2!$A$9:$B$24,2,FALSE),\"\")","v":""}]
[null,null,null,null,null,null,null,null,null,null,null,null,null,null,"",{"$f":"IF(J66<>\"\",VLOOKUP(UPPER(J66),Sheet2!$A$3:$B$7,2,FALSE),\"\")","v":""},{"$f":"IF(L66<>\"\",VLOOKUP(UPPER(L66),Sheet2!$A$9:$B$24,2,FALSE),\"\")","v":""}]
[null,null,null,null,null,null,null,null,null,null,null,null,null,null,"",{"$f":"IF(J67<>\"\",VLOOKUP(UPPER(J67),Sheet2!$A$3:$B$7,2,FALSE),\"\")","v":""},{"$f":"IF(L67<>\"\",VLOOKUP(UPPER(L67),Sheet2!$A$9:$B$24,2,FALSE),\"\")","v":""}]
[null,null,null,null,null,null,null,null,null,null,null,null,null,null,"",{"$f":"IF(J68<>\"\",VLOOKUP(UPPER(J68),Sheet2!$A$3:$B$7,2,FALSE),\"\")","v":""},{"$f":"IF(L68<>\"\",VLOOKUP(UPPER(L68),Sheet2!$A$9:$B$24,2,FALSE),\"\")","v":""}]
[null,null,null,null,null,null,null,null,null,null,null,null,null,null,"",{"$f":"IF(J69<>\"\",VLOOKUP(UPPER(J69),Sheet2!$A$3:$B$7,2,FALSE),\"\")","v":""},{"$f":"IF(L69<>\"\",VLOOKUP(UPPER(L69),Sheet2!$A$9:$B$24,2,FALSE),\"\")","v":""}]
[null,null,null,null,null,null,null,null,null,null,null,null,null,null,{"$f":"IF(OR(A70<>\"\",B70<>\"\",C70<>\"\",D70<>\"\",E70<>\"\",F70<>\"\",G70<>\"\",H70<>\"\",I70<>\"\",J70<>\"\",K70<>\"\",L70<>\"\",M70<>\"\",N70<>\"\"),IF(AND(A70<>\"\",B70<>\"\",C70<>\"\",D70<>\"\",I70<>\"\",K70<>\"\"),\"COMPLETE\",\"INCOMPLETE\"),\"\")","v":""},{"$f":"IF(J70<>\"\",VLOOKUP(UPPER(J70),Sheet2!$A$3:$B$7,2,FALSE),\"\")","v":""},{"$f":"IF(L70<>\"\",VLOOKUP(UPPER(L70),Sheet2!$A$9:$B$24,2,FALSE),\"\")","v":""}]
[null,null,null,null,null,null,null,null,null,null,null,null,null,null,"",{"$f":"IF(J71<>\"\",VLOOKUP(UPPER(J71),Sheet2!$A$3:$B$7,2,FALSE),\"\")","v":""},{"$f":"IF(L71<>\"\",VLOOKUP(UPPER(L71),Sheet2!$A$9:$B$24,2,FALSE),\"\")","v":""}]
[null,null,null,null,null,null,null,null,null,null,null,null,null,null,"",{"$f":"IF(J72<>\"\",VLOOKUP(UPPER(J72),Sheet2!$A$3:$B$7,2,FALSE),\"\")","v":""},{"$f":"IF(L72<>\"\",VLOOKUP(UPPER(L72),Sheet2!$A$9:$B$24,2,FALSE),\"\")","v":""}]
[null,null,null,null,null,null,null,null,null,null,null,null,null,null,"",{"$f":"IF(J73<>\"\",VLOOKUP(UPPER(J73),Sheet2!$A$3:$B$7,2,FALSE),\"\")","v":""},{"$f":"IF(L73<>\"\",VLOOKUP(UPPER(L73),Sheet2!$A$9:$B$24,2,FALSE),\"\")","v":""}]
[null,null,null,null,null,null,null,null,null,null,null,null,null,null,"",{"$f":"IF(J74<>\"\",VLOOKUP(UPPER(J74),Sheet2!$A$3:$B$7,2,FALSE),\"\")","v":""},{"$f":"IF(L74<>\"\",VLOOKUP(UPPER(L74),Sheet2!$A$9:$B$24,2,FALSE),\"\")","v":""}]
[null,null,null,null,null,null,null,null,null,null,null,null,null,null,"",{"$f":"IF(J75<>\"\",VLOOKUP(UPPER(J75),Sheet2!$A$3:$B$7,2,FALSE),\"\")","v":""},{"$f":"IF(L75<>\"\",VLOOKUP(UPPER(L75),Sheet2!$A$9:$B$24,2,FALSE),\"\")","v":""}]
[null,null,null,null,null,null,null,null,null,null,null,null,null,null,"",{"$f":"IF(J76<>\"\",VLOOKUP(UPPER(J76),Sheet2!$A$3:$B$7,2,FALSE),\"\")","v":""},{"$f":"IF(L76<>\"\",VLOOKUP(UPPER(L76),Sheet2!$A$9:$B$24,2,FALSE),\"\")","v":""}]
[null,null,null,null,null,null,null,null,null,null,null,null,null,null,"",{"$f":"IF(J77<>\"\",VLOOKUP(UPPER(J77),Sheet2!$A$3:$B$7,2,FALSE),\"\")","v":""},{"$f":"IF(L77<>\"\",VLOOKUP(UPPER(L77),Sheet2!$A$9:$B$24,2,FALSE),\"\")","v":""}]
[null,null,null,null,null,null,null,null,null,null,null,null,null,null,"",{"$f":"IF(J78<>\"\",VLOOKUP(UPPER(J78),Sheet2!$A$3:$B$7,2,FALSE),\"\")","v":""},{"$f":"IF(L78<>\"\",VLOOKUP(UPPER(L78),Sheet2!$A$9:$B$24,2,FALSE),\"\")","v":""}]
[null,null,null,null,null,null,null,null,null,null,null,null,null,null,"",{"$f":"IF(J79<>\"\",VLOOKUP(UPPER(J79),Sheet2!$A$3:$B$7,2,FALSE),\"\")","v":""},{"$f":"IF(L79<>\"\",VLOOKUP(UPPER(L79),Sheet2!$A$9:$B$24,2,FALSE),\"\")","v":""}]
[null,null,null,null,null,null,null,null,null,null,null,null,null,null,"",{"$f":"IF(J80<>\"\",VLOOKUP(UPPER(J80),Sheet2!$A$3:$B$7,2,FALSE),\"\")","v":""},{"$f":"IF(L80<>\"\",VLOOKUP(UPPER(L80),Sheet2!$A$9:$B$24,2,FALSE),\"\")","v":""}]
[null,null,null,null,null,null,null,null,null,null,null,null,null,null,"",{"$f":"IF(J81<>\"\",VLOOKUP(UPPER(J81),Sheet2!$A$3:$B$7,2,FALSE),\"\")","v":""},{"$f":"IF(L81<>\"\",VLOOKUP(UPPER(L81),Sheet2!$A$9:$B$24,2,FALSE),\"\")","v":""}]
[null,null,null,null,null,null,null,null,null,null,null,null,null,null,"",{"$f":"IF(J82<>\"\",VLOOKUP(UPPER(J82),Sheet2!$A$3:$B$7,2,FALSE),\"\")","v":""},{"$f":"IF(L82<>\"\",VLOOKUP(UPPER(L82),Sheet2!$A$9:$B$24,2,FALSE),\"\")","v":""}]
[null,null,null,null,null,null,null,null,null,null,null,null,null,null,"",{"$f":"IF(J83<>\"\",VLOOKUP(UPPER(J83),Sheet2!$A$3:$B$7,2,FALSE),\"\")","v":""},{"$f":"IF(L83<>\"\",VLOOKUP(UPPER(L83),Sheet2!$A$9:$B$24,2,FALSE),\"\")","v":""}]
[null,null,null,null,null,null,null,null,null,null,null,null,null,null,"",{"$f":"IF(J84<>\"\",VLOOKUP(UPPER(J84),Sheet2!$A$3:$B$7,2,FALSE),\"\")","v":""},{"$f":"IF(L84<>\"\",VLOOKUP(UPPER(L84),Sheet2!$A$9:$B$24,2,FALSE),\"\")","v":""}]
[null,null,null,null,null,null,null,null,null,null,null,null,null,null,"",{"$f":"IF(J85<>\"\",VLOOKUP(UPPER(J85),Sheet2!$A$3:$B$7,2,FALSE),\"\")","v":""},{"$f":"IF(L85<>\"\",VLOOKUP(UPPER(L85),Sheet2!$A$9:$B$24,2,FALSE),\"\")","v":""}]
[null,null,null,null,null,null,null,null,null,null,null,null,null,null,"",{"$f":"IF(J86<>\"\",VLOOKUP(UPPER(J86),Sheet2!$A$3:$B$7,2,FALSE),\"\")","v":""},{"$f":"IF(L86<>\"\",VLOOKUP(UPPER(L86),Sheet2!$A$9:$B$24,2,FALSE),\"\")","v":""}]
[null,null,null,null,null,null,null,null,null,null,null,null,null,null,"",{"$f":"IF(J87<>\"\",VLOOKUP(UPPER(J87),Sheet2!$A$3:$B$7,2,FALSE),\"\")","v":""},{"$f":"IF(L87<>\"\",VLOOKUP(UPPER(L87),Sheet2!$A$9:$B$24,2,FALSE),\"\")","v":""}]
[null,null,null,null,null,null,null,null,null,null,null,null,null,null,"",{"$f":"IF(J88<>\"\",VLOOKUP(UPPER(J88),Sheet2!$A$3:$B$7,2,FALSE),\"\")","v":""},{"$f":"IF(L88<>\"\",VLOOKUP(UPPER(L88),Sheet2!$A$9:$B$24,2,FALSE),\"\")","v":""}]
[null,null,null,null,null,null,null,null,null,null,null,null,null,null,"",{"$f":"IF(J89<>\"\",VLOOKUP(UPPER(J89),Sheet2!$A$3:$B$7,2,FALSE),\"\")","v":""},{"$f":"IF(L89<>\"\",VLOOKUP(UPPER(L89),Sheet2!$A$9:$B$24,2,FALSE),\"\")","v":""}]
[null,null,null,null,null,null,null,null,null,null,null,null,null,null,"",{"$f":"IF(J90<>\"\",VLOOKUP(UPPER(J90),Sheet2!$A$3:$B$7,2,FALSE),\"\")","v":""},{"$f":"IF(L90<>\"\",VLOOKUP(UPPER(L90),Sheet2!$A$9:$B$24,2,FALSE),\"\")","v":""}]
[null,null,null,null,null,null,null,null,null,null,null,null,null,null,"",{"$f":"IF(J91<>\"\",VLOOKUP(UPPER(J91),Sheet2!$A$3:$B$7,2,FALSE),\"\")","v":""},{"$f":"IF(L91<>\"\",VLOOKUP(UPPER(L91),Sheet2!$A$9:$B$24,2,FALSE),\"\")","v":""}]
[null,null,null,null,null,null,null,null,null,null,null,null,null,null,"",{"$f":"IF(J92<>\"\",VLOOKUP(UPPER(J92),Sheet2!$A$3:$B$7,2,FALSE),\"\")","v":""},{"$f":"IF(L92<>\"\",VLOOKUP(UPPER(L92),Sheet2!$A$9:$B$24,2,FALSE),\"\")","v":""}]
[null,null,null,null,null,null,null,null,null,null,null,null,null,null,"",{"$f":"IF(J93<>\"\",VLOOKUP(UPPER(J93),Sheet2!$A$3:$B$7,2,FALSE),\"\")","v":""},{"$f":"IF(L93<>\"\",VLOOKUP(UPPER(L93),Sheet2!$A$9:$B$24,2,FALSE),\"\")","v":""}]
[null,null,null,null,null,null,null,null,null,null,null,null,null,null,"",{"$f":"IF(J94<>\"\",VLOOKUP(UPPER(J94),Sheet2!$A$3:$B$7,2,FALSE),\"\")","v":""},{"$f":"IF(L94<>\"\",VLOOKUP(UPPER(L94),Sheet2!$A$9:$B$24,2,FALSE),\"\")","v":""}]
[null,null,null,null,null,null,null,null,null,null,null,null,null,null,"",{"$f":"IF(J95<>\"\",VLOOKUP(UPPER(J95),Sheet2!$A$3:$B$7,2,FALSE),\"\")","v":""},{"$f":"IF(L95<>\"\",VLOOKUP(UPPER(L95),Sheet2!$A$9:$B$24,2,FALSE),\"\")","v":""}]
[null,null,null,null,null,null,null,null,null,null,null,null,null,null,"",{"$f":"IF(J96<>\"\",VLOOKUP(UPPER(J96),Sheet2!$A$3:$B$7,2,FALSE),\"\")","v":""},{"$f":"IF(L96<>\"\",VLOOKUP(UPPER(L96),Sheet2!$A$9:$B$24,2,FALSE),\"\")","v":""}]
[null,null,null,null,null,null,null,null,null,null,null,null,null,null,"",{"$f":"IF(J97<>\"\",VLOOKUP(UPPER(J97),Sheet2!$A$3:$B$7,2,FALSE),\"\")","v":""},{"$f":"IF(L97<>\"\",VLOOKUP(UPPER(L97),Sheet2!$A$9:$B$24,2,FALSE),\"\")","v":""}]
[null,null,null,null,null,null,null,null,null,null,null,null,null,null,"",{"$f":"IF(J98<>\"\",VLOOKUP(UPPER(J98),Sheet2!$A$3:$B$7,2,FALSE),\"\")","v":""},{"$f":"IF(L98<>\"\",VLOOKUP(UPPER(L98),Sheet2!$A$9:$B$24,2,FALSE),\"\")","v":""}]
[null,null,null,null,null,null,null,null,null,null,null,null,null,null,"",{"$f":"IF(J99<>\"\",VLOOKUP(UPPER(J99),Sheet2!$A$3:$B$7,2,FALSE),\"\")","v":""},{"$f":"IF(L99<>\"\",VLOOKUP(UPPER(L99),Sheet2!$A$9:$B$24,2,FALSE),\"\")","v":""}]
[null,null,null,null,null,null,null,null,null,null,null,null,null,null,"",{"$f":"IF(J100<>\"\",VLOOKUP(UPPER(J100),Sheet2!$A$3:$B$7,2,FALSE),\"\")","v":""},{"$f":"IF(L100<>\"\",VLOOKUP(UPPER(L100),Sheet2!$A$9:$B$24,2,FALSE),\"\")","v":""}]
[null,null,null,null,null,null,null,null,null,null,null,null,null,null,"",{"$f":"IF(J101<>\"\",VLOOKUP(UPPER(J101),Sheet2!$A$3:$B$7,2,FALSE),\"\")","v":""},{"$f":"IF(L101<>\"\",VLOOKUP(UPPER(L101),Sheet2!$A$9:$B$24,2,FALSE),\"\")","v":""}]
[null,null,null,null,null,null,null,null,null,null,null,null,null,null,"",{"$f":"IF(J102<>\"\",VLOOKUP(UPPER(J102),Sheet2!$A$3:$B$7,2,FALSE),\"\")","v":""},{"$f":"IF(L102<>\"\",VLOOKUP(UPPER(L102),Sheet2!$A$9:$B$24,2,FALSE),\"\")","v":""}]
[null,null,null,null,null,null,null,null,null,null,null,null,null,null,"",{"$f":"IF(J103<>\"\",VLOOKUP(UPPER(J103),Sheet2!$A$3:$B$7,2,FALSE),\"\")","v":""},{"$f":"IF(L103<>\"\",VLOOKUP(UPPER(L103),Sheet2!$A$9:$B$24,2,FALSE),\"\")","v":""}]
[null,null,null,null,null,null,null,null,null,null,null,null,null,null,"",{"$f":"IF(J104<>\"\",VLOOKUP(UPPER(J104),Sheet2!$A$3:$B$7,2,FALSE),\"\")","v":""},{"$f":"IF(L104<>\"\",VLOOKUP(UPPER(L104),Sheet2!$A$9:$B$24,2,FALSE),\"\")","v":""}]
[null,null,null,null,null,null,null,null,null,null,null,null,null,null,"",{"$f":"IF(J105<>\"\",VLOOKUP(UPPER(J105),Sheet2!$A$3:$B$7,2,FALSE),\"\")","v":""},{"$f":"IF(L105<>\"\",VLOOKUP(UPPER(L105),Sheet2!$A$9:$B$24,2,FALSE),\"\")","v":""}]
[null,null,null,null,null,null,null,null,null,null,null,null,null,null,"",{"$f":"IF(J106<>\"\",VLOOKUP(UPPER(J106),Sheet2!$A$3:$B$7,2,FALSE),\"\")","v":""},{"$f":"IF(L106<>\"\",VLOOKUP(UPPER(L106),Sheet2!$A$9:$B$24,2,FALSE),\"\")","v":""}]
[null,null,null,null,null,null,null,null,null,null,null,null,null,null,"",{"$f":"IF(J107<>\"\",VLOOKUP(UPPER(J107),Sheet2!$A$3:$B$7,2,FALSE),\"\")","v":""},{"$f":"IF(L107<>\"\",VLOOKUP(UPPER(L107),Sheet2!$A$9:$B$24,2,FALSE),\"\")","v":""}]
[null,null,null,null,null,null,null,null,null,null,null,null,null,null,"",{"$f":"IF(J108<>\"\",VLOOKUP(UPPER(J108),Sheet2!$A$3:$B$7,2,FALSE),\"\")","v":""},{"$f":"IF(L108<>\"\",VLOOKUP(UPPER(L108),Sheet2!$A$9:$B$24,2,FALSE),\"\")","v":""}]
[null,null,null,null,null,null,null,null,null,null,null,null,null,null,"",{"$f":"IF(J109<>\"\",VLOOKUP(UPPER(J109),Sheet2!$A$3:$B$7,2,FALSE),\"\")","v":""},{"$f":"IF(L109<>\"\",VLOOKUP(UPPER(L109),Sheet2!$A$9:$B$24,2,FALSE),\"\")","v":""}]
[null,null,null,null,null,null,null,null,null,null,null,null,null,null,"",{"$f":"IF(J110<>\"\",VLOOKUP(UPPER(J110),Sheet2!$A$3:$B$7,2,FALSE),\"\")","v":""},{"$f":"IF(L110<>\"\",VLOOKUP(UPPER(L110),Sheet2!$A$9:$B$24,2,FALSE),\"\")","v":""}]
[null,null,null,null,null,null,null,null,null,null,null,null,null,null,"",{"$f":"IF(J111<>\"\",VLOOKUP(UPPER(J111),Sheet2!$A$3:$B$7,2,FALSE),\"\")","v":""},{"$f":"IF(L111<>\"\",VLOOKUP(UPPER(L111),Sheet2!$A$9:$B$24,2,FALSE),\"\")","v":""}]
[null,null,null,null,null,null,null,null,null,null,null,null,null,null,"",{"$f":"IF(J112<>\"\",VLOOKUP(UPPER(J112),Sheet2!$A$3:$B$7,2,FALSE),\"\")","v":""},{"$f":"IF(L112<>\"\",VLOOKUP(UPPER(L112),Sheet2!$A$9:$B$24,2,FALSE),\"\")","v":""}]
[null,null,null,null,null,null,null,null,null,null,null,null,null,null,"",{"$f":"IF(J113<>\"\",VLOOKUP(UPPER(J113),Sheet2!$A$3:$B$7,2,FALSE),\"\")","v":""},{"$f":"IF(L113<>\"\",VLOOKUP(UPPER(L113),Sheet2!$A$9:$B$24,2,FALSE),\"\")","v":""}]
[null,null,null,null,null,null,null,null,null,null,null,null,null,null,"",{"$f":"IF(J114<>\"\",VLOOKUP(UPPER(J114),Sheet2!$A$3:$B$7,2,FALSE),\"\")","v":""},{"$f":"IF(L114<>\"\",VLOOKUP(UPPER(L114),Sheet2!$A$9:$B$24,2,FALSE),\"\")","v":""}]
[null,null,null,null,null,null,null,null,null,null,null,null,null,null,"",{"$f":"IF(J115<>\"\",VLOOKUP(UPPER(J115),Sheet2!$A$3:$B$7,2,FALSE),\"\")","v":""},{"$f":"IF(L115<>\"\",VLOOKUP(UPPER(L115),Sheet2!$A$9:$B$24,2,FALSE),\"\")","v":""}]
[null,null,null,null,null,null,null,null,null,null,null,null,null,null,"",{"$f":"IF(J116<>\"\",VLOOKUP(UPPER(J116),Sheet2!$A$3:$B$7,2,FALSE),\"\")","v":""},{"$f":"IF(L116<>\"\",VLOOKUP(UPPER(L116),Sheet2!$A$9:$B$24,2,FALSE),\"\")","v":""}]
[null,null,null,null,null,null,null,null,null,null,null,null,null,null,"",{"$f":"IF(J117<>\"\",VLOOKUP(UPPER(J117),Sheet2!$A$3:$B$7,2,FALSE),\"\")","v":""},{"$f":"IF(L117<>\"\",VLOOKUP(UPPER(L117),Sheet2!$A$9:$B$24,2,FALSE),\"\")","v":""}]
[null,null,null,null,null,null,null,null,null,null,null,null,null,null,"",{"$f":"IF(J118<>\"\",VLOOKUP(UPPER(J118),Sheet2!$A$3:$B$7,2,FALSE),\"\")","v":""},{"$f":"IF(L118<>\"\",VLOOKUP(UPPER(L118),Sheet2!$A$9:$B$24,2,FALSE),\"\")","v":""}]
[null,null,null,null,null,null,null,null,null,null,null,null,null,null,"",{"$f":"IF(J119<>\"\",VLOOKUP(UPPER(J119),Sheet2!$A$3:$B$7,2,FALSE),\"\")","v":""},{"$f":"IF(L119<>\"\",VLOOKUP(UPPER(L119),Sheet2!$A$9:$B$24,2,FALSE),\"\")","v":""}]
[null,null,null,null,null,null,null,null,null,null,null,null,null,null,"",{"$f":"IF(J120<>\"\",VLOOKUP(UPPER(J120),Sheet2!$A$3:$B$7,2,FALSE),\"\")","v":""},{"$f":"IF(L120<>\"\",VLOOKUP(UPPER(L120),Sheet2!$A$9:$B$24,2,FALSE),\"\")","v":""}]
[null,null,null,null,null,null,null,null,null,null,null,null,null,null,"",{"$f":"IF(J121<>\"\",VLOOKUP(UPPER(J121),Sheet2!$A$3:$B$7,2,FALSE),\"\")","v":""},{"$f":"IF(L121<>\"\",VLOOKUP(UPPER(L121),Sheet2!$A$9:$B$24,2,FALSE),\"\")","v":""}]
[null,null,null,null,null,null,null,null,null,null,null,null,null,null,"",{"$f":"IF(J122<>\"\",VLOOKUP(UPPER(J122),Sheet2!$A$3:$B$7,2,FALSE),\"\")","v":""},{"$f":"IF(L122<>\"\",VLOOKUP(UPPER(L122),Sheet2!$A$9:$B$24,2,FALSE),\"\")","v":""}]
[null,null,null,null,null,null,null,null,null,null,null,null,null,null,"",{"$f":"IF(J123<>\"\",VLOOKUP(UPPER(J123),Sheet2!$A$3:$B$7,2,FALSE),\"\")","v":""},{"$f":"IF(L123<>\"\",VLOOKUP(UPPER(L123),Sheet2!$A$9:$B$24,2,FALSE),\"\")","v":""}]
[null,null,null,null,null,null,null,null,null,null,null,null,null,null,"",{"$f":"IF(J124<>\"\",VLOOKUP(UPPER(J124),Sheet2!$A$3:$B$7,2,FALSE),\"\")","v":""},{"$f":"IF(L124<>\"\",VLOOKUP(UPPER(L124),Sheet2!$A$9:$B$24,2,FALSE),\"\")","v":""}]
[null,null,null,null,null,null,null,null,null,null,null,null,null,null,"",{"$f":"IF(J125<>\"\",VLOOKUP(UPPER(J125),Sheet2!$A$3:$B$7,2,FALSE),\"\")","v":""},{"$f":"IF(L125<>\"\",VLOOKUP(UPPER(L125),Sheet2!$A$9:$B$24,2,FALSE),\"\")","v":""}]
[null,null,null,null,null,null,null,null,null,null,null,null,null,null,"",{"$f":"IF(J126<>\"\",VLOOKUP(UPPER(J126),Sheet2!$A$3:$B$7,2,FALSE),\"\")","v":""},{"$f":"IF(L126<>\"\",VLOOKUP(UPPER(L126),Sheet2!$A$9:$B$24,2,FALSE),\"\")","v":""}]
[null,null,null,null,null,null,null,null,null,null,null,null,null,null,"",{"$f":"IF(J127<>\"\",VLOOKUP(UPPER(J127),Sheet2!$A$3:$B$7,2,FALSE),\"\")","v":""},{"$f":"IF(L127<>\"\",VLOOKUP(UPPER(L127),Sheet2!$A$9:$B$24,2,FALSE),\"\")","v":""}]
[null,null,null,null,null,null,null,null,null,null,null,null,null,null,"",{"$f":"IF(J128<>\"\",VLOOKUP(UPPER(J128),Sheet2!$A$3:$B$7,2,FALSE),\"\")","v":""},{"$f":"IF(L128<>\"\",VLOOKUP(UPPER(L128),Sheet2!$A$9:$B$24,2,FALSE),\"\")","v":""}]
[null,null,null,null,null,null,null,null,null,null,null,null,null,null,"",{"$f":"IF(J129<>\"\",VLOOKUP(UPPER(J129),Sheet2!$A$3:$B$7,2,FALSE),\"\")","v":""},{"$f":"IF(L129<>\"\",VLOOKUP(UPPER(L129),Sheet2!$A$9:$B$24,2,FALSE),\"\")","v":""}]
[null,null,null,null,null,null,null,null,null,null,null,null,null,null,"",{"$f":"IF(J130<>\"\",VLOOKUP(UPPER(J130),Sheet2!$A$3:$B$7,2,FALSE),\"\")","v":""},{"$f":"IF(L130<>\"\",VLOOKUP(UPPER(L130),Sheet2!$A$9:$B$24,2,FALSE),\"\")","v":""}]
[null,null,null,null,null,null,null,null,null,null,null,null,null,null,"",{"$f":"IF(J131<>\"\",VLOOKUP(UPPER(J131),Sheet2!$A$3:$B$7,2,FALSE),\"\")","v":""},{"$f":"IF(L131<>\"\",VLOOKUP(UPPER(L131),Sheet2!$A$9:$B$24,2,FALSE),\"\")","v":""}]
[null,null,null,null,null,null,null,null,null,null,null,null,null,null,"",{"$f":"IF(J132<>\"\",VLOOKUP(UPPER(J132),Sheet2!$A$3:$B$7,2,FALSE),\"\")","v":""},{"$f":"IF(L132<>\"\",VLOOKUP(UPPER(L132),Sheet2!$A$9:$B$24,2,FALSE),\"\")","v":""}]
[null,null,null,null,null,null,null,null,null,null,null,null,null,null,"",{"$f":"IF(J133<>\"\",VLOOKUP(UPPER(J133),Sheet2!$A$3:$B$7,2,FALSE),\"\")","v":""},{"$f":"IF(L133<>\"\",VLOOKUP(UPPER(L133),Sheet2!$A$9:$B$24,2,FALSE),\"\")","v":""}]
[null,null,null,null,null,null,null,null,null,null,null,null,null,null,{"$f":"IF(OR(A134<>\"\",B134<>\"\",C134<>\"\",D134<>\"\",E134<>\"\",F134<>\"\",G134<>\"\",H134<>\"\",I134<>\"\",J134<>\"\",K134<>\"\",L134<>\"\",M134<>\"\",N134<>\"\"),IF(AND(A134<>\"\",B134<>\"\",C134<>\"\",D134<>\"\",I134<>\"\",K134<>\"\"),\"COMPLETE\",\"INCOMPLETE\"),\"\")","v":""},{"$f":"IF(J134<>\"\",VLOOKUP(UPPER(J134),Sheet2!$A$3:$B$7,2,FALSE),\"\")","v":""},{"$f":"IF(L134<>\"\",VLOOKUP(UPPER(L134),Sheet2!$A$9:$B$24,2,FALSE),\"\")","v":""}]
[null,null,null,null,null,null,null,null,null,null,null,null,null,null,"",{"$f":"IF(J135<>\"\",VLOOKUP(UPPER(J135),Sheet2!$A$3:$B$7,2,FALSE),\"\")","v":""},{"$f":"IF(L135<>\"\",VLOOKUP(UPPER(L135),Sheet2!$A$9:$B$24,2,FALSE),\"\")","v":""}]
[null,null,null,null,null,null,null,null,null,null,null,null,null,null,"",{"$f":"IF(J136<>\"\",VLOOKUP(UPPER(J136),Sheet2!$A$3:$B$7,2,FALSE),\"\")","v":""},{"$f":"IF(L136<>\"\",VLOOKUP(UPPER(L136),Sheet2!$A$9:$B$24,2,FALSE),\"\")","v":""}]
[null,null,null,null,null,null,null,null,null,null,null,null,null,null,"",{"$f":"IF(J137<>\"\",VLOOKUP(UPPER(J137),Sheet2!$A$3:$B$7,2,FALSE),\"\")","v":""},{"$f":"IF(L137<>\"\",VLOOKUP(UPPER(L137),Sheet2!$A$9:$B$24,2,FALSE),\"\")","v":""}]
[null,null,null,null,null,null,null,null,null,null,null,null,null,null,"",{"$f":"IF(J138<>\"\",VLOOKUP(UPPER(J138),Sheet2!$A$3:$B$7,2,FALSE),\"\")","v":""},{"$f":"IF(L138<>\"\",VLOOKUP(UPPER(L138),Sheet2!$A$9:$B$24,2,FALSE),\"\")","v":""}]
[null,null,null,null,null,null,null,null,null,null,null,null,null,null,"",{"$f":"IF(J139<>\"\",VLOOKUP(UPPER(J139),Sheet2!$A$3:$B$7,2,FALSE),\"\")","v":""},{"$f":"IF(L139<>\"\",VLOOKUP(UPPER(L139),Sheet2!$A$9:$B$24,2,FALSE),\"\")","v":""}]
[null,null,null,null,null,null,null,null,null,null,null,null,null,null,"",{"$f":"IF(J140<>\"\",VLOOKUP(UPPER(J140),Sheet2!$A$3:$B$7,2,FALSE),\"\")","v":""},{"$f":"IF(L140<>\"\",VLOOKUP(UPPER(L140),Sheet2!$A$9:$B$24,2,FALSE),\"\")","v":""}]
[null,null,null,null,null,null,null,null,null,null,null,null,null,null,"",{"$f":"IF(J141<>\"\",VLOOKUP(UPPER(J141),Sheet2!$A$3:$B$7,2,FALSE),\"\")","v":""},{"$f":"IF(L141<>\"\",VLOOKUP(UPPER(L141),Sheet2!$A$9:$B$24,2,FALSE),\"\")","v":""}]
[null,null,null,null,null,null,null,null,null,null,null,null,null,null,"",{"$f":"IF(J142<>\"\",VLOOKUP(UPPER(J142),Sheet2!$A$3:$B$7,2,FALSE),\"\")","v":""},{"$f":"IF(L142<>\"\",VLOOKUP(UPPER(L142),Sheet2!$A$9:$B$24,2,FALSE),\"\")","v":""}]
[null,null,null,null,null,null,null,null,null,null,null,null,null,null,"",{"$f":"IF(J143<>\"\",VLOOKUP(UPPER(J143),Sheet2!$A$3:$B$7,2,FALSE),\"\")","v":""},{"$f":"IF(L143<>\"\",VLOOKUP(UPPER(L143),Sheet2!$A$9:$B$24,2,FALSE),\"\")","v":""}]
[null,null,null,null,null,null,null,null,null,null,null,null,null,null,"",{"$f":"IF(J144<>\"\",VLOOKUP(UPPER(J144),Sheet2!$A$3:$B$7,2,FALSE),\"\")","v":""},{"$f":"IF(L144<>\"\",VLOOKUP(UPPER(L144),Sheet2!$A$9:$B$24,2,FALSE),\"\")","v":""}]
[null,null,null,null,null,null,null,null,null,null,null,null,null,null,"",{"$f":"IF(J145<>\"\",VLOOKUP(UPPER(J145),Sheet2!$A$3:$B$7,2,FALSE),\"\")","v":""},{"$f":"IF(L145<>\"\",VLOOKUP(UPPER(L145),Sheet2!$A$9:$B$24,2,FALSE),\"\")","v":""}]
[null,null,null,null,null,null,null,null,null,null,null,null,null,null,"",{"$f":"IF(J146<>\"\",VLOOKUP(UPPER(J146),Sheet2!$A$3:$B$7,2,FALSE),\"\")","v":""},{"$f":"IF(L146<>\"\",VLOOKUP(UPPER(L146),Sheet2!$A$9:$B$24,2,FALSE),\"\")","v":""}]
[null,null,null,null,null,null,null,null,null,null,null,null,null,null,"",{"$f":"IF(J147<>\"\",VLOOKUP(UPPER(J147),Sheet2!$A$3:$B$7,2,FALSE),\"\")","v":""},{"$f":"IF(L147<>\"\",VLOOKUP(UPPER(L147),Sheet2!$A$9:$B$24,2,FALSE),\"\")","v":""}]
[null,null,null,null,null,null,null,null,null,null,null,null,null,null,"",{"$f":"IF(J148<>\"\",VLOOKUP(UPPER(J148),Sheet2!$A$3:$B$7,2,FALSE),\"\")","v":""},{"$f":"IF(L148<>\"\",VLOOKUP(UPPER(L148),Sheet2!$A$9:$B$24,2,FALSE),\"\")","v":""}]
[null,null,null,null,null,null,null,null,null,null,null,null,null,null,"",{"$f":"IF(J149<>\"\",VLOOKUP(UPPER(J149),Sheet2!$A$3:$B$7,2,FALSE),\"\")","v":""},{"$f":"IF(L149<>\"\",VLOOKUP(UPPER(L149),Sheet2!$A$9:$B$24,2,FALSE),\"\")","v":""}]
[null,null,null,null,null,null,null,null,null,null,null,null,null,null,"",{"$f":"IF(J150<>\"\",VLOOKUP(UPPER(J150),Sheet2!$A$3:$B$7,2,FALSE),\"\")","v":""},{"$f":"IF(L150<>\"\",VLOOKUP(UPPER(L150),Sheet2!$A$9:$B$24,2,FALSE),\"\")","v":""}]
[null,null,null,null,null,null,null,null,null,null,null,null,null,null,"",{"$f":"IF(J151<>\"\",VLOOKUP(UPPER(J151),Sheet2!$A$3:$B$7,2,FALSE),\"\")","v":""},{"$f":"IF(L151<>\"\",VLOOKUP(UPPER(L151),Sheet2!$A$9:$B$24,2,FALSE),\"\")","v":""}]
[null,null,null,null,null,null,null,null,null,null,null,null,null,null,"",{"$f":"IF(J152<>\"\",VLOOKUP(UPPER(J152),Sheet2!$A$3:$B$7,2,FALSE),\"\")","v":""},{"$f":"IF(L152<>\"\",VLOOKUP(UPPER(L152),Sheet2!$A$9:$B$24,2,FALSE),\"\")","v":""}]
[null,null,null,null,null,null,null,null,null,null,null,null,null,null,"",{"$f":"IF(J153<>\"\",VLOOKUP(UPPER(J153),Sheet2!$A$3:$B$7,2,FALSE),\"\")","v":""},{"$f":"IF(L153<>\"\",VLOOKUP(UPPER(L153),Sheet2!$A$9:$B$24,2,FALSE),\"\")","v":""}]
[null,null,null,null,null,null,null,null,null,null,null,null,null,null,"",{"$f":"IF(J154<>\"\",VLOOKUP(UPPER(J154),Sheet2!$A$3:$B$7,2,FALSE),\"\")","v":""},{"$f":"IF(L154<>\"\",VLOOKUP(UPPER(L154),Sheet2!$A$9:$B$24,2,FALSE),\"\")","v":""}]
[null,null,null,null,null,null,null,null,null,null,null,null,null,null,"",{"$f":"IF(J155<>\"\",VLOOKUP(UPPER(J155),Sheet2!$A$3:$B$7,2,FALSE),\"\")","v":""},{"$f":"IF(L155<>\"\",VLOOKUP(UPPER(L155),Sheet2!$A$9:$B$24,2,FALSE),\"\")","v":""}]
[null,null,null,null,null,null,null,null,null,null,null,null,null,null,"",{"$f":"IF(J156<>\"\",VLOOKUP(UPPER(J156),Sheet2!$A$3:$B$7,2,FALSE),\"\")","v":""},{"$f":"IF(L156<>\"\",VLOOKUP(UPPER(L156),Sheet2!$A$9:$B$24,2,FALSE),\"\")","v":""}]
[null,null,null,null,null,null,null,null,null,null,null,null,null,null,"",{"$f":"IF(J157<>\"\",VLOOKUP(UPPER(J157),Sheet2!$A$3:$B$7,2,FALSE),\"\")","v":""},{"$f":"IF(L157<>\"\",VLOOKUP(UPPER(L157),Sheet2!$A$9:$B$24,2,FALSE),\"\")","v":""}]
[null,null,null,null,null,null,null,null,null,null,null,null,null,null,"",{"$f":"IF(J158<>\"\",VLOOKUP(UPPER(J158),Sheet2!$A$3:$B$7,2,FALSE),\"\")","v":""},{"$f":"IF(L158<>\"\",VLOOKUP(UPPER(L158),Sheet2!$A$9:$B$24,2,FALSE),\"\")","v":""}]
[null,null,null,null,null,null,null,null,null,null,null,null,null,null,"",{"$f":"IF(J159<>\"\",VLOOKUP(UPPER(J159),Sheet2!$A$3:$B$7,2,FALSE),\"\")","v":""},{"$f":"IF(L159<>\"\",VLOOKUP(UPPER(L159),Sheet2!$A$9:$B$24,2,FALSE),\"\")","v":""}]
[null,null,null,null,null,null,null,null,null,null,null,null,null,null,"",{"$f":"IF(J160<>\"\",VLOOKUP(UPPER(J160),Sheet2!$A$3:$B$7,2,FALSE),\"\")","v":""},{"$f":"IF(L160<>\"\",VLOOKUP(UPPER(L160),Sheet2!$A$9:$B$24,2,FALSE),\"\")","v":""}]
[null,null,null,null,null,null,null,null,null,null,null,null,null,null,"",{"$f":"IF(J161<>\"\",VLOOKUP(UPPER(J161),Sheet2!$A$3:$B$7,2,FALSE),\"\")","v":""},{"$f":"IF(L161<>\"\",VLOOKUP(UPPER(L161),Sheet2!$A$9:$B$24,2,FALSE),\"\")","v":""}]
[null,null,null,null,null,null,null,null,null,null,null,null,null,null,"",{"$f":"IF(J162<>\"\",VLOOKUP(UPPER(J162),Sheet2!$A$3:$B$7,2,FALSE),\"\")","v":""},{"$f":"IF(L162<>\"\",VLOOKUP(UPPER(L162),Sheet2!$A$9:$B$24,2,FALSE),\"\")","v":""}]
[null,null,null,null,null,null,null,null,null,null,null,null,null,null,"",{"$f":"IF(J163<>\"\",VLOOKUP(UPPER(J163),Sheet2!$A$3:$B$7,2,FALSE),\"\")","v":""},{"$f":"IF(L163<>\"\",VLOOKUP(UPPER(L163),Sheet2!$A$9:$B$24,2,FALSE),\"\")","v":""}]
[null,null,null,null,null,null,null,null,null,null,null,null,null,null,"",{"$f":"IF(J164<>\"\",VLOOKUP(UPPER(J164),Sheet2!$A$3:$B$7,2,FALSE),\"\")","v":""},{"$f":"IF(L164<>\"\",VLOOKUP(UPPER(L164),Sheet2!$A$9:$B$24,2,FALSE),\"\")","v":""}]
[null,null,null,null,null,null,null,null,null,null,null,null,null,null,"",{"$f":"IF(J165<>\"\",VLOOKUP(UPPER(J165),Sheet2!$A$3:$B$7,2,FALSE),\"\")","v":""},{"$f":"IF(L165<>\"\",VLOOKUP(UPPER(L165),Sheet2!$A$9:$B$24,2,FALSE),\"\")","v":""}]
[null,null,null,null,null,null,null,null,null,null,null,null,null,null,"",{"$f":"IF(J166<>\"\",VLOOKUP(UPPER(J166),Sheet2!$A$3:$B$7,2,FALSE),\"\")","v":""},{"$f":"IF(L166<>\"\",VLOOKUP(UPPER(L166),Sheet2!$A$9:$B$24,2,FALSE),\"\")","v":""}]
[null,null,null,null,null,null,null,null,null,null,null,null,null,null,"",{"$f":"IF(J167<>\"\",VLOOKUP(UPPER(J167),Sheet2!$A$3:$B$7,2,FALSE),\"\")","v":""},{"$f":"IF(L167<>\"\",VLOOKUP(UPPER(L167),Sheet2!$A$9:$B$24,2,FALSE),\"\")","v":""}]
[null,null,null,null,null,null,null,null,null,null,null,null,null,null,"",{"$f":"IF(J168<>\"\",VLOOKUP(UPPER(J168),Sheet2!$A$3:$B$7,2,FALSE),\"\")","v":""},{"$f":"IF(L168<>\"\",VLOOKUP(UPPER(L168),Sheet2!$A$9:$B$24,2,FALSE),\"\")","v":""}]
[null,null,null,null,null,null,null,null,null,null,null,null,null,null,"",{"$f":"IF(J169<>\"\",VLOOKUP(UPPER(J169),Sheet2!$A$3:$B$7,2,FALSE),\"\")","v":""},{"$f":"IF(L169<>\"\",VLOOKUP(UPPER(L169),Sheet2!$A$9:$B$24,2,FALSE),\"\")","v":""}]
[null,null,null,null,null,null,null,null,null,null,null,null,null,null,"",{"$f":"IF(J170<>\"\",VLOOKUP(UPPER(J170),Sheet2!$A$3:$B$7,2,FALSE),\"\")","v":""},{"$f":"IF(L170<>\"\",VLOOKUP(UPPER(L170),Sheet2!$A$9:$B$24,2,FALSE),\"\")","v":""}]
[null,null,null,null,null,null,null,null,null,null,null,null,null,null,"",{"$f":"IF(J171<>\"\",VLOOKUP(UPPER(J171),Sheet2!$A$3:$B$7,2,FALSE),\"\")","v":""},{"$f":"IF(L171<>\"\",VLOOKUP(UPPER(L171),Sheet2!$A$9:$B$24,2,FALSE),\"\")","v":""}]
[null,null,null,null,null,null,null,null,null,null,null,null,null,null,"",{"$f":"IF(J172<>\"\",VLOOKUP(UPPER(J172),Sheet2!$A$3:$B$7,2,FALSE),\"\")","v":""},{"$f":"IF(L172<>\"\",VLOOKUP(UPPER(L172),Sheet2!$A$9:$B$24,2,FALSE),\"\")","v":""}]
[null,null,null,null,null,null,null,null,null,null,null,null,null,null,"",{"$f":"IF(J173<>\"\",VLOOKUP(UPPER(J173),Sheet2!$A$3:$B$7,2,FALSE),\"\")","v":""},{"$f":"IF(L173<>\"\",VLOOKUP(UPPER(L173),Sheet2!$A$9:$B$24,2,FALSE),\"\")","v":""}]
[null,null,null,null,null,null,null,null,null,null,null,null,null,null,"",{"$f":"IF(J174<>\"\",VLOOKUP(UPPER(J174),Sheet2!$A$3:$B$7,2,FALSE),\"\")","v":""},{"$f":"IF(L174<>\"\",VLOOKUP(UPPER(L174),Sheet2!$A$9:$B$24,2,FALSE),\"\")","v":""}]
[null,null,null,null,null,null,null,null,null,null,null,null,null,null,"",{"$f":"IF(J175<>\"\",VLOOKUP(UPPER(J175),Sheet2!$A$3:$B$7,2,FALSE),\"\")","v":""},{"$f":"IF(L175<>\"\",VLOOKUP(UPPER(L175),Sheet2!$A$9:$B$24,2,FALSE),\"\")","v":""}]
[null,null,null,null,null,null,null,null,null,null,null,null,null,null,"",{"$f":"IF(J176<>\"\",VLOOKUP(UPPER(J176),Sheet2!$A$3:$B$7,2,FALSE),\"\")","v":""},{"$f":"IF(L176<>\"\",VLOOKUP(UPPER(L176),Sheet2!$A$9:$B$24,2,FALSE),\"\")","v":""}]
[null,null,null,null,null,null,null,null,null,null,null,null,null,null,"",{"$f":"IF(J177<>\"\",VLOOKUP(UPPER(J177),Sheet2!$A$3:$B$7,2,FALSE),\"\")","v":""},{"$f":"IF(L177<>\"\",VLOOKUP(UPPER(L177),Sheet2!$A$9:$B$24,2,FALSE),\"\")","v":""}]
[null,null,null,null,null,null,null,null,null,null,null,null,null,null,"",{"$f":"IF(J178<>\"\",VLOOKUP(UPPER(J178),Sheet2!$A$3:$B$7,2,FALSE),\"\")","v":""},{"$f":"IF(L178<>\"\",VLOOKUP(UPPER(L178),Sheet2!$A$9:$B$24,2,FALSE),\"\")","v":""}]
[null,null,null,null,null,null,null,null,null,null,null,null,null,null,"",{"$f":"IF(J179<>\"\",VLOOKUP(UPPER(J179),Sheet2!$A$3:$B$7,2,FALSE),\"\")","v":""},{"$f":"IF(L179<>\"\",VLOOKUP(UPPER(L179),Sheet2!$A$9:$B$24,2,FALSE),\"\")","v":""}]
[null,null,null,null,null,null,null,null,null,null,null,null,null,null,"",{"$f":"IF(J180<>\"\",VLOOKUP(UPPER(J180),Sheet2!$A$3:$B$7,2,FALSE),\"\")","v":""},{"$f":"IF(L180<>\"\",VLOOKUP(UPPER(L180),Sheet2!$A$9:$B$24,2,FALSE),\"\")","v":""}]
[null,null,null,null,null,null,null,null,null,null,null,null,null,null,"",{"$f":"IF(J181<>\"\",VLOOKUP(UPPER(J181),Sheet2!$A$3:$B$7,2,FALSE),\"\")","v":""},{"$f":"IF(L181<>\"\",VLOOKUP(UPPER(L181),Sheet2!$A$9:$B$24,2,FALSE),\"\")","v":""}]
[null,null,null,null,null,null,null,null,null,null,null,null,null,null,"",{"$f":"IF(J182<>\"\",VLOOKUP(UPPER(J182),Sheet2!$A$3:$B$7,2,FALSE),\"\")","v":""},{"$f":"IF(L182<>\"\",VLOOKUP(UPPER(L182),Sheet2!$A$9:$B$24,2,FALSE),\"\")","v":""}]
[null,null,null,null,null,null,null,null,null,null,null,null,null,null,"",{"$f":"IF(J183<>\"\",VLOOKUP(UPPER(J183),Sheet2!$A$3:$B$7,2,FALSE),\"\")","v":""},{"$f":"IF(L183<>\"\",VLOOKUP(UPPER(L183),Sheet2!$A$9:$B$24,2,FALSE),\"\")","v":""}]
[null,null,null,null,null,null,null,null,null,null,null,null,null,null,"",{"$f":"IF(J184<>\"\",VLOOKUP(UPPER(J184),Sheet2!$A$3:$B$7,2,FALSE),\"\")","v":""},{"$f":"IF(L184<>\"\",VLOOKUP(UPPER(L184),Sheet2!$A$9:$B$24,2,FALSE),\"\")","v":""}]
[null,null,null,null,null,null,null,null,null,null,null,null,null,null,"",{"$f":"IF(J185<>\"\",VLOOKUP(UPPER(J185),Sheet2!$A$3:$B$7,2,FALSE),\"\")","v":""},{"$f":"IF(L185<>\"\",VLOOKUP(UPPER(L185),Sheet2!$A$9:$B$24,2,FALSE),\"\")","v":""}]
[null,null,null,null,null,null,null,null,null,null,null,null,null,null,"",{"$f":"IF(J186<>\"\",VLOOKUP(UPPER(J186),Sheet2!$A$3:$B$7,2,FALSE),\"\")","v":""},{"$f":"IF(L186<>\"\",VLOOKUP(UPPER(L186),Sheet2!$A$9:$B$24,2,FALSE),\"\")","v":""}]
[null,null,null,null,null,null,null,null,null,null,null,null,null,null,"",{"$f":"IF(J187<>\"\",VLOOKUP(UPPER(J187),Sheet2!$A$3:$B$7,2,FALSE),\"\")","v":""},{"$f":"IF(L187<>\"\",VLOOKUP(UPPER(L187),Sheet2!$A$9:$B$24,2,FALSE),\"\")","v":""}]
[null,null,null,null,null,null,null,null,null,null,null,null,null,null,"",{"$f":"IF(J188<>\"\",VLOOKUP(UPPER(J188),Sheet2!$A$3:$B$7,2,FALSE),\"\")","v":""},{"$f":"IF(L188<>\"\",VLOOKUP(UPPER(L188),Sheet2!$A$9:$B$24,2,FALSE),\"\")","v":""}]
[null,null,null,null,null,null,null,null,null,null,null,null,null,null,"",{"$f":"IF(J189<>\"\",VLOOKUP(UPPER(J189),Sheet2!$A$3:$B$7,2,FALSE),\"\")","v":""},{"$f":"IF(L189<>\"\",VLOOKUP(UPPER(L189),Sheet2!$A$9:$B$24,2,FALSE),\"\")","v":""}]
[null,null,null,null,null,null,null,null,null,null,null,null,null,null,"",{"$f":"IF(J190<>\"\",VLOOKUP(UPPER(J190),Sheet2!$A$3:$B$7,2,FALSE),\"\")","v":""},{"$f":"IF(L190<>\"\",VLOOKUP(UPPER(L190),Sheet2!$A$9:$B$24,2,FALSE),\"\")","v":""}]
[null,null,null,null,null,null,null,null,null,null,null,null,null,null,"",{"$f":"IF(J191<>\"\",VLOOKUP(UPPER(J191),Sheet2!$A$3:$B$7,2,FALSE),\"\")","v":""},{"$f":"IF(L191<>\"\",VLOOKUP(UPPER(L191),Sheet2!$A$9:$B$24,2,FALSE),\"\")","v":""}]
[null,null,null,null,null,null,null,null,null,null,null,null,null,null,"",{"$f":"IF(J192<>\"\",VLOOKUP(UPPER(J192),Sheet2!$A$3:$B$7,2,FALSE),\"\")","v":""},{"$f":"IF(L192<>\"\",VLOOKUP(UPPER(L192),Sheet2!$A$9:$B$24,2,FALSE),\"\")","v":""}]
[null,null,null,null,null,null,null,null,null,null,null,null,null,null,"",{"$f":"IF(J193<>\"\",VLOOKUP(UPPER(J193),Sheet2!$A$3:$B$7,2,FALSE),\"\")","v":""},{"$f":"IF(L193<>\"\",VLOOKUP(UPPER(L193),Sheet2!$A$9:$B$24,2,FALSE),\"\")","v":""}]
[null,null,null,null,null,null,null,null,null,null,null,null,null,null,"",{"$f":"IF(J194<>\"\",VLOOKUP(UPPER(J194),Sheet2!$A$3:$B$7,2,FALSE),\"\")","v":""},{"$f":"IF(L194<>\"\",VLOOKUP(UPPER(L194),Sheet2!$A$9:$B$24,2,FALSE),\"\")","v":""}]
[null,null,null,null,null,null,null,null,null,null,null,null,null,null,"",{"$f":"IF(J195<>\"\",VLOOKUP(UPPER(J195),Sheet2!$A$3:$B$7,2,FALSE),\"\")","v":""},{"$f":"IF(L195<>\"\",VLOOKUP(UPPER(L195),Sheet2!$A$9:$B$24,2,FALSE),\"\")","v":""}]
[null,null,null,null,null,null,null,null,null,null,null,null,null,null,"",{"$f":"IF(J196<>\"\",VLOOKUP(UPPER(J196),Sheet2!$A$3:$B$7,2,FALSE),\"\")","v":""},{"$f":"IF(L196<>\"\",VLOOKUP(UPPER(L196),Sheet2!$A$9:$B$24,2,FALSE),\"\")","v":""}]
[null,null,null,null,null,null,null,null,null,null,null,null,null,null,"",{"$f":"IF(J197<>\"\",VLOOKUP(UPPER(J197),Sheet2!$A$3:$B$7,2,FALSE),\"\")","v":""},{"$f":"IF(L197<>\"\",VLOOKUP(UPPER(L197),Sheet2!$A$9:$B$24,2,FALSE),\"\")","v":""}]
[null,null,null,null,null,null,null,null,null,null,null,null,null,null,{"$f":"IF(OR(A198<>\"\",B198<>\"\",C198<>\"\",D198<>\"\",E198<>\"\",F198<>\"\",G198<>\"\",H198<>\"\",I198<>\"\",J198<>\"\",K198<>\"\",L198<>\"\",M198<>\"\",N198<>\"\"),IF(AND(A198<>\"\",B198<>\"\",C198<>\"\",D198<>\"\",I198<>\"\",K198<>\"\"),\"COMPLETE\",\"INCOMPLETE\"),\"\")","v":""},{"$f":"IF(J198<>\"\",VLOOKUP(UPPER(J198),Sheet2!$A$3:$B$7,2,FALSE),\"\")","v":""},{"$f":"IF(L198<>\"\",VLOOKUP(UPPER(L198),Sheet2!$A$9:$B$24,2,FALSE),\"\")","v":""}]
[null,null,null,null,null,null,null,null,null,null,null,null,null,null,"",{"$f":"IF(J199<>\"\",VLOOKUP(UPPER(J199),Sheet2!$A$3:$B$7,2,FALSE),\"\")","v":""},{"$f":"IF(L199<>\"\",VLOOKUP(UPPER(L199),Sheet2!$A$9:$B$24,2,FALSE),\"\")","v":""}]
[null,null,null,null,null,null,null,null,null,null,null,null,null,null,"",{"$f":"IF(J200<>\"\",VLOOKUP(UPPER(J200),Sheet2!$A$3:$B$7,2,FALSE),\"\")","v":""},{"$f":"IF(L200<>\"\",VLOOKUP(UPPER(L200),Sheet2!$A$9:$B$24,2,FALSE),\"\")","v":""}]
[null,null,null,null,null,null,null,null,null,null,null,null,null,null,"",{"$f":"IF(J201<>\"\",VLOOKUP(UPPER(J201),Sheet2!$A$3:$B$7,2,FALSE),\"\")","v":""},{"$f":"IF(L201<>\"\",VLOOKUP(UPPER(L201),Sheet2!$A$9:$B$24,2,FALSE),\"\")","v":""}]
[null,null,null,null,null,null,null,null,null,null,null,null,null,null,"",{"$f":"IF(J202<>\"\",VLOOKUP(UPPER(J202),Sheet2!$A$3:$B$7,2,FALSE),\"\")","v":""},{"$f":"IF(L202<>\"\",VLOOKUP(UPPER(L202),Sheet2!$A$9:$B$24,2,FALSE),\"\")","v":""}]
[null,null,null,null,null,null,null,null,null,null,null,null,null,null,"",{"$f":"IF(J203<>\"\",VLOOKUP(UPPER(J203),Sheet2!$A$3:$B$7,2,FALSE),\"\")","v":""},{"$f":"IF(L203<>\"\",VLOOKUP(UPPER(L203),Sheet2!$A$9:$B$24,2,FALSE),\"\")","v":""}]
[null,null,null,null,null,null,null,null,null,null,null,null,null,null,"",{"$f":"IF(J204<>\"\",VLOOKUP(UPPER(J204),Sheet2!$A$3:$B$7,2,FALSE),\"\")","v":""},{"$f":"IF(L204<>\"\",VLOOKUP(UPPER(L204),Sheet2!$A$9:$B$24,2,FALSE),\"\")","v":""}]
[null,null,null,null,null,null,null,null,null,null,null,null,null,null,"",{"$f":"IF(J205<>\"\",VLOOKUP(UPPER(J205),Sheet2!$A$3:$B$7,2,FALSE),\"\")","v":""},{"$f":"IF(L205<>\"\",VLOOKUP(UPPER(L205),Sheet2!$A$9:$B$24,2,FALSE),\"\")","v":""}]
[null,null,null,null,null,null,null,null,null,null,null,null,null,null,"",{"$f":"IF(J206<>\"\",VLOOKUP(UPPER(J206),Sheet2!$A$3:$B$7,2,FALSE),\"\")","v":""},{"$f":"IF(L206<>\"\",VLOOKUP(UPPER(L206),Sheet2!$A$9:$B$24,2,FALSE),\"\")","v":""}]
[null,null,null,null,null,null,null,null,null,null,null,null,null,null,"",{"$f":"IF(J207<>\"\",VLOOKUP(UPPER(J207),Sheet2!$A$3:$B$7,2,FALSE),\"\")","v":""},{"$f":"IF(L207<>\"\",VLOOKUP(UPPER(L207),Sheet2!$A$9:$B$24,2,FALSE),\"\")","v":""}]
[null,null,null,null,null,null,null,null,null,null,null,null,null,null,"",{"$f":"IF(J208<>\"\",VLOOKUP(UPPER(J208),Sheet2!$A$3:$B$7,2,FALSE),\"\")","v":""},{"$f":"IF(L208<>\"\",VLOOKUP(UPPER(L208),Sheet2!$A$9:$B$24,2,FALSE),\"\")","v":""}]
[null,null,null,null,null,null,null,null,null,null,null,null,null,null,"",{"$f":"IF(J209<>\"\",VLOOKUP(UPPER(J209),Sheet2!$A$3:$B$7,2,FALSE),\"\")","v":""},{"$f":"IF(L209<>\"\",VLOOKUP(UPPER(L209),Sheet2!$A$9:$B$24,2,FALSE),\"\")","v":""}]
[null,null,null,null,null,null,null,null,null,null,null,null,null,null,"",{"$f":"IF(J210<>\"\",VLOOKUP(UPPER(J210),Sheet2!$A$3:$B$7,2,FALSE),\"\")","v":""},{"$f":"IF(L210<>\"\",VLOOKUP(UPPER(L210),Sheet2!$A$9:$B$24,2,FALSE),\"\")","v":""}]
[null,null,null,null,null,null,null,null,null,null,null,null,null,null,"",{"$f":"IF(J211<>\"\",VLOOKUP(UPPER(J211),Sheet2!$A$3:$B$7,2,FALSE),\"\")","v":""},{"$f":"IF(L211<>\"\",VLOOKUP(UPPER(L211),Sheet2!$A$9:$B$24,2,FALSE),\"\")","v":""}]
[null,null,null,null,null,null,null,null,null,null,null,null,null,null,"",{"$f":"IF(J212<>\"\",VLOOKUP(UPPER(J212),Sheet2!$A$3:$B$7,2,FALSE),\"\")","v":""},{"$f":"IF(L212<>\"\",VLOOKUP(UPPER(L212),Sheet2!$A$9:$B$24,2,FALSE),\"\")","v":""}]
[null,null,null,null,null,null,null,null,null,null,null,null,null,null,"",{"$f":"IF(J213<>\"\",VLOOKUP(UPPER(J213),Sheet2!$A$3:$B$7,2,FALSE),\"\")","v":""},{"$f":"IF(L213<>\"\",VLOOKUP(UPPER(L213),Sheet2!$A$9:$B$24,2,FALSE),\"\")","v":""}]
[null,null,null,null,null,null,null,null,null,null,null,null,null,null,"",{"$f":"IF(J214<>\"\",VLOOKUP(UPPER(J214),Sheet2!$A$3:$B$7,2,FALSE),\"\")","v":""},{"$f":"IF(L214<>\"\",VLOOKUP(UPPER(L214),Sheet2!$A$9:$B$24,2,FALSE),\"\")","v":""}]
[null,null,null,null,null,null,null,null,null,null,null,null,null,null,"",{"$f":"IF(J215<>\"\",VLOOKUP(UPPER(J215),Sheet2!$A$3:$B$7,2,FALSE),\"\")","v":""},{"$f":"IF(L215<>\"\",VLOOKUP(UPPER(L215),Sheet2!$A$9:$B$24,2,FALSE),\"\")","v":""}]
[null,null,null,null,null,null,null,null,null,null,null,null,null,null,"",{"$f":"IF(J216<>\"\",VLOOKUP(UPPER(J216),Sheet2!$A$3:$B$7,2,FALSE),\"\")","v":""},{"$f":"IF(L216<>\"\",VLOOKUP(UPPER(L216),Sheet2!$A$9:$B$24,2,FALSE),\"\")","v":""}]
[null,null,null,null,null,null,null,null,null,null,null,null,null,null,"",{"$f":"IF(J217<>\"\",VLOOKUP(UPPER(J217),Sheet2!$A$3:$B$7,2,FALSE),\"\")","v":""},{"$f":"IF(L217<>\"\",VLOOKUP(UPPER(L217),Sheet2!$A$9:$B$24,2,FALSE),\"\")","v":""}]
[null,null,null,null,null,null,null,null,null,null,null,null,null,null,"",{"$f":"IF(J218<>\"\",VLOOKUP(UPPER(J218),Sheet2!$A$3:$B$7,2,FALSE),\"\")","v":""},{"$f":"IF(L218<>\"\",VLOOKUP(UPPER(L218),Sheet2!$A$9:$B$24,2,FALSE),\"\")","v":""}]
[null,null,null,null,null,null,null,null,null,null,null,null,null,null,"",{"$f":"IF(J219<>\"\",VLOOKUP(UPPER(J219),Sheet2!$A$3:$B$7,2,FALSE),\"\")","v":""},{"$f":"IF(L219<>\"\",VLOOKUP(UPPER(L219),Sheet2!$A$9:$B$24,2,FALSE),\"\")","v":""}]
[null,null,null,null,null,null,null,null,null,null,null,null,null,null,"",{"$f":"IF(J220<>\"\",VLOOKUP(UPPER(J220),Sheet2!$A$3:$B$7,2,FALSE),\"\")","v":""},{"$f":"IF(L220<>\"\",VLOOKUP(UPPER(L220),Sheet2!$A$9:$B$24,2,FALSE),\"\")","v":""}]
[null,null,null,null,null,null,null,null,null,null,null,null,null,null,"",{"$f":"IF(J221<>\"\",VLOOKUP(UPPER(J221),Sheet2!$A$3:$B$7,2,FALSE),\"\")","v":""},{"$f":"IF(L221<>\"\",VLOOKUP(UPPER(L221),Sheet2!$A$9:$B$24,2,FALSE),\"\")","v":""}]
[null,null,null,null,null,null,null,null,null,null,null,null,null,null,"",{"$f":"IF(J222<>\"\",VLOOKUP(UPPER(J222),Sheet2!$A$3:$B$7,2,FALSE),\"\")","v":""},{"$f":"IF(L222<>\"\",VLOOKUP(UPPER(L222),Sheet2!$A$9:$B$24,2,FALSE),\"\")","v":""}]
[null,null,null,null,null,null,null,null,null,null,null,null,null,null,"",{"$f":"IF(J223<>\"\",VLOOKUP(UPPER(J223),Sheet2!$A$3:$B$7,2,FALSE),\"\")","v":""},{"$f":"IF(L223<>\"\",VLOOKUP(UPPER(L223),Sheet2!$A$9:$B$24,2,FALSE),\"\")","v":""}]
[null,null,null,null,null,null,null,null,null,null,null,null,null,null,"",{"$f":"IF(J224<>\"\",VLOOKUP(UPPER(J224),Sheet2!$A$3:$B$7,2,FALSE),\"\")","v":""},{"$f":"IF(L224<>\"\",VLOOKUP(UPPER(L224),Sheet2!$A$9:$B$24,2,FALSE),\"\")","v":""}]
[null,null,null,null,null,null,null,null,null,null,null,null,null,null,"",{"$f":"IF(J225<>\"\",VLOOKUP(UPPER(J225),Sheet2!$A$3:$B$7,2,FALSE),\"\")","v":""},{"$f":"IF(L225<>\"\",VLOOKUP(UPPER(L225),Sheet2!$A$9:$B$24,2,FALSE),\"\")","v":""}]
[null,null,null,null,null,null,null,null,null,null,null,null,null,null,"",{"$f":"IF(J226<>\"\",VLOOKUP(UPPER(J226),Sheet2!$A$3:$B$7,2,FALSE),\"\")","v":""},{"$f":"IF(L226<>\"\",VLOOKUP(UPPER(L226),Sheet2!$A$9:$B$24,2,FALSE),\"\")","v":""}]
[null,null,null,null,null,null,null,null,null,null,null,null,null,null,"",{"$f":"IF(J227<>\"\",VLOOKUP(UPPER(J227),Sheet2!$A$3:$B$7,2,FALSE),\"\")","v":""},{"$f":"IF(L227<>\"\",VLOOKUP(UPPER(L227),Sheet2!$A$9:$B$24,2,FALSE),\"\")","v":""}]
[null,null,null,null,null,null,null,null,null,null,null,null,null,null,"",{"$f":"IF(J228<>\"\",VLOOKUP(UPPER(J228),Sheet2!$A$3:$B$7,2,FALSE),\"\")","v":""},{"$f":"IF(L228<>\"\",VLOOKUP(UPPER(L228),Sheet2!$A$9:$B$24,2,FALSE),\"\")","v":""}]
[null,null,null,null,null,null,null,null,null,null,null,null,null,null,"",{"$f":"IF(J229<>\"\",VLOOKUP(UPPER(J229),Sheet2!$A$3:$B$7,2,FALSE),\"\")","v":""},{"$f":"IF(L229<>\"\",VLOOKUP(UPPER(L229),Sheet2!$A$9:$B$24,2,FALSE),\"\")","v":""}]
[null,null,null,null,null,null,null,null,null,null,null,null,null,null,"",{"$f":"IF(J230<>\"\",VLOOKUP(UPPER(J230),Sheet2!$A$3:$B$7,2,FALSE),\"\")","v":""},{"$f":"IF(L230<>\"\",VLOOKUP(UPPER(L230),Sheet2!$A$9:$B$24,2,FALSE),\"\")","v":""}]
[null,null,null,null,null,null,null,null,null,null,null,null,null,null,"",{"$f":"IF(J231<>\"\",VLOOKUP(UPPER(J231),Sheet2!$A$3:$B$7,2,FALSE),\"\")","v":""},{"$f":"IF(L231<>\"\",VLOOKUP(UPPER(L231),Sheet2!$A$9:$B$24,2,FALSE),\"\")","v":""}]
[null,null,null,null,null,null,null,null,null,null,null,null,null,null,"",{"$f":"IF(J232<>\"\",VLOOKUP(UPPER(J232),Sheet2!$A$3:$B$7,2,FALSE),\"\")","v":""},{"$f":"IF(L232<>\"\",VLOOKUP(UPPER(L232),Sheet2!$A$9:$B$24,2,FALSE),\"\")","v":""}]
[null,null,null,null,null,null,null,null,null,null,null,null,null,null,"",{"$f":"IF(J233<>\"\",VLOOKUP(UPPER(J233),Sheet2!$A$3:$B$7,2,FALSE),\"\")","v":""},{"$f":"IF(L233<>\"\",VLOOKUP(UPPER(L233),Sheet2!$A$9:$B$24,2,FALSE),\"\")","v":""}]
[null,null,null,null,null,null,null,null,null,null,null,null,null,null,"",{"$f":"IF(J234<>\"\",VLOOKUP(UPPER(J234),Sheet2!$A$3:$B$7,2,FALSE),\"\")","v":""},{"$f":"IF(L234<>\"\",VLOOKUP(UPPER(L234),Sheet2!$A$9:$B$24,2,FALSE),\"\")","v":""}]
[null,null,null,null,null,null,null,null,null,null,null,null,null,null,"",{"$f":"IF(J235<>\"\",VLOOKUP(UPPER(J235),Sheet2!$A$3:$B$7,2,FALSE),\"\")","v":""},{"$f":"IF(L235<>\"\",VLOOKUP(UPPER(L235),Sheet2!$A$9:$B$24,2,FALSE),\"\")","v":""}]
[null,null,null,null,null,null,null,null,null,null,null,null,null,null,"",{"$f":"IF(J236<>\"\",VLOOKUP(UPPER(J236),Sheet2!$A$3:$B$7,2,FALSE),\"\")","v":""},{"$f":"IF(L236<>\"\",VLOOKUP(UPPER(L236),Sheet2!$A$9:$B$24,2,FALSE),\"\")","v":""}]
[null,null,null,null,null,null,null,null,null,null,null,null,null,null,"",{"$f":"IF(J237<>\"\",VLOOKUP(UPPER(J237),Sheet2!$A$3:$B$7,2,FALSE),\"\")","v":""},{"$f":"IF(L237<>\"\",VLOOKUP(UPPER(L237),Sheet2!$A$9:$B$24,2,FALSE),\"\")","v":""}]
[null,null,null,null,null,null,null,null,null,null,null,null,null,null,"",{"$f":"IF(J238<>\"\",VLOOKUP(UPPER(J238),Sheet2!$A$3:$B$7,2,FALSE),\"\")","v":""},{"$f":"IF(L238<>\"\",VLOOKUP(UPPER(L238),Sheet2!$A$9:$B$24,2,FALSE),\"\")","v":""}]
[null,null,null,null,null,null,null,null,null,null,null,null,null,null,"",{"$f":"IF(J239<>\"\",VLOOKUP(UPPER(J239),Sheet2!$A$3:$B$7,2,FALSE),\"\")","v":""},{"$f":"IF(L239<>\"\",VLOOKUP(UPPER(L239),Sheet2!$A$9:$B$24,2,FALSE),\"\")","v":""}]
[null,null,null,null,null,null,null,null,null,null,null,null,null,null,"",{"$f":"IF(J240<>\"\",VLOOKUP(UPPER(J240),Sheet2!$A$3:$B$7,2,FALSE),\"\")","v":""},{"$f":"IF(L240<>\"\",VLOOKUP(UPPER(L240),Sheet2!$A$9:$B$24,2,FALSE),\"\")","v":""}]
[null,null,null,null,null,null,null,null,null,null,null,null,null,null,"",{"$f":"IF(J241<>\"\",VLOOKUP(UPPER(J241),Sheet2!$A$3:$B$7,2,FALSE),\"\")","v":""},{"$f":"IF(L241<>\"\",VLOOKUP(UPPER(L241),Sheet2!$A$9:$B$24,2,FALSE),\"\")","v":""}]
[null,null,null,null,null,null,null,null,null,null,null,null,null,null,"",{"$f":"IF(J242<>\"\",VLOOKUP(UPPER(J242),Sheet2!$A$3:$B$7,2,FALSE),\"\")","v":""},{"$f":"IF(L242<>\"\",VLOOKUP(UPPER(L242),Sheet2!$A$9:$B$24,2,FALSE),\"\")","v":""}]
[null,null,null,null,null,null,null,null,null,null,null,null,null,null,"",{"$f":"IF(J243<>\"\",VLOOKUP(UPPER(J243),Sheet2!$A$3:$B$7,2,FALSE),\"\")","v":""},{"$f":"IF(L243<>\"\",VLOOKUP(UPPER(L243),Sheet2!$A$9:$B$24,2,FALSE),\"\")","v":""}]
[null,null,null,null,null,null,null,null,null,null,null,null,null,null,"",{"$f":"IF(J244<>\"\",VLOOKUP(UPPER(J244),Sheet2!$A$3:$B$7,2,FALSE),\"\")","v":""},{"$f":"IF(L244<>\"\",VLOOKUP(UPPER(L244),Sheet2!$A$9:$B$24,2,FALSE),\"\")","v":""}]
[null,null,null,null,null,null,null,null,null,null,null,null,null,null,"",{"$f":"IF(J245<>\"\",VLOOKUP(UPPER(J245),Sheet2!$A$3:$B$7,2,FALSE),\"\")","v":""},{"$f":"IF(L245<>\"\",VLOOKUP(UPPER(L245),Sheet2!$A$9:$B$24,2,FALSE),\"\")","v":""}]
[null,null,null,null,null,null,null,null,null,null,null,null,null,null,"",{"$f":"IF(J246<>\"\",VLOOKUP(UPPER(J246),Sheet2!$A$3:$B$7,2,FALSE),\"\")","v":""},{"$f":"IF(L246<>\"\",VLOOKUP(UPPER(L246),Sheet2!$A$9:$B$24,2,FALSE),\"\")","v":""}]
[null,null,null,null,null,null,null,null,null,null,null,null,null,null,"",{"$f":"IF(J247<>\"\",VLOOKUP(UPPER(J247),Sheet2!$A$3:$B$7,2,FALSE),\"\")","v":""},{"$f":"IF(L247<>\"\",VLOOKUP(UPPER(L247),Sheet2!$A$9:$B$24,2,FALSE),\"\")","v":""}]
[null,null,null,null,null,null,null,null,null,null,null,null,null,null,"",{"$f":"IF(J248<>\"\",VLOOKUP(UPPER(J248),Sheet2!$A$3:$B$7,2,FALSE),\"\")","v":""},{"$f":"IF(L248<>\"\",VLOOKUP(UPPER(L248),Sheet2!$A$9:$B$24,2,FALSE),\"\")","v":""}]
[null,null,null,null,null,null,null,null,null,null,null,null,null,null,"",{"$f":"IF(J249<>\"\",VLOOKUP(UPPER(J249),Sheet2!$A$3:$B$7,2,FALSE),\"\")","v":""},{"$f":"IF(L249<>\"\",VLOOKUP(UPPER(L249),Sheet2!$A$9:$B$24,2,FALSE),\"\")","v":""}]
[null,null,null,null,null,null,null,null,null,null,null,null,null,null,"",{"$f":"IF(J250<>\"\",VLOOKUP(UPPER(J250),Sheet2!$A$3:$B$7,2,FALSE),\"\")","v":""},{"$f":"IF(L250<>\"\",VLOOKUP(UPPER(L250),Sheet2!$A$9:$B$24,2,FALSE),\"\")","v":""}]
[null,null,null,null,null,null,null,null,null,null,null,null,null,null,"",{"$f":"IF(J251<>\"\",VLOOKUP(UPPER(J251),Sheet2!$A$3:$B$7,2,FALSE),\"\")","v":""},{"$f":"IF(L251<>\"\",VLOOKUP(UPPER(L251),Sheet2!$A$9:$B$24,2,FALSE),\"\")","v":""}]
[null,null,null,null,null,null,null,null,null,null,null,null,null,null,"",{"$f":"IF(J252<>\"\",VLOOKUP(UPPER(J252),Sheet2!$A$3:$B$7,2,FALSE),\"\")","v":""},{"$f":"IF(L252<>\"\",VLOOKUP(UPPER(L252),Sheet2!$A$9:$B$24,2,FALSE),\"\")","v":""}]
[null,null,null,null,null,null,null,null,null,null,null,null,null,null,"",{"$f":"IF(J253<>\"\",VLOOKUP(UPPER(J253),Sheet2!$A$3:$B$7,2,FALSE),\"\")","v":""},{"$f":"IF(L253<>\"\",VLOOKUP(UPPER(L253),Sheet2!$A$9:$B$24,2,FALSE),\"\")","v":""}]
[null,null,null,null,null,null,null,null,null,null,null,null,null,null,"",{"$f":"IF(J254<>\"\",VLOOKUP(UPPER(J254),Sheet2!$A$3:$B$7,2,FALSE),\"\")","v":""},{"$f":"IF(L254<>\"\",VLOOKUP(UPPER(L254),Sheet2!$A$9:$B$24,2,FALSE),\"\")","v":""}]
[null,null,null,null,null,null,null,null,null,null,null,null,null,null,"",{"$f":"IF(J255<>\"\",VLOOKUP(UPPER(J255),Sheet2!$A$3:$B$7,2,FALSE),\"\")","v":""},{"$f":"IF(L255<>\"\",VLOOKUP(UPPER(L255),Sheet2!$A$9:$B$24,2,FALSE),\"\")","v":""}]
[null,null,null,null,null,null,null,null,null,null,null,null,null,null,"",{"$f":"IF(J256<>\"\",VLOOKUP(UPPER(J256),Sheet2!$A$3:$B$7,2,FALSE),\"\")","v":""},{"$f":"IF(L256<>\"\",VLOOKUP(UPPER(L256),Sheet2!$A$9:$B$24,2,FALSE),\"\")","v":""}]
[null,null,null,null,null,null,null,null,null,null,null,null,null,null,"",{"$f":"IF(J257<>\"\",VLOOKUP(UPPER(J257),Sheet2!$A$3:$B$7,2,FALSE),\"\")","v":""},{"$f":"IF(L257<>\"\",VLOOKUP(UPPER(L257),Sheet2!$A$9:$B$24,2,FALSE),\"\")","v":""}]
[null,null,null,null,null,null,null,null,null,null,null,null,null,null,"",{"$f":"IF(J258<>\"\",VLOOKUP(UPPER(J258),Sheet2!$A$3:$B$7,2,FALSE),\"\")","v":""},{"$f":"IF(L258<>\"\",VLOOKUP(UPPER(L258),Sheet2!$A$9:$B$24,2,FALSE),\"\")","v":""}]
[null,null,null,null,null,null,null,null,null,null,null,null,null,null,"",{"$f":"IF(J259<>\"\",VLOOKUP(UPPER(J259),Sheet2!$A$3:$B$7,2,FALSE),\"\")","v":""},{"$f":"IF(L259<>\"\",VLOOKUP(UPPER(L259),Sheet2!$A$9:$B$24,2,FALSE),\"\")","v":""}]
[null,null,null,null,null,null,null,null,null,null,null,null,null,null,"",{"$f":"IF(J260<>\"\",VLOOKUP(UPPER(J260),Sheet2!$A$3:$B$7,2,FALSE),\"\")","v":""},{"$f":"IF(L260<>\"\",VLOOKUP(UPPER(L260),Sheet2!$A$9:$B$24,2,FALSE),\"\")","v":""}]
[null,null,null,null,null,null,null,null,null,null,null,null,null,null,"",{"$f":"IF(J261<>\"\",VLOOKUP(UPPER(J261),Sheet2!$A$3:$B$7,2,FALSE),\"\")","v":""},{"$f":"IF(L261<>\"\",VLOOKUP(UPPER(L261),Sheet2!$A$9:$B$24,2,FALSE),\"\")","v":""}]
[null,null,null,null,null,null,null,null,null,null,null,null,null,null,{"$f":"IF(OR(A262<>\"\",B262<>\"\",C262<>\"\",D262<>\"\",E262<>\"\",F262<>\"\",G262<>\"\",H262<>\"\",I262<>\"\",J262<>\"\",K262<>\"\",L262<>\"\",M262<>\"\",N262<>\"\"),IF(AND(A262<>\"\",B262<>\"\",C262<>\"\",D262<>\"\",I262<>\"\",K262<>\"\"),\"COMPLETE\",\"INCOMPLETE\"),\"\")","v":""},{"$f":"IF(J262<>\"\",VLOOKUP(UPPER(J262),Sheet2!$A$3:$B$7,2,FALSE),\"\")","v":""},{"$f":"IF(L262<>\"\",VLOOKUP(UPPER(L262),Sheet2!$A$9:$B$24,2,FALSE),\"\")","v":""}]
[null,null,null,null,null,null,null,null,null,null,null,null,null,null,"",{"$f":"IF(J263<>\"\",VLOOKUP(UPPER(J263),Sheet2!$A$3:$B$7,2,FALSE),\"\")","v":""},{"$f":"IF(L263<>\"\",VLOOKUP(UPPER(L263),Sheet2!$A$9:$B$24,2,FALSE),\"\")","v":""}]
[null,null,null,null,null,null,null,null,null,null,null,null,null,null,"",{"$f":"IF(J264<>\"\",VLOOKUP(UPPER(J264),Sheet2!$A$3:$B$7,2,FALSE),\"\")","v":""},{"$f":"IF(L264<>\"\",VLOOKUP(UPPER(L264),Sheet2!$A$9:$B$24,2,FALSE),\"\")","v":""}]
[null,null,null,null,null,null,null,null,null,null,null,null,null,null,"",{"$f":"IF(J265<>\"\",VLOOKUP(UPPER(J265),Sheet2!$A$3:$B$7,2,FALSE),\"\")","v":""},{"$f":"IF(L265<>\"\",VLOOKUP(UPPER(L265),Sheet2!$A$9:$B$24,2,FALSE),\"\")","v":""}]
[null,null,null,null,null,null,null,null,null,null,null,null,null,null,"",{"$f":"IF(J266<>\"\",VLOOKUP(UPPER(J266),Sheet2!$A$3:$B$7,2,FALSE),\"\")","v":""},{"$f":"IF(L266<>\"\",VLOOKUP(UPPER(L266),Sheet2!$A$9:$B$24,2,FALSE),\"\")","v":""}]
[null,null,null,null,null,null,null,null,null,null,null,null,null,null,"",{"$f":"IF(J267<>\"\",VLOOKUP(UPPER(J267),Sheet2!$A$3:$B$7,2,FALSE),\"\")","v":""},{"$f":"IF(L267<>\"\",VLOOKUP(UPPER(L267),Sheet2!$A$9:$B$24,2,FALSE),\"\")","v":""}]
[null,null,null,null,null,null,null,null,null,null,null,null,null,null,"",{"$f":"IF(J268<>\"\",VLOOKUP(UPPER(J268),Sheet2!$A$3:$B$7,2,FALSE),\"\")","v":""},{"$f":"IF(L268<>\"\",VLOOKUP(UPPER(L268),Sheet2!$A$9:$B$24,2,FALSE),\"\")","v":""}]
[null,null,null,null,null,null,null,null,null,null,null,null,null,null,"",{"$f":"IF(J269<>\"\",VLOOKUP(UPPER(J269),Sheet2!$A$3:$B$7,2,FALSE),\"\")","v":""},{"$f":"IF(L269<>\"\",VLOOKUP(UPPER(L269),Sheet2!$A$9:$B$24,2,FALSE),\"\")","v":""}]
[null,null,null,null,null,null,null,null,null,null,null,null,null,null,"",{"$f":"IF(J270<>\"\",VLOOKUP(UPPER(J270),Sheet2!$A$3:$B$7,2,FALSE),\"\")","v":""},{"$f":"IF(L270<>\"\",VLOOKUP(UPPER(L270),Sheet2!$A$9:$B$24,2,FALSE),\"\")","v":""}]
[null,null,null,null,null,null,null,null,null,null,null,null,null,null,"",{"$f":"IF(J271<>\"\",VLOOKUP(UPPER(J271),Sheet2!$A$3:$B$7,2,FALSE),\"\")","v":""},{"$f":"IF(L271<>\"\",VLOOKUP(UPPER(L271),Sheet2!$A$9:$B$24,2,FALSE),\"\")","v":""}]
[null,null,null,null,null,null,null,null,null,null,null,null,null,null,"",{"$f":"IF(J272<>\"\",VLOOKUP(UPPER(J272),Sheet2!$A$3:$B$7,2,FALSE),\"\")","v":""},{"$f":"IF(L272<>\"\",VLOOKUP(UPPER(L272),Sheet2!$A$9:$B$24,2,FALSE),\"\")","v":""}]
[null,null,null,null,null,null,null,null,null,null,null,null,null,null,"",{"$f":"IF(J273<>\"\",VLOOKUP(UPPER(J273),Sheet2!$A$3:$B$7,2,FALSE),\"\")","v":""},{"$f":"IF(L273<>\"\",VLOOKUP(UPPER(L273),Sheet2!$A$9:$B$24,2,FALSE),\"\")","v":""}]
[null,null,null,null,null,null,null,null,null,null,null,null,null,null,"",{"$f":"IF(J274<>\"\",VLOOKUP(UPPER(J274),Sheet2!$A$3:$B$7,2,FALSE),\"\")","v":""},{"$f":"IF(L274<>\"\",VLOOKUP(UPPER(L274),Sheet2!$A$9:$B$24,2,FALSE),\"\")","v":""}]
[null,null,null,null,null,null,null,null,null,null,null,null,null,null,"",{"$f":"IF(J275<>\"\",VLOOKUP(UPPER(J275),Sheet2!$A$3:$B$7,2,FALSE),\"\")","v":""},{"$f":"IF(L275<>\"\",VLOOKUP(UPPER(L275),Sheet2!$A$9:$B$24,2,FALSE),\"\")","v":""}]
[null,null,null,null,null,null,null,null,null,null,null,null,null,null,"",{"$f":"IF(J276<>\"\",VLOOKUP(UPPER(J276),Sheet2!$A$3:$B$7,2,FALSE),\"\")","v":""},{"$f":"IF(L276<>\"\",VLOOKUP(UPPER(L276),Sheet2!$A$9:$B$24,2,FALSE),\"\")","v":""}]
[null,null,null,null,null,null,null,null,null,null,null,null,null,null,"",{"$f":"IF(J277<>\"\",VLOOKUP(UPPER(J277),Sheet2!$A$3:$B$7,2,FALSE),\"\")","v":""},{"$f":"IF(L277<>\"\",VLOOKUP(UPPER(L277),Sheet2!$A$9:$B$24,2,FALSE),\"\")","v":""}]
[null,null,null,null,null,null,null,null,null,null,null,null,null,null,"",{"$f":"IF(J278<>\"\",VLOOKUP(UPPER(J278),Sheet2!$A$3:$B$7,2,FALSE),\"\")","v":""},{"$f":"IF(L278<>\"\",VLOOKUP(UPPER(L278),Sheet2!$A$9:$B$24,2,FALSE),\"\")","v":""}]
[null,null,null,null,null,null,null,null,null,null,null,null,null,null,"",{"$f":"IF(J279<>\"\",VLOOKUP(UPPER(J279),Sheet2!$A$3:$B$7,2,FALSE),\"\")","v":""},{"$f":"IF(L279<>\"\",VLOOKUP(UPPER(L279),Sheet2!$A$9:$B$24,2,FALSE),\"\")","v":""}]
[null,null,null,null,null,null,null,null,null,null,null,null,null,null,"",{"$f":"IF(J280<>\"\",VLOOKUP(UPPER(J280),Sheet2!$A$3:$B$7,2,FALSE),\"\")","v":""},{"$f":"IF(L280<>\"\",VLOOKUP(UPPER(L280),Sheet2!$A$9:$B$24,2,FALSE),\"\")","v":""}]
[null,null,null,null,null,null,null,null,null,null,null,null,null,null,"",{"$f":"IF(J281<>\"\",VLOOKUP(UPPER(J281),Sheet2!$A$3:$B$7,2,FALSE),\"\")","v":""},{"$f":"IF(L281<>\"\",VLOOKUP(UPPER(L281),Sheet2!$A$9:$B$24,2,FALSE),\"\")","v":""}]
[null,null,null,null,null,null,null,null,null,null,null,null,null,null,"",{"$f":"IF(J282<>\"\",VLOOKUP(UPPER(J282),Sheet2!$A$3:$B$7,2,FALSE),\"\")","v":""},{"$f":"IF(L282<>\"\",VLOOKUP(UPPER(L282),Sheet2!$A$9:$B$24,2,FALSE),\"\")","v":""}]
[null,null,null,null,null,null,null,null,null,null,null,null,null,null,"",{"$f":"IF(J283<>\"\",VLOOKUP(UPPER(J283),Sheet2!$A$3:$B$7,2,FALSE),\"\")","v":""},{"$f":"IF(L283<>\"\",VLOOKUP(UPPER(L283),Sheet2!$A$9:$B$24,2,FALSE),\"\")","v":""}]
[null,null,null,null,null,null,null,null,null,null,null,null,null,null,"",{"$f":"IF(J284<>\"\",VLOOKUP(UPPER(J284),Sheet2!$A$3:$B$7,2,FALSE),\"\")","v":""},{"$f":"IF(L284<>\"\",VLOOKUP(UPPER(L284),Sheet2!$A$9:$B$24,2,FALSE),\"\")","v":""}]
[null,null,null,null,null,null,null,null,null,null,null,null,null,null,"",{"$f":"IF(J285<>\"\",VLOOKUP(UPPER(J285),Sheet2!$A$3:$B$7,2,FALSE),\"\")","v":""},{"$f":"IF(L285<>\"\",VLOOKUP(UPPER(L285),Sheet2!$A$9:$B$24,2,FALSE),\"\")","v":""}]
[null,null,null,null,null,null,null,null,null,null,null,null,null,null,"",{"$f":"IF(J286<>\"\",VLOOKUP(UPPER(J286),Sheet2!$A$3:$B$7,2,FALSE),\"\")","v":""},{"$f":"IF(L286<>\"\",VLOOKUP(UPPER(L286),Sheet2!$A$9:$B$24,2,FALSE),\"\")","v":""}]
[null,null,null,null,null,null,null,null,null,null,null,null,null,null,"",{"$f":"IF(J287<>\"\",VLOOKUP(UPPER(J287),Sheet2!$A$3:$B$7,2,FALSE),\"\")","v":""},{"$f":"IF(L287<>\"\",VLOOKUP(UPPER(L287),Sheet2!$A$9:$B$24,2,FALSE),\"\")","v":""}]
[null,null,null,null,null,null,null,null,null,null,null,null,null,null,"",{"$f":"IF(J288<>\"\",VLOOKUP(UPPER(J288),Sheet2!$A$3:$B$7,2,FALSE),\"\")","v":""},{"$f":"IF(L288<>\"\",VLOOKUP(UPPER(L288),Sheet2!$A$9:$B$24,2,FALSE),\"\")","v":""}]
[null,null,null,null,null,null,null,null,null,null,null,null,null,null,"",{"$f":"IF(J289<>\"\",VLOOKUP(UPPER(J289),Sheet2!$A$3:$B$7,2,FALSE),\"\")","v":""},{"$f":"IF(L289<>\"\",VLOOKUP(UPPER(L289),Sheet2!$A$9:$B$24,2,FALSE),\"\")","v":""}]
[null,null,null,null,null,null,null,null,null,null,null,null,null,null,"",{"$f":"IF(J290<>\"\",VLOOKUP(UPPER(J290),Sheet2!$A$3:$B$7,2,FALSE),\"\")","v":""},{"$f":"IF(L290<>\"\",VLOOKUP(UPPER(L290),Sheet2!$A$9:$B$24,2,FALSE),\"\")","v":""}]
[null,null,null,null,null,null,null,null,null,null,null,null,null,null,"",{"$f":"IF(J291<>\"\",VLOOKUP(UPPER(J291),Sheet2!$A$3:$B$7,2,FALSE),\"\")","v":""},{"$f":"IF(L291<>\"\",VLOOKUP(UPPER(L291),Sheet2!$A$9:$B$24,2,FALSE),\"\")","v":""}]
[null,null,null,null,null,null,null,null,null,null,null,null,null,null,"",{"$f":"IF(J292<>\"\",VLOOKUP(UPPER(J292),Sheet2!$A$3:$B$7,2,FALSE),\"\")","v":""},{"$f":"IF(L292<>\"\",VLOOKUP(UPPER(L292),Sheet2!$A$9:$B$24,2,FALSE),\"\")","v":""}]
[null,null,null,null,null,null,null,null,null,null,null,null,null,null,"",{"$f":"IF(J293<>\"\",VLOOKUP(UPPER(J293),Sheet2!$A$3:$B$7,2,FALSE),\"\")","v":""},{"$f":"IF(L293<>\"\",VLOOKUP(UPPER(L293),Sheet2!$A$9:$B$24,2,FALSE),\"\")","v":""}]
[null,null,null,null,null,null,null,null,null,null,null,null,null,null,"",{"$f":"IF(J294<>\"\",VLOOKUP(UPPER(J294),Sheet2!$A$3:$B$7,2,FALSE),\"\")","v":""},{"$f":"IF(L294<>\"\",VLOOKUP(UPPER(L294),Sheet2!$A$9:$B$24,2,FALSE),\"\")","v":""}]
[null,null,null,null,null,null,null,null,null,null,null,null,null,null,"",{"$f":"IF(J295<>\"\",VLOOKUP(UPPER(J295),Sheet2!$A$3:$B$7,2,FALSE),\"\")","v":""},{"$f":"IF(L295<>\"\",VLOOKUP(UPPER(L295),Sheet2!$A$9:$B$24,2,FALSE),\"\")","v":""}]
[null,null,null,null,null,null,null,null,null,null,null,null,null,null,"",{"$f":"IF(J296<>\"\",VLOOKUP(UPPER(J296),Sheet2!$A$3:$B$7,2,FALSE),\"\")","v":""},{"$f":"IF(L296<>\"\",VLOOKUP(UPPER(L296),Sheet2!$A$9:$B$24,2,FALSE),\"\")","v":""}]
[null,null,null,null,null,null,null,null,null,null,null,null,null,null,"",{"$f":"IF(J297<>\"\",VLOOKUP(UPPER(J297),Sheet2!$A$3:$B$7,2,FALSE),\"\")","v":""},{"$f":"IF(L297<>\"\",VLOOKUP(UPPER(L297),Sheet2!$A$9:$B$24,2,FALSE),\"\")","v":""}]
[null,null,null,null,null,null,null,null,null,null,null,null,null,null,"",{"$f":"IF(J298<>\"\",VLOOKUP(UPPER(J298),Sheet2!$A$3:$B$7,2,FALSE),\"\")","v":""},{"$f":"IF(L298<>\"\",VLOOKUP(UPPER(L298),Sheet2!$A$9:$B$24,2,FALSE),\"\")","v":""}]
[null,null,null,null,null,null,null,null,null,null,null,null,null,null,"",{"$f":"IF(J299<>\"\",VLOOKUP(UPPER(J299),Sheet2!$A$3:$B$7,2,FALSE),\"\")","v":""},{"$f":"IF(L299<>\"\",VLOOKUP(UPPER(L299),Sheet2!$A$9:$B$24,2,FALSE),\"\")","v":""}]
[null,null,null,null,null,null,null,null,null,null,null,null,null,null,"",{"$f":"IF(J300<>\"\",VLOOKUP(UPPER(J300),Sheet2!$A$3:$B$7,2,FALSE),\"\")","v":""},{"$f":"IF(L300<>\"\",VLOOKUP(UPPER(L300),Sheet2!$A$9:$B$24,2,FALSE),\"\")","v":""}]
[null,null,null,null,null,null,null,null,null,null,null,null,null,null,"",{"$f":"IF(J301<>\"\",VLOOKUP(UPPER(J301),Sheet2!$A$3:$B$7,2,FALSE),\"\")","v":""},{"$f":"IF(L301<>\"\",VLOOKUP(UPPER(L301),Sheet2!$A$9:$B$24,2,FALSE),\"\")","v":""}]
[null,null,null,null,null,null,null,null,null,null,null,null,null,null,"",{"$f":"IF(J302<>\"\",VLOOKUP(UPPER(J302),Sheet2!$A$3:$B$7,2,FALSE),\"\")","v":""},{"$f":"IF(L302<>\"\",VLOOKUP(UPPER(L302),Sheet2!$A$9:$B$24,2,FALSE),\"\")","v":""}]
[null,null,null,null,null,null,null,null,null,null,null,null,null,null,"",{"$f":"IF(J303<>\"\",VLOOKUP(UPPER(J303),Sheet2!$A$3:$B$7,2,FALSE),\"\")","v":""},{"$f":"IF(L303<>\"\",VLOOKUP(UPPER(L303),Sheet2!$A$9:$B$24,2,FALSE),\"\")","v":""}]
[null,null,null,null,null,null,null,null,null,null,null,null,null,null,"",{"$f":"IF(J304<>\"\",VLOOKUP(UPPER(J304),Sheet2!$A$3:$B$7,2,FALSE),\"\")","v":""},{"$f":"IF(L304<>\"\",VLOOKUP(UPPER(L304),Sheet2!$A$9:$B$24,2,FALSE),\"\")","v":""}]
[null,null,null,null,null,null,null,null,null,null,null,null,null,null,"",{"$f":"IF(J305<>\"\",VLOOKUP(UPPER(J305),Sheet2!$A$3:$B$7,2,FALSE),\"\")","v":""},{"$f":"IF(L305<>\"\",VLOOKUP(UPPER(L305),Sheet2!$A$9:$B$24,2,FALSE),\"\")","v":""}]
[null,null,null,null,null,null,null,null,null,null,null,null,null,null,"",{"$f":"IF(J306<>\"\",VLOOKUP(UPPER(J306),Sheet2!$A$3:$B$7,2,FALSE),\"\")","v":""},{"$f":"IF(L306<>\"\",VLOOKUP(UPPER(L306),Sheet2!$A$9:$B$24,2,FALSE),\"\")","v":""}]
[null,null,null,null,null,null,null,null,null,null,null,null,null,null,"",{"$f":"IF(J307<>\"\",VLOOKUP(UPPER(J307),Sheet2!$A$3:$B$7,2,FALSE),\"\")","v":""},{"$f":"IF(L307<>\"\",VLOOKUP(UPPER(L307),Sheet2!$A$9:$B$24,2,FALSE),\"\")","v":""}]
[null,null,null,null,null,null,null,null,null,null,null,null,null,null,"",{"$f":"IF(J308<>\"\",VLOOKUP(UPPER(J308),Sheet2!$A$3:$B$7,2,FALSE),\"\")","v":""},{"$f":"IF(L308<>\"\",VLOOKUP(UPPER(L308),Sheet2!$A$9:$B$24,2,FALSE),\"\")","v":""}]
[null,null,null,null,null,null,null,null,null,null,null,null,null,null,"",{"$f":"IF(J309<>\"\",VLOOKUP(UPPER(J309),Sheet2!$A$3:$B$7,2,FALSE),\"\")","v":""},{"$f":"IF(L309<>\"\",VLOOKUP(UPPER(L309),Sheet2!$A$9:$B$24,2,FALSE),\"\")","v":""}]
[null,null,null,null,null,null,null,null,null,null,null,null,null,null,"",{"$f":"IF(J310<>\"\",VLOOKUP(UPPER(J310),Sheet2!$A$3:$B$7,2,FALSE),\"\")","v":""},{"$f":"IF(L310<>\"\",VLOOKUP(UPPER(L310),Sheet2!$A$9:$B$24,2,FALSE),\"\")","v":""}]
[null,null,null,null,null,null,null,null,null,null,null,null,null,null,"",{"$f":"IF(J311<>\"\",VLOOKUP(UPPER(J311),Sheet2!$A$3:$B$7,2,FALSE),\"\")","v":""},{"$f":"IF(L311<>\"\",VLOOKUP(UPPER(L311),Sheet2!$A$9:$B$24,2,FALSE),\"\")","v":""}]
[null,null,null,null,null,null,null,null,null,null,null,null,null,null,"",{"$f":"IF(J312<>\"\",VLOOKUP(UPPER(J312),Sheet2!$A$3:$B$7,2,FALSE),\"\")","v":""},{"$f":"IF(L312<>\"\",VLOOKUP(UPPER(L312),Sheet2!$A$9:$B$24,2,FALSE),\"\")","v":""}]
[null,null,null,null,null,null,null,null,null,null,null,null,null,null,"",{"$f":"IF(J313<>\"\",VLOOKUP(UPPER(J313),Sheet2!$A$3:$B$7,2,FALSE),\"\")","v":""},{"$f":"IF(L313<>\"\",VLOOKUP(UPPER(L313),Sheet2!$A$9:$B$24,2,FALSE),\"\")","v":""}]
[null,null,null,null,null,null,null,null,null,null,null,null,null,null,"",{"$f":"IF(J314<>\"\",VLOOKUP(UPPER(J314),Sheet2!$A$3:$B$7,2,FALSE),\"\")","v":""},{"$f":"IF(L314<>\"\",VLOOKUP(UPPER(L314),Sheet2!$A$9:$B$24,2,FALSE),\"\")","v":""}]
[null,null,null,null,null,null,null,null,null,null,null,null,null,null,"",{"$f":"IF(J315<>\"\",VLOOKUP(UPPER(J315),Sheet2!$A$3:$B$7,2,FALSE),\"\")","v":""},{"$f":"IF(L315<>\"\",VLOOKUP(UPPER(L315),Sheet2!$A$9:$B$24,2,FALSE),\"\")","v":""}]
[null,null,null,null,null,null,null,null,null,null,null,null,null,null,"",{"$f":"IF(J316<>\"\",VLOOKUP(UPPER(J316),Sheet2!$A$3:$B$7,2,FALSE),\"\")","v":""},{"$f":"IF(L316<>\"\",VLOOKUP(UPPER(L316),Sheet2!$A$9:$B$24,2,FALSE),\"\")","v":""}]
[null,null,null,null,null,null,null,null,null,null,null,null,null,null,"",{"$f":"IF(J317<>\"\",VLOOKUP(UPPER(J317),Sheet2!$A$3:$B$7,2,FALSE),\"\")","v":""},{"$f":"IF(L317<>\"\",VLOOKUP(UPPER(L317),Sheet2!$A$9:$B$24,2,FALSE),\"\")","v":""}]
[null,null,null,null,null,null,null,null,null,null,null,null,null,null,"",{"$f":"IF(J318<>\"\",VLOOKUP(UPPER(J318),Sheet2!$A$3:$B$7,2,FALSE),\"\")","v":""},{"$f":"IF(L318<>\"\",VLOOKUP(UPPER(L318),Sheet2!$A$9:$B$24,2,FALSE),\"\")","v":""}]
[null,null,null,null,null,null,null,null,null,null,null,null,null,null,"",{"$f":"IF(J319<>\"\",VLOOKUP(UPPER(J319),Sheet2!$A$3:$B$7,2,FALSE),\"\")","v":""},{"$f":"IF(L319<>\"\",VLOOKUP(UPPER(L319),Sheet2!$A$9:$B$24,2,FALSE),\"\")","v":""}]
[null,null,null,null,null,null,null,null,null,null,null,null,null,null,"",{"$f":"IF(J320<>\"\",VLOOKUP(UPPER(J320),Sheet2!$A$3:$B$7,2,FALSE),\"\")","v":""},{"$f":"IF(L320<>\"\",VLOOKUP(UPPER(L320),Sheet2!$A$9:$B$24,2,FALSE),\"\")","v":""}]
[null,null,null,null,null,null,null,null,null,null,null,null,null,null,"",{"$f":"IF(J321<>\"\",VLOOKUP(UPPER(J321),Sheet2!$A$3:$B$7,2,FALSE),\"\")","v":""},{"$f":"IF(L321<>\"\",VLOOKUP(UPPER(L321),Sheet2!$A$9:$B$24,2,FALSE),\"\")","v":""}]
[null,null,null,null,null,null,null,null,null,null,null,null,null,null,"",{"$f":"IF(J322<>\"\",VLOOKUP(UPPER(J322),Sheet2!$A$3:$B$7,2,FALSE),\"\")","v":""},{"$f":"IF(L322<>\"\",VLOOKUP(UPPER(L322),Sheet2!$A$9:$B$24,2,FALSE),\"\")","v":""}]
[null,null,null,null,null,null,null,null,null,null,null,null,null,null,"",{"$f":"IF(J323<>\"\",VLOOKUP(UPPER(J323),Sheet2!$A$3:$B$7,2,FALSE),\"\")","v":""},{"$f":"IF(L323<>\"\",VLOOKUP(UPPER(L323),Sheet2!$A$9:$B$24,2,FALSE),\"\")","v":""}]
[null,null,null,null,null,null,null,null,null,null,null,null,null,null,"",{"$f":"IF(J324<>\"\",VLOOKUP(UPPER(J324),Sheet2!$A$3:$B$7,2,FALSE),\"\")","v":""},{"$f":"IF(L324<>\"\",VLOOKUP(UPPER(L324),Sheet2!$A$9:$B$24,2,FALSE),\"\")","v":""}]
[null,null,null,null,null,null,null,null,null,null,null,null,null,null,"",{"$f":"IF(J325<>\"\",VLOOKUP(UPPER(J325),Sheet2!$A$3:$B$7,2,FALSE),\"\")","v":""},{"$f":"IF(L325<>\"\",VLOOKUP(UPPER(L325),Sheet2!$A$9:$B$24,2,FALSE),\"\")","v":""}]
[null,null,null,null,null,null,null,null,null,null,null,null,null,null,{"$f":"IF(OR(A326<>\"\",B326<>\"\",C326<>\"\",D326<>\"\",E326<>\"\",F326<>\"\",G326<>\"\",H326<>\"\",I326<>\"\",J326<>\"\",K326<>\"\",L326<>\"\",M326<>\"\",N326<>\"\"),IF(AND(A326<>\"\",B326<>\"\",C326<>\"\",D326<>\"\",I326<>\"\",K326<>\"\"),\"COMPLETE\",\"INCOMPLETE\"),\"\")","v":""},{"$f":"IF(J326<>\"\",VLOOKUP(UPPER(J326),Sheet2!$A$3:$B$7,2,FALSE),\"\")","v":""},{"$f":"IF(L326<>\"\",VLOOKUP(UPPER(L326),Sheet2!$A$9:$B$24,2,FALSE),\"\")","v":""}]
[null,null,null,null,null,null,null,null,null,null,null,null,null,null,"",{"$f":"IF(J327<>\"\",VLOOKUP(UPPER(J327),Sheet2!$A$3:$B$7,2,FALSE),\"\")","v":""},{"$f":"IF(L327<>\"\",VLOOKUP(UPPER(L327),Sheet2!$A$9:$B$24,2,FALSE),\"\")","v":""}]
[null,null,null,null,null,null,null,null,null,null,null,null,null,null,"",{"$f":"IF(J328<>\"\",VLOOKUP(UPPER(J328),Sheet2!$A$3:$B$7,2,FALSE),\"\")","v":""},{"$f":"IF(L328<>\"\",VLOOKUP(UPPER(L328),Sheet2!$A$9:$B$24,2,FALSE),\"\")","v":""}]
[null,null,null,null,null,null,null,null,null,null,null,null,null,null,"",{"$f":"IF(J329<>\"\",VLOOKUP(UPPER(J329),Sheet2!$A$3:$B$7,2,FALSE),\"\")","v":""},{"$f":"IF(L329<>\"\",VLOOKUP(UPPER(L329),Sheet2!$A$9:$B$24,2,FALSE),\"\")","v":""}]
[null,null,null,null,null,null,null,null,null,null,null,null,null,null,"",{"$f":"IF(J330<>\"\",VLOOKUP(UPPER(J330),Sheet2!$A$3:$B$7,2,FALSE),\"\")","v":""},{"$f":"IF(L330<>\"\",VLOOKUP(UPPER(L330),Sheet2!$A$9:$B$24,2,FALSE),\"\")","v":""}]
[null,null,null,null,null,null,null,null,null,null,null,null,null,null,"",{"$f":"IF(J331<>\"\",VLOOKUP(UPPER(J331),Sheet2!$A$3:$B$7,2,FALSE),\"\")","v":""},{"$f":"IF(L331<>\"\",VLOOKUP(UPPER(L331),Sheet2!$A$9:$B$24,2,FALSE),\"\")","v":""}]
[null,null,null,null,null,null,null,null,null,null,null,null,null,null,"",{"$f":"IF(J332<>\"\",VLOOKUP(UPPER(J332),Sheet2!$A$3:$B$7,2,FALSE),\"\")","v":""},{"$f":"IF(L332<>\"\",VLOOKUP(UPPER(L332),Sheet2!$A$9:$B$24,2,FALSE),\"\")","v":""}]
[null,null,null,null,null,null,null,null,null,null,null,null,null,null,"",{"$f":"IF(J333<>\"\",VLOOKUP(UPPER(J333),Sheet2!$A$3:$B$7,2,FALSE),\"\")","v":""},{"$f":"IF(L333<>\"\",VLOOKUP(UPPER(L333),Sheet2!$A$9:$B$24,2,FALSE),\"\")","v":""}]
[null,null,null,null,null,null,null,null,null,null,null,null,null,null,"",{"$f":"IF(J334<>\"\",VLOOKUP(UPPER(J334),Sheet2!$A$3:$B$7,2,FALSE),\"\")","v":""},{"$f":"IF(L334<>\"\",VLOOKUP(UPPER(L334),Sheet2!$A$9:$B$24,2,FALSE),\"\")","v":""}]
[null,null,null,null,null,null,null,null,null,null,null,null,null,null,"",{"$f":"IF(J335<>\"\",VLOOKUP(UPPER(J335),Sheet2!$A$3:$B$7,2,FALSE),\"\")","v":""},{"$f":"IF(L335<>\"\",VLOOKUP(UPPER(L335),Sheet2!$A$9:$B$24,2,FALSE),\"\")","v":""}]
[null,null,null,null,null,null,null,null,null,null,null,null,null,null,"",{"$f":"IF(J336<>\"\",VLOOKUP(UPPER(J336),Sheet2!$A$3:$B$7,2,FALSE),\"\")","v":""},{"$f":"IF(L336<>\"\",VLOOKUP(UPPER(L336),Sheet2!$A$9:$B$24,2,FALSE),\"\")","v":""}]
[null,null,null,null,null,null,null,null,null,null,null,null,null,null,"",{"$f":"IF(J337<>\"\",VLOOKUP(UPPER(J337),Sheet2!$A$3:$B$7,2,FALSE),\"\")","v":""},{"$f":"IF(L337<>\"\",VLOOKUP(UPPER(L337),Sheet2!$A$9:$B$24,2,FALSE),\"\")","v":""}]
[null,null,null,null,null,null,null,null,null,null,null,null,null,null,"",{"$f":"IF(J338<>\"\",VLOOKUP(UPPER(J338),Sheet2!$A$3:$B$7,2,FALSE),\"\")","v":""},{"$f":"IF(L338<>\"\",VLOOKUP(UPPER(L338),Sheet2!$A$9:$B$24,2,FALSE),\"\")","v":""}]
[null,null,null,null,null,null,null,null,null,null,null,null,null,null,"",{"$f":"IF(J339<>\"\",VLOOKUP(UPPER(J339),Sheet2!$A$3:$B$7,2,FALSE),\"\")","v":""},{"$f":"IF(L339<>\"\",VLOOKUP(UPPER(L339),Sheet2!$A$9:$B$24,2,FALSE),\"\")","v":""}]
[null,null,null,null,null,null,null,null,null,null,null,null,null,null,"",{"$f":"IF(J340<>\"\",VLOOKUP(UPPER(J340),Sheet2!$A$3:$B$7,2,FALSE),\"\")","v":""},{"$f":"IF(L340<>\"\",VLOOKUP(UPPER(L340),Sheet2!$A$9:$B$24,2,FALSE),\"\")","v":""}]
[null,null,null,null,null,null,null,null,null,null,null,null,null,null,"",{"$f":"IF(J341<>\"\",VLOOKUP(UPPER(J341),Sheet2!$A$3:$B$7,2,FALSE),\"\")","v":""},{"$f":"IF(L341<>\"\",VLOOKUP(UPPER(L341),Sheet2!$A$9:$B$24,2,FALSE),\"\")","v":""}]
[null,null,null,null,null,null,null,null,null,null,null,null,null,null,"",{"$f":"IF(J342<>\"\",VLOOKUP(UPPER(J342),Sheet2!$A$3:$B$7,2,FALSE),\"\")","v":""},{"$f":"IF(L342<>\"\",VLOOKUP(UPPER(L342),Sheet2!$A$9:$B$24,2,FALSE),\"\")","v":""}]
[null,null,null,null,null,null,null,null,null,null,null,null,null,null,"",{"$f":"IF(J343<>\"\",VLOOKUP(UPPER(J343),Sheet2!$A$3:$B$7,2,FALSE),\"\")","v":""},{"$f":"IF(L343<>\"\",VLOOKUP(UPPER(L343),Sheet2!$A$9:$B$24,2,FALSE),\"\")","v":""}]
[null,null,null,null,null,null,null,null,null,null,null,null,null,null,"",{"$f":"IF(J344<>\"\",VLOOKUP(UPPER(J344),Sheet2!$A$3:$B$7,2,FALSE),\"\")","v":""},{"$f":"IF(L344<>\"\",VLOOKUP(UPPER(L344),Sheet2!$A$9:$B$24,2,FALSE),\"\")","v":""}]
[null,null,null,null,null,null,null,null,null,null,null,null,null,null,"",{"$f":"IF(J345<>\"\",VLOOKUP(UPPER(J345),Sheet2!$A$3:$B$7,2,FALSE),\"\")","v":""},{"$f":"IF(L345<>\"\",VLOOKUP(UPPER(L345),Sheet2!$A$9:$B$24,2,FALSE),\"\")","v":""}]
[null,null,null,null,null,null,null,null,null,null,null,null,null,null,"",{"$f":"IF(J346<>\"\",VLOOKUP(UPPER(J346),Sheet2!$A$3:$B$7,2,FALSE),\"\")","v":""},{"$f":"IF(L346<>\"\",VLOOKUP(UPPER(L346),Sheet2!$A$9:$B$24,2,FALSE),\"\")","v":""}]
[null,null,null,null,null,null,null,null,null,null,null,null,null,null,"",{"$f":"IF(J347<>\"\",VLOOKUP(UPPER(J347),Sheet2!$A$3:$B$7,2,FALSE),\"\")","v":""},{"$f":"IF(L347<>\"\",VLOOKUP(UPPER(L347),Sheet2!$A$9:$B$24,2,FALSE),\"\")","v":""}]
[null,null,null,null,null,null,null,null,null,null,null,null,null,null,"",{"$f":"IF(J348<>\"\",VLOOKUP(UPPER(J348),Sheet2!$A$3:$B$7,2,FALSE),\"\")","v":""},{"$f":"IF(L348<>\"\",VLOOKUP(UPPER(L348),Sheet2!$A$9:$B$24,2,FALSE),\"\")","v":""}]
[null,null,null,null,null,null,null,null,null,null,null,null,null,null,"",{"$f":"IF(J349<>\"\",VLOOKUP(UPPER(J349),Sheet2!$A$3:$B$7,2,FALSE),\"\")","v":""},{"$f":"IF(L349<>\"\",VLOOKUP(UPPER(L349),Sheet2!$A$9:$B$24,2,FALSE),\"\")","v":""}]
[null,null,null,null,null,null,null,null,null,null,null,null,null,null,"",{"$f":"IF(J350<>\"\",VLOOKUP(UPPER(J350),Sheet2!$A$3:$B$7,2,FALSE),\"\")","v":""},{"$f":"IF(L350<>\"\",VLOOKUP(UPPER(L350),Sheet2!$A$9:$B$24,2,FALSE),\"\")","v":""}]
[null,null,null,null,null,null,null,null,null,null,null,null,null,null,"",{"$f":"IF(J351<>\"\",VLOOKUP(UPPER(J351),Sheet2!$A$3:$B$7,2,FALSE),\"\")","v":""},{"$f":"IF(L351<>\"\",VLOOKUP(UPPER(L351),Sheet2!$A$9:$B$24,2,FALSE),\"\")","v":""}]
[null,null,null,null,null,null,null,null,null,null,null,null,null,null,"",{"$f":"IF(J352<>\"\",VLOOKUP(UPPER(J352),Sheet2!$A$3:$B$7,2,FALSE),\"\")","v":""},{"$f":"IF(L352<>\"\",VLOOKUP(UPPER(L352),Sheet2!$A$9:$B$24,2,FALSE),\"\")","v":""}]
[null,null,null,null,null,null,null,null,null,null,null,null,null,null,"",{"$f":"IF(J353<>\"\",VLOOKUP(UPPER(J353),Sheet2!$A$3:$B$7,2,FALSE),\"\")","v":""},{"$f":"IF(L353<>\"\",VLOOKUP(UPPER(L353),Sheet2!$A$9:$B$24,2,FALSE),\"\")","v":""}]
[null,null,null,null,null,null,null,null,null,null,null,null,null,null,"",{"$f":"IF(J354<>\"\",VLOOKUP(UPPER(J354),Sheet2!$A$3:$B$7,2,FALSE),\"\")","v":""},{"$f":"IF(L354<>\"\",VLOOKUP(UPPER(L354),Sheet2!$A$9:$B$24,2,FALSE),\"\")","v":""}]
[null,null,null,null,null,null,null,null,null,null,null,null,null,null,"",{"$f":"IF(J355<>\"\",VLOOKUP(UPPER(J355),Sheet2!$A$3:$B$7,2,FALSE),\"\")","v":""},{"$f":"IF(L355<>\"\",VLOOKUP(UPPER(L355),Sheet2!$A$9:$B$24,2,FALSE),\"\")","v":""}]
[null,null,null,null,null,null,null,null,null,null,null,null,null,null,"",{"$f":"IF(J356<>\"\",VLOOKUP(UPPER(J356),Sheet2!$A$3:$B$7,2,FALSE),\"\")","v":""},{"$f":"IF(L356<>\"\",VLOOKUP(UPPER(L356),Sheet2!$A$9:$B$24,2,FALSE),\"\")","v":""}]
[null,null,null,null,null,null,null,null,null,null,null,null,null,null,"",{"$f":"IF(J357<>\"\",VLOOKUP(UPPER(J357),Sheet2!$A$3:$B$7,2,FALSE),\"\")","v":""},{"$f":"IF(L357<>\"\",VLOOKUP(UPPER(L357),Sheet2!$A$9:$B$24,2,FALSE),\"\")","v":""}]
[null,null,null,null,null,null,null,null,null,null,null,null,null,null,"",{"$f":"IF(J358<>\"\",VLOOKUP(UPPER(J358),Sheet2!$A$3:$B$7,2,FALSE),\"\")","v":""},{"$f":"IF(L358<>\"\",VLOOKUP(UPPER(L358),Sheet2!$A$9:$B$24,2,FALSE),\"\")","v":""}]
[null,null,null,null,null,null,null,null,null,null,null,null,null,null,"",{"$f":"IF(J359<>\"\",VLOOKUP(UPPER(J359),Sheet2!$A$3:$B$7,2,FALSE),\"\")","v":""},{"$f":"IF(L359<>\"\",VLOOKUP(UPPER(L359),Sheet2!$A$9:$B$24,2,FALSE),\"\")","v":""}]
[null,null,null,null,null,null,null,null,null,null,null,null,null,null,"",{"$f":"IF(J360<>\"\",VLOOKUP(UPPER(J360),Sheet2!$A$3:$B$7,2,FALSE),\"\")","v":""},{"$f":"IF(L360<>\"\",VLOOKUP(UPPER(L360),Sheet2!$A$9:$B$24,2,FALSE),\"\")","v":""}]
[null,null,null,null,null,null,null,null,null,null,null,null,null,null,"",{"$f":"IF(J361<>\"\",VLOOKUP(UPPER(J361),Sheet2!$A$3:$B$7,2,FALSE),\"\")","v":""},{"$f":"IF(L361<>\"\",VLOOKUP(UPPER(L361),Sheet2!$A$9:$B$24,2,FALSE),\"\")","v":""}]
[null,null,null,null,null,null,null,null,null,null,null,null,null,null,"",{"$f":"IF(J362<>\"\",VLOOKUP(UPPER(J362),Sheet2!$A$3:$B$7,2,FALSE),\"\")","v":""},{"$f":"IF(L362<>\"\",VLOOKUP(UPPER(L362),Sheet2!$A$9:$B$24,2,FALSE),\"\")","v":""}]
[null,null,null,null,null,null,null,null,null,null,null,null,null,null,"",{"$f":"IF(J363<>\"\",VLOOKUP(UPPER(J363),Sheet2!$A$3:$B$7,2,FALSE),\"\")","v":""},{"$f":"IF(L363<>\"\",VLOOKUP(UPPER(L363),Sheet2!$A$9:$B$24,2,FALSE),\"\")","v":""}]
[null,null,null,null,null,null,null,null,null,null,null,null,null,null,"",{"$f":"IF(J364<>\"\",VLOOKUP(UPPER(J364),Sheet2!$A$3:$B$7,2,FALSE),\"\")","v":""},{"$f":"IF(L364<>\"\",VLOOKUP(UPPER(L364),Sheet2!$A$9:$B$24,2,FALSE),\"\")","v":""}]
[null,null,null,null,null,null,null,null,null,null,null,null,null,null,"",{"$f":"IF(J365<>\"\",VLOOKUP(UPPER(J365),Sheet2!$A$3:$B$7,2,FALSE),\"\")","v":""},{"$f":"IF(L365<>\"\",VLOOKUP(UPPER(L365),Sheet2!$A$9:$B$24,2,FALSE),\"\")","v":""}]
[null,null,null,null,null,null,null,null,null,null,null,null,null,null,"",{"$f":"IF(J366<>\"\",VLOOKUP(UPPER(J366),Sheet2!$A$3:$B$7,2,FALSE),\"\")","v":""},{"$f":"IF(L366<>\"\",VLOOKUP(UPPER(L366),Sheet2!$A$9:$B$24,2,FALSE),\"\")","v":""}]
[null,null,null,null,null,null,null,null,null,null,null,null,null,null,"",{"$f":"IF(J367<>\"\",VLOOKUP(UPPER(J367),Sheet2!$A$3:$B$7,2,FALSE),\"\")","v":""},{"$f":"IF(L367<>\"\",VLOOKUP(UPPER(L367),Sheet2!$A$9:$B$24,2,FALSE),\"\")","v":""}]
[null,null,null,null,null,null,null,null,null,null,null,null,null,null,"",{"$f":"IF(J368<>\"\",VLOOKUP(UPPER(J368),Sheet2!$A$3:$B$7,2,FALSE),\"\")","v":""},{"$f":"IF(L368<>\"\",VLOOKUP(UPPER(L368),Sheet2!$A$9:$B$24,2,FALSE),\"\")","v":""}]
[null,null,null,null,null,null,null,null,null,null,null,null,null,null,"",{"$f":"IF(J369<>\"\",VLOOKUP(UPPER(J369),Sheet2!$A$3:$B$7,2,FALSE),\"\")","v":""},{"$f":"IF(L369<>\"\",VLOOKUP(UPPER(L369),Sheet2!$A$9:$B$24,2,FALSE),\"\")","v":""}]
[null,null,null,null,null,null,null,null,null,null,null,null,null,null,"",{"$f":"IF(J370<>\"\",VLOOKUP(UPPER(J370),Sheet2!$A$3:$B$7,2,FALSE),\"\")","v":""},{"$f":"IF(L370<>\"\",VLOOKUP(UPPER(L370),Sheet2!$A$9:$B$24,2,FALSE),\"\")","v":""}]
[null,null,null,null,null,null,null,null,null,null,null,null,null,null,"",{"$f":"IF(J371<>\"\",VLOOKUP(UPPER(J371),Sheet2!$A$3:$B$7,2,FALSE),\"\")","v":""},{"$f":"IF(L371<>\"\",VLOOKUP(UPPER(L371),Sheet2!$A$9:$B$24,2,FALSE),\"\")","v":""}]
[null,null,null,null,null,null,null,null,null,null,null,null,null,null,"",{"$f":"IF(J372<>\"\",VLOOKUP(UPPER(J372),Sheet2!$A$3:$B$7,2,FALSE),\"\")","v":""},{"$f":"IF(L372<>\"\",VLOOKUP(UPPER(L372),Sheet2!$A$9:$B$24,2,FALSE),\"\")","v":""}]
[null,null,null,null,null,null,null,null,null,null,null,null,null,null,"",{"$f":"IF(J373<>\"\",VLOOKUP(UPPER(J373),Sheet2!$A$3:$B$7,2,FALSE),\"\")","v":""},{"$f":"IF(L373<>\"\",VLOOKUP(UPPER(L373),Sheet2!$A$9:$B$24,2,FALSE),\"\")","v":""}]
[null,null,null,null,null,null,null,null,null,null,null,null,null,null,"",{"$f":"IF(J374<>\"\",VLOOKUP(UPPER(J374),Sheet2!$A$3:$B$7,2,FALSE),\"\")","v":""},{"$f":"IF(L374<>\"\",VLOOKUP(UPPER(L374),Sheet2!$A$9:$B$24,2,FALSE),\"\")","v":""}]
[null,null,null,null,null,null,null,null,null,null,null,null,null,null,"",{"$f":"IF(J375<>\"\",VLOOKUP(UPPER(J375),Sheet2!$A$3:$B$7,2,FALSE),\"\")","v":""},{"$f":"IF(L375<>\"\",VLOOKUP(UPPER(L375),Sheet2!$A$9:$B$24,2,FALSE),\"\")","v":""}]
[null,null,null,null,null,null,null,null,null,null,null,null,null,null,"",{"$f":"IF(J376<>\"\",VLOOKUP(UPPER(J376),Sheet2!$A$3:$B$7,2,FALSE),\"\")","v":""},{"$f":"IF(L376<>\"\",VLOOKUP(UPPER(L376),Sheet2!$A$9:$B$24,2,FALSE),\"\")","v":""}]
[null,null,null,null,null,null,null,null,null,null,null,null,null,null,"",{"$f":"IF(J377<>\"\",VLOOKUP(UPPER(J377),Sheet2!$A$3:$B$7,2,FALSE),\"\")","v":""},{"$f":"IF(L377<>\"\",VLOOKUP(UPPER(L377),Sheet2!$A$9:$B$24,2,FALSE),\"\")","v":""}]
[null,null,null,null,null,null,null,null,null,null,null,null,null,null,"",{"$f":"IF(J378<>\"\",VLOOKUP(UPPER(J378),Sheet2!$A$3:$B$7,2,FALSE),\"\")","v":""},{"$f":"IF(L378<>\"\",VLOOKUP(UPPER(L378),Sheet2!$A$9:$B$24,2,FALSE),\"\")","v":""}]
[null,null,null,null,null,null,null,null,null,null,null,null,null,null,"",{"$f":"IF(J379<>\"\",VLOOKUP(UPPER(J379),Sheet2!$A$3:$B$7,2,FALSE),\"\")","v":""},{"$f":"IF(L379<>\"\",VLOOKUP(UPPER(L379),Sheet2!$A$9:$B$24,2,FALSE),\"\")","v":""}]
[null,null,null,null,null,null,null,null,null,null,null,null,null,null,"",{"$f":"IF(J380<>\"\",VLOOKUP(UPPER(J380),Sheet2!$A$3:$B$7,2,FALSE),\"\")","v":""},{"$f":"IF(L380<>\"\",VLOOKUP(UPPER(L380),Sheet2!$A$9:$B$24,2,FALSE),\"\")","v":""}]
[null,null,null,null,null,null,null,null,null,null,null,null,null,null,"",{"$f":"IF(J381<>\"\",VLOOKUP(UPPER(J381),Sheet2!$A$3:$B$7,2,FALSE),\"\")","v":""},{"$f":"IF(L381<>\"\",VLOOKUP(UPPER(L381),Sheet2!$A$9:$B$24,2,FALSE),\"\")","v":""}]
[null,null,null,null,null,null,null,null,null,null,null,null,null,null,"",{"$f":"IF(J382<>\"\",VLOOKUP(UPPER(J382),Sheet2!$A$3:$B$7,2,FALSE),\"\")","v":""},{"$f":"IF(L382<>\"\",VLOOKUP(UPPER(L382),Sheet2!$A$9:$B$24,2,FALSE),\"\")","v":""}]
[null,null,null,null,null,null,null,null,null,null,null,null,null,null,"",{"$f":"IF(J383<>\"\",VLOOKUP(UPPER(J383),Sheet2!$A$3:$B$7,2,FALSE),\"\")","v":""},{"$f":"IF(L383<>\"\",VLOOKUP(UPPER(L383),Sheet2!$A$9:$B$24,2,FALSE),\"\")","v":""}]
[null,null,null,null,null,null,null,null,null,null,null,null,null,null,"",{"$f":"IF(J384<>\"\",VLOOKUP(UPPER(J384),Sheet2!$A$3:$B$7,2,FALSE),\"\")","v":""},{"$f":"IF(L384<>\"\",VLOOKUP(UPPER(L384),Sheet2!$A$9:$B$24,2,FALSE),\"\")","v":""}]
[null,null,null,null,null,null,null,null,null,null,null,null,null,null,"",{"$f":"IF(J385<>\"\",VLOOKUP(UPPER(J385),Sheet2!$A$3:$B$7,2,FALSE),\"\")","v":""},{"$f":"IF(L385<>\"\",VLOOKUP(UPPER(L385),Sheet2!$A$9:$B$24,2,FALSE),\"\")","v":""}]
[null,null,null,null,null,null,null,null,null,null,null,null,null,null,"",{"$f":"IF(J386<>\"\",VLOOKUP(UPPER(J386),Sheet2!$A$3:$B$7,2,FALSE),\"\")","v":""},{"$f":"IF(L386<>\"\",VLOOKUP(UPPER(L386),Sheet2!$A$9:$B$24,2,FALSE),\"\")","v":""}]
[null,null,null,null,null,null,null,null,null,null,null,null,null,null,"",{"$f":"IF(J387<>\"\",VLOOKUP(UPPER(J387),Sheet2!$A$3:$B$7,2,FALSE),\"\")","v":""},{"$f":"IF(L387<>\"\",VLOOKUP(UPPER(L387),Sheet2!$A$9:$B$24,2,FALSE),\"\")","v":""}]
[null,null,null,null,null,null,null,null,null,null,null,null,null,null,"",{"$f":"IF(J388<>\"\",VLOOKUP(UPPER(J388),Sheet2!$A$3:$B$7,2,FALSE),\"\")","v":""},{"$f":"IF(L388<>\"\",VLOOKUP(UPPER(L388),Sheet2!$A$9:$B$24,2,FALSE),\"\")","v":""}]
[null,null,null,null,null,null,null,null,null,null,null,null,null,null,"",{"$f":"IF(J389<>\"\",VLOOKUP(UPPER(J389),Sheet2!$A$3:$B$7,2,FALSE),\"\")","v":""},{"$f":"IF(L389<>\"\",VLOOKUP(UPPER(L389),Sheet2!$A$9:$B$24,2,FALSE),\"\")","v":""}]
[null,null,null,null,null,null,null,null,null,null,null,null,null,null,{"$f":"IF(OR(A390<>\"\",B390<>\"\",C390<>\"\",D390<>\"\",E390<>\"\",F390<>\"\",G390<>\"\",H390<>\"\",I390<>\"\",J390<>\"\",K390<>\"\",L390<>\"\",M390<>\"\",N390<>\"\"),IF(AND(A390<>\"\",B390<>\"\",C390<>\"\",D390<>\"\",I390<>\"\",K390<>\"\"),\"COMPLETE\",\"INCOMPLETE\"),\"\")","v":""},{"$f":"IF(J390<>\"\",VLOOKUP(UPPER(J390),Sheet2!$A$3:$B$7,2,FALSE),\"\")","v":""},{"$f":"IF(L390<>\"\",VLOOKUP(UPPER(L390),Sheet2!$A$9:$B$24,2,FALSE),\"\")","v":""}]
[null,null,null,null,null,null,null,null,null,null,null,null,null,null,"",{"$f":"IF(J391<>\"\",VLOOKUP(UPPER(J391),Sheet2!$A$3:$B$7,2,FALSE),\"\")","v":""},{"$f":"IF(L391<>\"\",VLOOKUP(UPPER(L391),Sheet2!$A$9:$B$24,2,FALSE),\"\")","v":""}]
[null,null,null,null,null,null,null,null,null,null,null,null,null,null,"",{"$f":"IF(J392<>\"\",VLOOKUP(UPPER(J392),Sheet2!$A$3:$B$7,2,FALSE),\"\")","v":""},{"$f":"IF(L392<>\"\",VLOOKUP(UPPER(L392),Sheet2!$A$9:$B$24,2,FALSE),\"\")","v":""}]
[null,null,null,null,null,null,null,null,null,null,null,null,null,null,"",{"$f":"IF(J393<>\"\",VLOOKUP(UPPER(J393),Sheet2!$A$3:$B$7,2,FALSE),\"\")","v":""},{"$f":"IF(L393<>\"\",VLOOKUP(UPPER(L393),Sheet2!$A$9:$B$24,2,FALSE),\"\")","v":""}]
[null,null,null,null,null,null,null,null,null,null,null,null,null,null,"",{"$f":"IF(J394<>\"\",VLOOKUP(UPPER(J394),Sheet2!$A$3:$B$7,2,FALSE),\"\")","v":""},{"$f":"IF(L394<>\"\",VLOOKUP(UPPER(L394),Sheet2!$A$9:$B$24,2,FALSE),\"\")","v":""}]
[null,null,null,null,null,null,null,null,null,null,null,null,null,null,"",{"$f":"IF(J395<>\"\",VLOOKUP(UPPER(J395),Sheet2!$A$3:$B$7,2,FALSE),\"\")","v":""},{"$f":"IF(L395<>\"\",VLOOKUP(UPPER(L395),Sheet2!$A$9:$B$24,2,FALSE),\"\")","v":""}]
[null,null,null,null,null,null,null,null,null,null,null,null,null,null,"",{"$f":"IF(J396<>\"\",VLOOKUP(UPPER(J396),Sheet2!$A$3:$B$7,2,FALSE),\"\")","v":""},{"$f":"IF(L396<>\"\",VLOOKUP(UPPER(L396),Sheet2!$A$9:$B$24,2,FALSE),\"\")","v":""}]
[null,null,null,null,null,null,null,null,null,null,null,null,null,null,"",{"$f":"IF(J397<>\"\",VLOOKUP(UPPER(J397),Sheet2!$A$3:$B$7,2,FALSE),\"\")","v":""},{"$f":"IF(L397<>\"\",VLOOKUP(UPPER(L397),Sheet2!$A$9:$B$24,2,FALSE),\"\")","v":""}]
[null,null,null,null,null,null,null,null,null,null,null,null,null,null,"",{"$f":"IF(J398<>\"\",VLOOKUP(UPPER(J398),Sheet2!$A$3:$B$7,2,FALSE),\"\")","v":""},{"$f":"IF(L398<>\"\",VLOOKUP(UPPER(L398),Sheet2!$A$9:$B$24,2,FALSE),\"\")","v":""}]
[null,null,null,null,null,null,null,null,null,null,null,null,null,null,"",{"$f":"IF(J399<>\"\",VLOOKUP(UPPER(J399),Sheet2!$A$3:$B$7,2,FALSE),\"\")","v":""},{"$f":"IF(L399<>\"\",VLOOKUP(UPPER(L399),Sheet2!$A$9:$B$24,2,FALSE),\"\")","v":""}]
[null,null,null,null,null,null,null,null,null,null,null,null,null,null,"",{"$f":"IF(J400<>\"\",VLOOKUP(UPPER(J400),Sheet2!$A$3:$B$7,2,FALSE),\"\")","v":""},{"$f":"IF(L400<>\"\",VLOOKUP(UPPER(L400),Sheet2!$A$9:$B$24,2,FALSE),\"\")","v":""}]
[null,null,null,null,null,null,null,null,null,null,null,null,null,null,"",{"$f":"IF(J401<>\"\",VLOOKUP(UPPER(J401),Sheet2!$A$3:$B$7,2,FALSE),\"\")","v":""},{"$f":"IF(L401<>\"\",VLOOKUP(UPPER(L401),Sheet2!$A$9:$B$24,2,FALSE),\"\")","v":""}]
[null,null,null,null,null,null,null,null,null,null,null,null,null,null,"",{"$f":"IF(J402<>\"\",VLOOKUP(UPPER(J402),Sheet2!$A$3:$B$7,2,FALSE),\"\")","v":""},{"$f":"IF(L402<>\"\",VLOOKUP(UPPER(L402),Sheet2!$A$9:$B$24,2,FALSE),\"\")","v":""}]
[null,null,null,null,null,null,null,null,null,null,null,null,null,null,"",{"$f":"IF(J403<>\"\",VLOOKUP(UPPER(J403),Sheet2!$A$3:$B$7,2,FALSE),\"\")","v":""},{"$f":"IF(L403<>\"\",VLOOKUP(UPPER(L403),Sheet2!$A$9:$B$24,2,FALSE),\"\")","v":""}]
[null,null,null,null,null,null,null,null,null,null,null,null,null,null,"",{"$f":"IF(J404<>\"\",VLOOKUP(UPPER(J404),Sheet2!$A$3:$B$7,2,FALSE),\"\")","v":""},{"$f":"IF(L404<>\"\",VLOOKUP(UPPER(L404),Sheet2!$A$9:$B$24,2,FALSE),\"\")","v":""}]
[null,null,null,null,null,null,null,null,null,null,null,null,null,null,"",{"$f":"IF(J405<>\"\",VLOOKUP(UPPER(J405),Sheet2!$A$3:$B$7,2,FALSE),\"\")","v":""},{"$f":"IF(L405<>\"\",VLOOKUP(UPPER(L405),Sheet2!$A$9:$B$24,2,FALSE),\"\")","v":""}]
[null,null,null,null,null,null,null,null,null,null,null,null,null,null,"",{"$f":"IF(J406<>\"\",VLOOKUP(UPPER(J406),Sheet2!$A$3:$B$7,2,FALSE),\"\")","v":""},{"$f":"IF(L406<>\"\",VLOOKUP(UPPER(L406),Sheet2!$A$9:$B$24,2,FALSE),\"\")","v":""}]
[null,null,null,null,null,null,null,null,null,null,null,null,null,null,"",{"$f":"IF(J407<>\"\",VLOOKUP(UPPER(J407),Sheet2!$A$3:$B$7,2,FALSE),\"\")","v":""},{"$f":"IF(L407<>\"\",VLOOKUP(UPPER(L407),Sheet2!$A$9:$B$24,2,FALSE),\"\")","v":""}]
[null,null,null,null,null,null,null,null,null,null,null,null,null,null,"",{"$f":"IF(J408<>\"\",VLOOKUP(UPPER(J408),Sheet2!$A$3:$B$7,2,FALSE),\"\")","v":""},{"$f":"IF(L408<>\"\",VLOOKUP(UPPER(L408),Sheet2!$A$9:$B$24,2,FALSE),\"\")","v":""}]
[null,null,null,null,null,null,null,null,null,null,null,null,null,null,"",{"$f":"IF(J409<>\"\",VLOOKUP(UPPER(J409),Sheet2!$A$3:$B$7,2,FALSE),\"\")","v":""},{"$f":"IF(L409<>\"\",VLOOKUP(UPPER(L409),Sheet2!$A$9:$B$24,2,FALSE),\"\")","v":""}]
[null,null,null,null,null,null,null,null,null,null,null,null,null,null,"",{"$f":"IF(J410<>\"\",VLOOKUP(UPPER(J410),Sheet2!$A$3:$B$7,2,FALSE),\"\")","v":""},{"$f":"IF(L410<>\"\",VLOOKUP(UPPER(L410),Sheet2!$A$9:$B$24,2,FALSE),\"\")","v":""}]
[null,null,null,null,null,null,null,null,null,null,null,null,null,null,"",{"$f":"IF(J411<>\"\",VLOOKUP(UPPER(J411),Sheet2!$A$3:$B$7,2,FALSE),\"\")","v":""},{"$f":"IF(L411<>\"\",VLOOKUP(UPPER(L411),Sheet2!$A$9:$B$24,2,FALSE),\"\")","v":""}]
[null,null,null,null,null,null,null,null,null,null,null,null,null,null,"",{"$f":"IF(J412<>\"\",VLOOKUP(UPPER(J412),Sheet2!$A$3:$B$7,2,FALSE),\"\")","v":""},{"$f":"IF(L412<>\"\",VLOOKUP(UPPER(L412),Sheet2!$A$9:$B$24,2,FALSE),\"\")","v":""}]
[null,null,null,null,null,null,null,null,null,null,null,null,null,null,"",{"$f":"IF(J413<>\"\",VLOOKUP(UPPER(J413),Sheet2!$A$3:$B$7,2,FALSE),\"\")","v":""},{"$f":"IF(L413<>\"\",VLOOKUP(UPPER(L413),Sheet2!$A$9:$B$24,2,FALSE),\"\")","v":""}]
[null,null,null,null,null,null,null,null,null,null,null,null,null,null,"",{"$f":"IF(J414<>\"\",VLOOKUP(UPPER(J414),Sheet2!$A$3:$B$7,2,FALSE),\"\")","v":""},{"$f":"IF(L414<>\"\",VLOOKUP(UPPER(L414),Sheet2!$A$9:$B$24,2,FALSE),\"\")","v":""}]
[null,null,null,null,null,null,null,null,null,null,null,null,null,null,"",{"$f":"IF(J415<>\"\",VLOOKUP(UPPER(J415),Sheet2!$A$3:$B$7,2,FALSE),\"\")","v":""},{"$f":"IF(L415<>\"\",VLOOKUP(UPPER(L415),Sheet2!$A$9:$B$24,2,FALSE),\"\")","v":""}]
[null,null,null,null,null,null,null,null,null,null,null,null,null,null,"",{"$f":"IF(J416<>\"\",VLOOKUP(UPPER(J416),Sheet2!$A$3:$B$7,2,FALSE),\"\")","v":""},{"$f":"IF(L416<>\"\",VLOOKUP(UPPER(L416),Sheet2!$A$9:$B$24,2,FALSE),\"\")","v":""}]
[null,null,null,null,null,null,null,null,null,null,null,null,null,null,"",{"$f":"IF(J417<>\"\",VLOOKUP(UPPER(J417),Sheet2!$A$3:$B$7,2,FALSE),\"\")","v":""},{"$f":"IF(L417<>\"\",VLOOKUP(UPPER(L417),Sheet2!$A$9:$B$24,2,FALSE),\"\")","v":""}]
[null,null,null,null,null,null,null,null,null,null,null,null,null,null,"",{"$f":"IF(J418<>\"\",VLOOKUP(UPPER(J418),Sheet2!$A$3:$B$7,2,FALSE),\"\")","v":""},{"$f":"IF(L418<>\"\",VLOOKUP(UPPER(L418),Sheet2!$A$9:$B$24,2,FALSE),\"\")","v":""}]
[null,null,null,null,null,null,null,null,null,null,null,null,null,null,"",{"$f":"IF(J419<>\"\",VLOOKUP(UPPER(J419),Sheet2!$A$3:$B$7,2,FALSE),\"\")","v":""},{"$f":"IF(L419<>\"\",VLOOKUP(UPPER(L419),Sheet2!$A$9:$B$24,2,FALSE),\"\")","v":""}]
[null,null,null,null,null,null,null,null,null,null,null,null,null,null,"",{"$f":"IF(J420<>\"\",VLOOKUP(UPPER(J420),Sheet2!$A$3:$B$7,2,FALSE),\"\")","v":""},{"$f":"IF(L420<>\"\",VLOOKUP(UPPER(L420),Sheet2!$A$9:$B$24,2,FALSE),\"\")","v":""}]
[null,null,null,null,null,null,null,null,null,null,null,null,null,null,"",{"$f":"IF(J421<>\"\",VLOOKUP(UPPER(J421),Sheet2!$A$3:$B$7,2,FALSE),\"\")","v":""},{"$f":"IF(L421<>\"\",VLOOKUP(UPPER(L421),Sheet2!$A$9:$B$24,2,FALSE),\"\")","v":""}]
[null,null,null,null,null,null,null,null,null,null,null,null,null,null,"",{"$f":"IF(J422<>\"\",VLOOKUP(UPPER(J422),Sheet2!$A$3:$B$7,2,FALSE),\"\")","v":""},{"$f":"IF(L422<>\"\",VLOOKUP(UPPER(L422),Sheet2!$A$9:$B$24,2,FALSE),\"\")","v":""}]
[null,null,null,null,null,null,null,null,null,null,null,null,null,null,"",{"$f":"IF(J423<>\"\",VLOOKUP(UPPER(J423),Sheet2!$A$3:$B$7,2,FALSE),\"\")","v":""},{"$f":"IF(L423<>\"\",VLOOKUP(UPPER(L423),Sheet2!$A$9:$B$24,2,FALSE),\"\")","v":""}]
[null,null,null,null,null,null,null,null,null,null,null,null,null,null,"",{"$f":"IF(J424<>\"\",VLOOKUP(UPPER(J424),Sheet2!$A$3:$B$7,2,FALSE),\"\")","v":""},{"$f":"IF(L424<>\"\",VLOOKUP(UPPER(L424),Sheet2!$A$9:$B$24,2,FALSE),\"\")","v":""}]
[null,null,null,null,null,null,null,null,null,null,null,null,null,null,"",{"$f":"IF(J425<>\"\",VLOOKUP(UPPER(J425),Sheet2!$A$3:$B$7,2,FALSE),\"\")","v":""},{"$f":"IF(L425<>\"\",VLOOKUP(UPPER(L425),Sheet2!$A$9:$B$24,2,FALSE),\"\")","v":""}]
[null,null,null,null,null,null,null,null,null,null,null,null,null,null,"",{"$f":"IF(J426<>\"\",VLOOKUP(UPPER(J426),Sheet2!$A$3:$B$7,2,FALSE),\"\")","v":""},{"$f":"IF(L426<>\"\",VLOOKUP(UPPER(L426),Sheet2!$A$9:$B$24,2,FALSE),\"\")","v":""}]
[null,null,null,null,null,null,null,null,null,null,null,null,null,null,"",{"$f":"IF(J427<>\"\",VLOOKUP(UPPER(J427),Sheet2!$A$3:$B$7,2,FALSE),\"\")","v":""},{"$f":"IF(L427<>\"\",VLOOKUP(UPPER(L427),Sheet2!$A$9:$B$24,2,FALSE),\"\")","v":""}]
[null,null,null,null,null,null,null,null,null,null,null,null,null,null,"",{"$f":"IF(J428<>\"\",VLOOKUP(UPPER(J428),Sheet2!$A$3:$B$7,2,FALSE),\"\")","v":""},{"$f":"IF(L428<>\"\",VLOOKUP(UPPER(L428),Sheet2!$A$9:$B$24,2,FALSE),\"\")","v":""}]
[null,null,null,null,null,null,null,null,null,null,null,null,null,null,"",{"$f":"IF(J429<>\"\",VLOOKUP(UPPER(J429),Sheet2!$A$3:$B$7,2,FALSE),\"\")","v":""},{"$f":"IF(L429<>\"\",VLOOKUP(UPPER(L429),Sheet2!$A$9:$B$24,2,FALSE),\"\")","v":""}]
[null,null,null,null,null,null,null,null,null,null,null,null,null,null,"",{"$f":"IF(J430<>\"\",VLOOKUP(UPPER(J430),Sheet2!$A$3:$B$7,2,FALSE),\"\")","v":""},{"$f":"IF(L430<>\"\",VLOOKUP(UPPER(L430),Sheet2!$A$9:$B$24,2,FALSE),\"\")","v":""}]
[null,null,null,null,null,null,null,null,null,null,null,null,null,null,"",{"$f":"IF(J431<>\"\",VLOOKUP(UPPER(J431),Sheet2!$A$3:$B$7,2,FALSE),\"\")","v":""},{"$f":"IF(L431<>\"\",VLOOKUP(UPPER(L431),Sheet2!$A$9:$B$24,2,FALSE),\"\")","v":""}]
[null,null,null,null,null,null,null,null,null,null,null,null,null,null,"",{"$f":"IF(J432<>\"\",VLOOKUP(UPPER(J432),Sheet2!$A$3:$B$7,2,FALSE),\"\")","v":""},{"$f":"IF(L432<>\"\",VLOOKUP(UPPER(L432),Sheet2!$A$9:$B$24,2,FALSE),\"\")","v":""}]
[null,null,null,null,null,null,null,null,null,null,null,null,null,null,"",{"$f":"IF(J433<>\"\",VLOOKUP(UPPER(J433),Sheet2!$A$3:$B$7,2,FALSE),\"\")","v":""},{"$f":"IF(L433<>\"\",VLOOKUP(UPPER(L433),Sheet2!$A$9:$B$24,2,FALSE),\"\")","v":""}]
[null,null,null,null,null,null,null,null,null,null,null,null,null,null,"",{"$f":"IF(J434<>\"\",VLOOKUP(UPPER(J434),Sheet2!$A$3:$B$7,2,FALSE),\"\")","v":""},{"$f":"IF(L434<>\"\",VLOOKUP(UPPER(L434),Sheet2!$A$9:$B$24,2,FALSE),\"\")","v":""}]
[null,null,null,null,null,null,null,null,null,null,null,null,null,null,"",{"$f":"IF(J435<>\"\",VLOOKUP(UPPER(J435),Sheet2!$A$3:$B$7,2,FALSE),\"\")","v":""},{"$f":"IF(L435<>\"\",VLOOKUP(UPPER(L435),Sheet2!$A$9:$B$24,2,FALSE),\"\")","v":""}]
[null,null,null,null,null,null,null,null,null,null,null,null,null,null,"",{"$f":"IF(J436<>\"\",VLOOKUP(UPPER(J436),Sheet2!$A$3:$B$7,2,FALSE),\"\")","v":""},{"$f":"IF(L436<>\"\",VLOOKUP(UPPER(L436),Sheet2!$A$9:$B$24,2,FALSE),\"\")","v":""}]
[null,null,null,null,null,null,null,null,null,null,null,null,null,null,"",{"$f":"IF(J437<>\"\",VLOOKUP(UPPER(J437),Sheet2!$A$3:$B$7,2,FALSE),\"\")","v":""},{"$f":"IF(L437<>\"\",VLOOKUP(UPPER(L437),Sheet2!$A$9:$B$24,2,FALSE),\"\")","v":""}]
[null,null,null,null,null,null,null,null,null,null,null,null,null,null,"",{"$f":"IF(J438<>\"\",VLOOKUP(UPPER(J438),Sheet2!$A$3:$B$7,2,FALSE),\"\")","v":""},{"$f":"IF(L438<>\"\",VLOOKUP(UPPER(L438),Sheet2!$A$9:$B$24,2,FALSE),\"\")","v":""}]
[null,null,null,null,null,null,null,null,null,null,null,null,null,null,"",{"$f":"IF(J439<>\"\",VLOOKUP(UPPER(J439),Sheet2!$A$3:$B$7,2,FALSE),\"\")","v":""},{"$f":"IF(L439<>\"\",VLOOKUP(UPPER(L439),Sheet2!$A$9:$B$24,2,FALSE),\"\")","v":""}]
[null,null,null,null,null,null,null,null,null,null,null,null,null,null,"",{"$f":"IF(J440<>\"\",VLOOKUP(UPPER(J440),Sheet2!$A$3:$B$7,2,FALSE),\"\")","v":""},{"$f":"IF(L440<>\"\",VLOOKUP(UPPER(L440),Sheet2!$A$9:$B$24,2,FALSE),\"\")","v":""}]
[null,null,null,null,null,null,null,null,null,null,null,null,null,null,"",{"$f":"IF(J441<>\"\",VLOOKUP(UPPER(J441),Sheet2!$A$3:$B$7,2,FALSE),\"\")","v":""},{"$f":"IF(L441<>\"\",VLOOKUP(UPPER(L441),Sheet2!$A$9:$B$24,2,FALSE),\"\")","v":""}]
[null,null,null,null,null,null,null,null,null,null,null,null,null,null,"",{"$f":"IF(J442<>\"\",VLOOKUP(UPPER(J442),Sheet2!$A$3:$B$7,2,FALSE),\"\")","v":""},{"$f":"IF(L442<>\"\",VLOOKUP(UPPER(L442),Sheet2!$A$9:$B$24,2,FALSE),\"\")","v":""}]
[null,null,null,null,null,null,null,null,null,null,null,null,null,null,"",{"$f":"IF(J443<>\"\",VLOOKUP(UPPER(J443),Sheet2!$A$3:$B$7,2,FALSE),\"\")","v":""},{"$f":"IF(L443<>\"\",VLOOKUP(UPPER(L443),Sheet2!$A$9:$B$24,2,FALSE),\"\")","v":""}]
[null,null,null,null,null,null,null,null,null,null,null,null,null,null,"",{"$f":"IF(J444<>\"\",VLOOKUP(UPPER(J444),Sheet2!$A$3:$B$7,2,FALSE),\"\")","v":""},{"$f":"IF(L444<>\"\",VLOOKUP(UPPER(L444),Sheet2!$A$9:$B$24,2,FALSE),\"\")","v":""}]
[null,null,null,null,null,null,null,null,null,null,null,null,null,null,"",{"$f":"IF(J445<>\"\",VLOOKUP(UPPER(J445),Sheet2!$A$3:$B$7,2,FALSE),\"\")","v":""},{"$f":"IF(L445<>\"\",VLOOKUP(UPPER(L445),Sheet2!$A$9:$B$24,2,FALSE),\"\")","v":""}]
[null,null,null,null,null,null,null,null,null,null,null,null,null,null,"",{"$f":"IF(J446<>\"\",VLOOKUP(UPPER(J446),Sheet2!$A$3:$B$7,2,FALSE),\"\")","v":""},{"$f":"IF(L446<>\"\",VLOOKUP(UPPER(L446),Sheet2!$A$9:$B$24,2,FALSE),\"\")","v":""}]
[null,null,null,null,null,null,null,null,null,null,null,null,null,null,"",{"$f":"IF(J447<>\"\",VLOOKUP(UPPER(J447),Sheet2!$A$3:$B$7,2,FALSE),\"\")","v":""},{"$f":"IF(L447<>\"\",VLOOKUP(UPPER(L447),Sheet2!$A$9:$B$24,2,FALSE),\"\")","v":""}]
[null,null,null,null,null,null,null,null,null,null,null,null,null,null,"",{"$f":"IF(J448<>\"\",VLOOKUP(UPPER(J448),Sheet2!$A$3:$B$7,2,FALSE),\"\")","v":""},{"$f":"IF(L448<>\"\",VLOOKUP(UPPER(L448),Sheet2!$A$9:$B$24,2,FALSE),\"\")","v":""}]
[null,null,null,null,null,null,null,null,null,null,null,null,null,null,"",{"$f":"IF(J449<>\"\",VLOOKUP(UPPER(J449),Sheet2!$A$3:$B$7,2,FALSE),\"\")","v":""},{"$f":"IF(L449<>\"\",VLOOKUP(UPPER(L449),Sheet2!$A$9:$B$24,2,FALSE),\"\")","v":""}]
[null,null,null,null,null,null,null,null,null,null,null,null,null,null,"",{"$f":"IF(J450<>\"\",VLOOKUP(UPPER(J450),Sheet2!$A$3:$B$7,2,FALSE),\"\")","v":""},{"$f":"IF(L450<>\"\",VLOOKUP(UPPER(L450),Sheet2!$A$9:$B$24,2,FALSE),\"\")","v":""}]
[null,null,null,null,null,null,null,null,null,null,null,null,null,null,"",{"$f":"IF(J451<>\"\",VLOOKUP(UPPER(J451),Sheet2!$A$3:$B$7,2,FALSE),\"\")","v":""},{"$f":"IF(L451<>\"\",VLOOKUP(UPPER(L451),Sheet2!$A$9:$B$24,2,FALSE),\"\")","v":""}]
[null,null,null,null,null,null,null,null,null,null,null,null,null,null,"",{"$f":"IF(J452<>\"\",VLOOKUP(UPPER(J452),Sheet2!$A$3:$B$7,2,FALSE),\"\")","v":""},{"$f":"IF(L452<>\"\",VLOOKUP(UPPER(L452),Sheet2!$A$9:$B$24,2,FALSE),\"\")","v":""}]
[null,null,null,null,null,null,null,null,null,null,null,null,null,null,"",{"$f":"IF(J453<>\"\",VLOOKUP(UPPER(J453),Sheet2!$A$3:$B$7,2,FALSE),\"\")","v":""},{"$f":"IF(L453<>\"\",VLOOKUP(UPPER(L453),Sheet2!$A$9:$B$24,2,FALSE),\"\")","v":""}]
[null,null,null,null,null,null,null,null,null,null,null,null,null,null,{"$f":"IF(OR(A454<>\"\",B454<>\"\",C454<>\"\",D454<>\"\",E454<>\"\",F454<>\"\",G454<>\"\",H454<>\"\",I454<>\"\",J454<>\"\",K454<>\"\",L454<>\"\",M454<>\"\",N454<>\"\"),IF(AND(A454<>\"\",B454<>\"\",C454<>\"\",D454<>\"\",I454<>\"\",K454<>\"\"),\"COMPLETE\",\"INCOMPLETE\"),\"\")","v":""},{"$f":"IF(J454<>\"\",VLOOKUP(UPPER(J454),Sheet2!$A$3:$B$7,2,FALSE),\"\")","v":""},{"$f":"IF(L454<>\"\",VLOOKUP(UPPER(L454),Sheet2!$A$9:$B$24,2,FALSE),\"\")","v":""}]
[null,null,null,null,null,null,null,null,null,null,null,null,null,null,"",{"$f":"IF(J455<>\"\",VLOOKUP(UPPER(J455),Sheet2!$A$3:$B$7,2,FALSE),\"\")","v":""},{"$f":"IF(L455<>\"\",VLOOKUP(UPPER(L455),Sheet2!$A$9:$B$24,2,FALSE),\"\")","v":""}]
[null,null,null,null,null,null,null,null,null,null,null,null,null,null,"",{"$f":"IF(J456<>\"\",VLOOKUP(UPPER(J456),Sheet2!$A$3:$B$7,2,FALSE),\"\")","v":""},{"$f":"IF(L456<>\"\",VLOOKUP(UPPER(L456),Sheet2!$A$9:$B$24,2,FALSE),\"\")","v":""}]
[null,null,null,null,null,null,null,null,null,null,null,null,null,null,"",{"$f":"IF(J457<>\"\",VLOOKUP(UPPER(J457),Sheet2!$A$3:$B$7,2,FALSE),\"\")","v":""},{"$f":"IF(L457<>\"\",VLOOKUP(UPPER(L457),Sheet2!$A$9:$B$24,2,FALSE),\"\")","v":""}]
[null,null,null,null,null,null,null,null,null,null,null,null,null,null,"",{"$f":"IF(J458<>\"\",VLOOKUP(UPPER(J458),Sheet2!$A$3:$B$7,2,FALSE),\"\")","v":""},{"$f":"IF(L458<>\"\",VLOOKUP(UPPER(L458),Sheet2!$A$9:$B$24,2,FALSE),\"\")","v":""}]
[null,null,null,null,null,null,null,null,null,null,null,null,null,null,"",{"$f":"IF(J459<>\"\",VLOOKUP(UPPER(J459),Sheet2!$A$3:$B$7,2,FALSE),\"\")","v":""},{"$f":"IF(L459<>\"\",VLOOKUP(UPPER(L459),Sheet2!$A$9:$B$24,2,FALSE),\"\")","v":""}]
[null,null,null,null,null,null,null,null,null,null,null,null,null,null,"",{"$f":"IF(J460<>\"\",VLOOKUP(UPPER(J460),Sheet2!$A$3:$B$7,2,FALSE),\"\")","v":""},{"$f":"IF(L460<>\"\",VLOOKUP(UPPER(L460),Sheet2!$A$9:$B$24,2,FALSE),\"\")","v":""}]
[null,null,null,null,null,null,null,null,null,null,null,null,null,null,"",{"$f":"IF(J461<>\"\",VLOOKUP(UPPER(J461),Sheet2!$A$3:$B$7,2,FALSE),\"\")","v":""},{"$f":"IF(L461<>\"\",VLOOKUP(UPPER(L461),Sheet2!$A$9:$B$24,2,FALSE),\"\")","v":""}]
[null,null,null,null,null,null,null,null,null,null,null,null,null,null,"",{"$f":"IF(J462<>\"\",VLOOKUP(UPPER(J462),Sheet2!$A$3:$B$7,2,FALSE),\"\")","v":""},{"$f":"IF(L462<>\"\",VLOOKUP(UPPER(L462),Sheet2!$A$9:$B$24,2,FALSE),\"\")","v":""}]
[null,null,null,null,null,null,null,null,null,null,null,null,null,null,"",{"$f":"IF(J463<>\"\",VLOOKUP(UPPER(J463),Sheet2!$A$3:$B$7,2,FALSE),\"\")","v":""},{"$f":"IF(L463<>\"\",VLOOKUP(UPPER(L463),Sheet2!$A$9:$B$24,2,FALSE),\"\")","v":""}]
[null,null,null,null,null,null,null,null,null,null,null,null,null,null,"",{"$f":"IF(J464<>\"\",VLOOKUP(UPPER(J464),Sheet2!$A$3:$B$7,2,FALSE),\"\")","v":""},{"$f":"IF(L464<>\"\",VLOOKUP(UPPER(L464),Sheet2!$A$9:$B$24,2,FALSE),\"\")","v":""}]
[null,null,null,null,null,null,null,null,null,null,null,null,null,null,"",{"$f":"IF(J465<>\"\",VLOOKUP(UPPER(J465),Sheet2!$A$3:$B$7,2,FALSE),\"\")","v":""},{"$f":"IF(L465<>\"\",VLOOKUP(UPPER(L465),Sheet2!$A$9:$B$24,2,FALSE),\"\")","v":""}]
[null,null,null,null,null,null,null,null,null,null,null,null,null,null,"",{"$f":"IF(J466<>\"\",VLOOKUP(UPPER(J466),Sheet2!$A$3:$B$7,2,FALSE),\"\")","v":""},{"$f":"IF(L466<>\"\",VLOOKUP(UPPER(L466),Sheet2!$A$9:$B$24,2,FALSE),\"\")","v":""}]
[null,null,null,null,null,null,null,null,null,null,null,null,null,null,"",{"$f":"IF(J467<>\"\",VLOOKUP(UPPER(J467),Sheet2!$A$3:$B$7,2,FALSE),\"\")","v":""},{"$f":"IF(L467<>\"\",VLOOKUP(UPPER(L467),Sheet2!$A$9:$B$24,2,FALSE),\"\")","v":""}]
[null,null,null,null,null,null,null,null,null,null,null,null,null,null,"",{"$f":"IF(J468<>\"\",VLOOKUP(UPPER(J468),Sheet2!$A$3:$B$7,2,FALSE),\"\")","v":""},{"$f":"IF(L468<>\"\",VLOOKUP(UPPER(L468),Sheet2!$A$9:$B$24,2,FALSE),\"\")","v":""}]
[null,null,null,null,null,null,null,null,null,null,null,null,null,null,"",{"$f":"IF(J469<>\"\",VLOOKUP(UPPER(J469),Sheet2!$A$3:$B$7,2,FALSE),\"\")","v":""},{"$f":"IF(L469<>\"\",VLOOKUP(UPPER(L469),Sheet2!$A$9:$B$24,2,FALSE),\"\")","v":""}]
[null,null,null,null,null,null,null,null,null,null,null,null,null,null,"",{"$f":"IF(J470<>\"\",VLOOKUP(UPPER(J470),Sheet2!$A$3:$B$7,2,FALSE),\"\")","v":""},{"$f":"IF(L470<>\"\",VLOOKUP(UPPER(L470),Sheet2!$A$9:$B$24,2,FALSE),\"\")","v":""}]
[null,null,null,null,null,null,null,null,null,null,null,null,null,null,"",{"$f":"IF(J471<>\"\",VLOOKUP(UPPER(J471),Sheet2!$A$3:$B$7,2,FALSE),\"\")","v":""},{"$f":"IF(L471<>\"\",VLOOKUP(UPPER(L471),Sheet2!$A$9:$B$24,2,FALSE),\"\")","v":""}]
[null,null,null,null,null,null,null,null,null,null,null,null,null,null,"",{"$f":"IF(J472<>\"\",VLOOKUP(UPPER(J472),Sheet2!$A$3:$B$7,2,FALSE),\"\")","v":""},{"$f":"IF(L472<>\"\",VLOOKUP(UPPER(L472),Sheet2!$A$9:$B$24,2,FALSE),\"\")","v":""}]
[null,null,null,null,null,null,null,null,null,null,null,null,null,null,"",{"$f":"IF(J473<>\"\",VLOOKUP(UPPER(J473),Sheet2!$A$3:$B$7,2,FALSE),\"\")","v":""},{"$f":"IF(L473<>\"\",VLOOKUP(UPPER(L473),Sheet2!$A$9:$B$24,2,FALSE),\"\")","v":""}]
[null,null,null,null,null,null,null,null,null,null,null,null,null,null,"",{"$f":"IF(J474<>\"\",VLOOKUP(UPPER(J474),Sheet2!$A$3:$B$7,2,FALSE),\"\")","v":""},{"$f":"IF(L474<>\"\",VLOOKUP(UPPER(L474),Sheet2!$A$9:$B$24,2,FALSE),\"\")","v":""}]
[null,null,null,null,null,null,null,null,null,null,null,null,null,null,"",{"$f":"IF(J475<>\"\",VLOOKUP(UPPER(J475),Sheet2!$A$3:$B$7,2,FALSE),\"\")","v":""},{"$f":"IF(L475<>\"\",VLOOKUP(UPPER(L475),Sheet2!$A$9:$B$24,2,FALSE),\"\")","v":""}]
[null,null,null,null,null,null,null,null,null,null,null,null,null,null,"",{"$f":"IF(J476<>\"\",VLOOKUP(UPPER(J476),Sheet2!$A$3:$B$7,2,FALSE),\"\")","v":""},{"$f":"IF(L476<>\"\",VLOOKUP(UPPER(L476),Sheet2!$A$9:$B$24,2,FALSE),\"\")","v":""}]
[null,null,null,null,null,null,null,null,null,null,null,null,null,null,"",{"$f":"IF(J477<>\"\",VLOOKUP(UPPER(J477),Sheet2!$A$3:$B$7,2,FALSE),\"\")","v":""},{"$f":"IF(L477<>\"\",VLOOKUP(UPPER(L477),Sheet2!$A$9:$B$24,2,FALSE),\"\")","v":""}]
[null,null,null,null,null,null,null,null,null,null,null,null,null,null,"",{"$f":"IF(J478<>\"\",VLOOKUP(UPPER(J478),Sheet2!$A$3:$B$7,2,FALSE),\"\")","v":""},{"$f":"IF(L478<>\"\",VLOOKUP(UPPER(L478),Sheet2!$A$9:$B$24,2,FALSE),\"\")","v":""}]
[null,null,null,null,null,null,null,null,null,null,null,null,null,null,"",{"$f":"IF(J479<>\"\",VLOOKUP(UPPER(J479),Sheet2!$A$3:$B$7,2,FALSE),\"\")","v":""},{"$f":"IF(L479<>\"\",VLOOKUP(UPPER(L479),Sheet2!$A$9:$B$24,2,FALSE),\"\")","v":""}]
[null,null,null,null,null,null,null,null,null,null,null,null,null,null,"",{"$f":"IF(J480<>\"\",VLOOKUP(UPPER(J480),Sheet2!$A$3:$B$7,2,FALSE),\"\")","v":""},{"$f":"IF(L480<>\"\",VLOOKUP(UPPER(L480),Sheet2!$A$9:$B$24,2,FALSE),\"\")","v":""}]
[null,null,null,null,null,null,null,null,null,null,null,null,null,null,"",{"$f":"IF(J481<>\"\",VLOOKUP(UPPER(J481),Sheet2!$A$3:$B$7,2,FALSE),\"\")","v":""},{"$f":"IF(L481<>\"\",VLOOKUP(UPPER(L481),Sheet2!$A$9:$B$24,2,FALSE),\"\")","v":""}]
[null,null,null,null,null,null,null,null,null,null,null,null,null,null,"",{"$f":"IF(J482<>\"\",VLOOKUP(UPPER(J482),Sheet2!$A$3:$B$7,2,FALSE),\"\")","v":""},{"$f":"IF(L482<>\"\",VLOOKUP(UPPER(L482),Sheet2!$A$9:$B$24,2,FALSE),\"\")","v":""}]
[null,null,null,null,null,null,null,null,null,null,null,null,null,null,"",{"$f":"IF(J483<>\"\",VLOOKUP(UPPER(J483),Sheet2!$A$3:$B$7,2,FALSE),\"\")","v":""},{"$f":"IF(L483<>\"\",VLOOKUP(UPPER(L483),Sheet2!$A$9:$B$24,2,FALSE),\"\")","v":""}]
[null,null,null,null,null,null,null,null,null,null,null,null,null,null,"",{"$f":"IF(J484<>\"\",VLOOKUP(UPPER(J484),Sheet2!$A$3:$B$7,2,FALSE),\"\")","v":""},{"$f":"IF(L484<>\"\",VLOOKUP(UPPER(L484),Sheet2!$A$9:$B$24,2,FALSE),\"\")","v":""}]
[null,null,null,null,null,null,null,null,null,null,null,null,null,null,"",{"$f":"IF(J485<>\"\",VLOOKUP(UPPER(J485),Sheet2!$A$3:$B$7,2,FALSE),\"\")","v":""},{"$f":"IF(L485<>\"\",VLOOKUP(UPPER(L485),Sheet2!$A$9:$B$24,2,FALSE),\"\")","v":""}]
[null,null,null,null,null,null,null,null,null,null,null,null,null,null,"",{"$f":"IF(J486<>\"\",VLOOKUP(UPPER(J486),Sheet2!$A$3:$B$7,2,FALSE),\"\")","v":""},{"$f":"IF(L486<>\"\",VLOOKUP(UPPER(L486),Sheet2!$A$9:$B$24,2,FALSE),\"\")","v":""}]
[null,null,null,null,null,null,null,null,null,null,null,null,null,null,"",{"$f":"IF(J487<>\"\",VLOOKUP(UPPER(J487),Sheet2!$A$3:$B$7,2,FALSE),\"\")","v":""},{"$f":"IF(L487<>\"\",VLOOKUP(UPPER(L487),Sheet2!$A$9:$B$24,2,FALSE),\"\")","v":""}]
[null,null,null,null,null,null,null,null,null,null,null,null,null,null,"",{"$f":"IF(J488<>\"\",VLOOKUP(UPPER(J488),Sheet2!$A$3:$B$7,2,FALSE),\"\")","v":""},{"$f":"IF(L488<>\"\",VLOOKUP(UPPER(L488),Sheet2!$A$9:$B$24,2,FALSE),\"\")","v":""}]
[null,null,null,null,null,null,null,null,null,null,null,null,null,null,"",{"$f":"IF(J489<>\"\",VLOOKUP(UPPER(J489),Sheet2!$A$3:$B$7,2,FALSE),\"\")","v":""},{"$f":"IF(L489<>\"\",VLOOKUP(UPPER(L489),Sheet2!$A$9:$B$24,2,FALSE),\"\")","v":""}]
[null,null,null,null,null,null,null,null,null,null,null,null,null,null,"",{"$f":"IF(J490<>\"\",VLOOKUP(UPPER(J490),Sheet2!$A$3:$B$7,2,FALSE),\"\")","v":""},{"$f":"IF(L490<>\"\",VLOOKUP(UPPER(L490),Sheet2!$A$9:$B$24,2,FALSE),\"\")","v":""}]
[null,null,null,null,null,null,null,null,null,null,null,null,null,null,"",{"$f":"IF(J491<>\"\",VLOOKUP(UPPER(J491),Sheet2!$A$3:$B$7,2,FALSE),\"\")","v":""},{"$f":"IF(L491<>\"\",VLOOKUP(UPPER(L491),Sheet2!$A$9:$B$24,2,FALSE),\"\")","v":""}]
[null,null,null,null,null,null,null,null,null,null,null,null,null,null,"",{"$f":"IF(J492<>\"\",VLOOKUP(UPPER(J492),Sheet2!$A$3:$B$7,2,FALSE),\"\")","v":""},{"$f":"IF(L492<>\"\",VLOOKUP(UPPER(L492),Sheet2!$A$9:$B$24,2,FALSE),\"\")","v":""}]
[null,null,null,null,null,null,null,null,null,null,null,null,null,null,"",{"$f":"IF(J493<>\"\",VLOOKUP(UPPER(J493),Sheet2!$A$3:$B$7,2,FALSE),\"\")","v":""},{"$f":"IF(L493<>\"\",VLOOKUP(UPPER(L493),Sheet2!$A$9:$B$24,2,FALSE),\"\")","v":""}]
[null,null,null,null,null,null,null,null,null,null,null,null,null,null,"",{"$f":"IF(J494<>\"\",VLOOKUP(UPPER(J494),Sheet2!$A$3:$B$7,2,FALSE),\"\")","v":""},{"$f":"IF(L494<>\"\",VLOOKUP(UPPER(L494),Sheet2!$A$9:$B$24,2,FALSE),\"\")","v":""}]
[null,null,null,null,null,null,null,null,null,null,null,null,null,null,"",{"$f":"IF(J495<>\"\",VLOOKUP(UPPER(J495),Sheet2!$A$3:$B$7,2,FALSE),\"\")","v":""},{"$f":"IF(L495<>\"\",VLOOKUP(UPPER(L495),Sheet2!$A$9:$B$24,2,FALSE),\"\")","v":""}]
[null,null,null,null,null,null,null,null,null,null,null,null,null,null,"",{"$f":"IF(J496<>\"\",VLOOKUP(UPPER(J496),Sheet2!$A$3:$B$7,2,FALSE),\"\")","v":""},{"$f":"IF(L496<>\"\",VLOOKUP(UPPER(L496),Sheet2!$A$9:$B$24,2,FALSE),\"\")","v":""}]
[null,null,null,null,null,null,null,null,null,null,null,null,null,null,"",{"$f":"IF(J497<>\"\",VLOOKUP(UPPER(J497),Sheet2!$A$3:$B$7,2,FALSE),\"\")","v":""},{"$f":"IF(L497<>\"\",VLOOKUP(UPPER(L497),Sheet2!$A$9:$B$24,2,FALSE),\"\")","v":""}]
[null,null,null,null,null,null,null,null,null,null,null,null,null,null,"",{"$f":"IF(J498<>\"\",VLOOKUP(UPPER(J498),Sheet2!$A$3:$B$7,2,FALSE),\"\")","v":""},{"$f":"IF(L498<>\"\",VLOOKUP(UPPER(L498),Sheet2!$A$9:$B$24,2,FALSE),\"\")","v":""}]
[null,null,null,null,null,null,null,null,null,null,null,null,null,null,"",{"$f":"IF(J499<>\"\",VLOOKUP(UPPER(J499),Sheet2!$A$3:$B$7,2,FALSE),\"\")","v":""},{"$f":"IF(L499<>\"\",VLOOKUP(UPPER(L499),Sheet2!$A$9:$B$24,2,FALSE),\"\")","v":""}]
[null,null,null,null,null,null,null,null,null,null,null,null,null,null,"",{"$f":"IF(J500<>\"\",VLOOKUP(UPPER(J500),Sheet2!$A$3:$B$7,2,FALSE),\"\")","v":""},{"$f":"IF(L500<>\"\",VLOOKUP(UPPER(L500),Sheet2!$A$9:$B$24,2,FALSE),\"\")","v":""}]
[null,null,null,null,null,null,null,null,null,null,null,null,null,null,"",{"$f":"IF(J501<>\"\",VLOOKUP(UPPER(J501),Sheet2!$A$3:$B$7,2,FALSE),\"\")","v":""},{"$f":"IF(L501<>\"\",VLOOKUP(UPPER(L501),Sheet2!$A$9:$B$24,2,FALSE),\"\")","v":""}]
[null,null,null,null,null,null,null,null,null,null,null,null,null,null,"",{"$f":"IF(J502<>\"\",VLOOKUP(UPPER(J502),Sheet2!$A$3:$B$7,2,FALSE),\"\")","v":""},{"$f":"IF(L502<>\"\",VLOOKUP(UPPER(L502),Sheet2!$A$9:$B$24,2,FALSE),\"\")","v":""}]
[null,null,null,null,null,null,null,null,null,null,null,null,null,null,"",{"$f":"IF(J503<>\"\",VLOOKUP(UPPER(J503),Sheet2!$A$3:$B$7,2,FALSE),\"\")","v":""},{"$f":"IF(L503<>\"\",VLOOKUP(UPPER(L503),Sheet2!$A$9:$B$24,2,FALSE),\"\")","v":""}]
[null,null,null,null,null,null,null,null,null,null,null,null,null,null,"",{"$f":"IF(J504<>\"\",VLOOKUP(UPPER(J504),Sheet2!$A$3:$B$7,2,FALSE),\"\")","v":""},{"$f":"IF(L504<>\"\",VLOOKUP(UPPER(L504),Sheet2!$A$9:$B$24,2,FALSE),\"\")","v":""}]

{"sheet":"Sheet2","index":1,"n_rows":24,"n_cols":4,"rows_kept":24,"cut":false,"hidden":false,"merged":[[0,1,0,2]]}
[null,"Reference Lists"]
[]
["E","EXCL",null,"QADCP"]
["G","GOOD",null,"QFLUM"]
["F","FAIR",null,"QSCMM"]
["P","POOR",null,"QVOLM"]
["U","UNSP",null,"QWEIR"]
[]
[]
["Unspecified","UNSP"]
["Anchor ice","AICE"]
["Ice cover","CICE"]
["Clear","CLER"]
["Fill control changed","FILL"]
["Heavy debris","HVDB"]
["Light debris","LGDB"]
["Heavy moss/algae","MAHV"]
["Light moss/algae","MALT"]
["Moderate moss/algae","MAMD"]
["Moderate debris","MDDB"]
["No flow","NFLW"]
["Scour control changed","SCUR"]
["Shore ice","SICE"]
["Submerged","SUBM"]