Workbook
Name source: #REF!

Sheet WY2016 Chem Sampling
A1: Last update | B1: Science Center (SC) Collecting Samples | C1: Water Year | D1: 42339 | F1: Cycle 2 Site Type | G1: Cycle 3 Site Type | H1: Cycle 3 Program (through FY15) | I1: Cycle 3 Network Code | J1: Suspended Sediment (conc. + sand/fine) | N1: Major Ions (schedules 998/1201) | T1: Major Ions at Reference Sites (schedule 2648) see 'reference site schedule' tab for analyte list | Z1: Nutrients (schedules 2430/2431/2432) | AD1: Nutrient blanks (Inorganic analytes)* | AF1: Nutrient blanks (Organic analytes)* | AH1: Nutrients at Reference sites (schedule 2649) see 'reference site schedule' tab for analyte list | AN1: Pesticides (schedule 2437) | AV1: Glyphosate (Kansas Lab) | BB1: Isotope samples (Ty Coplen) | BD1: DOC fractionation samples (George Aiken) | BF1: Tritium (Megan Young) | BH1: DNA samples (Byron Crump) | BJ1: Comments | BK1: Sampling Comments
D2: Primary STAID | E2: Site name | J2: Planned | K2: Collected | L2: Planned reps | M2: Collected reps | N2: Planned (plus alkalinity) | O2: Collected (plus alkalinity) | P2: Planned reps | Q2: Collected reps | R2: Planned blanks (IBW) | S2: Collected blanks | T2: Planned | U2: Collected | V2: Planned reps | W2: Collected reps | X2: Planned blanks (IBW) | Y2: Collected blanks | Z2: Planned | AA2: Collected | AB2: Planned reps | AC2: Collected reps | AD2: Planned blanks | AE2: Collected blanks | AF2: Planned blanks | AG2: Collected blanks | AH2: Planned | AI2: Collected | AJ2: Planned reps | AK2: Collected reps | AL2: Planned blanks (IBW) | AM2: Collected blanks | AN2: Planned | AO2: Collected | AP2: Planned blanks | AQ2: Collected blanks | AR2: Planned reps | AS2: Collected reps | AT2: Planned spikes | AU2: Collected spikes | AV2: Planned | AW2: Collected | AX2: Planned blanks | AY2: Collected blanks | AZ2: Planned reps | BA2: Collected reps | BB2: Planned | BC2: Collected | BD2: Planned | BE2: Collected | BF2: Planned | BG2: Collected | BH2: Planned | BI2: Collected | BJ2: Comments | BK2: Comments
B5: AL | C5: 2016 | D5: 02429500 | E5: Alabama R. at Claiborne, AL | G5: Large Inland River | H5: NASQAN | I5: nfsnlir | J5: 14 | L5: 1 | N5: 14 | P5: 1 | R5: 1 | Z5: 14 | AB5: 1 | AD5: 1 | AF5: 1 | AN5: 14 | AP5: 1 | AR5: 1 | AT5: 1 | AV5: 0 | BB5: 14 | BD5: 14 | BH5: 14
B6: AL | C6: 2016 | D6: 02469762 | E6: Tombigbee River near Coffeeville, AL | F6: rotate4 | G6: Large Inland River | H6: NAWQA | I6: nfsnlir | J6: 18 | L6: 1 | N6: 18 | P6: 1 | R6: 1 | Z6: 18 | AB6: 1 | AD6: 1 | AF6: 1 | AN6: 18 | AP6: 1 | AR6: 1 | AT6: 1 | AV6: 0 | AX6: 0 | AZ6: 0
B7: AL | E7: WSC sum | J7: =SUM(J5:J6) -> 32 | K7: =SUM(K5:K6) -> 0 | L7: =SUM(L5:L6) -> 2 | M7: =SUM(M5:M6) -> 0 | N7: =SUM(N5:N6) -> 32 | O7: =SUM(O5:O6) -> 0 | P7: =SUM(P5:P6) -> 2 | Q7: =SUM(Q5:Q6) -> 0 | ... BI7: =SUM(BI5:BI6) -> 0
B9: AK | C9: 2016 | D9: 15565447 | E9: Yukon River at Pilot Station, AK | F9: NASQAN | G9: Coastal River | H9: NASQAN | I9: nfsncoast | J9: 7 | L9: 1 | N9: 7 | P9: 0 | R9: 1 | Z9: 7 | AB9: 0 | AD9: 1 | AF9: 1 | AN9: 3 | AP9: 0 | AR9: 1 | AV9: 0 | AX9: 0 | AZ9: 0 | BB9: 7 | BD9: 7 | BH9: 7
B10: AK | E10: WSC sum | J10: =SUM(J8:J9) -> 7 | K10: =SUM(K8:K9) -> 0 | L10: =SUM(L8:L9) -> 1 | M10: =SUM(M8:M9) -> 0 | N10: =SUM(N8:N9) -> 7 | O10: =SUM(O8:O9) -> 0 | P10: =SUM(P8:P9) -> 0 | Q10: =SUM(Q8:Q9) -> 0 | ... BI10: =SUM(BI8:BI9) -> 0
B12: AZ | C12: 2016 | D12: 09380000 | E12: Colorado River at Lees Ferry, AZ | F12: N/A | G12: Large Inland River | H12: NAWQA | I12: nfsnlir | J12: 14 | L12: 1 | N12: 14 | P12: 1 | R12: 1 | Z12: 14 | AB12: 1 | AD12: 1 | AF12: 1 | AN12: 14 | AP12: 1 | AR12: 1 | AT12: 1 | AV12: 0 | AX12: 0 | AZ12: 0 | BB12: 14 | BJ12: not required but Ty Coplen willing to get isotope samples
B13: AZ | C13: 2016 | D13: 09522000 | E13: Colorado River at NIB | F13: NASQAN | G13: Coastal River | H13: NASQAN | I13: nfsncoast | J13: 12 | L13: 1 | N13: 12 | P13: 1 | R13: 1 | Z13: 12 | AB13: 1 | AD13: 1 | AF13: 1 | AN13: 12 | AP13: 1 | AR13: 1 | AT13: 1 | AV13: 0 | AX13: 0 | AZ13: 0 | BB13: 12 | BD13: 12 | BH13: 12
B14: AZ | C14: 2016 | D14: 09471000 | E14: San Pedro River at Charleston, AZ | F14: rotate4 | G14: Reference-dropped 2016 | H14: NAWQA | I14: nfsnref | J14: 0 | L14: 0 | N14: 0 | P14: 0 | R14: 0 | Z14: 0 | AB14: 0 | AD14: 0 | AF14: 0 | AN14: 0 | AP14: 0 | AR14: 0 | AV14: 0
B15: AZ | C15: 2016 | D15: 09505800 | E15: West Clear Creek near Camp Verde, AZ | F15: rotate4 | G15: Reference | H15: NAWQA | I15: nfsnref | J15: 0 | L15: 0 | N15: 0 | P15: 0 | R15: 0 | T15: 17 | V15: 1 | X15: 1 | Z15: 0 | AB15: 0 | AD15: 0 | AF15: 0 | AH15: 17 | AJ15: 1 | AL15: 1 | AN15: 0 | AP15: 0 | AR15: 0 | AV15: 0
B16: AZ | E16: WSC sum | J16: =SUM(J12:J15) -> 26 | K16: =SUM(K12:K15) -> 0 | L16: =SUM(L12:L15) -> 2 | M16: =SUM(M12:M15) -> 0 | N16: =SUM(N12:N15) -> 26 | O16: =SUM(O12:O15) -> 0 | P16: =SUM(P12:P15) -> 2 | Q16: =SUM(Q12:Q15) -> 0 | ... BI16: =SUM(BI12:BI15) -> 0
B18: AR | C18: 2016 | D18: 07263620 | E18: Arkansas River at Terry L&D below Little Rock, AR | F18: NASQAN | G18: Large Inland River | H18: NASQAN | I18: nfsnlir | J18: 14 | L18: 1 | N18: 14 | P18: 1 | R18: 1 | Z18: 14 | AB18: 1 | AD18: 1 | AF18: 1 | AN18: 14 | AP18: 1 | AR18: 1 | AT18: 1 | AV18: 14 | AX18: 1 | AZ18: 1 | BB18: 14 | BD18: 14
B19: AR | C19: 2016 | D19: 07055646 | E19: Buffalo River near Boxley, AR | F19: rotate4 | G19: Reference-dropped 2016 | H19: NAWQA | I19: nfsnref | J19: 0 | L19: 0 | N19: 0 | P19: 0 | R19: 0 | Z19: 0 | AB19: 0 | AD19: 0 | AF19: 0 | AN19: 0 | AP19: 0 | AR19: 0 | AV19: 0
B20: AR | C20: 2016 | D20: 07060710 | E20: North Sylamore Creek near Fifty Six, AR | F20: rotate4/HBN | G20: Reference | H20: NAWQA | I20: nfsnref | J20: 0 | L20: 0 | N20: 0 | P20: 0 | R20: 0 | T20: 16 | V20: 1 | X20: 1 | Z20: 0 | AB20: 0 | AD20: 0 | AF20: 0 | AH20: 16 | AJ20: 1 | AL20: 1 | AN20: 0 | AP20: 0 | AR20: 0 | AV20: 0
B21: AR | E21: WSC sum | J21: =SUM(J18:J20) -> 14 | K21: =SUM(K18:K20) -> 0 | L21: =SUM(L18:L20) -> 1 | M21: =SUM(M18:M20) -> 0 | N21: =SUM(N18:N20) -> 14 | O21: =SUM(O18:O20) -> 0 | P21: =SUM(P18:P20) -> 1 | Q21: =SUM(Q18:Q20) -> 0 | ... BI21: =SUM(BI18:BI20) -> 0
B23: CA | C23: 2016 | D23: 11335000 | E23: Cosumnes River at Michigan Bar, CA | F23: eco_only | G23: Reference-dropped 2016 | H23: NAWQA | I23: nfsnref | J23: 0 | L23: 0 | N23: 0 | P23: 0 | R23: 0 | Z23: 0 | AB23: 0 | AD23: 0 | AF23: 0 | AN23: 0 | AP23: 0 | AR23: 0 | AV23: 0
B24: CA | C24: 2016 | D24: 11274538 | E24: Orestimba Creek near Crows Landing, CA | F24: rotate4 | G24: Agriculture | H24: NAWQA | I24: nfsnag | J24: 0 | L24: 0 | N24: 0 | P24: 0 | R24: 0 | Z24: 0 | AB24: 0 | AD24: 0 | AF24: 0 | AN24: 0 | AP24: 0 | AR24: 0 | AT24: 0 | AV24: 0 | BJ24: if flows warrant, we will try (but can't guarantee) to provide funding for additional samples
B25: CA | C25: 2016 | D25: 11447650 | E25: Sacramento River a Freeport, CA | F25: rotate4/NASQAN | G25: Coastal River | H25: NAWQA | I25: nfsncoast | J25: 14 | L25: 1 | N25: 14 | P25: 1 | R25: 1 | Z25: 14 | AB25: 1 | AD25: 1 | AF25: 1 | AN25: 14 | AP25: 1 | AR25: 1 | AT25: 1 | AV25: 14 | AX25: 1 | AZ25: 1 | BB25: 14 | BD25: 14 | BH25: 14
B26: CA | C26: 2016 | D26: 11303500 | E26: San Joaquin River near Vernalis, CA | F26: agcore | G26: Coastal River | H26: NAWQA | I26: nfsncoast | J26: 18 | L26: 1 | N26: 18 | P26: 1 | R26: 1 | Z26: 18 | AB26: 1 | AD26: 1 | AF26: 1 | AN26: 18 | AP26: 1 | AR26: 1 | AT26: 1 | AV26: 18 | AX26: 1 | AZ26: 1 | BB26: 18 | BD26: 18 | BH26: 18
B27: CA | C27: 2016 | D27: 11264500 | E27: Merced River at Happy Isles Bridge nr Yosemite, CA | G27: Reference-dropped 2016 see comments | H27: NAWQA | I27: nfsnref | J27: 0 | L27: 0 | N27: 0 | P27: 0 | R27: 0 | T27: 0 | V27: 0 | X27: 0 | Z27: 0 | AB27: 0 | AD27: 0 | AF27: 0 | AH27: 0 | AJ27: 0 | AL27: 0 | AN27: 0 | AP27: 0 | AR27: 0 | AV27: 0 | BJ27: Site will be sampling by the HBN program only, beginning in FY16
B28: CA | C28: 2016 | D28: 11049400 | E28: Santa Ana River above Seven Oaks Dam, CA | F28: eco_only | G28: Reference-dropped 2013 | H28: NAWQA | I28: nfsnref | J28: 0 | N28: 0 | Z28: 0 | AN28: 0 | AV28: 0 | BJ28: CA reference site switched to Merced R nr Yosemite beginning FY14
B29: CA | C29: 2016 | D29: 11074000 | E29: Santa Ana River below Prado Dam, CA | F29: urbcore | G29: Coastal River | H29: NAWQA | I29: nfsncoast | J29: 18 | L29: 1 | N29: 18 | P29: 1 | R29: 1 | Z29: 18 | AB29: 1 | AD29: 1 | AF29: 1 | AN29: 18 | AP29: 1 | AR29: 1 | AT29: 1 | AV29: 18 | AX29: 1 | AZ29: 1
B30: CA | E30: WSC sum | J30: =SUM(J23:J29) -> 50 | K30: =SUM(K23:K29) -> 0 | L30: =SUM(L23:L29) -> 3 | M30: =SUM(M23:M29) -> 0 | N30: =SUM(N23:N29) -> 50 | O30: =SUM(O23:O29) -> 0 | P30: =SUM(P23:P29) -> 3 | Q30: =SUM(Q23:Q29) -> 0 | ... BI30: =SUM(BI23:BI29) -> 0
B32: CO | C32: 2016 | D32: 06713500 | E32: Cherry Creek at Denver, CO | F32: rotate2 | G32: Urban | H32: NAWQA | I32: nfsnurb | J32: 24 | L32: 1 | N32: 24 | P32: 1 | R32: 1 | Z32: 24 | AB32: 2 | AD32: 2 | AF32: 2 | AN32: 24 | AP32: 1 | AR32: 1 | AT32: 1 | AV32: 24 | AX32: 1 | AZ32: 1
B33: CO | C33: 2016 | D33: 09163500 | E33: Colorado River near Colorado-Utah state line | F33: rotate4 | G33: Large Inland River | H33: NAWQA | I33: nfsnlir | J33: 18 | L33: 1 | N33: 18 | P33: 1 | R33: 1 | Z33: 18 | AB33: 1 | AD33: 1 | AF33: 1 | AN33: 18 | AP33: 1 | AR33: 1 | AT33: 1 | AV33: 18 | AX33: 1 | AZ33: 1
B34: CO | C34: 2016 | D34: 06754000 | E34: South Platte River near Kersey, CO | F34: rotate4 | G34: Large Inland River | H34: NAWQA | I34: nfsnlir | J34: 18 | L34: 1 | N34: 18 | P34: 1 | R34: 1 | Z34: 18 | AB34: 1 | AD34: 1 | AF34: 1 | AN34: 18 | AP34: 1 | AR34: 1 | AT34: 1 | AV34: 18 | AX34: 1 | AZ34: 1
B35: CO | E35: WSC sum | J35: =SUM(J32:J34) -> 60 | K35: =SUM(K32:K34) -> 0 | L35: =SUM(L32:L34) -> 3 | M35: =SUM(M32:M34) -> 0 | N35: =SUM(N32:N34) -> 60 | O35: =SUM(O32:O34) -> 0 | P35: =SUM(P32:P34) -> 3 | Q35: =SUM(Q32:Q34) -> 0 | ... BI35: =SUM(BI32:BI34) -> 0
B37: CT (NENG) | C37: 2016 | D37: 01184000 | E37: Connecticut River at Thompsonville, CT | F37: rotate4 | G37: Coastal River | H37: NAWQA | I37: nfsncoast | J37: 18 | L37: 1 | N37: 18 | P37: 1 | R37: 1 | Z37: 18 | AB37: 1 | AD37: 1 | AF37: 1 | AN37: 18 | AP37: 1 | AR37: 1 | AT37: 1 | AV37: 18 | AX37: 1 | AZ37: 1
B38: CT (NENG) | C38: 2016 | D38: 01170100 | E38: Green River near Colrain, MA | F38: rotate4 | G38: Reference | H38: NAWQA | I38: nfsnref | J38: 0 | L38: 0 | N38: 0 | P38: 0 | R38: 0 | T38: 18 | V38: 1 | X38: 1 | Z38: 0 | AB38: 0 | AD38: 0 | AF38: 0 | AH38: 18 | AJ38: 1 | AL38: 1 | AN38: 0 | AP38: 0 | AR38: 0 | AV38: 0
B39: CT (NENG) | C39: 2016 | D39: 01209710 | E39: Norwalk River at Winnipauk,CT | F39: rotate4 | G39: Urban | H39: NAWQA | I39: nfsnurb | J39: 24 | L39: 1 | N39: 24 | P39: 1 | R39: 1 | Z39: 24 | AB39: 2 | AD39: 2 | AF39: 2 | AN39: 24 | AP39: 1 | AR39: 1 | AT39: 1 | AV39: 24 | AX39: 1 | AZ39: 1
B40: CT (NENG) | E40: WSC sum | J40: =SUM(J37:J39) -> 42 | K40: =SUM(K37:K39) -> 0 | L40: =SUM(L37:L39) -> 2 | M40: =SUM(M37:M39) -> 0 | N40: =SUM(N37:N39) -> 42 | O40: =SUM(O37:O39) -> 0 | P40: =SUM(P37:P39) -> 2 | Q40: =SUM(Q37:Q39) -> 0 | ... AW40: =SUM(AW37:AW39) -> 0 | BA40: =SUM(BA37:BA39) -> 0 | BB40: =SUM(BB37:BB39) -> 0 | BC40: =SUM(BC37:BC39) -> 0 | BD40: =SUM(BD37:BD39) -> 0 | BE40: =SUM(BE37:BE39) -> 0 | BF40: =SUM(BF37:BF39) -> 0 | BG40: =SUM(BG37:BG39) -> 0 | BH40: =SUM(BH37:BH39) -> 0 | BI40: =SUM(BI37:BI39) -> 0
B42: FL | C42: 2016 | D42: 02359170 | E42: Apalachicola River near Sumatra, FL | F42: NMN | G42: Coastal River | H42: NMN | I42: nfsncoast | J42: 14 | L42: 1 | N42: 14 | P42: 1 | R42: 1 | Z42: 14 | AB42: 1 | AD42: 1 | AF42: 1 | AN42: 14 | AP42: 1 | AR42: 1 | AT42: 1 | AV42: 0 | AX42: 0 | AZ42: 0 | BB42: 14 | BD42: 14 | BH42: 14
B43: FL | E43: WSC sum | J43: =SUM(J42) -> 14 | K43: =SUM(K41:K42) -> 0 | L43: =SUM(L41:L42) -> 1 | M43: =SUM(M41:M42) -> 0 | N43: =SUM(N41:N42) -> 14 | O43: =SUM(O41:O42) -> 0 | P43: =SUM(P41:P42) -> 1 | Q43: =SUM(Q41:Q42) -> 0 | R43: =SUM(R41:R42) -> 1 | ... BI43: =SUM(BI41:BI42) -> 0
B45: GA | C45: 2016 | D45: 02226160 | E45: Altamaha River at Everett City, GA | F45: NASQAN | G45: Coastal River | H45: NASQAN | I45: nfsncoast | J45: 14 | L45: 1 | N45: 14 | P45: 1 | R45: 1 | Z45: 14 | AB45: 1 | AD45: 1 | AF45: 1 | AN45: 14 | AP45: 1 | AR45: 1 | AT45: 1 | AV45: 0 | AX45: 0 | AZ45: 0 | BB45: 14 | BD45: 14 | BH45: 14
B46: GA | C46: 2016 | D46: 02338523 | E46: Hillibahatchee Creek near Franklin, GA | F46: rotate4 | G46: Reference | H46: NAWQA | I46: nfsnref | J46: 0 | L46: 0 | N46: 0 | P46: 0 | R46: 0 | T46: 14 | V46: 1 | X46: 1 | Z46: 0 | AB46: 0 | AD46: 0 | AF46: 0 | AH46: 14 | AJ46: 1 | AL46: 1 | AN46: 0 | AP46: 0 | AR46: 0 | AV46: 0
B47: GA | C47: 2016 | D47: 02335870 | E47: Sope Creek near Marietta, GA | F47: rotate2 | G47: Urban | H47: NAWQA | I47: nfsnurb | J47: 24 | L47: 1 | N47: 24 | P47: 1 | R47: 1 | Z47: 24 | AB47: 2 | AD47: 2 | AF47: 2 | AN47: 24 | AP47: 1 | AR47: 1 | AT47: 1 | AV47: 24 | AX47: 1 | AZ47: 1
B48: GA | C48: 2016 | D48: 02338000 | E48: Chattahoochee River near Whitesburg, GA | F48: urbcore | G48: Urban | H48: NAWQA | I48: nfsnlir | J48: 18 | L48: 1 | N48: 18 | P48: 1 | R48: 1 | Z48: 18 | AB48: 1 | AD48: 1 | AF48: 1 | AN48: 18 | AP48: 1 | AR48: 1 | AT48: 1 | AV48: 18 | AX48: 1 | AZ48: 1
B49: GA | E49: WSC sum | J49: =SUM(J45:J48) -> 56 | K49: =SUM(K45:K47) -> 0 | L49: =SUM(L45:L48) -> 3 | M49: =SUM(M45:M47) -> 0 | N49: =SUM(N45:N48) -> 56 | O49: =SUM(O45:O47) -> 0 | P49: =SUM(P45:P48) -> 3 | Q49: =SUM(Q45:Q47) -> 0 | R49: =SUM(R45:R48) -> 3 | S49: =SUM(S45:S47) -> 0 | T49: =SUM(T45:T48) -> 14 | U49: =SUM(U45:U48) -> 0 | V49: =SUM(V45:V48) -> 1 | W49: =SUM(W45:W48) -> 0 | X49: =SUM(X45:X48) -> 1 | Y49: =SUM(Y45:Y48) -> 0 | Z49: =SUM(Z45:Z48) -> 56 | AA49: =SUM(AA45:AA47) -> 0 | AB49: =SUM(AB45:AB48) -> 4 | AC49: =SUM(AC45:AC47) -> 0 | AD49: =SUM(AD45:AD48) -> 4 | AE49: =SUM(AE45:AE47) -> 0 | AF49: =SUM(AF45:AF48) -> 4 | AG49: =SUM(AG45:AG47) -> 0 | AH49: =SUM(AH45:AH47) -> 14 | AI49: =SUM(AI45:AI47) -> 0 | AJ49: =SUM(AJ45:AJ47) -> 1 | AK49: =SUM(AK45:AK47) -> 0 | AL49: =SUM(AL45:AL47) -> 1 | AM49: =SUM(AM45:AM47) -> 0 | AN49: =SUM(AN45:AN48) -> 56 | AO49: =SUM(AO45:AO47) -> 0 | AP49: =SUM(AP45:AP48) -> 3 | AQ49: =SUM(AQ45:AQ47) -> 0 | AR49: =SUM(AR45:AR48) -> 3 | AS49: =SUM(AS45:AS47) -> 0 | AT49: =SUM(AT45:AT48) -> 3 | AU49: =SUM(AU45:AU47) -> 0 | AV49: =SUM(AV45:AV48) -> 42 | AW49: =SUM(AW45:AW47) -> 0 | AX49: =SUM(AX45:AX48) -> 2 | AY49: =SUM(AY45:AY47) -> 0 | AZ49: =SUM(AZ45:AZ48) -> 2 | BA49: =SUM(BA45:BA47) -> 0 | BB49: =SUM(BB45:BB48) -> 14 | BC49: =SUM(BC45:BC47) -> 0 | BD49: =SUM(BD45:BD47) -> 14 | BE49: =SUM(BE45:BE47) -> 0 | BF49: =SUM(BF45:BF47) -> 0 | BG49: =SUM(BG45:BG47) -> 0 | BH49: =SUM(BH45:BH47) -> 14 | BI49: =SUM(BI45:BI47) -> 0
B51: ID | C51: 2016 | D51: 13092747 | E51: Rock Creek at Twin Falls, ID | F51: rotate4 | G51: Agriculture | H51: NAWQA | I51: nfsnag | J51: 24 | L51: 1 | N51: 24 | P51: 1 | R51: 1 | Z51: 24 | AB51: 2 | AD51: 2 | AF51: 2 | AN51: 24 | AP51: 1 | AR51: 1 | AT51: 1 | AV51: 24 | AX51: 1 | AZ51: 1
B52: ID | C52: 2016 | D52: 13154500 | E52: Snake River at King Hill, ID | F52: rotate4 | G52: Large Inland River | H52: NAWQA | I52: nfsnlir | J52: 14 | L52: 1 | N52: 14 | P52: 1 | R52: 1 | Z52: 14 | AB52: 1 | AD52: 1 | AF52: 1 | AN52: 14 | AP52: 1 | AR52: 1 | AT52: 1 | AV52: 14 | AX52: 1 | AZ52: 1
B53: ID | C53: 2016 | D53: 13056500 | E53: Henrys Fork near Rexburg, ID | F53: rotate4 | G53: Agriculture | H53: NAWQA | I53: nfsnag | J53: 18 | L53: 1 | N53: 18 | P53: 1 | R53: 1 | Z53: 18 | AB53: 1 | AD53: 1 | AF53: 1 | AN53: 18 | AP53: 1 | AR53: 1 | AT53: 1 | AV53: 0 | AX53: 0 | AZ53: 0
B54: ID | E54: WSC sum | J54: =SUM(J50:J53) -> 56 | K54: =SUM(K51:K52) -> 0 | L54: =SUM(L50:L53) -> 3 | M54: =SUM(M51:M52) -> 0 | N54: =SUM(N50:N53) -> 56 | O54: =SUM(O51:O52) -> 0 | P54: =SUM(P50:P53) -> 3 | Q54: =SUM(Q51:Q52) -> 0 | R54: =SUM(R50:R53) -> 3 | S54: =SUM(S51:S52) -> 0 | T54: =SUM(T51:T52) -> 0 | U54: =SUM(U51:U52) -> 0 | V54: =SUM(V51:V52) -> 0 | W54: =SUM(W51:W52) -> 0 | X54: =SUM(X51:X52) -> 0 | Y54: =SUM(Y51:Y52) -> 0 | Z54: =SUM(Z50:Z53) -> 56 | AA54: =SUM(AA51:AA52) -> 0 | AB54: =SUM(AB51:AB53) -> 4 | AC54: =SUM(AC51:AC52) -> 0 | AD54: =SUM(AD50:AD53) -> 4 | AE54: =SUM(AE51:AE52) -> 0 | AF54: =SUM(AF50:AF53) -> 4 | AG54: =SUM(AG51:AG52) -> 0 | AH54: =SUM(AH51:AH52) -> 0 | AI54: =SUM(AI51:AI52) -> 0 | AJ54: =SUM(AJ51:AJ52) -> 0 | AK54: =SUM(AK51:AK52) -> 0 | AL54: =SUM(AL51:AL52) -> 0 | AM54: =SUM(AM51:AM52) -> 0 | AN54: =SUM(AN50:AN53) -> 56 | AO54: =SUM(AO51:AO52) -> 0 | AP54: =SUM(AP50:AP53) -> 3 | AQ54: =SUM(AQ51:AQ52) -> 0 | AR54: =SUM(AR50:AR53) -> 3 | AS54: =SUM(AS51:AS52) -> 0 | AT54: =SUM(AT50:AT53) -> 3 | AU54: =SUM(AU51:AU52) -> 0 | AV54: =SUM(AV50:AV53) -> 38 | AW54: =SUM(AW51:AW52) -> 0 | AX54: =SUM(AX50:AX53) -> 2 | AY54: =SUM(AY51:AY52) -> 0 | AZ54: =SUM(AZ50:AZ53) -> 2 | BA54: =SUM(BA51:BA52) -> 0 | BB54: =SUM(BB51:BB52) -> 0 | BC54: =SUM(BC51:BC52) -> 0 | BD54: =SUM(BD51:BD52) -> 0 | BE54: =SUM(BE51:BE52) -> 0 | BF54: =SUM(BF51:BF52) -> 0 | BG54: =SUM(BG51:BG52) -> 0 | BH54: =SUM(BH51:BH52) -> 0 | BI54: =SUM(BI51:BI52) -> 0
B56: IL | C56: 2016 | D56: 05586100 | E56: Illinois River at Valley City, IL | F56: rotate 4/NASQAN | G56: Large Inland River | H56: NAWQA | I56: nfsnlir | J56: 14 | L56: 1 | N56: 14 | P56: 1 | R56: 1 | Z56: 14 | AB56: 1 | AD56: 1 | AF56: 1 | AN56: 14 | AP56: 1 | AR56: 1 | AT56: 1 | AV56: 14 | AX56: 1 | AZ56: 1 | BB56: 14 | BD56: 14
B57: IL | E57: WSC sum | J57: =SUM(J56) -> 14 | K57: =SUM(K56) -> 0 | L57: =SUM(L56) -> 1 | M57: =SUM(M56) -> 0 | N57: =SUM(N56) -> 14 | O57: =SUM(O56) -> 0 | P57: =SUM(P56) -> 1 | Q57: =SUM(Q56) -> 0 | ... BI57: =SUM(BI56) -> 0
B59: IN | C59: 2016 | D59: 394340085524601 | E59: Sugar Creek at New Palestine, IN | F59: rotate2 | G59: Agriculture | H59: NAWQA | I59: nfsnag | J59: 24 | L59: 1 | N59: 24 | P59: 1 | R59: 1 | Z59: 24 | AB59: 2 | AD59: 2 | AF59: 2 | AN59: 24 | AP59: 1 | AR59: 1 | AT59: 1 | AV59: 24 | AX59: 1 | AZ59: 1
B60: IN | C60: 2016 | D60: 03374100 | E60: White River at Hazleton, IN | F60: agcore/NASQAN | G60: Large Inland River | H60: NAWQA | I60: nfsnlir | J60: 18 | L60: 1 | N60: 18 | P60: 1 | R60: 1 | Z60: 18 | AB60: 1 | AD60: 1 | AF60: 1 | AN60: 18 | AP60: 1 | AR60: 1 | AT60: 1 | AV60: 18 | AX60: 1 | AZ60: 1 | BB60: 18 | BD60: 18
B61: IN | E61: WSC sum | J61: =SUM(J59:J60) -> 42 | K61: =SUM(K59:K60) -> 0 | L61: =SUM(L59:L60) -> 2 | M61: =SUM(M59:M60) -> 0 | N61: =SUM(N59:N60) -> 42 | O61: =SUM(O59:O60) -> 0 | P61: =SUM(P59:P60) -> 2 | Q61: =SUM(Q59:Q60) -> 0 | ... BI61: =SUM(BI59:BI60) -> 0
B63: IA | C63: 2016 | D63: 05420500 | E63: Mississippi River at Clinton, IA | F63: NASQAN | G63: Large Inland River | H63: NASQAN | I63: nfsnlir | J63: 14 | L63: 1 | N63: 14 | P63: 1 | R63: 1 | Z63: 14 | AB63: 1 | AD63: 1 | AF63: 1 | AN63: 14 | AP63: 1 | AR63: 1 | AT63: 1 | AV63: 14 | AX63: 1 | AZ63: 1 | BB63: 14 | BD63: 14
B64: IA | C64: 2016 | D64: 06610000 | E64: Missouri River at Omaha, NE | F64: NASQAN | G64: Large Inland River | H64: NASQAN | I64: nfsnlir | J64: 14 | L64: 1 | N64: 14 | P64: 1 | R64: 1 | Z64: 14 | AB64: 1 | AD64: 1 | AF64: 1 | AN64: 14 | AP64: 1 | AR64: 1 | AT64: 1 | AV64: 14 | AX64: 1 | AZ64: 1 | BB64: 14 | BD64: 14 | BF64: 14
B65: IA | C65: 2016 | D65: 05490500 | E65: Des Moines River at Keosauqua, IA | F65: agcore | G65: Large Inland River | H65: NASQAN | I65: nfsnlir | J65: 14 | L65: 1 | N65: 14 | P65: 1 | R65: 1 | Z65: 14 | AB65: 1 | AD65: 1 | AF65: 1 | AN65: 14 | AP65: 1 | AR65: 1 | AT65: 1 | AV65: 14 | AX65: 1 | AZ65: 1 | BB65: 14 | BD65: 14
B66: IA | C66: 2016 | D66: 05465500 | E66: Iowa River at Wapello, IA | F66: agcore | G66: Large Inland River | H66: NASQAN | I66: nfsnlir | J66: 14 | L66: 1 | N66: 14 | P66: 1 | R66: 1 | Z66: 14 | AB66: 1 | AD66: 1 | AF66: 1 | AN66: 14 | AP66: 1 | AR66: 1 | AT66: 1 | AV66: 14 | AX66: 1 | AZ66: 1 | BB66: 14 | BD66: 14
B67: IA | C67: 2016 | D67: 05451210 | E67: South Fork Iowa River near New Providence, IA | F67: rotate2 | G67: Agriculture | H67: NAWQA | I67: nfsnag | J67: 24 | L67: 1 | N67: 24 | P67: 1 | R67: 1 | Z67: 24 | AB67: 2 | AD67: 2 | AF67: 2 | AN67: 24 | AP67: 1 | AR67: 1 | AT67: 1 | AV67: 24 | AX67: 1 | AZ67: 1
B68: IA | E68: WSC sum | J68: =SUM(J63:J67) -> 80 | K68: =SUM(K63:K67) -> 0 | L68: =SUM(L63:L67) -> 5 | M68: =SUM(M63:M67) -> 0 | N68: =SUM(N63:N67) -> 80 | O68: =SUM(O63:O67) -> 0 | P68: =SUM(P63:P67) -> 5 | Q68: =SUM(Q63:Q67) -> 0 | ... BI68: =SUM(BI63:BI67) -> 0
B70: KS | C70: 2016 | D70: 06892350 | E70: Kansas River at DeSoto, KS | F70: N/A | G70: Large Inland River | H70: NAWQA | I70: nfsnlir | J70: 14 | L70: 1 | N70: 14 | P70: 1 | R70: 1 | Z70: 14 | AB70: 1 | AD70: 1 | AF70: 1 | AN70: 14 | AP70: 1 | AR70: 1 | AT70: 1 | AV70: 14 | AX70: 1 | AZ70: 1
B71: KS | C71: 2016 | D71: 07144100 | E71: Little Arkansas River near Sedgwick, KS | F71: N/A | G71: Large Inland River | H71: NAWQA | I71: nfsnlir | J71: 18 | L71: 1 | N71: 18 | P71: 1 | R71: 1 | Z71: 18 | AB71: 1 | AD71: 1 | AF71: 1 | AN71: 18 | AP71: 1 | AR71: 1 | AT71: 1 | AV71: 18 | AX71: 1 | AZ71: 1
B72: KS | E72: WSC sum | J72: =SUM(J70:J71) -> 32 | K72: =SUM(K70:K71) -> 0 | L72: =SUM(L70:L71) -> 2 | M72: =SUM(M70:M71) -> 0 | N72: =SUM(N70:N71) -> 32 | O72: =SUM(O70:O71) -> 0 | P72: =SUM(P70:P71) -> 2 | Q72: =SUM(Q70:Q71) -> 0 | ... BI72: =SUM(BI70:BI71) -> 0
B74: KY | C74: 2016 | D74: 03303280 | E74: Ohio River at Cannelton Dam at Cannelton, IN | F74: NASQAN | G74: Large Inland River | H74: NASQAN | I74: nfsnlir | J74: 14 | L74: 1 | N74: 14 | P74: 1 | R74: 1 | Z74: 14 | AB74: 1 | AD74: 1 | AF74: 1 | AN74: 14 | AP74: 1 | AR74: 1 | AT74: 1 | AV74: 14 | AX74: 1 | AZ74: 1 | BB74: 14 | BD74: 14 | BF74: 14
B75: KY | C75: 2016 | D75: 03378500 | E75: Wabash River at New Harmony, IN | F75: NASQAN | G75: Large Inland River | H75: NASQAN | I75: nfsnlir | J75: 14 | L75: 1 | N75: 14 | P75: 1 | R75: 1 | Z75: 14 | AB75: 1 | AD75: 1 | AF75: 1 | AN75: 14 | AP75: 1 | AR75: 1 | AT75: 1 | AV75: 14 | AX75: 1 | AZ75: 1 | BB75: 14 | BD75: 14
B76: KY | C76: 2016 | D76: 03609750 | E76: Tennessee River at Highway 60 near Paducah, KY | F76: NASQAN | G76: Large Inland River | H76: NASQAN | I76: nfsnlir | J76: 14 | L76: 1 | N76: 14 | P76: 1 | R76: 1 | Z76: 14 | AB76: 1 | AD76: 1 | AF76: 1 | AN76: 14 | AP76: 1 | AR76: 1 | AT76: 1 | AV76: 14 | AX76: 1 | AZ76: 1 | BB76: 14 | BD76: 14
B77: KY | C77: 2016 | D77: 03612600 | E77: Ohio River at Olmsted | F77: NASQAN | G77: Large Inland River | H77: NASQAN | I77: nfsnlir | J77: 14 | L77: 1 | N77: 14 | P77: 1 | R77: 1 | Z77: 14 | AB77: 1 | AD77: 1 | AF77: 1 | AN77: 14 | AP77: 1 | AR77: 1 | AT77: 1 | AV77: 14 | AX77: 1 | AZ77: 1 | BB77: 14 | BD77: 14
B78: KY | E78: WSC sum | J78: =SUM(J74:J77) -> 56 | K78: =SUM(K74:K77) -> 0 | L78: =SUM(L74:L77) -> 4 | M78: =SUM(M74:M77) -> 0 | N78: =SUM(N74:N77) -> 56 | O78: =SUM(O74:O77) -> 0 | P78: =SUM(P74:P77) -> 4 | Q78: =SUM(Q74:Q77) -> 0 | ... BI78: =SUM(BI74:BI77) -> 0
B80: LA | C80: 2016 | D80: 07373420 | E80: Mississippi River near St. Francisville, LA | F80: NASQAN | G80: Coastal River | H80: NASQAN | I80: nfsnlir | J80: 16 | L80: 1 | N80: 16 | P80: 1 | R80: 1 | Z80: 16 | AB80: 1 | AD80: 1 | AF80: 1 | AN80: 16 | AP80: 1 | AR80: 1 | AT80: 1 | AV80: 16 | AX80: 1 | AZ80: 1 | BB80: 16 | BD80: 16
B81: LA | C81: 2016 | D81: 07374000 | E81: Mississippi River at Baton Rouge, LA | F81: NASQAN | G81: Coastal River | H81: NASQAN | I81: nfsnlir | J81: 14 | L81: 1 | N81: 14 | P81: 1 | R81: 1 | Z81: 14 | AB81: 1 | AD81: 1 | AF81: 1 | AN81: 14 | AP81: 1 | AR81: 1 | AT81: 1 | AV81: 0 | AX81: 0 | AZ81: 0 | BB81: 14 | BD81: 14
B82: LA | C82: 2016 | D82: 07374525 | E82: Mississippi River at Belle Chasse, LA | F82: NASQAN | G82: Coastal River | H82: NASQAN | I82: nfsncoast | J82: 14 | L82: 1 | N82: 14 | P82: 1 | R82: 1 | Z82: 14 | AB82: 1 | AD82: 1 | AF82: 1 | AN82: 14 | AP82: 1 | AR82: 1 | AT82: 1 | AV82: 0 | AX82: 0 | AZ82: 0 | BB82: 14 | BD82: 14 | BH82: 14
B83: LA | C83: 2016 | D83: 07381495 | E83: Atchafalaya River at Melville, LA | F83: NASQAN | G83: Coastal River | H83: NASQAN | I83: nfsnlir | J83: 16 | L83: 1 | N83: 16 | P83: 1 | R83: 1 | Z83: 16 | AB83: 1 | AD83: 1 | AF83: 1 | AN83: 16 | AP83: 1 | AR83: 1 | AT83: 1 | AV83: 16 | AX83: 1 | AZ83: 1 | BB83: 16 | BD83: 16
B84: LA | C84: 2016 | D84: 07381590 | E84: Wax Lake Outlet at Calumet, LA | F84: NASQAN | G84: Coastal River | H84: NASQAN | I84: nfsnlir | J84: 14 | L84: 1 | N84: 14 | P84: 1 | R84: 1 | Z84: 14 | AB84: 1 | AD84: 1 | AF84: 1 | AN84: 14 | AP84: 1 | AR84: 1 | AT84: 1 | AV84: 0 | AX84: 0 | AZ84: 0 | BB84: 14 | BD84: 14
B85: LA | C85: 2016 | D85: 07381600 | E85: Lower Atchafalaya River at Morgan City, LA | F85: NASQAN | G85: Coastal River | H85: NASQAN | I85: nfsncoast | J85: 14 | L85: 1 | N85: 14 | P85: 1 | R85: 1 | Z85: 14 | AB85: 1 | AD85: 1 | AF85: 1 | AN85: 14 | AP85: 1 | AR85: 1 | AT85: 1 | AV85: 0 | AX85: 0 | AZ85: 0 | BB85: 14 | BD85: 14
B86: LA | C86: 2016 | D86: 08014500 | E86: Ouiska (Whiskey) Chitto Creek near Oberlin, LA | F86: rotate4 | G86: Reference | H86: NAWQA | I86: nfsnref | J86: 0 | L86: 0 | N86: 0 | P86: 0 | R86: 0 | T86: 12 | V86: 1 | X86: 1 | Z86: 0 | AB86: 0 | AD86: 0 | AF86: 0 | AH86: 12 | AJ86: 1 | AL86: 1 | AN86: 0 | AP86: 0 | AR86: 0 | AV86: 0
B87: LA | E87: WSC sum | J87: =SUM(J80:J86) -> 88 | K87: =SUM(K80:K86) -> 0 | L87: =SUM(L80:L86) -> 6 | M87: =SUM(M80:M86) -> 0 | N87: =SUM(N80:N86) -> 88 | O87: =SUM(O80:O86) -> 0 | P87: =SUM(P80:P86) -> 6 | Q87: =SUM(Q80:Q86) -> 0 | ... BI87: =SUM(BI80:BI86) -> 0
B89: MD | C89: 2016 | D89: 01578310 | E89: Susquehanna River at Conowingo, MD | F89: NASQAN | G89: Coastal River | H89: NASQAN | I89: nfsncoast | J89: 14 | L89: 1 | N89: 14 | P89: 1 | R89: 1 | Z89: 14 | AB89: 1 | AD89: 1 | AF89: 1 | AN89: 14 | AP89: 1 | AR89: 1 | AT89: 1 | AV89: 14 | AX89: 1 | AZ89: 1 | BB89: 14 | BD89: 14 | BH89: 14
B90: MD | C90: 2016 | D90: 01654000 | E90: Accotink Creek near Annandale, VA | F90: rotate2 | G90: Urban | H90: NAWQA | I90: nfsnurb | J90: 24 | L90: 1 | N90: 24 | P90: 1 | R90: 1 | Z90: 24 | AB90: 2 | AD90: 2 | AF90: 2 | AN90: 24 | AP90: 1 | AR90: 1 | AT90: 1 | AV90: 24 | AX90: 1 | AZ90: 1
B91: MD | C91: 2016 | D91: 01646580 | E91: Potomac River at Washington, DC | F91: agcore/NASQAN | G91: Coastal River | H91: NAWQA | I91: nfsncoast | J91: 18 | L91: 1 | N91: 18 | P91: 1 | R91: 1 | Z91: 18 | AB91: 1 | AD91: 1 | AF91: 1 | AN91: 18 | AP91: 1 | AR91: 1 | AT91: 1 | AV91: 18 | AX91: 1 | AZ91: 1 | BB91: 18 | BD91: 18 | BH91: 18
B92: MD | C92: 2016 | D92: 01610400 | E92: Waites Run near Wardensville, WV | F92: rotate4 | G92: Reference | H92: NAWQA | I92: nfsnref | J92: 0 | L92: 0 | N92: 0 | P92: 0 | R92: 0 | T92: 18 | V92: 1 | X92: 1 | Z92: 0 | AB92: 0 | AD92: 0 | AF92: 0 | AH92: 18 | AJ92: 1 | AL92: 1 | AN92: 0 | AP92: 0 | AR92: 0 | AV92: 0
B93: MD | E93: WSC sum | J93: =SUM(J89:J92) -> 56 | K93: =SUM(K89:K92) -> 0 | L93: =SUM(L89:L92) -> 3 | M93: =SUM(M89:M92) -> 0 | N93: =SUM(N89:N92) -> 56 | O93: =SUM(O89:O92) -> 0 | P93: =SUM(P89:P92) -> 3 | Q93: =SUM(Q89:Q92) -> 0 | ... BI93: =SUM(BI89:BI92) -> 0
B95: MI | C95: 2016 | D95: 04161820 | E95: Clinton River at Sterling Heights, MI | F95: rotate4 | G95: Urban | H95: NAWQA | I95: nfsnurb | J95: 24 | L95: 1 | N95: 24 | P95: 1 | R95: 1 | Z95: 24 | AB95: 2 | AD95: 2 | AF95: 2 | AN95: 24 | AP95: 1 | AR95: 1 | AT95: 1 | AV95: 24 | AX95: 1 | AZ95: 1
B96: MI | E96: WSC sum | J96: =SUM(J95:J95) -> 24 | K96: =SUM(K95:K95) -> 0 | L96: =SUM(L95:L95) -> 1 | M96: =SUM(M95:M95) -> 0 | N96: =SUM(N95:N95) -> 24 | O96: =SUM(O95:O95) -> 0 | P96: =SUM(P95:P95) -> 1 | Q96: =SUM(Q95:Q95) -> 0 | ... BI96: =SUM(BI95:BI95) -> 0
B98: MN | C98: 2016 | D98: 05288705 | E98: Shingle Creek at Minneapolis, MN | F98: rotate2 | G98: Urban | H98: NAWQA | I98: nfsnurb | J98: 24 | L98: 1 | N98: 24 | P98: 1 | R98: 1 | Z98: 24 | AB98: 2 | AD98: 2 | AF98: 2 | AN98: 24 | AP98: 1 | AR98: 1 | AT98: 1 | AV98: 24 | AX98: 1 | AZ98: 1
B99: MN | C99: 2016 | D99: 05331580 | E99: Mississippi River at Hastings, MN | F99: rotate4 | G99: Large Inland River | H99: NAWQA | I99: nfsnlir | J99: 14 | L99: 1 | N99: 14 | P99: 1 | R99: 1 | Z99: 14 | AB99: 1 | AD99: 1 | AF99: 1 | AN99: 14 | AP99: 1 | AR99: 1 | AT99: 1 | AV99: 14 | AX99: 1 | AZ99: 1
B100: MN | E100: WSC sum | J100: =SUM(J98:J99) -> 38 | K100: =SUM(K98:K99) -> 0 | L100: =SUM(L98:L99) -> 2 | M100: =SUM(M98:M99) -> 0 | N100: =SUM(N98:N99) -> 38 | O100: =SUM(O98:O99) -> 0 | P100: =SUM(P98:P99) -> 2 | Q100: =SUM(Q98:Q99) -> 0 | ... BI100: =SUM(BI98:BI99) -> 0
B102: MS | C102: 2016 | D102: 322023090544500 | E102: Mississippi River above Vicksburg, MS | F102: NMN | G102: Large Inland River | H102: NMN | I102: nfsnlir | J102: 14 | L102: 1 | N102: 14 | P102: 1 | R102: 1 | Z102: 14 | AB102: 1 | AD102: 1 | AF102: 1 | AN102: 14 | AP102: 1 | AR102: 1 | AT102: 1 | AV102: 0 | AX102: 0 | AZ102: 0 | BB102: 14 | BD102: 14 | BF102: 14
B103: MS | C103: 2016 | D103: 07288650 | E103: Bogue Phalia near Leland, MS | F103: ACT site | G103: Agriculture | H103: NAWQA | I103: nfsnag | J103: 24 | L103: 1 | N103: 24 | P103: 1 | R103: 1 | Z103: 24 | AB103: 2 | AD103: 2 | AF103: 2 | AN103: 24 | AP103: 1 | AR103: 1 | AT103: 1 | AV103: 24 | AX103: 1 | AZ103: 1
B104: MS | C104: 2016 | D104: 07288955 | E104: Yazoo River near Long Lake, MS | F104: agcore/NASQAN | G104: Large Inland River | H104: NAWQA | I104: nfsnlir | J104: 18 | L104: 1 | N104: 18 | P104: 1 | R104: 1 | Z104: 18 | AB104: 1 | AD104: 1 | AF104: 1 | AN104: 18 | AP104: 1 | AR104: 1 | AT104: 1 | AV104: 18 | AX104: 1 | AZ104: 1 | BD104: 18
B105: MS | E105: WSC sum | J105: =SUM(J102:J104) -> 56 | K105: =SUM(K102:K104) -> 0 | L105: =SUM(L102:L104) -> 3 | M105: =SUM(M102:M104) -> 0 | N105: =SUM(N102:N104) -> 56 | O105: =SUM(O102:O104) -> 0 | P105: =SUM(P102:P104) -> 3 | Q105: =SUM(Q102:Q104) -> 0 | ... BI105: =SUM(BI102:BI104) -> 0
B107: MO | C107: 2016 | D107: 07022000 | E107: Mississippi River at Thebes, IL | F107: NASQAN | G107: Large Inland River | H107: NASQAN | I107: nfsnlir | J107: 14 | L107: 1 | N107: 14 | P107: 1 | R107: 1 | Z107: 14 | AB107: 1 | AD107: 1 | AF107: 1 | AN107: 14 | AP107: 1 | AR107: 1 | AT107: 1 | AV107: 14 | AX107: 1 | AZ107: 1 | BB107: 14 | BD107: 14
B108: MO | C108: 2016 | D108: 05587455 | E108: Mississippi River Below Grafton, IL | F108: NASQAN | G108: Large Inland River | H108: NASQAN | I108: nfsnlir | J108: 14 | L108: 1 | N108: 14 | P108: 1 | R108: 1 | Z108: 14 | AB108: 1 | AD108: 1 | AF108: 1 | AN108: 14 | AP108: 1 | AR108: 1 | AT108: 1 | AV108: 14 | AX108: 1 | AZ108: 1 | BB108: 14 | BD108: 14 | BJ108: co-op site; will use S86, S1630, and S1904 in place of S2431; DNA sampling cancelled
B109: MO | C109: 2016 | D109: 06934500 | E109: Missouri River at Hermann, MO | F109: NASQAN | G109: Large Inland River | H109: NASQAN | I109: nfsnlir | J109: 14 | L109: 1 | N109: 14 | P109: 1 | R109: 1 | Z109: 14 | AB109: 1 | AD109: 1 | AF109: 1 | AN109: 14 | AP109: 1 | AR109: 1 | AT109: 1 | AV109: 14 | AX109: 1 | AZ109: 1 | BB109: 14 | BD109: 14
B110: MO | E110: WSC sum | J110: =SUM(J107:J109) -> 42 | K110: =SUM(K107:K109) -> 0 | L110: =SUM(L107:L109) -> 3 | M110: =SUM(M107:M109) -> 0 | N110: =SUM(N107:N109) -> 42 | O110: =SUM(O109) -> 0 | P110: =SUM(P107:P109) -> 3 | Q110: =SUM(Q109) -> 0 | R110: =SUM(R107:R109) -> 3 | S110: =SUM(S109) -> 0 | T110: =SUM(T109) -> 0 | U110: =SUM(U109) -> 0 | V110: =SUM(V109) -> 0 | W110: =SUM(W109) -> 0 | X110: =SUM(X109) -> 0 | Y110: =SUM(Y109) -> 0 | Z110: =SUM(Z107:Z109) -> 42 | AA110: =SUM(AA109) -> 0 | AB110: =SUM(AB107:AB109) -> 3 | AC110: =SUM(AC109) -> 0 | AD110: =SUM(AD107:AD109) -> 3 | AE110: =SUM(AE109) -> 0 | AF110: =SUM(AF107:AF109) -> 3 | AG110: =SUM(AG109) -> 0 | AH110: =SUM(AH109) -> 0 | AI110: =SUM(AI109) -> 0 | AJ110: =SUM(AJ109) -> 0 | AK110: =SUM(AK109) -> 0 | AL110: =SUM(AL109) -> 0 | AM110: =SUM(AM109) -> 0 | AN110: =SUM(AN107:AN109) -> 42 | AO110: =SUM(AO107:AO109) -> 0 | AP110: =SUM(AP107:AP109) -> 3 | AQ110: =SUM(AQ107:AQ109) -> 0 | AR110: =SUM(AR107:AR109) -> 3 | AS110: =SUM(AS107:AS109) -> 0 | AT110: =SUM(AT107:AT109) -> 3 | AU110: =SUM(AU109) -> 0 | AV110: =SUM(AV107:AV109) -> 42 | AW110: =SUM(AW107:AW109) -> 0 | AX110: =SUM(AX107:AX109) -> 3 | AY110: =SUM(AY107:AY109) -> 0 | AZ110: =SUM(AZ107:AZ109) -> 3 | BA110: =SUM(BA107:BA109) -> 0 | BB110: =SUM(BB107:BB109) -> 42 | BC110: =SUM(BC107:BC109) -> 0 | ... BI110: =SUM(BI107:BI109) -> 0
B112: NE | C112: 2016 | D112: 06775900 | E112: Dismal River near Thedford, NE | F112: eco_only | G112: Reference | H112: NAWQA | I112: nfsnref | J112: 0 | L112: 0 | N112: 0 | P112: 0 | R112: 0 | T112: 12 | V112: 1 | X112: 1 | Z112: 0 | AB112: 0 | AD112: 0 | AF112: 0 | AH112: 12 | AJ112: 1 | AL112: 1 | AN112: 0 | AP112: 0 | AR112: 0 | AV112: 0
B113: NE | C113: 2016 | D113: 06800500 | E113: Elkhorn River at Waterloo, NE | F113: rotate4 | G113: Large Inland River | H113: NAWQA | I113: nfsnlir | J113: 18 | L113: 1 | N113: 18 | P113: 1 | R113: 1 | Z113: 18 | AB113: 1 | AD113: 1 | AF113: 1 | AN113: 18 | AP113: 1 | AR113: 1 | AT113: 1 | AV113: 18 | AX113: 1 | AZ113: 1
B114: NE | C114: 2016 | D114: 06800000 | E114: Maple Creek near Nickerson, NE | F114: rotate2 | G114: Agriculture | H114: NAWQA | I114: nfsnag | J114: 24 | L114: 1 | N114: 24 | P114: 1 | R114: 1 | Z114: 24 | AB114: 2 | AD114: 2 | AF114: 2 | AN114: 24 | AP114: 1 | AR114: 1 | AT114: 1 | AV114: 24 | AX114: 1 | AZ114: 1
B115: NE | C115: 2016 | D115: 06805500 | E115: Platte River at Louisville, NE | F115: agcore/NASQAN | G115: Large Inland River | H115: NAWQA | I115: nfsnlir | J115: 14 | L115: 1 | N115: 14 | P115: 1 | R115: 1 | Z115: 14 | AB115: 1 | AD115: 1 | AF115: 1 | AN115: 14 | AP115: 1 | AR115: 1 | AT115: 1 | AV115: 14 | AX115: 1 | AZ115: 1 | BB115: 14 | BD115: 14
B116: NE | E116: WSC sum | J116: =SUM(J112:J115) -> 56 | K116: =SUM(K112:K115) -> 0 | L116: =SUM(L112:L115) -> 3 | M116: =SUM(M112:M115) -> 0 | N116: =SUM(N112:N115) -> 56 | O116: =SUM(O112:O115) -> 0 | P116: =SUM(P112:P115) -> 3 | Q116: =SUM(Q112:Q115) -> 0 | ... BI116: =SUM(BI112:BI115) -> 0
B118: NV | C118: 2016 | D118: 10350340 | E118: Truckee River near Tracy, NV | F118: rotate4 | G118: Large Inland River | H118: NAWQA | I118: nfsnlir | J118: 18 | L118: 1 | N118: 18 | P118: 1 | R118: 1 | Z118: 18 | AB118: 1 | AD118: 1 | AF118: 1 | AN118: 18 | AP118: 1 | AR118: 1 | AT118: 1 | AV118: 0 | AX118: 0 | AZ118: 0
B119: NV | E119: WSC sum | J119: =SUM(J118:J118) -> 18 | K119: =SUM(K118:K118) -> 0 | L119: =SUM(L118:L118) -> 1 | M119: =SUM(M118:M118) -> 0 | N119: =SUM(N118:N118) -> 18 | O119: =SUM(O118:O118) -> 0 | P119: =SUM(P118:P118) -> 1 | Q119: =SUM(Q118:Q118) -> 0 | ... BI119: =SUM(BI118:BI118) -> 0
B121: NJ | C121: 2016 | D121: 01463500 | E121: Delaware River at Trenton, NJ | F121: NMN/ rotate4 | G121: Coastal River | H121: NAWQA | I121: nfsncoast | J121: 14 | L121: 1 | N121: 14 | P121: 1 | R121: 1 | Z121: 14 | AB121: 1 | AD121: 1 | AF121: 1 | AN121: 14 | AP121: 1 | AR121: 1 | AT121: 1 | AV121: 14 | AX121: 1 | AZ121: 1 | BB121: 14 | BD121: 14 | BH121: 14
B122: NJ | E122: WSC sum | J122: =SUM(J121:J121) -> 14 | K122: =SUM(K121:K121) -> 0 | L122: =SUM(L121:L121) -> 1 | M122: =SUM(M121:M121) -> 0 | N122: =SUM(N121:N121) -> 14 | O122: =SUM(O121:O121) -> 0 | P122: =SUM(P121:P121) -> 1 | Q122: =SUM(Q121:Q121) -> 0 | ... BI122: =SUM(BI121:BI121) -> 0
B124: NM | C124: 2016 | D124: 08227000 | E124: Saguache Creek near Saguache, CO | F124: eco_only | G124: Reference-dropped 2016 | H124: NAWQA | I124: nfsnref | J124: 0 | L124: 0 | N124: 0 | P124: 0 | R124: 0 | Z124: 0 | AB124: 0 | AD124: 0 | AF124: 0 | AN124: 0 | AP124: 0 | AR124: 0 | AV124: 0 | BJ124: streamgage run by CO Div. of Water Resources
B125: NM | C125: 2016 | D125: 08364000 | E125: Rio Grande at El Paso, TX | F125: agcore/NAWQA | G125: Large Inland River | H125: NAWQA | I125: nfsnlir | J125: 14 | L125: 1 | N125: 14 | P125: 1 | R125: 1 | Z125: 14 | AB125: 1 | AD125: 1 | AF125: 1 | AN125: 14 | AP125: 1 | AR125: 1 | AT125: 1 | AV125: 14 | AX125: 1 | AZ125: 1
B126: NM | E126: WSC sum | J126: =SUM(J124:J125) -> 14 | K126: =SUM(K124:K125) -> 0 | L126: =SUM(L124:L125) -> 1 | M126: =SUM(M124:M125) -> 0 | N126: =SUM(N124:N125) -> 14 | O126: =SUM(O124:O125) -> 0 | P126: =SUM(P124:P125) -> 1 | Q126: =SUM(Q124:Q125) -> 0 | ... BI126: =SUM(BI124:BI125) -> 0
...

Sheet WY2016 Eco Sampling
A1: Last Update | B1: SC | C1: 42341 | G1: Ecological STAID | H1: Ecological Site name | I1: Cycle 2 Site Type | J1: Cycle 3 Site Type | K1: Eco- region | L1: Fiscal year | M1: Reach Sampled (Primary Reach) | N1: Inv / Algae RTH (Riffle or Snag) | O1: Index Period for Inverts and Algae | Q1: Inverts - RTH | S1: Outside IP | T1: Inverts - QMH | V1: Outside IP | W1: Algae - RTH | Y1: Outside IP | Z1: Algae - Chl a / Biomass | AB1: Outside IP | AC1: Fish | AH1: Outside IP | AI1: Habitat | AM1: Outside IP | AN1: IP Check | AO1: SU Annual Comments: Unusual Sampling Circumstances
C2: Primary STAID | D2: Site name | E2: WSC Ecology contact | F2: Fish QA Plan | Q2: No. of Samples Planned | R2: Date Com-pleted (MM/DD/YY) | T2: No. of Samples Planned | U2: Date Com-pleted (MM/DD/YY) | W2: No. of Samples Planned | X2: Date Com-pleted (MM/DD/YY) | Z2: No. of Samples Planned | AA2: Date Com-pleted (MM/DD/YY) | AC2: Index Period | AE2: QA Plan Submitted (Yes/No) | AF2: No. of Samples Planned | AG2: Date Com-pleted (MM/DD/YY) | AI2: Index Period | AK2: No. of Samples Planned | AL2: Date Com-pleted (MM/DD/YY)
O3: Start Date | P3: End Date | R3: Reach A | U3: Reach A | X3: Reach A | AA3: Reach A | AC3: Start Date | AD3: End Date | AI3: Start Date | AJ3: End Date
B5: AZ | C5: 09471000 | D5: San Pedro River at Charleston, AZ | E5: Nick Paretti | F5: Yes | I5: rotate4 | J5: Reference | K5: 79 | L5: 2016 | M5: A | N5: Riffle | O5: 41944 | P5: 41988 | Q5: 0 | T5: 0 | V5: =IF(T5>0,IF(U5<($O5-7),"EARLY",IF(U5>N($P5+7),"LATE","")),"") | W5: 0 | Y5: =IF(W5>0,IF(X5<($O5-7),"EARLY",IF(X5>N($P5+7),"LATE","")),"") | Z5: 0 | AB5: =IF(Z5>0,IF(AA5<($O5-7),"EARLY",IF(AA5>N($P5+7),"LATE","")),"") | AC5: 41944 | AD5: 41988 | AF5: 0 | AH5: =IF(AF5>0,IF(AG5<($AC5-7),"EARLY",IF(AG5>N($AD5+7),"LATE","")),"") | AI5: 41944 | AJ5: 41988 | AK5: 0 | AM5: =IF(AK5>0,IF(AL5<($AI5-7),"EARLY",IF(AL5>N($AJ5+7),"LATE","")),"") | AN5: =IF(OR(S5<>"",V5<>"",Y5<>"",AB5<>"",AH5<>"",AM5<>""),"CHECK","")
B6: AZ | C6: 09505800 | D6: West Clear Creek near Camp Verde, AZ | F6: Yes | I6: rotate4 | J6: Reference | K6: 23 | L6: 2016 | M6: A | N6: Riffle | O6: 42292 | P6: 42338 | Q6: 1 | S6: =IF(Q6>0,IF(R6<($O6-7),"EARLY",IF(R6>N($P6+7),"LATE","")),"") -> EARLY | T6: 0 | V6: =IF(T6>0,IF(U6<($O6-7),"EARLY",IF(U6>N($P6+7),"LATE","")),"") | W6: 1 | Y6: =IF(W6>0,IF(X6<($O6-7),"EARLY",IF(X6>N($P6+7),"LATE","")),"") -> EARLY | Z6: 1 | AB6: =IF(Z6>0,IF(AA6<($O6-7),"EARLY",IF(AA6>N($P6+7),"LATE","")),"") -> EARLY | AC6: 42292 | AD6: 42338 | AF6: 1 | AH6: =IF(AF6>0,IF(AG6<($AC6-7),"EARLY",IF(AG6>N($AD6+7),"LATE","")),"") -> EARLY | AI6: 42292 | AJ6: 42338 | AK6: 1 | AM6: =IF(AK6>0,IF(AL6<($AI6-7),"EARLY",IF(AL6>N($AJ6+7),"LATE","")),"") -> EARLY | AN6: =IF(OR(S6<>"",V6<>"",Y6<>"",AB6<>"",AH6<>"",AM6<>""),"CHECK","") -> CHECK | AO6: Sampling plan shown for the Fiscal Years in which samples are collected (i.e., Fall 2012 = FY2013)
B7: AR | C7: 07055646 | D7: Buffalo River near Boxley, AR | E7: Billy Justus | F7: Yes | I7: rotate4 | J7: Reference | K7: 38 | L7: 2016 | M7: A | N7: Riffle | O7: 42231 | P7: 42277 | Q7: 0 | S7: =IF(Q7>0,IF(R7<($O7-7),"EARLY",IF(R7>N($P7+7),"LATE","")),"") | T7: 0 | V7: =IF(T7>0,IF(U7<($O7-7),"EARLY",IF(U7>N($P7+7),"LATE","")),"") | W7: 0 | Y7: =IF(W7>0,IF(X7<($O7-7),"EARLY",IF(X7>N($P7+7),"LATE","")),"") | Z7: 0 | AB7: =IF(Z7>0,IF(AA7<($O7-7),"EARLY",IF(AA7>N($P7+7),"LATE","")),"") | AC7: 42200 | AD7: 42247 | AF7: 0 | AH7: =IF(AF7>0,IF(AG7<($AC7-7),"EARLY",IF(AG7>N($AD7+7),"LATE","")),"") | AI7: 42200 | AJ7: 42247 | AK7: 0 | AM7: =IF(AK7>0,IF(AL7<($AI7-7),"EARLY",IF(AL7>N($AJ7+7),"LATE","")),"") | AN7: =IF(OR(S7<>"",V7<>"",Y7<>"",AB7<>"",AH7<>"",AM7<>""),"CHECK","")
B8: AR | C8: 07060710 | D8: North Sylamore Creek near Fifty Six, AR | F8: Yes | I8: rotate4 | J8: Reference | K8: 39 | L8: 2016 | M8: C | N8: Riffle | O8: 42231 | P8: 42277 | Q8: 1 | S8: =IF(Q8>0,IF(R8<($O8-7),"EARLY",IF(R8>N($P8+7),"LATE","")),"") -> EARLY | T8: 0 | V8: =IF(T8>0,IF(U8<($O8-7),"EARLY",IF(U8>N($P8+7),"LATE","")),"") | W8: 1 | Y8: =IF(W8>0,IF(X8<($O8-7),"EARLY",IF(X8>N($P8+7),"LATE","")),"") -> EARLY | Z8: 1 | AB8: =IF(Z8>0,IF(AA8<($O8-7),"EARLY",IF(AA8>N($P8+7),"LATE","")),"") -> EARLY | AC8: 42200 | AD8: 42247 | AF8: 1 | AH8: =IF(AF8>0,IF(AG8<($AC8-7),"EARLY",IF(AG8>N($AD8+7),"LATE","")),"") -> EARLY | AI8: 42200 | AJ8: 42247 | AK8: 1 | AM8: =IF(AK8>0,IF(AL8<($AI8-7),"EARLY",IF(AL8>N($AJ8+7),"LATE","")),"") -> EARLY | AN8: =IF(OR(S8<>"",V8<>"",Y8<>"",AB8<>"",AH8<>"",AM8<>""),"CHECK","") -> CHECK
B9: CA | C9: 11274538 | D9: Orestimba Creek near Crows Landing, CA | E9: Jason May | F9: Yes | I9: rotate4 | J9: Agricultural | K9: 5 | L9: 2016 | M9: A | N9: Snag | O9: 42231 | P9: 42277 | Q9: 0 | S9: =IF(Q9>0,IF(R9<($O9-7),"EARLY",IF(R9>N($P9+7),"LATE","")),"") | T9: 0 | V9: =IF(T9>0,IF(U9<($O9-7),"EARLY",IF(U9>N($P9+7),"LATE","")),"") | W9: 0 | Y9: =IF(W9>0,IF(X9<($O9-7),"EARLY",IF(X9>N($P9+7),"LATE","")),"") | Z9: 0 | AB9: =IF(Z9>0,IF(AA9<($O9-7),"EARLY",IF(AA9>N($P9+7),"LATE","")),"") | AC9: 42231 | AD9: 42277 | AF9: 0 | AH9: =IF(AF9>0,IF(AG9<($AC9-7),"EARLY",IF(AG9>N($AD9+7),"LATE","")),"") | AI9: 42231 | AJ9: 42277 | AK9: 0 | AM9: =IF(AK9>0,IF(AL9<($AI9-7),"EARLY",IF(AL9>N($AJ9+7),"LATE","")),"") | AN9: =IF(OR(S9<>"",V9<>"",Y9<>"",AB9<>"",AH9<>"",AM9<>""),"CHECK","")
B10: CA | C10: 11335000 | D10: Cosumnes River at Michigan Bar, CA | F10: Yes | I10: eco_only | J10: Reference | K10: 7 | L10: 2016 | M10: C | N10: Riffle | O10: 42231 | P10: 42277 | Q10: 0 | S10: =IF(Q10>0,IF(R10<($O10-7),"EARLY",IF(R10>N($P10+7),"LATE","")),"") | T10: 0 | V10: =IF(T10>0,IF(U10<($O10-7),"EARLY",IF(U10>N($P10+7),"LATE","")),"") | W10: 0 | Y10: =IF(W10>0,IF(X10<($O10-7),"EARLY",IF(X10>N($P10+7),"LATE","")),"") | Z10: 0 | AB10: =IF(Z10>0,IF(AA10<($O10-7),"EARLY",IF(AA10>N($P10+7),"LATE","")),"") | AC10: 42231 | AD10: 42277 | AF10: 0 | AH10: =IF(AF10>0,IF(AG10<($AC10-7),"EARLY",IF(AG10>N($AD10+7),"LATE","")),"") | AI10: 42231 | AJ10: 42277 | AK10: 0 | AM10: =IF(AK10>0,IF(AL10<($AI10-7),"EARLY",IF(AL10>N($AJ10+7),"LATE","")),"") | AN10: =IF(OR(S10<>"",V10<>"",Y10<>"",AB10<>"",AH10<>"",AM10<>""),"CHECK","")
B11: CA | C11: 11264500 | D11: Merced River at Happy Isles Bridge nr Yosemite, CA | F11: Yes | I11: eco_only | J11: Reference | L11: 2016 | M11: A | N11: Riffle | O11: 42231 | P11: 42277 | Q11: 1 | S11: =IF(Q11>0,IF(R11<($O11-7),"EARLY",IF(R11>N($P11+7),"LATE","")),"") -> EARLY | T11: 0 | V11: =IF(T11>0,IF(U11<($O11-7),"EARLY",IF(U11>N($P11+7),"LATE","")),"") | W11: 1 | Y11: =IF(W11>0,IF(X11<($O11-7),"EARLY",IF(X11>N($P11+7),"LATE","")),"") -> EARLY | Z11: 1 | AB11: =IF(Z11>0,IF(AA11<($O11-7),"EARLY",IF(AA11>N($P11+7),"LATE","")),"") -> EARLY | AC11: 42193 | AD11: 42238 | AF11: 1 | AH11: =IF(AF11>0,IF(AG11<($AC11-7),"EARLY",IF(AG11>N($AD11+7),"LATE","")),"") -> EARLY | AI11: 42193 | AJ11: 42238 | AK11: 1 | AM11: =IF(AK11>0,IF(AL11<($AI11-7),"EARLY",IF(AL11>N($AJ11+7),"LATE","")),"") -> EARLY | AN11: =IF(OR(S11<>"",V11<>"",Y11<>"",AB11<>"",AH11<>"",AM11<>""),"CHECK","") -> CHECK
B12: CO | C12: 06713500 | D12: Cherry Creek at Denver, CO | E12: Bob Zuellig | F12: Yes | I12: rotate2 | J12: Urban | K12: 25 | L12: 2016 | M12: B | N12: Riffle | O12: 42200 | P12: 42247 | Q12: 1 | S12: =IF(Q12>0,IF(R12<($O12-7),"EARLY",IF(R12>N($P12+7),"LATE","")),"") -> EARLY | T12: 0 | V12: =IF(T12>0,IF(U12<($O12-7),"EARLY",IF(U12>N($P12+7),"LATE","")),"") | W12: 1 | Y12: =IF(W12>0,IF(X12<($O12-7),"EARLY",IF(X12>N($P12+7),"LATE","")),"") -> EARLY | Z12: 1 | AB12: =IF(Z12>0,IF(AA12<($O12-7),"EARLY",IF(AA12>N($P12+7),"LATE","")),"") -> EARLY | AC12: 42200 | AD12: 42247 | AF12: 1 | AH12: =IF(AF12>0,IF(AG12<($AC12-7),"EARLY",IF(AG12>N($AD12+7),"LATE","")),"") -> EARLY | AI12: 42200 | AJ12: 42247 | AK12: 1 | AM12: =IF(AK12>0,IF(AL12<($AI12-7),"EARLY",IF(AL12>N($AJ12+7),"LATE","")),"") -> EARLY | AN12: =IF(OR(S12<>"",V12<>"",Y12<>"",AB12<>"",AH12<>"",AM12<>""),"CHECK","") -> CHECK
B13: CT(NENG) | C13: 01170100 | D13: Green River near Colrain, MA | E13: Karen Beaulieu | F13: Yes | G13: 01170095 | H13: Green River at Stewartville, MA | I13: rotate4 | J13: Reference | K13: 58 | L13: 2016 | M13: A | N13: Riffle | O13: 42217 | P13: 42262 | Q13: 1 | S13: =IF(Q13>0,IF(R13<($O13-7),"EARLY",IF(R13>N($P13+7),"LATE","")),"") -> EARLY | T13: 0 | V13: =IF(T13>0,IF(U13<($O13-7),"EARLY",IF(U13>N($P13+7),"LATE","")),"") | W13: 1 | Y13: =IF(W13>0,IF(X13<($O13-7),"EARLY",IF(X13>N($P13+7),"LATE","")),"") -> EARLY | Z13: 1 | AB13: =IF(Z13>0,IF(AA13<($O13-7),"EARLY",IF(AA13>N($P13+7),"LATE","")),"") -> EARLY | AC13: 42217 | AD13: 42262 | AF13: 1 | AH13: =IF(AF13>0,IF(AG13<($AC13-7),"EARLY",IF(AG13>N($AD13+7),"LATE","")),"") -> EARLY | AI13: 42217 | AJ13: 42262 | AK13: 1 | AM13: =IF(AK13>0,IF(AL13<($AI13-7),"EARLY",IF(AL13>N($AJ13+7),"LATE","")),"") -> EARLY | AN13: =IF(OR(S13<>"",V13<>"",Y13<>"",AB13<>"",AH13<>"",AM13<>""),"CHECK","") -> CHECK
B14: CT(NENG) | C14: 01209710 | D14: Norwalk River at Winnipauk,CT | F14: Yes | I14: rotate4 | J14: Urban | K14: 59 | L14: 2016 | M14: A | N14: Riffle | O14: 42217 | P14: 42262 | Q14: 1 | S14: =IF(Q14>0,IF(R14<($O14-7),"EARLY",IF(R14>N($P14+7),"LATE","")),"") -> EARLY | T14: 0 | V14: =IF(T14>0,IF(U14<($O14-7),"EARLY",IF(U14>N($P14+7),"LATE","")),"") | W14: 1 | Y14: =IF(W14>0,IF(X14<($O14-7),"EARLY",IF(X14>N($P14+7),"LATE","")),"") -> EARLY | Z14: 1 | AB14: =IF(Z14>0,IF(AA14<($O14-7),"EARLY",IF(AA14>N($P14+7),"LATE","")),"") -> EARLY | AC14: 42217 | AD14: 42262 | AF14: 1 | AH14: =IF(AF14>0,IF(AG14<($AC14-7),"EARLY",IF(AG14>N($AD14+7),"LATE","")),"") -> EARLY | AI14: 42217 | AJ14: 42262 | AK14: 1 | AM14: =IF(AK14>0,IF(AL14<($AI14-7),"EARLY",IF(AL14>N($AJ14+7),"LATE","")),"") -> EARLY | AN14: =IF(OR(S14<>"",V14<>"",Y14<>"",AB14<>"",AH14<>"",AM14<>""),"CHECK","") -> CHECK
B15: GA | C15: 2338523 | D15: Hillibahatchee Creek near Franklin, GA | E15: Jeff Riley | F15: Yes | I15: rotate4 | J15: Reference | K15: 45 | L15: 2016 | M15: B | N15: Riffle | O15: 42139 | P15: 42185 | Q15: 1 | S15: =IF(Q15>0,IF(R15<($O15-7),"EARLY",IF(R15>N($P15+7),"LATE","")),"") -> EARLY | T15: 0 | V15: =IF(T15>0,IF(U15<($O15-7),"EARLY",IF(U15>N($P15+7),"LATE","")),"") | W15: 1 | Y15: =IF(W15>0,IF(X15<($O15-7),"EARLY",IF(X15>N($P15+7),"LATE","")),"") -> EARLY | Z15: 1 | AB15: =IF(Z15>0,IF(AA15<($O15-7),"EARLY",IF(AA15>N($P15+7),"LATE","")),"") -> EARLY | AC15: 42248 | AD15: 42292 | AF15: 1 | AH15: =IF(AF15>0,IF(AG15<($AC15-7),"EARLY",IF(AG15>N($AD15+7),"LATE","")),"") -> EARLY | AI15: 42248 | AJ15: 42292 | AK15: 1 | AM15: =IF(AK15>0,IF(AL15<($AI15-7),"EARLY",IF(AL15>N($AJ15+7),"LATE","")),"") -> EARLY | AN15: =IF(OR(S15<>"",V15<>"",Y15<>"",AB15<>"",AH15<>"",AM15<>""),"CHECK","") -> CHECK
B16: GA | C16: 02335870 | D16: Sope Creek near Marietta, GA | F16: Yes | I16: rotate2 | J16: Urban | K16: 45 | L16: 2016 | M16: A | N16: Riffle | O16: 42139 | P16: 42185 | Q16: 1 | S16: =IF(Q16>0,IF(R16<($O16-7),"EARLY",IF(R16>N($P16+7),"LATE","")),"") -> EARLY | T16: 0 | V16: =IF(T16>0,IF(U16<($O16-7),"EARLY",IF(U16>N($P16+7),"LATE","")),"") | W16: 1 | Y16: =IF(W16>0,IF(X16<($O16-7),"EARLY",IF(X16>N($P16+7),"LATE","")),"") -> EARLY | Z16: 1 | AB16: =IF(Z16>0,IF(AA16<($O16-7),"EARLY",IF(AA16>N($P16+7),"LATE","")),"") -> EARLY | AC16: 42248 | AD16: 42292 | AF16: 1 | AH16: =IF(AF16>0,IF(AG16<($AC16-7),"EARLY",IF(AG16>N($AD16+7),"LATE","")),"") -> EARLY | AI16: 42248 | AJ16: 42292 | AK16: 1 | AM16: =IF(AK16>0,IF(AL16<($AI16-7),"EARLY",IF(AL16>N($AJ16+7),"LATE","")),"") -> EARLY | AN16: =IF(OR(S16<>"",V16<>"",Y16<>"",AB16<>"",AH16<>"",AM16<>""),"CHECK","") -> CHECK
B17: ID | C17: 13092747 | D17: Rock Creek at Twin Falls, ID | E17: Dorene MacCoy | F17: Yes | I17: rotate4 | J17: Agricultural | K17: 12 | L17: 2016 | M17: A | N17: Riffle | O17: 42186 | P17: 42231 | Q17: 1 | S17: =IF(Q17>0,IF(R17<($O17-7),"EARLY",IF(R17>N($P17+7),"LATE","")),"") -> EARLY | T17: 0 | V17: =IF(T17>0,IF(U17<($O17-7),"EARLY",IF(U17>N($P17+7),"LATE","")),"") | W17: 1 | Y17: =IF(W17>0,IF(X17<($O17-7),"EARLY",IF(X17>N($P17+7),"LATE","")),"") -> EARLY | Z17: 1 | AB17: =IF(Z17>0,IF(AA17<($O17-7),"EARLY",IF(AA17>N($P17+7),"LATE","")),"") -> EARLY | AC17: 42186 | AD17: 42231 | AF17: 1 | AH17: =IF(AF17>0,IF(AG17<($AC17-7),"EARLY",IF(AG17>N($AD17+7),"LATE","")),"") -> EARLY | AI17: 42186 | AJ17: 42231 | AK17: 1 | AM17: =IF(AK17>0,IF(AL17<($AI17-7),"EARLY",IF(AL17>N($AJ17+7),"LATE","")),"") -> EARLY | AN17: =IF(OR(S17<>"",V17<>"",Y17<>"",AB17<>"",AH17<>"",AM17<>""),"CHECK","") -> CHECK
B18: IN | C18: 394340085524601 | D18: Sugar Creek at New Palestine, IN | E18: Edward Dobrowolski | F18: Yes | I18: rotate2 | J18: Agricultural | K18: 55 | L18: 2016 | M18: A | N18: Riffle | O18: 42200 | P18: 42247 | Q18: 1 | S18: =IF(Q18>0,IF(R18<($O18-7),"EARLY",IF(R18>N($P18+7),"LATE","")),"") -> EARLY | T18: 0 | V18: =IF(T18>0,IF(U18<($O18-7),"EARLY",IF(U18>N($P18+7),"LATE","")),"") | W18: 1 | Y18: =IF(W18>0,IF(X18<($O18-7),"EARLY",IF(X18>N($P18+7),"LATE","")),"") -> EARLY | Z18: 1 | AB18: =IF(Z18>0,IF(AA18<($O18-7),"EARLY",IF(AA18>N($P18+7),"LATE","")),"") -> EARLY | AC18: 42217 | AD18: 42262 | AF18: 1 | AH18: =IF(AF18>0,IF(AG18<($AC18-7),"EARLY",IF(AG18>N($AD18+7),"LATE","")),"") -> EARLY | AI18: 42200 | AJ18: 42247 | AK18: 1 | AM18: =IF(AK18>0,IF(AL18<($AI18-7),"EARLY",IF(AL18>N($AJ18+7),"LATE","")),"") -> EARLY | AN18: =IF(OR(S18<>"",V18<>"",Y18<>"",AB18<>"",AH18<>"",AM18<>""),"CHECK","") -> CHECK
B19: IA | C19: 05451210 | D19: South Fork Iowa River near New Providence, IA | E19: Jason McVay | F19: Yes | I19: rotate2 | J19: Agricultural | K19: 47 | L19: 2016 | M19: A | N19: Snag | O19: 42217 | P19: 42262 | Q19: 1 | S19: =IF(Q19>0,IF(R19<($O19-7),"EARLY",IF(R19>N($P19+7),"LATE","")),"") -> EARLY | T19: 0 | V19: =IF(T19>0,IF(U19<($O19-7),"EARLY",IF(U19>N($P19+7),"LATE","")),"") | W19: 1 | Y19: =IF(W19>0,IF(X19<($O19-7),"EARLY",IF(X19>N($P19+7),"LATE","")),"") -> EARLY | Z19: 1 | AB19: =IF(Z19>0,IF(AA19<($O19-7),"EARLY",IF(AA19>N($P19+7),"LATE","")),"") -> EARLY | AC19: 42231 | AD19: 42277 | AF19: 1 | AH19: =IF(AF19>0,IF(AG19<($AC19-7),"EARLY",IF(AG19>N($AD19+7),"LATE","")),"") -> EARLY | AI19: 42217 | AJ19: 42262 | AK19: 1 | AM19: =IF(AK19>0,IF(AL19<($AI19-7),"EARLY",IF(AL19>N($AJ19+7),"LATE","")),"") -> EARLY | AN19: =IF(OR(S19<>"",V19<>"",Y19<>"",AB19<>"",AH19<>"",AM19<>""),"CHECK","") -> CHECK
B20: LA | C20: 08014500 | D20: Ouiska (Whisky) Chitto Creek near Oberlin, LA | E20: Scott Mize | F20: Yes | I20: rotate4 | J20: Reference | K20: 35 | L20: 2016 | M20: A | N20: Snag | O20: 42200 | P20: 42247 | Q20: 1 | S20: =IF(Q20>0,IF(R20<($O20-7),"EARLY",IF(R20>N($P20+7),"LATE","")),"") -> EARLY | T20: 0 | V20: =IF(T20>0,IF(U20<($O20-7),"EARLY",IF(U20>N($P20+7),"LATE","")),"") | W20: 1 | Y20: =IF(W20>0,IF(X20<($O20-7),"EARLY",IF(X20>N($P20+7),"LATE","")),"") -> EARLY | Z20: 1 | AB20: =IF(Z20>0,IF(AA20<($O20-7),"EARLY",IF(AA20>N($P20+7),"LATE","")),"") -> EARLY | AC20: 42200 | AD20: 42247 | AF20: 1 | AH20: =IF(AF20>0,IF(AG20<($AC20-7),"EARLY",IF(AG20>N($AD20+7),"LATE","")),"") -> EARLY | AI20: 42200 | AJ20: 42247 | AK20: 1 | AM20: =IF(AK20>0,IF(AL20<($AI20-7),"EARLY",IF(AL20>N($AJ20+7),"LATE","")),"") -> EARLY | AN20: =IF(OR(S20<>"",V20<>"",Y20<>"",AB20<>"",AH20<>"",AM20<>""),"CHECK","") -> CHECK
B21: MD | C21: 01610400 | D21: Waites Run near Wardensville, WV | E21: Robin Brightbill | F21: Yes | I21: rotate4 | J21: Reference | K21: 67 | L21: 2016 | M21: B | N21: Riffle | O21: 42186 | P21: 42231 | Q21: 1 | S21: =IF(Q21>0,IF(R21<($O21-7),"EARLY",IF(R21>N($P21+7),"LATE","")),"") -> EARLY | T21: 0 | V21: =IF(T21>0,IF(U21<($O21-7),"EARLY",IF(U21>N($P21+7),"LATE","")),"") | W21: 1 | Y21: =IF(W21>0,IF(X21<($O21-7),"EARLY",IF(X21>N($P21+7),"LATE","")),"") -> EARLY | Z21: 1 | AB21: =IF(Z21>0,IF(AA21<($O21-7),"EARLY",IF(AA21>N($P21+7),"LATE","")),"") -> EARLY | AC21: 42186 | AD21: 42231 | AF21: 1 | AH21: =IF(AF21>0,IF(AG21<($AC21-7),"EARLY",IF(AG21>N($AD21+7),"LATE","")),"") -> EARLY | AI21: 42186 | AJ21: 42231 | AK21: 1 | AM21: =IF(AK21>0,IF(AL21<($AI21-7),"EARLY",IF(AL21>N($AJ21+7),"LATE","")),"") -> EARLY | AN21: =IF(OR(S21<>"",V21<>"",Y21<>"",AB21<>"",AH21<>"",AM21<>""),"CHECK","") -> CHECK
B22: MD | C22: 01654000 | D22: Accotink Creek near Annandale, VA | F22: Yes | I22: rotate2 | J22: Urban | K22: 45 | L22: 2016 | M22: A | N22: Riffle | O22: 42156 | P22: 42200 | Q22: 1 | S22: =IF(Q22>0,IF(R22<($O22-7),"EARLY",IF(R22>N($P22+7),"LATE","")),"") -> EARLY | T22: 0 | V22: =IF(T22>0,IF(U22<($O22-7),"EARLY",IF(U22>N($P22+7),"LATE","")),"") | W22: 1 | Y22: =IF(W22>0,IF(X22<($O22-7),"EARLY",IF(X22>N($P22+7),"LATE","")),"") -> EARLY | Z22: 1 | AB22: =IF(Z22>0,IF(AA22<($O22-7),"EARLY",IF(AA22>N($P22+7),"LATE","")),"") -> EARLY | AC22: 42217 | AD22: 42262 | AF22: 1 | AH22: =IF(AF22>0,IF(AG22<($AC22-7),"EARLY",IF(AG22>N($AD22+7),"LATE","")),"") -> EARLY | AI22: 42217 | AJ22: 42262 | AK22: 1 | AM22: =IF(AK22>0,IF(AL22<($AI22-7),"EARLY",IF(AL22>N($AJ22+7),"LATE","")),"") -> EARLY | AN22: =IF(OR(S22<>"",V22<>"",Y22<>"",AB22<>"",AH22<>"",AM22<>""),"CHECK","") -> CHECK
B23: MN | C23: 05288705 | D23: Shingle Creek at Minneapolis, MN | E23: Kathy Lee | F23: Yes | I23: rotate2 | J23: Urban | K23: 51 | L23: 2016 | M23: B | N23: Riffle | O23: 42186 | P23: 42231 | Q23: 1 | S23: =IF(Q23>0,IF(R23<($O23-7),"EARLY",IF(R23>N($P23+7),"LATE","")),"") -> EARLY | T23: 0 | V23: =IF(T23>0,IF(U23<($O23-7),"EARLY",IF(U23>N($P23+7),"LATE","")),"") | W23: 1 | Y23: =IF(W23>0,IF(X23<($O23-7),"EARLY",IF(X23>N($P23+7),"LATE","")),"") -> EARLY | Z23: 1 | AB23: =IF(Z23>0,IF(AA23<($O23-7),"EARLY",IF(AA23>N($P23+7),"LATE","")),"") -> EARLY | AC23: 42186 | AD23: 42231 | AF23: 1 | AH23: =IF(AF23>0,IF(AG23<($AC23-7),"EARLY",IF(AG23>N($AD23+7),"LATE","")),"") -> EARLY | AI23: 42186 | AJ23: 42231 | AK23: 1 | AM23: =IF(AK23>0,IF(AL23<($AI23-7),"EARLY",IF(AL23>N($AJ23+7),"LATE","")),"") -> EARLY | AN23: =IF(OR(S23<>"",V23<>"",Y23<>"",AB23<>"",AH23<>"",AM23<>""),"CHECK","") -> CHECK
B24: MS | C24: 07288650 | D24: Bogue Phalia near Leland, MS | E24: Jeannie Barlow | F24: Yes | I24: dropped08 | J24: Agricultural | K24: 73 | L24: 2016 | M24: A | N24: Snag | O24: 42217 | P24: 42262 | Q24: 1 | S24: =IF(Q24>0,IF(R24<($O24-7),"EARLY",IF(R24>N($P24+7),"LATE","")),"") -> EARLY | T24: 0 | V24: =IF(T24>0,IF(U24<($O24-7),"EARLY",IF(U24>N($P24+7),"LATE","")),"") | W24: 1 | Y24: =IF(W24>0,IF(X24<($O24-7),"EARLY",IF(X24>N($P24+7),"LATE","")),"") -> EARLY | Z24: 1 | AB24: =IF(Z24>0,IF(AA24<($O24-7),"EARLY",IF(AA24>N($P24+7),"LATE","")),"") -> EARLY | AC24: 42200 | AD24: 42247 | AF24: 1 | AH24: =IF(AF24>0,IF(AG24<($AC24-7),"EARLY",IF(AG24>N($AD24+7),"LATE","")),"") -> EARLY | AI24: 42200 | AJ24: 42247 | AK24: 1 | AM24: =IF(AK24>0,IF(AL24<($AI24-7),"EARLY",IF(AL24>N($AJ24+7),"LATE","")),"") -> EARLY | AN24: =IF(OR(S24<>"",V24<>"",Y24<>"",AB24<>"",AH24<>"",AM24<>""),"CHECK","") -> CHECK
B25: NE | C25: 06775900 | D25: Dismal River near Thedford, NE | E25: Jason Alexander | F25: Yes | I25: eco_only | J25: Reference | K25: 44 | L25: 2016 | M25: C | N25: Snag | O25: 42217 | P25: 42262 | Q25: 1 | S25: =IF(Q25>0,IF(R25<($O25-7),"EARLY",IF(R25>N($P25+7),"LATE","")),"") -> EARLY | T25: 0 | V25: =IF(T25>0,IF(U25<($O25-7),"EARLY",IF(U25>N($P25+7),"LATE","")),"") | W25: 1 | Y25: =IF(W25>0,IF(X25<($O25-7),"EARLY",IF(X25>N($P25+7),"LATE","")),"") -> EARLY | Z25: 1 | AB25: =IF(Z25>0,IF(AA25<($O25-7),"EARLY",IF(AA25>N($P25+7),"LATE","")),"") -> EARLY | AC25: 42217 | AD25: 42262 | AF25: 1 | AH25: =IF(AF25>0,IF(AG25<($AC25-7),"EARLY",IF(AG25>N($AD25+7),"LATE","")),"") -> EARLY | AI25: 42217 | AJ25: 42262 | AK25: 1 | AM25: =IF(AK25>0,IF(AL25<($AI25-7),"EARLY",IF(AL25>N($AJ25+7),"LATE","")),"") -> EARLY | AN25: =IF(OR(S25<>"",V25<>"",Y25<>"",AB25<>"",AH25<>"",AM25<>""),"CHECK","") -> CHECK
B26: NE | C26: 06800000 | D26: Maple Creek near Nickerson, NE | F26: Yes | I26: rotate2 | J26: Agricultural | K26: 47 | L26: 2016 | M26: C | N26: Snag | O26: 42217 | P26: 42262 | Q26: 1 | S26: =IF(Q26>0,IF(R26<($O26-7),"EARLY",IF(R26>N($P26+7),"LATE","")),"") -> EARLY | T26: 0 | V26: =IF(T26>0,IF(U26<($O26-7),"EARLY",IF(U26>N($P26+7),"LATE","")),"") | W26: 1 | Y26: =IF(W26>0,IF(X26<($O26-7),"EARLY",IF(X26>N($P26+7),"LATE","")),"") -> EARLY | Z26: 1 | AB26: =IF(Z26>0,IF(AA26<($O26-7),"EARLY",IF(AA26>N($P26+7),"LATE","")),"") -> EARLY | AC26: 42217 | AD26: 42262 | AF26: 1 | AH26: =IF(AF26>0,IF(AG26<($AC26-7),"EARLY",IF(AG26>N($AD26+7),"LATE","")),"") -> EARLY | AI26: 42217 | AJ26: 42262 | AK26: 1 | AM26: =IF(AK26>0,IF(AL26<($AI26-7),"EARLY",IF(AL26>N($AJ26+7),"LATE","")),"") -> EARLY | AN26: =IF(OR(S26<>"",V26<>"",Y26<>"",AB26<>"",AH26<>"",AM26<>""),"CHECK","") -> CHECK
B27: NM | C27: 08227000 | D27: Saguache Creek near Saguache, CO | E27: Joe Beman | F27: Yes | I27: eco_only | J27: Reference | K27: 21 | L27: 2016 | M27: A | N27: Riffle | O27: 42200 | P27: 42247 | Q27: 0 | S27: =IF(Q27>0,IF(R27<($O27-7),"EARLY",IF(R27>N($P27+7),"LATE","")),"") | T27: 0 | V27: =IF(T27>0,IF(U27<($O27-7),"EARLY",IF(U27>N($P27+7),"LATE","")),"") | W27: 0 | Y27: =IF(W27>0,IF(X27<($O27-7),"EARLY",IF(X27>N($P27+7),"LATE","")),"") | Z27: 0 | AB27: =IF(Z27>0,IF(AA27<($O27-7),"EARLY",IF(AA27>N($P27+7),"LATE","")),"") | AC27: 42200 | AD27: 42247 | AF27: 0 | AH27: =IF(AF27>0,IF(AG27<($AC27-7),"EARLY",IF(AG27>N($AD27+7),"LATE","")),"") | AI27: 42200 | AJ27: 42247 | AK27: 0 | AM27: =IF(AK27>0,IF(AL27<($AI27-7),"EARLY",IF(AL27>N($AJ27+7),"LATE","")),"") | AN27: =IF(OR(S27<>"",V27<>"",Y27<>"",AB27<>"",AH27<>"",AM27<>""),"CHECK","")
B28: NY | C28: 01349150 | D28: Canajoharie Creek near Canajoharie, NY | E28: Karen Murray | F28: Yes | I28: rotate4 | J28: Agricultural | K28: 83 | L28: 2016 | M28: A | N28: Riffle | O28: 42200 | P28: 42247 | Q28: 1 | S28: =IF(Q28>0,IF(R28<($O28-7),"EARLY",IF(R28>N($P28+7),"LATE","")),"") -> EARLY | T28: 0 | V28: =IF(T28>0,IF(U28<($O28-7),"EARLY",IF(U28>N($P28+7),"LATE","")),"") | W28: 1 | Y28: =IF(W28>0,IF(X28<($O28-7),"EARLY",IF(X28>N($P28+7),"LATE","")),"") -> EARLY | Z28: 1 | AB28: =IF(Z28>0,IF(AA28<($O28-7),"EARLY",IF(AA28>N($P28+7),"LATE","")),"") -> EARLY | AC28: 42217 | AD28: 42262 | AF28: 1 | AH28: =IF(AF28>0,IF(AG28<($AC28-7),"EARLY",IF(AG28>N($AD28+7),"LATE","")),"") -> EARLY | AI28: 42217 | AJ28: 42262 | AK28: 1 | AM28: =IF(AK28>0,IF(AL28<($AI28-7),"EARLY",IF(AL28>N($AJ28+7),"LATE","")),"") -> EARLY | AN28: =IF(OR(S28<>"",V28<>"",Y28<>"",AB28<>"",AH28<>"",AM28<>""),"CHECK","") -> CHECK
B29: NC | C29: 02091500 | D29: Contentnea Creek at Hookerton, NC | E29: Michelle Moorman | F29: Yes | I29: rotate4 | J29: Agricultural | K29: 65 | L29: 2016 | M29: A | N29: Snag | O29: 42139 | P29: 42185 | Q29: 1 | S29: =IF(Q29>0,IF(R29<($O29-7),"EARLY",IF(R29>N($P29+7),"LATE","")),"") -> EARLY | T29: 0 | V29: =IF(T29>0,IF(U29<($O29-7),"EARLY",IF(U29>N($P29+7),"LATE","")),"") | W29: 1 | Y29: =IF(W29>0,IF(X29<($O29-7),"EARLY",IF(X29>N($P29+7),"LATE","")),"") -> EARLY | Z29: 1 | AB29: =IF(Z29>0,IF(AA29<($O29-7),"EARLY",IF(AA29>N($P29+7),"LATE","")),"") -> EARLY | AC29: 42248 | AD29: 42292 | AF29: 1 | AH29: =IF(AF29>0,IF(AG29<($AC29-7),"EARLY",IF(AG29>N($AD29+7),"LATE","")),"") -> EARLY | AI29: 42248 | AJ29: 42292 | AK29: 1 | AM29: =IF(AK29>0,IF(AL29<($AI29-7),"EARLY",IF(AL29>N($AJ29+7),"LATE","")),"") -> EARLY | AN29: =IF(OR(S29<>"",V29<>"",Y29<>"",AB29<>"",AH29<>"",AM29<>""),"CHECK","") -> CHECK
B30: NC | C30: 2087580 | D30: Swift Creek near Apex, NC | F30: Yes | I30: rotate2 | J30: Urban | K30: 65 | L30: 2016 | M30: C | N30: Riffle | O30: 42139 | P30: 42185 | Q30: 1 | S30: =IF(Q30>0,IF(R30<($O30-7),"EARLY",IF(R30>N($P30+7),"LATE","")),"") -> EARLY | T30: 0 | V30: =IF(T30>0,IF(U30<($O30-7),"EARLY",IF(U30>N($P30+7),"LATE","")),"") | W30: 1 | Y30: =IF(W30>0,IF(X30<($O30-7),"EARLY",IF(X30>N($P30+7),"LATE","")),"") -> EARLY | Z30: 1 | AB30: =IF(Z30>0,IF(AA30<($O30-7),"EARLY",IF(AA30>N($P30+7),"LATE","")),"") -> EARLY | AC30: 42248 | AD30: 42292 | AF30: 1 | AH30: =IF(AF30>0,IF(AG30<($AC30-7),"EARLY",IF(AG30>N($AD30+7),"LATE","")),"") -> EARLY | AI30: 42248 | AJ30: 42292 | AK30: 1 | AM30: =IF(AK30>0,IF(AL30<($AI30-7),"EARLY",IF(AL30>N($AJ30+7),"LATE","")),"") -> EARLY | AN30: =IF(OR(S30<>"",V30<>"",Y30<>"",AB30<>"",AH30<>"",AM30<>""),"CHECK","") -> CHECK
B31: OH | C31: 04161820 | D31: Clinton River at Sterling Heights, MI | E31: Stephanie Janosy | F31: Yes | I31: rotate4 | J31: Urban | K31: 56 | L31: 2016 | M31: A | N31: Riffle | O31: 42217 | P31: 42262 | Q31: 1 | S31: =IF(Q31>0,IF(R31<($O31-7),"EARLY",IF(R31>N($P31+7),"LATE","")),"") -> EARLY | T31: 0 | V31: =IF(T31>0,IF(U31<($O31-7),"EARLY",IF(U31>N($P31+7),"LATE","")),"") | W31: 1 | Y31: =IF(W31>0,IF(X31<($O31-7),"EARLY",IF(X31>N($P31+7),"LATE","")),"") -> EARLY | Z31: 1 | AB31: =IF(Z31>0,IF(AA31<($O31-7),"EARLY",IF(AA31>N($P31+7),"LATE","")),"") -> EARLY | AC31: 42217 | AD31: 42262 | AF31: 1 | AH31: =IF(AF31>0,IF(AG31<($AC31-7),"EARLY",IF(AG31>N($AD31+7),"LATE","")),"") -> EARLY | AI31: 42217 | AJ31: 42262 | AK31: 1 | AM31: =IF(AK31>0,IF(AL31<($AI31-7),"EARLY",IF(AL31>N($AJ31+7),"LATE","")),"") -> EARLY | AN31: =IF(OR(S31<>"",V31<>"",Y31<>"",AB31<>"",AH31<>"",AM31<>""),"CHECK","") -> CHECK
B32: OR | C32: 14201300 | D32: Zollner Creek near Mt. Angel, OR | E32: Jennifer Moarce | F32: NO | I32: rotate4 | J32: Agricultural | K32: 3 | L32: 2016 | M32: A | N32: Snag | O32: 42231 | P32: 42277 | Q32: 1 | S32: =IF(Q32>0,IF(R32<($O32-7),"EARLY",IF(R32>N($P32+7),"LATE","")),"") -> EARLY | T32: 0 | V32: =IF(T32>0,IF(U32<($O32-7),"EARLY",IF(U32>N($P32+7),"LATE","")),"") | W32: 1 | Y32: =IF(W32>0,IF(X32<($O32-7),"EARLY",IF(X32>N($P32+7),"LATE","")),"") -> EARLY | Z32: 1 | AB32: =IF(Z32>0,IF(AA32<($O32-7),"EARLY",IF(AA32>N($P32+7),"LATE","")),"") -> EARLY | AC32: 42231 | AD32: 42277 | AF32: 1 | AH32: =IF(AF32>0,IF(AG32<($AC32-7),"EARLY",IF(AG32>N($AD32+7),"LATE","")),"") -> EARLY | AI32: 42231 | AJ32: 42277 | AK32: 1 | AM32: =IF(AK32>0,IF(AL32<($AI32-7),"EARLY",IF(AL32>N($AJ32+7),"LATE","")),"") -> EARLY | AN32: =IF(OR(S32<>"",V32<>"",Y32<>"",AB32<>"",AH32<>"",AM32<>""),"CHECK","") -> CHECK
B33: OR | C33: 14206950 | D33: Fanno Creek at Durham, OR | F33: NO | I33: rotate2 | J33: Urban | K33: 3 | L33: 2016 | M33: A | N33: Riffle | O33: 42231 | P33: 42277 | Q33: 1 | S33: =IF(Q33>0,IF(R33<($O33-7),"EARLY",IF(R33>N($P33+7),"LATE","")),"") -> EARLY | T33: 0 | V33: =IF(T33>0,IF(U33<($O33-7),"EARLY",IF(U33>N($P33+7),"LATE","")),"") | W33: 1 | Y33: =IF(W33>0,IF(X33<($O33-7),"EARLY",IF(X33>N($P33+7),"LATE","")),"") -> EARLY | Z33: 1 | AB33: =IF(Z33>0,IF(AA33<($O33-7),"EARLY",IF(AA33>N($P33+7),"LATE","")),"") -> EARLY | AC33: 42231 | AD33: 42277 | AF33: 1 | AH33: =IF(AF33>0,IF(AG33<($AC33-7),"EARLY",IF(AG33>N($AD33+7),"LATE","")),"") -> EARLY | AI33: 42231 | AJ33: 42277 | AK33: 1 | AM33: =IF(AK33>0,IF(AL33<($AI33-7),"EARLY",IF(AL33>N($AJ33+7),"LATE","")),"") -> EARLY | AN33: =IF(OR(S33<>"",V33<>"",Y33<>"",AB33<>"",AH33<>"",AM33<>""),"CHECK","") -> CHECK
B34: OR | C34: 14205400 | D34: E Fork Dairy Creek near Meachan Corner, OR | F34: NO | I34: rotate4 | J34: Reference | K34: 3 | L34: 2016 | M34: A | N34: Riffle | O34: 42231 | P34: 42277 | Q34: 0 | S34: =IF(Q34>0,IF(R34<($O34-7),"EARLY",IF(R34>N($P34+7),"LATE","")),"") | T34: 0 | V34: =IF(T34>0,IF(U34<($O34-7),"EARLY",IF(U34>N($P34+7),"LATE","")),"") | W34: 0 | Y34: =IF(W34>0,IF(X34<($O34-7),"EARLY",IF(X34>N($P34+7),"LATE","")),"") | Z34: 0 | AB34: =IF(Z34>0,IF(AA34<($O34-7),"EARLY",IF(AA34>N($P34+7),"LATE","")),"") | AC34: 42231 | AD34: 42277 | AF34: 0 | AH34: =IF(AF34>0,IF(AG34<($AC34-7),"EARLY",IF(AG34>N($AD34+7),"LATE","")),"") | AI34: 42231 | AJ34: 42277 | AK34: 0 | AM34: =IF(AK34>0,IF(AL34<($AI34-7),"EARLY",IF(AL34>N($AJ34+7),"LATE","")),"") | AN34: =IF(OR(S34<>"",V34<>"",Y34<>"",AB34<>"",AH34<>"",AM34<>""),"CHECK","")
B35: SC | C35: 02172300 | D35: McTier Creek near Monetta, SC | E35: Jeff Riley | F35: Yes | I35: rotate4 | J35: Reference | K35: 65 | L35: 2016 | M35: A | N35: Snag | O35: 42139 | P35: 42185 | Q35: 0 | S35: =IF(Q35>0,IF(R35<($O35-7),"EARLY",IF(R35>N($P35+7),"LATE","")),"") | T35: 0 | V35: =IF(T35>0,IF(U35<($O35-7),"EARLY",IF(U35>N($P35+7),"LATE","")),"") | W35: 0 | Y35: =IF(W35>0,IF(X35<($O35-7),"EARLY",IF(X35>N($P35+7),"LATE","")),"") | Z35: 0 | AB35: =IF(Z35>0,IF(AA35<($O35-7),"EARLY",IF(AA35>N($P35+7),"LATE","")),"") | AC35: 42248 | AD35: 42292 | AF35: 0 | AH35: =IF(AF35>0,IF(AG35<($AC35-7),"EARLY",IF(AG35>N($AD35+7),"LATE","")),"") | AI35: 42139 | AJ35: 42185 | AK35: 0 | AM35: =IF(AK35>0,IF(AL35<($AI35-7),"EARLY",IF(AL35>N($AJ35+7),"LATE","")),"") | AN35: =IF(OR(S35<>"",V35<>"",Y35<>"",AB35<>"",AH35<>"",AM35<>""),"CHECK","")
B36: TX | C36: 08057200 | D36: White Rock Creek at Dallas, TX | E36: Bruce Moring | F36: Yes | I36: rotate2 | J36: Urban | K36: 32 | L36: 2016 | M36: A | N36: Riffle | O36: 42186 | P36: 42231 | Q36: 1 | S36: =IF(Q36>0,IF(R36<($O36-7),"EARLY",IF(R36>N($P36+7),"LATE","")),"") -> EARLY | T36: 0 | V36: =IF(T36>0,IF(U36<($O36-7),"EARLY",IF(U36>N($P36+7),"LATE","")),"") | W36: 1 | Y36: =IF(W36>0,IF(X36<($O36-7),"EARLY",IF(X36>N($P36+7),"LATE","")),"") -> EARLY | Z36: 1 | AB36: =IF(Z36>0,IF(AA36<($O36-7),"EARLY",IF(AA36>N($P36+7),"LATE","")),"") -> EARLY | AC36: 42186 | AD36: 42231 | AF36: 1 | AH36: =IF(AF36>0,IF(AG36<($AC36-7),"EARLY",IF(AG36>N($AD36+7),"LATE","")),"") -> EARLY | AI36: 42186 | AJ36: 42231 | AK36: 1 | AM36: =IF(AK36>0,IF(AL36<($AI36-7),"EARLY",IF(AL36>N($AJ36+7),"LATE","")),"") -> EARLY | AN36: =IF(OR(S36<>"",V36<>"",Y36<>"",AB36<>"",AH36<>"",AM36<>""),"CHECK","") -> CHECK
B37: TX | C37: 08195000 | D37: Frio River at Concan, TX | F37: Yes | I37: eco_only | J37: Reference | K37: 30 | L37: 2016 | M37: B | N37: Riffle | O37: 42186 | P37: 42231 | Q37: 1 | S37: =IF(Q37>0,IF(R37<($O37-7),"EARLY",IF(R37>N($P37+7),"LATE","")),"") -> EARLY | T37: 0 | V37: =IF(T37>0,IF(U37<($O37-7),"EARLY",IF(U37>N($P37+7),"LATE","")),"") | W37: 1 | Y37: =IF(W37>0,IF(X37<($O37-7),"EARLY",IF(X37>N($P37+7),"LATE","")),"") -> EARLY | Z37: 1 | AB37: =IF(Z37>0,IF(AA37<($O37-7),"EARLY",IF(AA37>N($P37+7),"LATE","")),"") -> EARLY | AC37: 42186 | AD37: 42231 | AF37: 1 | AH37: =IF(AF37>0,IF(AG37<($AC37-7),"EARLY",IF(AG37>N($AD37+7),"LATE","")),"") -> EARLY | AI37: 42186 | AJ37: 42231 | AK37: 1 | AM37: =IF(AK37>0,IF(AL37<($AI37-7),"EARLY",IF(AL37>N($AJ37+7),"LATE","")),"") -> EARLY | AN37: =IF(OR(S37<>"",V37<>"",Y37<>"",AB37<>"",AH37<>"",AM37<>""),"CHECK","") -> CHECK
B38: UT | C38: 10168000 | D38: Little Cottonwood Creek at Salt Lake City, UT | E38: Anne Brasher | F38: NO | I38: rotate2 | J38: Urban | K38: 19 | L38: 2016 | M38: A | N38: Depositional | O38: 42200 | P38: 42247 | Q38: 1 | S38: =IF(Q38>0,IF(R38<($O38-7),"EARLY",IF(R38>N($P38+7),"LATE","")),"") -> EARLY | T38: 0 | V38: =IF(T38>0,IF(U38<($O38-7),"EARLY",IF(U38>N($P38+7),"LATE","")),"") | W38: 1 | Y38: =IF(W38>0,IF(X38<($O38-7),"EARLY",IF(X38>N($P38+7),"LATE","")),"") -> EARLY | Z38: 1 | AB38: =IF(Z38>0,IF(AA38<($O38-7),"EARLY",IF(AA38>N($P38+7),"LATE","")),"") -> EARLY | AC38: 42200 | AD38: 42247 | AF38: 1 | AH38: =IF(AF38>0,IF(AG38<($AC38-7),"EARLY",IF(AG38>N($AD38+7),"LATE","")),"") -> EARLY | AI38: 42200 | AJ38: 42247 | AK38: 1 | AM38: =IF(AK38>0,IF(AL38<($AI38-7),"EARLY",IF(AL38>N($AJ38+7),"LATE","")),"") -> EARLY | AN38: =IF(OR(S38<>"",V38<>"",Y38<>"",AB38<>"",AH38<>"",AM38<>""),"CHECK","") -> CHECK
B39: UT | C39: 10172200 | D39: Red Butte Creek at Ft Douglas, UT | F39: NO | I39: rotate4 | J39: Reference | K39: 19 | L39: 2016 | M39: A | N39: Riffle | O39: 42200 | P39: 42247 | Q39: 1 | S39: =IF(Q39>0,IF(R39<($O39-7),"EARLY",IF(R39>N($P39+7),"LATE","")),"") -> EARLY | T39: 0 | V39: =IF(T39>0,IF(U39<($O39-7),"EARLY",IF(U39>N($P39+7),"LATE","")),"") | W39: 1 | Y39: =IF(W39>0,IF(X39<($O39-7),"EARLY",IF(X39>N($P39+7),"LATE","")),"") -> EARLY | Z39: 1 | AB39: =IF(Z39>0,IF(AA39<($O39-7),"EARLY",IF(AA39>N($P39+7),"LATE","")),"") -> EARLY | AF39: 0 | AH39: =IF(AF39>0,IF(AG39<($AC39-7),"EARLY",IF(AG39>N($AD39+7),"LATE","")),"") | AI39: 42200 | AJ39: 42247 | AK39: 1 | AM39: =IF(AK39>0,IF(AL39<($AI39-7),"EARLY",IF(AL39>N($AJ39+7),"LATE","")),"") -> EARLY | AN39: =IF(OR(S39<>"",V39<>"",Y39<>"",AB39<>"",AH39<>"",AM39<>""),"CHECK","") -> CHECK | AO39: No fish collected at this site (only fish present are those stocked by the State).
B40: WA | C40: 12505450 | D40: Granger Drain at Granger, WA | E40: Bob Black | F40: Yes | I40: rotate4 | J40: Agricultural | K40: 10 | L40: 2016 | M40: A | N40: Riffle | O40: 42217 | P40: 42262 | Q40: 1 | S40: =IF(Q40>0,IF(R40<($O40-7),"EARLY",IF(R40>N($P40+7),"LATE","")),"") -> EARLY | T40: 0 | V40: =IF(T40>0,IF(U40<($O40-7),"EARLY",IF(U40>N($P40+7),"LATE","")),"") | W40: 1 | Y40: =IF(W40>0,IF(X40<($O40-7),"EARLY",IF(X40>N($P40+7),"LATE","")),"") -> EARLY | Z40: 1 | AB40: =IF(Z40>0,IF(AA40<($O40-7),"EARLY",IF(AA40>N($P40+7),"LATE","")),"") -> EARLY | AC40: 42217 | AD40: 42262 | AF40: 1 | AH40: =IF(AF40>0,IF(AG40<($AC40-7),"EARLY",IF(AG40>N($AD40+7),"LATE","")),"") -> EARLY | AI40: 42217 | AJ40: 42262 | AK40: 1 | AM40: =IF(AK40>0,IF(AL40<($AI40-7),"EARLY",IF(AL40>N($AJ40+7),"LATE","")),"") -> EARLY | AN40: =IF(OR(S40<>"",V40<>"",Y40<>"",AB40<>"",AH40<>"",AM40<>""),"CHECK","") -> CHECK
B41: WA | C41: 12056500 | D41: North Fork Skokomish River near Hoodsport, WA | F41: Yes | I41: eco_only | J41: Reference | K41: 1 | L41: 2016 | M41: A | N41: Riffle | O41: 42231 | P41: 42277 | Q41: 1 | S41: =IF(Q41>0,IF(R41<($O41-7),"EARLY",IF(R41>N($P41+7),"LATE","")),"") -> EARLY | T41: 0 | V41: =IF(T41>0,IF(U41<($O41-7),"EARLY",IF(U41>N($P41+7),"LATE","")),"") | W41: 1 | Y41: =IF(W41>0,IF(X41<($O41-7),"EARLY",IF(X41>N($P41+7),"LATE","")),"") -> EARLY | Z41: 1 | AB41: =IF(Z41>0,IF(AA41<($O41-7),"EARLY",IF(AA41>N($P41+7),"LATE","")),"") -> EARLY | AF41: 0 | AH41: =IF(AF41>0,IF(AG41<($AC41-7),"EARLY",IF(AG41>N($AD41+7),"LATE","")),"") | AI41: 42231 | AJ41: 42277 | AK41: 1 | AM41: =IF(AK41>0,IF(AL41<($AI41-7),"EARLY",IF(AL41>N($AJ41+7),"LATE","")),"") -> EARLY | AN41: =IF(OR(S41<>"",V41<>"",Y41<>"",AB41<>"",AH41<>"",AM41<>""),"CHECK","") -> CHECK | AO41: No fish collected at this site
B42: WI | C42: 04063700 | D42: Popple River near Fence, WI | E42: Barb Eikenberry | F42: Yes | I42: rotate4 | J42: Reference | K42: 50 | L42: 2016 | M42: A | N42: Riffle | O42: 42231 | P42: 42277 | Q42: 1 | S42: =IF(Q42>0,IF(R42<($O42-7),"EARLY",IF(R42>N($P42+7),"LATE","")),"") -> EARLY | T42: 0 | V42: =IF(T42>0,IF(U42<($O42-7),"EARLY",IF(U42>N($P42+7),"LATE","")),"") | W42: 1 | Y42: =IF(W42>0,IF(X42<($O42-7),"EARLY",IF(X42>N($P42+7),"LATE","")),"") -> EARLY | Z42: 1 | AB42: =IF(Z42>0,IF(AA42<($O42-7),"EARLY",IF(AA42>N($P42+7),"LATE","")),"") -> EARLY | AC42: 42217 | AD42: 42262 | AF42: 1 | AH42: =IF(AF42>0,IF(AG42<($AC42-7),"EARLY",IF(AG42>N($AD42+7),"LATE","")),"") -> EARLY | AI42: 42231 | AJ42: 42277 | AK42: 1 | AM42: =IF(AK42>0,IF(AL42<($AI42-7),"EARLY",IF(AL42>N($AJ42+7),"LATE","")),"") -> EARLY | AN42: =IF(OR(S42<>"",V42<>"",Y42<>"",AB42<>"",AH42<>"",AM42<>""),"CHECK","") -> CHECK
B43: WY | C43: 06324970 | D43: Little Powder River near Weston, WY | E43: Peter Wright | F43: Yes | I43: rotate4 | J43: Reference | K43: 43 | L43: 2016 | M43: A | N43: Riffle | O43: 42186 | P43: 42231 | Q43: 0 | S43: =IF(Q43>0,IF(R43<($O43-7),"EARLY",IF(R43>N($P43+7),"LATE","")),"") | T43: 0 | V43: =IF(T43>0,IF(U43<($O43-7),"EARLY",IF(U43>N($P43+7),"LATE","")),"") | W43: 0 | Y43: =IF(W43>0,IF(X43<($O43-7),"EARLY",IF(X43>N($P43+7),"LATE","")),"") | Z43: 0 | AB43: =IF(Z43>0,IF(AA43<($O43-7),"EARLY",IF(AA43>N($P43+7),"LATE","")),"") | AC43: 42186 | AD43: 42231 | AF43: 0 | AH43: =IF(AF43>0,IF(AG43<($AC43-7),"EARLY",IF(AG43>N($AD43+7),"LATE","")),"") | AI43: 42186 | AJ43: 42231 | AK43: 0 | AM43: =IF(AK43>0,IF(AL43<($AI43-7),"EARLY",IF(AL43>N($AJ43+7),"LATE","")),"") | AN43: =IF(OR(S43<>"",V43<>"",Y43<>"",AB43<>"",AH43<>"",AM43<>""),"CHECK","")
A45: HBN sites
B46: ME | C46: 1054200 | D46: Wild River at Gilead, Maine | E46: Karen Beaulieu | J46: Reference | O46: 42217 | P46: 42262 | Q46: 1 | W46: 1 | Z46: 1 | AC46: 42217 | AD46: 42262 | AF46: 1 | AI46: 42217 | AJ46: 42262 | AK46: 1
B47: NY | C47: 1435000 | D47: Neversink River near Claryville, NY | E47: Karen Murray | J47: Reference | O47: 42217 | P47: 42262 | Q47: 1 | W47: 1 | Z47: 1 | AC47: 42217 | AD47: 42262 | AF47: 1 | AI47: 42217 | AJ47: 42262 | AK47: 1
B48: NJ | C48: 1466500 | D48: McDonalds Branch in Byrne State Forest, NJ | E48: Melissa Riskin | J48: Reference | O48: 42200 | P48: 42247 | Q48: 1 | W48: 1 | Z48: 1 | AC48: 42200 | AD48: 42247 | AF48: 1 | AI48: 42200 | AJ48: 42247 | AK48: 1
B49: PA | C49: 1545600 | D49: Young Womans Creek near Renova, PA | E49: Robin Brightbill | J49: Reference | O49: 42217 | P49: 42262 | Q49: 1 | W49: 1 | Z49: 1 | AC49: 42217 | AD49: 42262 | AF49: 1 | AI49: 42217 | AJ49: 42262 | AK49: 1
B50: FL | C50: 2327100 | D50: Sopchoppy River near Sopchoppy, FL | E50: Scott Mize | J50: Reference | O50: 42200 | P50: 42247 | Q50: 1 | W50: 1 | Z50: 1 | AC50: 42200 | AD50: 42247 | AF50: 1 | AI50: 42200 | AJ50: 42247 | AK50: 1
B51: TN | C51: 3497300 | D51: Little River above Townsend, TN | E51: Rodney Knight | J51: Reference | O51: 42231 | P51: 42277 | Q51: 1 | W51: 1 | Z51: 1 | AC51: 42231 | AD51: 42277 | AF51: 1 | AI51: 42231 | AJ51: 42277 | AK51: 1
B52: MT | C52: 5014300 | D52: Swiftcurrent Creek above Swiftcurrent Lake at Many Glacier, MT | E52: Peter Wright | J52: Reference | O52: 42200 | P52: 42247 | Q52: 1 | W52: 1 | Z52: 1 | AC52: 42200 | AD52: 42247 | AF52: 1 | AI52: 42200 | AJ52: 42247 | AK52: 1
B53: WY | C53: 9196500 | D53: Pine Creek above Fremont Lake WY | E53: Peter Wright | J53: Reference | O53: 42231 | P53: 42277 | Q53: 1 | W53: 1 | Z53: 1 | AC53: 42231 | AD53: 42277 | AF53: 1 | AI53: 42231 | AJ53: 42277 | AK53: 1
B54: CO | C54: 9352900 | D54: Vallecito Creek near Bayfield, CO | E54: Nancy Bauch | J54: Reference | O54: 42200 | P54: 42247 | Q54: 1 | W54: 1 | Z54: 1 | AC54: 42200 | AD54: 42247 | AF54: 1 | AI54: 42200 | AJ54: 42247 | AK54: 1
B55: CA | C55: 10343500 | D55: Sagehen Creek near Truckee, CA | E55: Jason May | J55: Reference | O55: 42231 | P55: 42277 | Q55: 1 | W55: 1 | Z55: 1 | AC55: 42231 | AD55: 42277 | AF55: 1 | AI55: 42231 | AJ55: 42277 | AK55: 1
B56: CA | C56: 11206800 | D56: Marble Fork Kaweah River at Tokopah Falls near Kaweah, CA | E56: Jason May | J56: Reference | O56: 42231 | P56: 42277 | Q56: 1 | W56: 1 | Z56: 1 | AC56: 42231 | AD56: 42277 | AF56: 1 | AI56: 42231 | AJ56: 42277 | AK56: 1
B57: CA | C57: 11264500 | D57: Merced River above Happy Isles Bridge near Yosemite, CA | E57: Jason May | J57: Reference | O57: 42231 | P57: 42277 | Q57: 1 | W57: 1 | Z57: 1 | AC57: 42231 | AD57: 42277 | AF57: 1 | AI57: 42231 | AJ57: 42277 | AK57: 1
... B60: CO | C60: 402114105350101 | D60: Big Thompson River below Moraine Park Nr Estes Park, CO | E60: Nancy Bauch | J60: Reference | O60: 42200 | P60: 42247 | Q60: 1 | W60: 1 | Z60: 1 | AC60: 42200 | AD60: 42247 | AF60: 1 | AI60: 42200 | AJ60: 42247 | AK60: 1
D61: SUM | Q61: =SUM(Q5:Q60) -> 46 | W61: =SUM(W5:W60) -> 46 | Z61: =SUM(Z5:Z60) -> 46 | AF61: =SUM(AF5:AF60) -> 44 | AK61: =SUM(AK5:AK60) -> 46

Sheet reference site schedules
A1: Parameter Group | B1: Analyte | C1: Lab Code | D1: Parameter Code | E1: Collection Method
A2: FIELD AND DISSOLVED - ALL SITES (except speciated Aluminum)
A3: Field measurements | B3: Air temperature | D3: 00020
B4: Water temperature | D4: 00010
A6: Major Ions | B6: pH, laboratory | C6: 8011 | D6: 00408 | E6: Centroid/grab
A7: SH2648 | B7: Specific conductance, laboratory | C7: 8009 | D7: 90095 | E7: Centroid/grab
B8: Alkalinity, inflection point, laboratory | C8: 8007 | D8: 39087 | E8: Centroid/grab
B9: ICP-AES setup
B10: Calcium | C10: 659 | D10: 915 | E10: Centroid/grab
B11: Chloride | C11: 1571 | D11: 940 | E11: Centroid/grab
B12: Fluoride | C12: 651 | D12: 950 | E12: Centroid/grab
B13: Magnesium | C13: 663 | D13: 925 | E13: Centroid/grab
B14: Potassium | C14: 2773 | D14: 935 | E14: Centroid/grab
B15: Residue, 180 degrees Celsius (TDS) | C15: 27 | D15: 70300 | E15: Centroid/grab
B16: Silica | C16: 667 | D16: 955 | E16: Centroid/grab
B17: Sodium | C17: 675 | D17: 930 | E17: Centroid/grab
B18: Sulfate | C18: 1572 | D18: 945 | E18: Centroid/grab
A20: Metals
B21: Total Aluminum | D21: 01105 | E21: Centroid/grab | F21: only measured at select HBN sites in NE, analyzed at NY WSC
B22: Total Monomeric Aluminum | D22: 49287 | E22: Centroid/grab | F22: only measured at select HBN sites in NE, analyzed at NY WSC
B23: Total Organic Monomeric Aluminum | D23: 49288 | E23: Centroid/grab | F23: only measured at select HBN sites in NE, analyzed at NY WSC
B24: Dissolved Aluminum | D24: 01106 | E24: Centroid/grab | F24: only measured at select HBN sites in NE, analyzed at NY WSC
A26: Nutrients and Carbon | B26: Dissolved Nitrite | C26: 3117 | D26: 613 | E26: Centroid/grab
A27: SH2649 | B27: Dissolved Nitrite + Nitrate | C27: 3157 | D27: 631 | E27: Centroid/grab
B28: Total Dissolved N (NH3+NO2+NO3+Organic) | C28: 2754 | D28: 62854 | E28: Centroid/grab
B29: Dissolved Ammonia | C29: 3116 | D29: 00608 | E29: Centroid/grab
B30: Dissolved ortho phosphate | C30: 3118 | D30: 671 | E30: Centroid/grab
B31: Dissolved Organic Carbon | C31: 2612 | D31: 681 | E31: Centroid/grab

Sheet Sample counts
A1: SC Collecting Samples | B1: Suspended Sediment Samples | C1: SH 998/1201 Major Ion Samples | D1: SH 998/1201 Major Ions Blanks | E1: SH2648 Reference Major Ion Samples | F1: SH2648 Reference Major Ions Blanks | G1: SH 2430/31/32 Nutrients Samples | H1: Nutrient Blanks | I1: SH2649 Reference Nutrients Samples | J1: SH2649 Reference Nutrient Blanks | K1: SH2437 Pesticide Samples | L1: SH2437 Pesticide Blanks | M1: LCGY Glyphosate Samples | N1: LCGY Glyphosate Blanks | O1: LC 2172 Inverts RTH | P1: LC 2176 Inverts QMH | Q1: Algae RTH | R1: SH 1632 Chl a
A2: AL | B2: ='WY2016 Chem Sampling'!$J$7+'WY2016 Chem Sampling'!$L$7 -> 34 | C2: ='WY2016 Chem Sampling'!$N$7+'WY2016 Chem Sampling'!$P$7 -> 34 | D2: ='WY2016 Chem Sampling'!$R$7 -> 2 | E2: ='WY2016 Chem Sampling'!$T$7+'WY2016 Chem Sampling'!$V$7 -> 0 | F2: ='WY2016 Chem Sampling'!$X$7 -> 0 | G2: ='WY2016 Chem Sampling'!$Z$7+'WY2016 Chem Sampling'!$AB$7 -> 34 | H2: ='WY2016 Chem Sampling'!$AD$7 -> 2 | K2: ='WY2016 Chem Sampling'!AN7+'WY2016 Chem Sampling'!AR7+'WY2016 Chem Sampling'!AT7 -> 36 | L2: ='WY2016 Chem Sampling'!$AP$7 -> 2 | M2: ='WY2016 Chem Sampling'!AZ7+'WY2016 Chem Sampling'!AV7 -> 0 | N2: ='WY2016 Chem Sampling'!$AX$7 -> 0 | O2: 0 | P2: 0 | Q2: 0 | R2: 0
A3: AK | B3: ='WY2016 Chem Sampling'!$J$10+'WY2016 Chem Sampling'!$L$10 -> 8 | C3: ='WY2016 Chem Sampling'!$N$10+'WY2016 Chem Sampling'!$P$10 -> 7 | D3: ='WY2016 Chem Sampling'!$R$10 -> 1 | G3: ='WY2016 Chem Sampling'!$Z$10+'WY2016 Chem Sampling'!$AB$10 -> 7 | H3: ='WY2016 Chem Sampling'!$AD$10 -> 1 | K3: ='WY2016 Chem Sampling'!AN10+'WY2016 Chem Sampling'!AR10+'WY2016 Chem Sampling'!AT10 -> 4 | L3: ='WY2016 Chem Sampling'!$AP$10 -> 0 | M3: ='WY2016 Chem Sampling'!AZ10+'WY2016 Chem Sampling'!AV10 -> 0 | N3: ='WY2016 Chem Sampling'!$AX$10 -> 0 | O3: 0 | P3: 0 | Q3: 0 | R3: 0
A4: AZ | B4: ='WY2016 Chem Sampling'!$J$16+'WY2016 Chem Sampling'!$L$16 -> 28 | C4: ='WY2016 Chem Sampling'!$N$16+'WY2016 Chem Sampling'!$P$16 -> 28 | D4: ='WY2016 Chem Sampling'!$R$16 -> 2 | E4: ='WY2016 Chem Sampling'!$T$16+'WY2016 Chem Sampling'!$V$16 -> 18 | F4: ='WY2016 Chem Sampling'!$X$16 -> 1 | G4: ='WY2016 Chem Sampling'!$Z$16+'WY2016 Chem Sampling'!$AB$16 -> 28 | H4: ='WY2016 Chem Sampling'!$AD$16 -> 2 | I4: ='WY2016 Chem Sampling'!$AH$16+'WY2016 Chem Sampling'!$AJ$16 -> 18 | J4: ='WY2016 Chem Sampling'!$AL$16 -> 1 | K4: ='WY2016 Chem Sampling'!AN16+'WY2016 Chem Sampling'!AR16+'WY2016 Chem Sampling'!AT16 -> 30 | L4: ='WY2016 Chem Sampling'!$AP$16 -> 2 | M4: ='WY2016 Chem Sampling'!AZ16+'WY2016 Chem Sampling'!AV16 -> 0 | N4: ='WY2016 Chem Sampling'!$AX$16 -> 0 | O4: ='WY2016 Eco Sampling'!$Q$5+'WY2016 Eco Sampling'!$Q$6 -> 1 | P4: ='WY2016 Eco Sampling'!$T$5+'WY2016 Eco Sampling'!$T$6 -> 0 | Q4: ='WY2016 Eco Sampling'!$W$5+'WY2016 Eco Sampling'!$W$6 -> 1 | R4: ='WY2016 Eco Sampling'!$Z$5+'WY2016 Eco Sampling'!$Z$6 -> 1
A5: AR | B5: ='WY2016 Chem Sampling'!$J$21+'WY2016 Chem Sampling'!$L$21 -> 15 | C5: ='WY2016 Chem Sampling'!$N$21+'WY2016 Chem Sampling'!$P$21 -> 15 | D5: ='WY2016 Chem Sampling'!$R$21 -> 1 | E5: ='WY2016 Chem Sampling'!$T$21+'WY2016 Chem Sampling'!$V$21 -> 17 | F5: ='WY2016 Chem Sampling'!$X$21 -> 1 | G5: ='WY2016 Chem Sampling'!$Z$21+'WY2016 Chem Sampling'!$AB$21 -> 15 | H5: ='WY2016 Chem Sampling'!$AD$21 -> 1 | I5: ='WY2016 Chem Sampling'!$AH$21+'WY2016 Chem Sampling'!$AJ$21 -> 17 | J5: ='WY2016 Chem Sampling'!$AL$21 -> 1 | K5: ='WY2016 Chem Sampling'!AN21+'WY2016 Chem Sampling'!AR21+'WY2016 Chem Sampling'!AT21 -> 16 | L5: ='WY2016 Chem Sampling'!$AP$21 -> 1 | M5: ='WY2016 Chem Sampling'!AZ21+'WY2016 Chem Sampling'!AV21 -> 15 | N5: ='WY2016 Chem Sampling'!$AX$21 -> 1 | O5: ='WY2016 Eco Sampling'!$Q$7+'WY2016 Eco Sampling'!$Q$8 -> 1 | P5: ='WY2016 Eco Sampling'!$T$7+'WY2016 Eco Sampling'!$T$8 -> 0 | Q5: ='WY2016 Eco Sampling'!$W$7+'WY2016 Eco Sampling'!$W$8 -> 1 | R5: ='WY2016 Eco Sampling'!$Z$7+'WY2016 Eco Sampling'!$Z$8 -> 1
A6: CA | B6: ='WY2016 Chem Sampling'!$J$30+'WY2016 Chem Sampling'!$L$30 -> 53 | C6: ='WY2016 Chem Sampling'!$N$30+'WY2016 Chem Sampling'!$P$30 -> 53 | D6: ='WY2016 Chem Sampling'!$R$30 -> 3 | E6: ='WY2016 Chem Sampling'!$T$30+'WY2016 Chem Sampling'!$V$30 -> 0 | F6: ='WY2016 Chem Sampling'!$X$30 -> 0 | G6: ='WY2016 Chem Sampling'!$Z$30+'WY2016 Chem Sampling'!$AB$30 -> 53 | H6: ='WY2016 Chem Sampling'!$AD$30 -> 3 | K6: ='WY2016 Chem Sampling'!AN30+'WY2016 Chem Sampling'!AR30+'WY2016 Chem Sampling'!AT30 -> 56 | L6: ='WY2016 Chem Sampling'!$AP$30 -> 3 | M6: ='WY2016 Chem Sampling'!AZ30+'WY2016 Chem Sampling'!AV30 -> 53 | N6: ='WY2016 Chem Sampling'!$AX$30 -> 3 | O6: 2 | P6: ='WY2016 Eco Sampling'!$T$9+'WY2016 Eco Sampling'!$T$10+'WY2016 Eco Sampling'!$T$11 -> 0 | Q6: ='WY2016 Eco Sampling'!$W$9+'WY2016 Eco Sampling'!$W$10+'WY2016 Eco Sampling'!$W$11 -> 1 | R6: ='WY2016 Eco Sampling'!$Z$9+'WY2016 Eco Sampling'!$Z$10+'WY2016 Eco Sampling'!$Z$11 -> 1
A7: CO | B7: ='WY2016 Chem Sampling'!$J$35+'WY2016 Chem Sampling'!$L$35 -> 63 | C7: ='WY2016 Chem Sampling'!$N$35+'WY2016 Chem Sampling'!$P$35 -> 63 | D7: ='WY2016 Chem Sampling'!$R$35 -> 3 | G7: ='WY2016 Chem Sampling'!$Z$35+'WY2016 Chem Sampling'!$AB$35 -> 64 | H7: ='WY2016 Chem Sampling'!$AD$35 -> 4 | K7: ='WY2016 Chem Sampling'!AN35+'WY2016 Chem Sampling'!AR35+'WY2016 Chem Sampling'!AT35 -> 66 | L7: ='WY2016 Chem Sampling'!$AP$35 -> 3 | M7: ='WY2016 Chem Sampling'!AZ35+'WY2016 Chem Sampling'!AV35 -> 63 | N7: ='WY2016 Chem Sampling'!$AX$35 -> 3 | O7: ='WY2016 Eco Sampling'!$Q$12 -> 1 | P7: ='WY2016 Eco Sampling'!$T$12 -> 0 | Q7: ='WY2016 Eco Sampling'!$W$12 -> 1 | R7: ='WY2016 Eco Sampling'!$Z$12 -> 1
A8: CT (NENG) | B8: ='WY2016 Chem Sampling'!$J$40+'WY2016 Chem Sampling'!$L$40 -> 44 | C8: ='WY2016 Chem Sampling'!$N$40+'WY2016 Chem Sampling'!$P$40 -> 44 | D8: ='WY2016 Chem Sampling'!$R$40 -> 2 | E8: ='WY2016 Chem Sampling'!$T$40+'WY2016 Chem Sampling'!$V$40 -> 19 | F8: ='WY2016 Chem Sampling'!$X$40 -> 1 | G8: ='WY2016 Chem Sampling'!$Z$40+'WY2016 Chem Sampling'!$AB$40 -> 45 | H8: ='WY2016 Chem Sampling'!$AD$40 -> 3 | I8: ='WY2016 Chem Sampling'!$AH$40+'WY2016 Chem Sampling'!$AJ$40 -> 19 | J8: ='WY2016 Chem Sampling'!$AL$40 -> 1 | K8: ='WY2016 Chem Sampling'!AN40+'WY2016 Chem Sampling'!AR40+'WY2016 Chem Sampling'!AT40 -> 46 | L8: ='WY2016 Chem Sampling'!$AP$40 -> 2 | M8: ='WY2016 Chem Sampling'!AZ40+'WY2016 Chem Sampling'!AV40 -> 42 | N8: ='WY2016 Chem Sampling'!$AX$40 -> 0 | O8: ='WY2016 Eco Sampling'!$Q$13+'WY2016 Eco Sampling'!$Q$14 -> 2 | P8: ='WY2016 Eco Sampling'!$T$13+'WY2016 Eco Sampling'!$T$14 -> 0 | Q8: ='WY2016 Eco Sampling'!$W$13+'WY2016 Eco Sampling'!$W$14 -> 2 | R8: ='WY2016 Eco Sampling'!$Z$13+'WY2016 Eco Sampling'!$Z$14 -> 2
A9: FL | B9: ='WY2016 Chem Sampling'!$J$43+'WY2016 Chem Sampling'!$L$43 -> 15 | C9: ='WY2016 Chem Sampling'!$N$43+'WY2016 Chem Sampling'!$P$43 -> 15 | D9: ='WY2016 Chem Sampling'!$R$43 -> 1 | G9: ='WY2016 Chem Sampling'!$Z$43+'WY2016 Chem Sampling'!$AB$43 -> 15 | H9: ='WY2016 Chem Sampling'!$AD$43 -> 1 | K9: ='WY2016 Chem Sampling'!AN43+'WY2016 Chem Sampling'!AR43+'WY2016 Chem Sampling'!AT43 -> 16 | L9: ='WY2016 Chem Sampling'!$AP$43 -> 1 | M9: ='WY2016 Chem Sampling'!AZ43+'WY2016 Chem Sampling'!AV43 -> 0 | N9: ='WY2016 Chem Sampling'!$AX$43 -> 0 | O9: 0 | P9: 0 | Q9: 0 | R9: 0
A10: GA | B10: ='WY2016 Chem Sampling'!$J$49+'WY2016 Chem Sampling'!$L$49 -> 59 | C10: ='WY2016 Chem Sampling'!$N$49+'WY2016 Chem Sampling'!$P$49 -> 59 | D10: ='WY2016 Chem Sampling'!$R$49 -> 3 | E10: ='WY2016 Chem Sampling'!$T$49+'WY2016 Chem Sampling'!$V$49 -> 15 | F10: ='WY2016 Chem Sampling'!$X$49 -> 1 | G10: ='WY2016 Chem Sampling'!$Z$49+'WY2016 Chem Sampling'!$AB$49 -> 60 | H10: ='WY2016 Chem Sampling'!$AD$49 -> 4 | I10: ='WY2016 Chem Sampling'!$AH$49+'WY2016 Chem Sampling'!$AJ$49 -> 15 | J10: ='WY2016 Chem Sampling'!$AL$49 -> 1 | K10: ='WY2016 Chem Sampling'!AN49+'WY2016 Chem Sampling'!AR49+'WY2016 Chem Sampling'!AT49 -> 62 | L10: ='WY2016 Chem Sampling'!$AP$49 -> 3 | M10: ='WY2016 Chem Sampling'!AZ49+'WY2016 Chem Sampling'!AV49 -> 44 | N10: ='WY2016 Chem Sampling'!$AX$49 -> 2 | O10: ='WY2016 Eco Sampling'!$Q$15+'WY2016 Eco Sampling'!$Q$16 -> 2 | P10: ='WY2016 Eco Sampling'!$T$15+'WY2016 Eco Sampling'!$T$16 -> 0 | Q10: ='WY2016 Eco Sampling'!$W$15+'WY2016 Eco Sampling'!$W$16 -> 2 | R10: ='WY2016 Eco Sampling'!$Z$15+'WY2016 Eco Sampling'!$Z$16 -> 2
A11: ID | B11: ='WY2016 Chem Sampling'!$J$54+'WY2016 Chem Sampling'!$L$54 -> 59 | C11: ='WY2016 Chem Sampling'!$N$54+'WY2016 Chem Sampling'!$P$54 -> 59 | D11: ='WY2016 Chem Sampling'!$R$54 -> 3 | G11: ='WY2016 Chem Sampling'!$Z$54+'WY2016 Chem Sampling'!$AB$54 -> 60 | H11: ='WY2016 Chem Sampling'!$AD$54 -> 4 | K11: ='WY2016 Chem Sampling'!AN54+'WY2016 Chem Sampling'!AR54+'WY2016 Chem Sampling'!AT54 -> 62 | L11: ='WY2016 Chem Sampling'!$AP$54 -> 3 | M11: ='WY2016 Chem Sampling'!AZ54+'WY2016 Chem Sampling'!AV54 -> 40 | N11: ='WY2016 Chem Sampling'!$AX$54 -> 2 | O11: ='WY2016 Eco Sampling'!$Q$17 -> 1 | P11: ='WY2016 Eco Sampling'!$T$17 -> 0 | Q11: ='WY2016 Eco Sampling'!$W$17 -> 1 | R11: ='WY2016 Eco Sampling'!$Z$17 -> 1
A12: IL | B12: ='WY2016 Chem Sampling'!$J$57+'WY2016 Chem Sampling'!$L$57 -> 15 | C12: ='WY2016 Chem Sampling'!$N$57+'WY2016 Chem Sampling'!$P$57 -> 15 | D12: ='WY2016 Chem Sampling'!$R$57 -> 1 | G12: ='WY2016 Chem Sampling'!$Z$57+'WY2016 Chem Sampling'!$AB$57 -> 15 | H12: ='WY2016 Chem Sampling'!$AD$57 -> 1 | K12: ='WY2016 Chem Sampling'!AN57+'WY2016 Chem Sampling'!AR57+'WY2016 Chem Sampling'!AT57 -> 16 | L12: ='WY2016 Chem Sampling'!$AP$57 -> 1 | M12: ='WY2016 Chem Sampling'!AZ57+'WY2016 Chem Sampling'!AV57 -> 15 | N12: ='WY2016 Chem Sampling'!$AX$57 -> 1 | O12: 0 | P12: 0 | Q12: 0 | R12: 0
A13: IN | B13: ='WY2016 Chem Sampling'!$J$61+'WY2016 Chem Sampling'!$L$61 -> 44 | C13: ='WY2016 Chem Sampling'!$N$61+'WY2016 Chem Sampling'!$P$61 -> 44 | D13: ='WY2016 Chem Sampling'!$R$61 -> 2 | G13: ='WY2016 Chem Sampling'!$Z$61+'WY2016 Chem Sampling'!$AB$61 -> 45 | H13: ='WY2016 Chem Sampling'!$AD$61 -> 3 | K13: ='WY2016 Chem Sampling'!AN61+'WY2016 Chem Sampling'!AR61+'WY2016 Chem Sampling'!AT61 -> 46 | L13: ='WY2016 Chem Sampling'!$AP$61 -> 2 | M13: ='WY2016 Chem Sampling'!AZ61+'WY2016 Chem Sampling'!AV61 -> 44 | N13: ='WY2016 Chem Sampling'!$AX$61 -> 2 | O13: ='WY2016 Eco Sampling'!$Q$18 -> 1 | P13: ='WY2016 Eco Sampling'!$T$18 -> 0 | Q13: ='WY2016 Eco Sampling'!$W$18 -> 1 | R13: ='WY2016 Eco Sampling'!$Z$18 -> 1
A14: IA | B14: ='WY2016 Chem Sampling'!$J$68+'WY2016 Chem Sampling'!$L$68 -> 85 | C14: ='WY2016 Chem Sampling'!$N$68+'WY2016 Chem Sampling'!$P$68 -> 85 | D14: ='WY2016 Chem Sampling'!$R$68 -> 5 | G14: ='WY2016 Chem Sampling'!$Z$68+'WY2016 Chem Sampling'!$AB$68 -> 86 | H14: ='WY2016 Chem Sampling'!$AD$68 -> 6 | K14: ='WY2016 Chem Sampling'!AN68+'WY2016 Chem Sampling'!AR68+'WY2016 Chem Sampling'!AT68 -> 90 | L14: ='WY2016 Chem Sampling'!$AP$68 -> 5 | M14: ='WY2016 Chem Sampling'!AZ68+'WY2016 Chem Sampling'!AV68 -> 85 | N14: ='WY2016 Chem Sampling'!$AX$68 -> 5 | O14: ='WY2016 Eco Sampling'!$Q$19 -> 1 | P14: ='WY2016 Eco Sampling'!$T$19 -> 0 | Q14: ='WY2016 Eco Sampling'!$W$19 -> 1 | R14: ='WY2016 Eco Sampling'!$Z$19 -> 1
A15: KS | B15: ='WY2016 Chem Sampling'!$J$72+'WY2016 Chem Sampling'!$L$72 -> 34 | C15: ='WY2016 Chem Sampling'!$N$72+'WY2016 Chem Sampling'!$P$72 -> 34 | D15: ='WY2016 Chem Sampling'!$R$72 -> 2 | G15: ='WY2016 Chem Sampling'!$Z$72+'WY2016 Chem Sampling'!$AB$72 -> 34 | H15: ='WY2016 Chem Sampling'!$AD$72 -> 2 | K15: ='WY2016 Chem Sampling'!AN72+'WY2016 Chem Sampling'!AR72+'WY2016 Chem Sampling'!AT72 -> 36 | L15: ='WY2016 Chem Sampling'!$AP$72 -> 2 | M15: ='WY2016 Chem Sampling'!AZ72+'WY2016 Chem Sampling'!AV72 -> 34 | N15: ='WY2016 Chem Sampling'!$AX$72 -> 2 | O15: 0 | P15: 0 | Q15: 0 | R15: 0
A16: KY | B16: ='WY2016 Chem Sampling'!$J$78+'WY2016 Chem Sampling'!$L$78 -> 60 | C16: ='WY2016 Chem Sampling'!$N$78+'WY2016 Chem Sampling'!$P$78 -> 60 | D16: ='WY2016 Chem Sampling'!$R$78 -> 4 | G16: ='WY2016 Chem Sampling'!$Z$78+'WY2016 Chem Sampling'!$AB$78 -> 60 | H16: ='WY2016 Chem Sampling'!$AD$78 -> 4 | K16: ='WY2016 Chem Sampling'!AN78+'WY2016 Chem Sampling'!AR78+'WY2016 Chem Sampling'!AT78 -> 64 | L16: ='WY2016 Chem Sampling'!$AP$78 -> 4 | M16: ='WY2016 Chem Sampling'!AZ78+'WY2016 Chem Sampling'!AV78 -> 60 | N16: ='WY2016 Chem Sampling'!$AX$78 -> 4 | O16: 0 | P16: 0 | Q16: 0 | R16: 0
A17: LA | B17: ='WY2016 Chem Sampling'!$J$87+'WY2016 Chem Sampling'!$L$87 -> 94 | C17: ='WY2016 Chem Sampling'!$N$87+'WY2016 Chem Sampling'!$P$87 -> 94 | D17: ='WY2016 Chem Sampling'!$R$87 -> 6 | E17: ='WY2016 Chem Sampling'!$T$87+'WY2016 Chem Sampling'!$V$87 -> 13 | F17: ='WY2016 Chem Sampling'!$X$87 -> 1 | G17: ='WY2016 Chem Sampling'!$Z$87+'WY2016 Chem Sampling'!$AB$87 -> 94 | H17: ='WY2016 Chem Sampling'!$AD$87 -> 6 | I17: ='WY2016 Chem Sampling'!$AH$87+'WY2016 Chem Sampling'!$AJ$87 -> 13 | J17: ='WY2016 Chem Sampling'!$AL$87 -> 1 | K17: ='WY2016 Chem Sampling'!AN87+'WY2016 Chem Sampling'!AR87+'WY2016 Chem Sampling'!AT87 -> 100 | L17: ='WY2016 Chem Sampling'!$AP$87 -> 6 | M17: ='WY2016 Chem Sampling'!AZ87+'WY2016 Chem Sampling'!AV87 -> 34 | N17: ='WY2016 Chem Sampling'!$AX$87 -> 2 | O17: ='WY2016 Eco Sampling'!$Q$20 -> 1 | P17: ='WY2016 Eco Sampling'!$T$20 -> 0 | Q17: ='WY2016 Eco Sampling'!$W$20 -> 1 | R17: ='WY2016 Eco Sampling'!$Z$20 -> 1
A18: MD | B18: ='WY2016 Chem Sampling'!$J$93+'WY2016 Chem Sampling'!$L$93 -> 59 | C18: ='WY2016 Chem Sampling'!$N$93+'WY2016 Chem Sampling'!$P$93 -> 59 | D18: ='WY2016 Chem Sampling'!$R$93 -> 3 | E18: ='WY2016 Chem Sampling'!$T$93+'WY2016 Chem Sampling'!$V$93 -> 19 | F18: ='WY2016 Chem Sampling'!$X$93 -> 1 | G18: ='WY2016 Chem Sampling'!$Z$93+'WY2016 Chem Sampling'!$AB$93 -> 60 | H18: ='WY2016 Chem Sampling'!$AD$93 -> 4 | I18: ='WY2016 Chem Sampling'!$AH$93+'WY2016 Chem Sampling'!$AJ$93 -> 19 | J18: ='WY2016 Chem Sampling'!$AL$93 -> 1 | K18: ='WY2016 Chem Sampling'!AN93+'WY2016 Chem Sampling'!AR93+'WY2016 Chem Sampling'!AT93 -> 62 | L18: ='WY2016 Chem Sampling'!$AP$93 -> 3 | M18: ='WY2016 Chem Sampling'!AZ93+'WY2016 Chem Sampling'!AV93 -> 59 | N18: ='WY2016 Chem Sampling'!$AX$93 -> 3 | O18: ='WY2016 Eco Sampling'!$Q$21+'WY2016 Eco Sampling'!$Q$22 -> 2 | P18: ='WY2016 Eco Sampling'!$T$21+'WY2016 Eco Sampling'!$T$22 -> 0 | Q18: ='WY2016 Eco Sampling'!$W$21+'WY2016 Eco Sampling'!$W$22 -> 2 | R18: ='WY2016 Eco Sampling'!$Z$21+'WY2016 Eco Sampling'!$Z$22 -> 2
A19: MI | B19: ='WY2016 Chem Sampling'!$J$96+'WY2016 Chem Sampling'!$L$96 -> 25 | C19: ='WY2016 Chem Sampling'!$N$96+'WY2016 Chem Sampling'!$P$96 -> 25 | D19: ='WY2016 Chem Sampling'!$R$96 -> 1 | G19: ='WY2016 Chem Sampling'!$Z$96+'WY2016 Chem Sampling'!$AB$96 -> 26 | H19: ='WY2016 Chem Sampling'!$AD$96 -> 2 | K19: ='WY2016 Chem Sampling'!AN96+'WY2016 Chem Sampling'!AR96+'WY2016 Chem Sampling'!AT96 -> 26 | L19: ='WY2016 Chem Sampling'!$AP$96 -> 1 | M19: ='WY2016 Chem Sampling'!AZ96+'WY2016 Chem Sampling'!AV96 -> 25 | N19: ='WY2016 Chem Sampling'!$AX$96 -> 1 | O19: 0 | P19: 0 | Q19: 0 | R19: 0
A20: MN | B20: ='WY2016 Chem Sampling'!$J$100+'WY2016 Chem Sampling'!$L$100 -> 40 | C20: ='WY2016 Chem Sampling'!$N$100+'WY2016 Chem Sampling'!$P$100 -> 40 | D20: ='WY2016 Chem Sampling'!$R$100 -> 2 | G20: ='WY2016 Chem Sampling'!$Z$100+'WY2016 Chem Sampling'!$AB$100 -> 41 | H20: ='WY2016 Chem Sampling'!$AD$100 -> 3 | K20: ='WY2016 Chem Sampling'!AN100+'WY2016 Chem Sampling'!AR100+'WY2016 Chem Sampling'!AT100 -> 42 | L20: ='WY2016 Chem Sampling'!$AP$100 -> 2 | M20: ='WY2016 Chem Sampling'!AZ100+'WY2016 Chem Sampling'!AV100 -> 40 | N20: ='WY2016 Chem Sampling'!$AX$100 -> 2 | O20: ='WY2016 Eco Sampling'!$Q$23 -> 1 | P20: ='WY2016 Eco Sampling'!$T$23 -> 0 | Q20: ='WY2016 Eco Sampling'!$W$23 -> 1 | R20: ='WY2016 Eco Sampling'!$Z$23 -> 1
A21: MS | B21: ='WY2016 Chem Sampling'!$J$105+'WY2016 Chem Sampling'!$L$105 -> 59 | C21: ='WY2016 Chem Sampling'!$N$105+'WY2016 Chem Sampling'!$P$105 -> 59 | D21: ='WY2016 Chem Sampling'!$R$105 -> 3 | G21: ='WY2016 Chem Sampling'!$Z$105+'WY2016 Chem Sampling'!$AB$105 -> 60 | H21: ='WY2016 Chem Sampling'!$AD$105 -> 4 | K21: ='WY2016 Chem Sampling'!AN105+'WY2016 Chem Sampling'!AR105+'WY2016 Chem Sampling'!AT105 -> 62 | L21: ='WY2016 Chem Sampling'!$AP$105 -> 3 | M21: ='WY2016 Chem Sampling'!AZ105+'WY2016 Chem Sampling'!AV105 -> 44 | N21: ='WY2016 Chem Sampling'!$AX$105 -> 2 | O21: ='WY2016 Eco Sampling'!$Q$24 -> 1 | P21: ='WY2016 Eco Sampling'!$T$24 -> 0 | Q21: ='WY2016 Eco Sampling'!$W$24 -> 1 | R21: ='WY2016 Eco Sampling'!$Z$24 -> 1
A22: MO | B22: ='WY2016 Chem Sampling'!$J$110+'WY2016 Chem Sampling'!$L$110 -> 45 | C22: ='WY2016 Chem Sampling'!$N$110+'WY2016 Chem Sampling'!$P$110 -> 45 | D22: ='WY2016 Chem Sampling'!$R$110 -> 3 | G22: ='WY2016 Chem Sampling'!$Z$110+'WY2016 Chem Sampling'!$AB$110 -> 45 | H22: ='WY2016 Chem Sampling'!$AD$110 -> 3 | K22: ='WY2016 Chem Sampling'!AN110+'WY2016 Chem Sampling'!AR110+'WY2016 Chem Sampling'!AT110 -> 48 | L22: ='WY2016 Chem Sampling'!$AP$110 -> 3 | M22: ='WY2016 Chem Sampling'!AZ110+'WY2016 Chem Sampling'!AV110 -> 45 | N22: ='WY2016 Chem Sampling'!$AX$110 -> 3 | O22: 0 | P22: 0 | Q22: 0 | R22: 0
A23: NE | B23: ='WY2016 Chem Sampling'!$J$116+'WY2016 Chem Sampling'!$L$116 -> 59 | C23: ='WY2016 Chem Sampling'!$N$116+'WY2016 Chem Sampling'!$P$116 -> 59 | D23: ='WY2016 Chem Sampling'!$R$116 -> 3 | E23: ='WY2016 Chem Sampling'!$T$116+'WY2016 Chem Sampling'!$V$116 -> 13 | F23: ='WY2016 Chem Sampling'!$X$116 -> 1 | G23: ='WY2016 Chem Sampling'!$Z$116+'WY2016 Chem Sampling'!$AB$116 -> 60 | H23: ='WY2016 Chem Sampling'!$AD$116 -> 4 | I23: ='WY2016 Chem Sampling'!$AH$116+'WY2016 Chem Sampling'!$AJ$116 -> 13 | J23: ='WY2016 Chem Sampling'!$AL$116 -> 1 | K23: ='WY2016 Chem Sampling'!AN116+'WY2016 Chem Sampling'!AR116+'WY2016 Chem Sampling'!AT116 -> 62 | L23: ='WY2016 Chem Sampling'!$AP$116 -> 3 | M23: ='WY2016 Chem Sampling'!AZ116+'WY2016 Chem Sampling'!AV116 -> 59 | N23: ='WY2016 Chem Sampling'!$AX$116 -> 3 | O23: ='WY2016 Eco Sampling'!$Q$25+'WY2016 Eco Sampling'!$Q$26 -> 2 | P23: ='WY2016 Eco Sampling'!$T$25+'WY2016 Eco Sampling'!$T$26 -> 0 | Q23: ='WY2016 Eco Sampling'!$W$25+'WY2016 Eco Sampling'!$W$26 -> 2 | R23: ='WY2016 Eco Sampling'!$Z$25+'WY2016 Eco Sampling'!$Z$26 -> 2
A24: NV | B24: ='WY2016 Chem Sampling'!$J$119+'WY2016 Chem Sampling'!$L$119 -> 19 | C24: ='WY2016 Chem Sampling'!$N$119+'WY2016 Chem Sampling'!$P$119 -> 19 | D24: ='WY2016 Chem Sampling'!$R$119 -> 1 | G24: ='WY2016 Chem Sampling'!$Z$119+'WY2016 Chem Sampling'!$AB$119 -> 19 | H24: ='WY2016 Chem Sampling'!$AD$119 -> 1 | K24: ='WY2016 Chem Sampling'!AN119+'WY2016 Chem Sampling'!AR119+'WY2016 Chem Sampling'!AT119 -> 20 | L24: ='WY2016 Chem Sampling'!$AP$119 -> 1 | M24: ='WY2016 Chem Sampling'!AZ119+'WY2016 Chem Sampling'!AV119 -> 0 | N24: ='WY2016 Chem Sampling'!$AX$119 -> 0 | O24: 0 | P24: 0 | Q24: 0 | R24: 0
A25: NJ | B25: ='WY2016 Chem Sampling'!$J$122+'WY2016 Chem Sampling'!$L$122 -> 15 | C25: ='WY2016 Chem Sampling'!$N$122+'WY2016 Chem Sampling'!$P$122 -> 15 | D25: ='WY2016 Chem Sampling'!$R$122 -> 1 | G25: ='WY2016 Chem Sampling'!$Z$122+'WY2016 Chem Sampling'!$AB$122 -> 15 | H25: ='WY2016 Chem Sampling'!$AD$122 -> 1 | K25: ='WY2016 Chem Sampling'!AN122+'WY2016 Chem Sampling'!AR122+'WY2016 Chem Sampling'!AT122 -> 16 | L25: ='WY2016 Chem Sampling'!$AP$122 -> 1 | M25: ='WY2016 Chem Sampling'!AZ122+'WY2016 Chem Sampling'!AV122 -> 15 | N25: ='WY2016 Chem Sampling'!$AX$122 -> 1 | O25: 0 | P25: 0 | Q25: 0 | R25: 0
A26: NM | B26: ='WY2016 Chem Sampling'!$J$126+'WY2016 Chem Sampling'!$L$126 -> 15 | C26: ='WY2016 Chem Sampling'!$N$126+'WY2016 Chem Sampling'!$P$126 -> 15 | D26: ='WY2016 Chem Sampling'!$R$126 -> 1 | G26: ='WY2016 Chem Sampling'!$Z$126+'WY2016 Chem Sampling'!$AB$126 -> 15 | H26: ='WY2016 Chem Sampling'!$AD$126 -> 1 | K26: ='WY2016 Chem Sampling'!AN126+'WY2016 Chem Sampling'!AR126+'WY2016 Chem Sampling'!AT126 -> 16 | L26: ='WY2016 Chem Sampling'!$AP$126 -> 1 | M26: ='WY2016 Chem Sampling'!AZ126+'WY2016 Chem Sampling'!AV126 -> 15 | N26: ='WY2016 Chem Sampling'!$AX$126 -> 1 | O26: ='WY2016 Eco Sampling'!$Q$27 -> 0 | P26: ='WY2016 Eco Sampling'!$T$27 -> 0 | Q26: ='WY2016 Eco Sampling'!$W$27 -> 0 | R26: ='WY2016 Eco Sampling'!$Z$27 -> 0
A27: NY | B27: ='WY2016 Chem Sampling'!$J$131+'WY2016 Chem Sampling'!$L$131 -> 55 | C27: ='WY2016 Chem Sampling'!$N$131+'WY2016 Chem Sampling'!$P$131 -> 55 | D27: ='WY2016 Chem Sampling'!$R$131 -> 3 | E27: ='WY2016 Chem Sampling'!$T$131+'WY2016 Chem Sampling'!$V$131 -> 0 | F27: ='WY2016 Chem Sampling'!$X$131 -> 0 | G27: ='WY2016 Chem Sampling'!$Z$131+'WY2016 Chem Sampling'!$AB$131 -> 56 | H27: ='WY2016 Chem Sampling'!$AD$131 -> 4 | K27: ='WY2016 Chem Sampling'!AN131+'WY2016 Chem Sampling'!AR131+'WY2016 Chem Sampling'!AT131 -> 58 | L27: ='WY2016 Chem Sampling'!$AP$131 -> 3 | M27: ='WY2016 Chem Sampling'!AZ131+'WY2016 Chem Sampling'!AV131 -> 25 | N27: ='WY2016 Chem Sampling'!$AX$131 -> 1 | O27: ='WY2016 Eco Sampling'!$Q$28 -> 1 | P27: ='WY2016 Eco Sampling'!$T$28 -> 0 | Q27: ='WY2016 Eco Sampling'!$W$28 -> 1 | R27: ='WY2016 Eco Sampling'!$Z$28 -> 1
A28: NC | B28: ='WY2016 Chem Sampling'!$J$136+'WY2016 Chem Sampling'!$L$136 -> 69 | C28: ='WY2016 Chem Sampling'!$N$136+'WY2016 Chem Sampling'!$P$136 -> 69 | D28: ='WY2016 Chem Sampling'!$R$136 -> 3 | E28: ='WY2016 Chem Sampling'!$T$136+'WY2016 Chem Sampling'!$V$136 -> 0 | F28: ='WY2016 Chem Sampling'!$X$136 -> 0 | G28: ='WY2016 Chem Sampling'!$Z$136+'WY2016 Chem Sampling'!$AB$136 -> 71 | H28: ='WY2016 Chem Sampling'!$AD$136 -> 5 | K28: ='WY2016 Chem Sampling'!AN136+'WY2016 Chem Sampling'!AR136+'WY2016 Chem Sampling'!AT136 -> 72 | L28: ='WY2016 Chem Sampling'!$AP$136 -> 3 | M28: ='WY2016 Chem Sampling'!AZ136+'WY2016 Chem Sampling'!AV136 -> 69 | N28: ='WY2016 Chem Sampling'!$AX$136 -> 3 | O28: ='WY2016 Eco Sampling'!$Q$29+'WY2016 Eco Sampling'!$Q$30 -> 2 | P28: ='WY2016 Eco Sampling'!$T$29+'WY2016 Eco Sampling'!$T$30 -> 0 | Q28: ='WY2016 Eco Sampling'!$W$29+'WY2016 Eco Sampling'!$W$30 -> 2 | R28: ='WY2016 Eco Sampling'!$Z$29+'WY2016 Eco Sampling'!$Z$30 -> 2
A29: ND | B29: ='WY2016 Chem Sampling'!$J$139+'WY2016 Chem Sampling'!$L$139 -> 15 | C29: ='WY2016 Chem Sampling'!$N$139+'WY2016 Chem Sampling'!$P$139 -> 15 | D29: ='WY2016 Chem Sampling'!$R$139 -> 1 | G29: ='WY2016 Chem Sampling'!$Z$139+'WY2016 Chem Sampling'!$AB$139 -> 15 | H29: ='WY2016 Chem Sampling'!$AD$139 -> 1 | K29: ='WY2016 Chem Sampling'!AN139+'WY2016 Chem Sampling'!AR139+'WY2016 Chem Sampling'!AT139 -> 16 | L29: ='WY2016 Chem Sampling'!$AP$139 -> 1 | M29: ='WY2016 Chem Sampling'!AZ139+'WY2016 Chem Sampling'!AV139 -> 15 | N29: ='WY2016 Chem Sampling'!$AX$139 -> 1 | O29: 0 | P29: 0 | Q29: 0 | R29: 0
A30: OH | B30: ='WY2016 Chem Sampling'!$J$142+'WY2016 Chem Sampling'!$L$142 -> 19 | C30: ='WY2016 Chem Sampling'!$N$142+'WY2016 Chem Sampling'!$P$142 -> 19 | D30: ='WY2016 Chem Sampling'!$R$142 -> 1 | G30: ='WY2016 Chem Sampling'!$Z$142+'WY2016 Chem Sampling'!$AB$142 -> 19 | H30: ='WY2016 Chem Sampling'!$AD$142 -> 1 | K30: ='WY2016 Chem Sampling'!AN142+'WY2016 Chem Sampling'!AR142+'WY2016 Chem Sampling'!AT142 -> 20 | L30: ='WY2016 Chem Sampling'!$AP$142 -> 1 | M30: ='WY2016 Chem Sampling'!AZ142+'WY2016 Chem Sampling'!AV142 -> 19 | N30: ='WY2016 Chem Sampling'!$AX$142 -> 1 | O30: ='WY2016 Eco Sampling'!$Q$31 -> 1 | P30: ='WY2016 Eco Sampling'!$T$31 -> 0 | Q30: ='WY2016 Eco Sampling'!$W$31 -> 1 | R30: ='WY2016 Eco Sampling'!$Z$31 -> 1
A31: OK | B31: ='WY2016 Chem Sampling'!$J$145+'WY2016 Chem Sampling'!$L$145 -> 19 | C31: ='WY2016 Chem Sampling'!$N$145+'WY2016 Chem Sampling'!$P$145 -> 19 | D31: ='WY2016 Chem Sampling'!$R$145 -> 1 | G31: ='WY2016 Chem Sampling'!$Z$145+'WY2016 Chem Sampling'!$AB$145 -> 19 | H31: ='WY2016 Chem Sampling'!$AD$145 -> 1 | K31: ='WY2016 Chem Sampling'!AN145+'WY2016 Chem Sampling'!AR145+'WY2016 Chem Sampling'!AT145 -> 20 | L31: ='WY2016 Chem Sampling'!$AP$145 -> 1 | M31: ='WY2016 Chem Sampling'!AZ145+'WY2016 Chem Sampling'!AV145 -> 0 | N31: ='WY2016 Chem Sampling'!$AX$145 -> 0 | O31: 0 | P31: 0 | Q31: 0 | R31: 0
A32: OR | B32: ='WY2016 Chem Sampling'!$J$152+'WY2016 Chem Sampling'!$L$152 -> 82 | C32: ='WY2016 Chem Sampling'!$N$152+'WY2016 Chem Sampling'!$P$152 -> 82 | D32: ='WY2016 Chem Sampling'!$R$152 -> 4 | G32: ='WY2016 Chem Sampling'!$Z$152+'WY2016 Chem Sampling'!$AB$152 -> 96 | H32: ='WY2016 Chem Sampling'!$AD$152 -> 7 | K32: ='WY2016 Chem Sampling'!AN152+'WY2016 Chem Sampling'!AR152+'WY2016 Chem Sampling'!AT152 -> 86 | L32: ='WY2016 Chem Sampling'!$AP$152 -> 4 | M32: ='WY2016 Chem Sampling'!AZ152+'WY2016 Chem Sampling'!AV152 -> 82 | N32: ='WY2016 Chem Sampling'!$AX$152 -> 4 | O32: ='WY2016 Eco Sampling'!$Q$32+'WY2016 Eco Sampling'!$Q$33+'WY2016 Eco Sampling'!$Q$34 -> 2 | P32: ='WY2016 Eco Sampling'!$T$32+'WY2016 Eco Sampling'!$T$33+'WY2016 Eco Sampling'!$T$34 -> 0 | Q32: ='WY2016 Eco Sampling'!$W$32+'WY2016 Eco Sampling'!$W$33+'WY2016 Eco Sampling'!$W$34 -> 2 | R32: ='WY2016 Eco Sampling'!$Z$32+'WY2016 Eco Sampling'!$Z$33+'WY2016 Eco Sampling'!$Z$34 -> 2
A33: SC | B33: ='WY2016 Chem Sampling'!$J$156+'WY2016 Chem Sampling'!$L$156 -> 19 | C33: ='WY2016 Chem Sampling'!$N$156+'WY2016 Chem Sampling'!$P$156 -> 19 | D33: ='WY2016 Chem Sampling'!$R$156 -> 1 | G33: ='WY2016 Chem Sampling'!$Z$156+'WY2016 Chem Sampling'!$AB$156 -> 19 | H33: ='WY2016 Chem Sampling'!$AD$156 -> 1 | K33: ='WY2016 Chem Sampling'!AN156+'WY2016 Chem Sampling'!AR156+'WY2016 Chem Sampling'!AT156 -> 20 | L33: ='WY2016 Chem Sampling'!$AP$156 -> 1 | M33: ='WY2016 Chem Sampling'!AZ156+'WY2016 Chem Sampling'!AV156 -> 19 | N33: ='WY2016 Chem Sampling'!$AX$156 -> 1 | O33: ='WY2016 Eco Sampling'!$Q$35 -> 0 | P33: ='WY2016 Eco Sampling'!$T$35 -> 0 | Q33: ='WY2016 Eco Sampling'!$W$35 -> 0 | R33: ='WY2016 Eco Sampling'!$Z$35 -> 0
A34: TX | B34: ='WY2016 Chem Sampling'!$J$163+'WY2016 Chem Sampling'!$L$163 -> 72 | C34: ='WY2016 Chem Sampling'!$N$163+'WY2016 Chem Sampling'!$P$163 -> 72 | D34: ='WY2016 Chem Sampling'!$R$163 -> 4 | E34: ='WY2016 Chem Sampling'!$T$163+'WY2016 Chem Sampling'!$V$163 -> 19 | F34: ='WY2016 Chem Sampling'!$X$163 -> 1 | G34: ='WY2016 Chem Sampling'!$Z$163+'WY2016 Chem Sampling'!$AB$163 -> 73 | H34: ='WY2016 Chem Sampling'!$AD$163 -> 5 | I34: ='WY2016 Chem Sampling'!$AH$163+'WY2016 Chem Sampling'!$AJ$163 -> 19 | J34: ='WY2016 Chem Sampling'!$AL$163 -> 1 | K34: ='WY2016 Chem Sampling'!AN163+'WY2016 Chem Sampling'!AR163+'WY2016 Chem Sampling'!AT163 -> 76 | L34: ='WY2016 Chem Sampling'!$AP$163 -> 4 | M34: ='WY2016 Chem Sampling'!AZ163+'WY2016 Chem Sampling'!AV163 -> 57 | N34: ='WY2016 Chem Sampling'!$AX$163 -> 3 | O34: ='WY2016 Eco Sampling'!$Q$36+'WY2016 Eco Sampling'!$Q$37 -> 2 | P34: ='WY2016 Eco Sampling'!$T$36+'WY2016 Eco Sampling'!$T$37 -> 0 | Q34: ='WY2016 Eco Sampling'!$W$36+'WY2016 Eco Sampling'!$W$37 -> 2 | R34: ='WY2016 Eco Sampling'!$Z$36+'WY2016 Eco Sampling'!$Z$37 -> 2
A35: UT | B35: ='WY2016 Chem Sampling'!$J$168+'WY2016 Chem Sampling'!$L$168 -> 44 | C35: ='WY2016 Chem Sampling'!$N$168+'WY2016 Chem Sampling'!$P$168 -> 44 | D35: ='WY2016 Chem Sampling'!$R$168 -> 2 | E35: ='WY2016 Chem Sampling'!$T$168+'WY2016 Chem Sampling'!$V$168 -> 17 | F35: ='WY2016 Chem Sampling'!$X$168 -> 1 | G35: ='WY2016 Chem Sampling'!$Z$168+'WY2016 Chem Sampling'!$AB$168 -> 45 | H35: ='WY2016 Chem Sampling'!$AD$168 -> 3 | I35: ='WY2016 Chem Sampling'!$AH$168+'WY2016 Chem Sampling'!$AJ$168 -> 17 | J35: ='WY2016 Chem Sampling'!$AL$168 -> 1 | K35: ='WY2016 Chem Sampling'!AN168+'WY2016 Chem Sampling'!AR168+'WY2016 Chem Sampling'!AT168 -> 46 | L35: ='WY2016 Chem Sampling'!$AP$168 -> 2 | M35: ='WY2016 Chem Sampling'!AZ168+'WY2016 Chem Sampling'!AV168 -> 44 | N35: ='WY2016 Chem Sampling'!$AX$168 -> 2 | O35: ='WY2016 Eco Sampling'!$Q$38+'WY2016 Eco Sampling'!$Q$39 -> 2 | P35: ='WY2016 Eco Sampling'!$T$38+'WY2016 Eco Sampling'!$T$39 -> 0 | Q35: ='WY2016 Eco Sampling'!$W$38+'WY2016 Eco Sampling'!$W$39 -> 2 | R35: ='WY2016 Eco Sampling'!$Z$38+'WY2016 Eco Sampling'!$Z$39 -> 2
A36: WA | B36: ='WY2016 Chem Sampling'!$J$173+'WY2016 Chem Sampling'!$L$173 -> 44 | C36: ='WY2016 Chem Sampling'!$N$173+'WY2016 Chem Sampling'!$P$173 -> 44 | D36: ='WY2016 Chem Sampling'!$R$173 -> 2 | E36: ='WY2016 Chem Sampling'!$T$173+'WY2016 Chem Sampling'!$V$173 -> 17 | F36: ='WY2016 Chem Sampling'!$X$173 -> 1 | G36: ='WY2016 Chem Sampling'!$Z$173+'WY2016 Chem Sampling'!$AB$173 -> 45 | H36: ='WY2016 Chem Sampling'!$AD$173 -> 3 | I36: ='WY2016 Chem Sampling'!$AH$173+'WY2016 Chem Sampling'!$AJ$173 -> 17 | J36: ='WY2016 Chem Sampling'!$AL$173 -> 1 | K36: ='WY2016 Chem Sampling'!AN173+'WY2016 Chem Sampling'!AR173+'WY2016 Chem Sampling'!AT173 -> 46 | L36: ='WY2016 Chem Sampling'!$AP$173 -> 2 | M36: ='WY2016 Chem Sampling'!AZ173+'WY2016 Chem Sampling'!AV173 -> 25 | N36: ='WY2016 Chem Sampling'!$AX$173 -> 1 | O36: ='WY2016 Eco Sampling'!$Q$40+'WY2016 Eco Sampling'!$Q$41 -> 2 | P36: ='WY2016 Eco Sampling'!$T$40+'WY2016 Eco Sampling'!$T$41 -> 0 | Q36: ='WY2016 Eco Sampling'!$W$40+'WY2016 Eco Sampling'!$W$41 -> 2 | R36: ='WY2016 Eco Sampling'!$Z$40+'WY2016 Eco Sampling'!$Z$41 -> 2
A37: WI | B37: ='WY2016 Chem Sampling'!$J$176+'WY2016 Chem Sampling'!$L$176 -> 0 | C37: ='WY2016 Chem Sampling'!$N$176+'WY2016 Chem Sampling'!$P$176 -> 0 | D37: ='WY2016 Chem Sampling'!$R$176 -> 0 | G37: ='WY2016 Chem Sampling'!$Z$176+'WY2016 Chem Sampling'!$AB$176 -> 0 | H37: ='WY2016 Chem Sampling'!$AD$176 -> 0 | K37: ='WY2016 Chem Sampling'!AN176+'WY2016 Chem Sampling'!AR176+'WY2016 Chem Sampling'!AT176 -> 0 | L37: ='WY2016 Chem Sampling'!$AP$176 -> 0 | M37: ='WY2016 Chem Sampling'!AZ176+'WY2016 Chem Sampling'!AV176 -> 0 | N37: ='WY2016 Chem Sampling'!$AX$176 -> 0 | O37: ='WY2016 Eco Sampling'!$Q$42 -> 1 | P37: ='WY2016 Eco Sampling'!$T$42 -> 0 | Q37: ='WY2016 Eco Sampling'!$W$42 -> 1 | R37: ='WY2016 Eco Sampling'!$Z$42 -> 1
A38: WY | B38: ='WY2016 Chem Sampling'!$J$180+'WY2016 Chem Sampling'!$L$180 -> 15 | C38: ='WY2016 Chem Sampling'!$N$180+'WY2016 Chem Sampling'!$P$180 -> 15 | D38: ='WY2016 Chem Sampling'!$R$180 -> 1 | G38: ='WY2016 Chem Sampling'!$Z$180+'WY2016 Chem Sampling'!$AB$180 -> 15 | H38: ='WY2016 Chem Sampling'!$AD$180 -> 1 | K38: ='WY2016 Chem Sampling'!AN180+'WY2016 Chem Sampling'!AR180+'WY2016 Chem Sampling'!AT180 -> 16 | L38: ='WY2016 Chem Sampling'!$AP$180 -> 1 | M38: ='WY2016 Chem Sampling'!AZ180+'WY2016 Chem Sampling'!AV180 -> 15 | N38: ='WY2016 Chem Sampling'!$AX$180 -> 1 | O38: ='WY2016 Eco Sampling'!$Q$43 -> 0 | P38: ='WY2016 Eco Sampling'!$T$43 -> 0 | Q38: ='WY2016 Eco Sampling'!$W$43 -> 0 | R38: ='WY2016 Eco Sampling'!$Z$43 -> 0
A39: TOTAL | B39: =SUM(B2:B38) -> 1499 | C39: =SUM(C2:C38) -> 1498 | D39: =SUM(D2:D38) -> 82 | E39: =SUM(E2:E38) -> 167 | F39: =SUM(F2:F38) -> 10 | G39: =SUM(G2:G38) -> 1529 | H39: =SUM(H2:H38) -> 102 | I39: =SUM(I2:I38) -> 167 | ... R39: =SUM(R2:R38) -> 31 | S39: =SUM(C39:R39) -> 6578
S40: TOTAL
A41: FY16 prices | B41: 70 | C41: 231.3 | D41: 231.3 | E41: 150.78 | F41: 150.78 | G41: 385.72 | H41: 385.72 | I41: 105.8 | J41: 105.8 | K41: 783.91 | L41: 783.91 | M41: 375 | N41: 375 | O41: 0 | P41: 0 | R41: 212.41
A42: Total cost | B42: =B39*B41 -> 104930 | C42: =C39*C41 -> 346487.4 | D42: =D39*D41 -> 18966.6 | E42: =E39*E41 -> 25180.26 | F42: =F39*F41 -> 1507.8 | G42: =G39*G41 -> 589765.88 | H42: =H39*H41 -> 39343.44 | I42: =I39*I41 -> 17668.6 | ... R42: =R39*R41 -> 6584.71 | S42: =SUM(C42:R42) -> 2818751.6
U44: NWQL Chem Totals | V44: Susp. Sed. Totals | W44: NWQL Chem + S.S. Totals | X44: Eco Totals | Y44: Total NWQL | Z44: All lab costs
A45: AL | B45: =B2*$B$41 -> 2380 | C45: =C2*$C$41 -> 7864.2 | D45: =D2*$D$41 -> 462.6 | G45: =G2*$G$41 -> 13114.48 | H45: =H2*$H$41 -> 771.44 | K45: =K2*$K$41 -> 28220.76 | L45: =L2*$L$41 -> 1567.82 | O45: =O2*$O$41 -> 0 | P45: =P2*$P$41 -> 0 | Q45: =Q2*$Q$41 -> 0 | R45: =R2*$R$41 -> 0 | S45: =SUM(C45:R45) -> 52001.3 | T45: AL | U45: =SUM(C45:L45) -> 52001.3 | V45: =SUM(B45:B45) -> 2380 | W45: =U45+V45 -> 54381.3 | X45: =SUM(O45:R45) -> 0 | Y45: =U45+O45+P45+R45 -> 52001.3 | Z45: =W45+X45 -> 54381.3
A46: AK | B46: =B3*$B$41 -> 560 | C46: =C3*$C$41 -> 1619.1 | D46: =D3*$D$41 -> 231.3 | G46: =G3*$G$41 -> 2700.04 | H46: =H3*$H$41 -> 385.72 | K46: =K3*$K$41 -> 3135.64 | L46: =L3*$L$41 -> 0 | O46: =O3*$O$41 -> 0 | P46: =P3*$P$41 -> 0 | Q46: =Q3*$Q$41 -> 0 | R46: =R3*$R$41 -> 0 | S46: =SUM(C46:R46) -> 8071.8 | T46: AK | U46: =SUM(C46:L46) -> 8071.8 | V46: =SUM(B46:B46) -> 560 | W46: =U46+V46 -> 8631.8 | X46: =SUM(O46:R46) -> 0 | Y46: =U46+O46+P46+R46 -> 8071.8 | Z46: =W46+X46 -> 8631.8
A47: AZ | B47: =B4*$B$41 -> 1960 | C47: =C4*$C$41 -> 6476.4 | D47: =D4*$D$41 -> 462.6 | G47: =G4*$G$41 -> 10800.16 | H47: =H4*$H$41 -> 771.44 | K47: =K4*$K$41 -> 23517.3 | L47: =L4*$L$41 -> 1567.82 | O47: =O4*$O$41 -> 0 | P47: =P4*$P$41 -> 0 | Q47: =Q4*$Q$41 -> 0 | R47: =R4*$R$41 -> 212.41 | S47: =SUM(C47:R47) -> 43808.13 | T47: AZ | U47: =SUM(C47:L47) -> 43595.72 | V47: =SUM(B47:B47) -> 1960 | W47: =U47+V47 -> 45555.72 | X47: =SUM(O47:R47) -> 212.41 | Y47: =U47+O47+P47+R47 -> 43808.13 | Z47: =W47+X47 -> 45768.13
A48: AR | B48: =B5*$B$41 -> 1050 | C48: =C5*$C$41 -> 3469.5 | D48: =D5*$D$41 -> 231.3 | G48: =G5*$G$41 -> 5785.8 | H48: =H5*$H$41 -> 385.72 | K48: =K5*$K$41 -> 12542.56 | L48: =L5*$L$41 -> 783.91 | O48: =O5*$O$41 -> 0 | P48: =P5*$P$41 -> 0 | Q48: =Q5*$Q$41 -> 0 | R48: =R5*$R$41 -> 212.41 | S48: =SUM(C48:R48) -> 23411.2 | T48: AR | U48: =SUM(C48:L48) -> 23198.79 | V48: =SUM(B48:B48) -> 1050 | W48: =U48+V48 -> 24248.79 | X48: =SUM(O48:R48) -> 212.41 | Y48: =U48+O48+P48+R48 -> 23411.2 | Z48: =W48+X48 -> 24461.2
A49: CA | B49: =B6*$B$41 -> 3710 | C49: =C6*$C$41 -> 12258.9 | D49: =D6*$D$41 -> 693.9 | G49: =G6*$G$41 -> 20443.16 | H49: =H6*$H$41 -> 1157.16 | K49: =K6*$K$41 -> 43898.96 | L49: =L6*$L$41 -> 2351.73 | O49: =O6*$O$41 -> 0 | P49: =P6*$P$41 -> 0 | Q49: =Q6*$Q$41 -> 0 | R49: =R6*$R$41 -> 212.41 | S49: =SUM(C49:R49) -> 81016.22 | T49: CA | U49: =SUM(C49:L49) -> 80803.81 | V49: =SUM(B49:B49) -> 3710 | W49: =U49+V49 -> 84513.81 | X49: =SUM(O49:R49) -> 212.41 | Y49: =U49+O49+P49+R49 -> 81016.22 | Z49: =W49+X49 -> 84726.22
A50: CO | B50: =B7*$B$41 -> 4410 | C50: =C7*$C$41 -> 14571.9 | D50: =D7*$D$41 -> 693.9 | G50: =G7*$G$41 -> 24686.08 | H50: =H7*$H$41 -> 1542.88 | K50: =K7*$K$41 -> 51738.06 | L50: =L7*$L$41 -> 2351.73 | O50: =O7*$O$41 -> 0 | P50: =P7*$P$41 -> 0 | Q50: =Q7*$Q$41 -> 0 | R50: =R7*$R$41 -> 212.41 | S50: =SUM(C50:R50) -> 95796.96 | T50: CO | U50: =SUM(C50:L50) -> 95584.55 | V50: =SUM(B50:B50) -> 4410 | W50: =U50+V50 -> 99994.55 | X50: =SUM(O50:R50) -> 212.41 | Y50: =U50+O50+P50+R50 -> 95796.96 | Z50: =W50+X50 -> 100206.96
A51: CT (NENG) | B51: =B8*$B$41 -> 3080 | C51: =C8*$C$41 -> 10177.2 | D51: =D8*$D$41 -> 462.6 | G51: =G8*$G$41 -> 17357.4 | H51: =H8*$H$41 -> 1157.16 | K51: =K8*$K$41 -> 36059.86 | L51: =L8*$L$41 -> 1567.82 | O51: =O8*$O$41 -> 0 | P51: =P8*$P$41 -> 0 | Q51: =Q8*$Q$41 -> 0 | R51: =R8*$R$41 -> 424.82 | S51: =SUM(C51:R51) -> 67206.86 | T51: CT | U51: =SUM(C51:L51) -> 66782.04 | V51: =SUM(B51:B51) -> 3080 | W51: =U51+V51 -> 69862.04 | X51: =SUM(O51:R51) -> 424.82 | Y51: =U51+O51+P51+R51 -> 67206.86 | Z51: =W51+X51 -> 70286.86
A52: FL | B52: =B9*$B$41 -> 1050 | C52: =C9*$C$41 -> 3469.5 | D52: =D9*$D$41 -> 231.3 | G52: =G9*$G$41 -> 5785.8 | H52: =H9*$H$41 -> 385.72 | K52: =K9*$K$41 -> 12542.56 | L52: =L9*$L$41 -> 783.91 | O52: =O9*$O$41 -> 0 | P52: =P9*$P$41 -> 0 | Q52: =Q9*$Q$41 -> 0 | R52: =R9*$R$41 -> 0 | S52: =SUM(C52:R52) -> 23198.79 | T52: FL | U52: =SUM(C52:L52) -> 23198.79 | V52: =SUM(B52:B52) -> 1050 | W52: =U52+V52 -> 24248.79 | X52: =SUM(O52:R52) -> 0 | Y52: =U52+O52+P52+R52 -> 23198.79 | Z52: =W52+X52 -> 24248.79
A53: GA | B53: =B10*$B$41 -> 4130 | C53: =C10*$C$41 -> 13646.7 | D53: =D10*$D$41 -> 693.9 | G53: =G10*$G$41 -> 23143.2 | H53: =H10*$H$41 -> 1542.88 | K53: =K10*$K$41 -> 48602.42 | L53: =L10*$L$41 -> 2351.73 | O53: =O10*$O$41 -> 0 | P53: =P10*$P$41 -> 0 | Q53: =Q10*$Q$41 -> 0 | R53: =R10*$R$41 -> 424.82 | S53: =SUM(C53:R53) -> 90405.65 | T53: GA | U53: =SUM(C53:L53) -> 89980.83 | V53: =SUM(B53:B53) -> 4130 | W53: =U53+V53 -> 94110.83 | X53: =SUM(O53:R53) -> 424.82 | Y53: =U53+O53+P53+R53 -> 90405.65 | Z53: =W53+X53 -> 94535.65
A54: ID | B54: =B11*$B$41 -> 4130 | C54: =C11*$C$41 -> 13646.7 | D54: =D11*$D$41 -> 693.9 | G54: =G11*$G$41 -> 23143.2 | H54: =H11*$H$41 -> 1542.88 | K54: =K11*$K$41 -> 48602.42 | L54: =L11*$L$41 -> 2351.73 | O54: =O11*$O$41 -> 0 | P54: =P11*$P$41 -> 0 | Q54: =Q11*$Q$41 -> 0 | R54: =R11*$R$41 -> 212.41 | S54: =SUM(C54:R54) -> 90193.24 | T54: ID | U54: =SUM(C54:L54) -> 89980.83 | V54: =SUM(B54:B54) -> 4130 | W54: =U54+V54 -> 94110.83 | X54: =SUM(O54:R54) -> 212.41 | Y54: =U54+O54+P54+R54 -> 90193.24 | Z54: =W54+X54 -> 94323.24
A55: IL | B55: =B12*$B$41 -> 1050 | C55: =C12*$C$41 -> 3469.5 | D55: =D12*$D$41 -> 231.3 | G55: =G12*$G$41 -> 5785.8 | H55: =H12*$H$41 -> 385.72 | K55: =K12*$K$41 -> 12542.56 | L55: =L12*$L$41 -> 783.91 | O55: =O12*$O$41 -> 0 | P55: =P12*$P$41 -> 0 | Q55: =Q12*$Q$41 -> 0 | R55: =R12*$R$41 -> 0 | S55: =SUM(C55:R55) -> 23198.79 | T55: IL | U55: =SUM(C55:L55) -> 23198.79 | V55: =SUM(B55:B55) -> 1050 | W55: =U55+V55 -> 24248.79 | X55: =SUM(O55:R55) -> 0 | Y55: =U55+O55+P55+R55 -> 23198.79 | Z55: =W55+X55 -> 24248.79
A56: IN | B56: =B13*$B$41 -> 3080 | C56: =C13*$C$41 -> 10177.2 | D56: =D13*$D$41 -> 462.6 | G56: =G13*$G$41 -> 17357.4 | H56: =H13*$H$41 -> 1157.16 | K56: =K13*$K$41 -> 36059.86 | L56: =L13*$L$41 -> 1567.82 | O56: =O13*$O$41 -> 0 | P56: =P13*$P$41 -> 0 | Q56: =Q13*$Q$41 -> 0 | R56: =R13*$R$41 -> 212.41 | S56: =SUM(C56:R56) -> 66994.45 | T56: IN | U56: =SUM(C56:L56) -> 66782.04 | V56: =SUM(B56:B56) -> 3080 | W56: =U56+V56 -> 69862.04 | X56: =SUM(O56:R56) -> 212.41 | Y56: =U56+O56+P56+R56 -> 66994.45 | Z56: =W56+X56 -> 70074.45
... A81: WY | B81: =B38*$B$41 -> 1050 | C81: =C38*$C$41 -> 3469.5 | D81: =D38*$D$41 -> 231.3 | G81: =G38*$G$41 -> 5785.8 | H81: =H38*$H$41 -> 385.72 | K81: =K38*$K$41 -> 12542.56 | L81: =L38*$L$41 -> 783.91 | O81: =O38*$O$41 -> 0 | P81: =P38*$P$41 -> 0 | Q81: =Q38*$Q$41 -> 0 | R81: =R38*$R$41 -> 0 | S81: =SUM(C81:R81) -> 23198.79 | T81: WY | U81: =SUM(C81:L81) -> 23198.79 | V81: =SUM(B81:B81) -> 1050 | W81: =U81+V81 -> 24248.79 | X81: =SUM(O81:R81) -> 0 | Y81: =U81+O81+P81+R81 -> 23198.79 | Z81: =W81+X81 -> 24248.79
B83: =SUM(B45:B81) -> 104930 | C83: =SUM(C45:C81) -> 346487.4 | D83: =SUM(D45:D81) -> 18966.6 | G83: =SUM(G45:G81) -> 589765.88 | H83: =SUM(H45:H81) -> 39343.44 | K83: =SUM(K45:K81) -> 1235442.2 | L83: =SUM(L45:L81) -> 63496.71 | O83: =SUM(O45:O81) -> 0 | P83: =SUM(P45:P81) -> 0 | Q83: =SUM(Q45:Q81) -> 0 | R83: =SUM(R45:R81) -> 6584.71 | S83: =SUM(S45:S81) -> 2300086.9 | U83: =SUM(U45:U81) -> 2293502.2 | V83: =SUM(V45:V81) -> 104930 | W83: =SUM(W45:W81) -> 2398432.2 | X83: =SUM(X45:X81) -> 6584.71 | Y83: =SUM(Y45:Y81) -> 2300086.9 | Z83: =SUM(Z45:Z81) -> 2405016.9

Sheet Sample frequency
A1: STATION ID | B1: Station Name | F1: NUMBER OF SAMPLING TRIPS
C2: SC | D2: PROPOSED COST CENTER TO DO SAMPLING | E2: NUMBER OF SAMPLE TRIPS IN 2016 | F2: OCT | G2: NOV | H2: DEC | I2: JAN | J2: FEB | K2: MAR | L2: APR | M2: MAY | N2: JUN | O2: JUL | P2: AUG | Q2: SEP | R2: Comments
A3: 15565447 | B3: Yukon River at Pilot Station, AK | C3: AK | D3: Anchorage, AK | E3: =SUM(F3:Q3) -> 7 | F3: 0 | G3: 0 | H3: 0 | I3: 1 | J3: 0 | K3: 0 | L3: 1 | M3: 1 | N3: 1 | O3: 1 | P3: 1 | Q3: 1 | R3: Pest samples only collected June, July, August
A4: 02469762 | B4: Tombigbee River near Coffeeville, AL | C4: AL | D4: Montgomery, AL | E4: =SUM(F4:Q4) -> 18 | F4: 1 | G4: 2 | H4: 1 | I4: 2 | J4: 1 | K4: 2 | L4: 1 | M4: 2 | N4: 1 | O4: 2 | P4: 1 | Q4: 2
A5: 02428401 | B5: Alabama R. below Claib. L&D near Monoeville, AL | C5: AL | D5: Montgomery, AL | E5: =SUM(F5:Q5) -> 14 | F5: 1 | G5: 0 | H5: 1 | I5: 1 | J5: 2 | K5: 2 | L5: 2 | M5: 2 | N5: 1 | O5: 1 | P5: 1 | Q5: 0
A6: 07055646 | B6: Buffalo River near Boxley, AR | C6: AR | D6: Little Rock, AR | E6: =SUM(F6:Q6) -> 0 | F6: 0 | G6: 0 | H6: 0 | I6: 0 | J6: 0 | K6: 0 | L6: 0 | M6: 0 | N6: 0 | O6: 0 | P6: 0 | Q6: 0
A7: 07060710 | B7: North Sylamore Creek near Fifty Six, AR | C7: AR | D7: Little Rock, AR | E7: =SUM(F7:Q7) -> 16 | F7: 2 | G7: 2 | H7: 1 | I7: 1 | J7: 1 | K7: 1 | L7: 2 | M7: 2 | N7: 1 | O7: 1 | P7: 1 | Q7: 1
A8: 07263620 | B8: Arkansas River at David D Terry Lock and Dam below Little Rock, AR | C8: AR | D8: Little Rock, AR | E8: =SUM(F8:Q8) -> 14 | F8: 1 | G8: 0 | H8: 1 | I8: 1 | J8: 1 | K8: 2 | L8: 2 | M8: 2 | N8: 2 | O8: 1 | P8: 1 | Q8: 0
A9: 09380000 | B9: Colorado River at Lees Ferry, AZ | C9: AZ | D9: Flagstaff, AZ | E9: =SUM(F9:Q9) -> 14 | F9: 2 | G9: 0 | H9: 1 | I9: 1 | J9: 2 | K9: 2 | L9: 2 | M9: 1 | N9: 1 | O9: 1 | P9: 1 | Q9: 0
A10: 09471000 | B10: San Pedro River at Charleston, AZ | C10: AZ | D10: Tucson, AZ | E10: =SUM(F10:Q10) -> 0 | F10: 0 | G10: 0 | H10: 0 | I10: 0 | J10: 0 | K10: 0 | L10: 0 | M10: 0 | N10: 0 | O10: 0 | P10: 0 | Q10: 0
A11: 09505800 | B11: West Clear Creek near Camp Verde, AZ | C11: AZ | D11: Tucson, AZ | E11: =SUM(F11:Q11) -> 17 | F11: 2 | G11: 1 | H11: 1 | I11: 1 | J11: 2 | K11: 2 | L11: 2 | M11: 1 | N11: 1 | O11: 1 | P11: 1 | Q11: 2
A12: 09522000 | B12: Colorado River at NIB, above Morelos Dam, AZ | C12: AZ | D12: Yuma, AZ | E12: =SUM(F12:Q12) -> 12 | F12: 1 | G12: 0 | H12: 1 | I12: 2 | J12: 2 | K12: 2 | L12: 2 | M12: 0 | N12: 1 | O12: 0 | P12: 1 | Q12: 0
A13: 11264500 | B13: Merced River at Happy Isles Bridge nr Yosemite, CA | C13: CA | D13: Sacramento, CA | E13: 0 | F13: QW sampling to continue under the HBN program only
A14: 11074000 | B14: Santa Ana River below Prado Dam, CA | C14: CA | D14: San Diego, CA | E14: =SUM(F14:Q14) -> 18 | F14: 1 | G14: 1 | H14: 1 | I14: 2 | J14: 2 | K14: 2 | L14: 2 | M14: 2 | N14: 2 | O14: 1 | P14: 1 | Q14: 1
A15: 11274538 | B15: Orestimba Creek near Crows Landing, CA | C15: CA | D15: Sacramento, CA | E15: 0 | F15: 0 | G15: 0 | H15: 0 | I15: 0 | J15: 0 | K15: 0 | L15: 0 | M15: 0 | N15: 0 | O15: 0 | P15: 0 | Q15: 0 | R15: if flows warrant, we will try to provide funding for samples
A16: 11303500 | B16: San Joaquin River near Vernalis, CA | C16: CA | D16: Sacramento, CA | E16: =SUM(F16:Q16) -> 18 | F16: 1 | G16: 1 | H16: 2 | I16: 2 | J16: 2 | K16: 1 | L16: 1 | M16: 2 | N16: 2 | O16: 2 | P16: 1 | Q16: 1
A17: 11335000 | B17: Cosumnes River at Michigan Bar, CA | C17: CA | D17: Sacramento, CA | E17: =SUM(F17:Q17) -> 0 | F17: 0 | G17: 0 | H17: 0 | I17: 0 | J17: 0 | K17: 0 | L17: 0 | M17: 0 | N17: 0 | O17: 0 | P17: 0 | Q17: 0
A18: 11447650 | B18: Sacramento River at Freeport, CA | C18: CA | D18: Sacramento, CA | E18: =SUM(F18:Q18) -> 14 | F18: 1 | G18: 0 | H18: 1 | I18: 2 | J18: 2 | K18: 1 | L18: 1 | M18: 2 | N18: 2 | O18: 1 | P18: 1 | Q18: 0
A19: 06713500 | B19: Cherry Creek at Denver, CO | C19: CO | D19: Lakewood, CO | E19: =SUM(F19:Q19) -> 24 | F19: 1 | G19: 1 | H19: 1 | I19: 1 | J19: 1 | K19: 1 | L19: 3 | M19: 3 | N19: 3 | O19: 3 | P19: 3 | Q19: 3
A20: 06754000 | B20: South Platte River near Kersey, CO | C20: CO | D20: Lakewood, CO | E20: =SUM(F20:Q20) -> 18 | F20: 1 | G20: 1 | H20: 1 | I20: 1 | J20: 1 | K20: 1 | L20: 2 | M20: 2 | N20: 2 | O20: 2 | P20: 2 | Q20: 2
A21: 09163500 | B21: Colorado River near Colorado-Utah state line | C21: CO | D21: Grand Junction, CO | E21: =SUM(F21:Q21) -> 18 | F21: 1 | G21: 1 | H21: 1 | I21: 1 | J21: 1 | K21: 2 | L21: 2 | M21: 2 | N21: 2 | O21: 2 | P21: 2 | Q21: 1
A22: 01170100 | B22: Green River near Colrain, MA | C22: CT (NENG) | D22: East Hartford, CT | E22: =SUM(F22:Q22) -> 18 | F22: 2 | G22: 1 | H22: 1 | I22: 1 | J22: 1 | K22: 2 | L22: 2 | M22: 1 | N22: 1 | O22: 2 | P22: 2 | Q22: 2
A23: 01184000 | B23: Connecticut River at Thompsonville, CT | C23: CT (NENG) | D23: East Hartford, CT | E23: =SUM(F23:Q23) -> 18 | F23: 1 | G23: 1 | H23: 1 | I23: 1 | J23: 1 | K23: 2 | L23: 2 | M23: 2 | N23: 2 | O23: 2 | P23: 2 | Q23: 1
A24: 01209710 | B24: Norwalk River at Winnipauk,CT | C24: CT (NENG) | D24: East Hartford, CT | E24: =SUM(F24:Q24) -> 24 | F24: 1 | G24: 1 | H24: 1 | I24: 1 | J24: 2 | K24: 2 | L24: 2 | M24: 3 | N24: 3 | O24: 3 | P24: 3 | Q24: 2
A25: 02359170 | B25: Apalachicola River near Sumatra, FL | C25: FL | D25: Tallahassee, FL | E25: =SUM(F25:Q25) -> 14 | F25: 1 | G25: 0 | H25: 1 | I25: 1 | J25: 2 | K25: 2 | L25: 2 | M25: 2 | N25: 1 | O25: 1 | P25: 1 | Q25: 0
A26: 02226160 | B26: Altamaha River at Everett City, GA | C26: GA | D26: Atlanta, GA | E26: =SUM(F26:Q26) -> 14 | F26: 1 | G26: 0 | H26: 1 | I26: 1 | J26: 2 | K26: 2 | L26: 2 | M26: 2 | N26: 1 | O26: 1 | P26: 1 | Q26: 0
A27: 02335870 | B27: Sope Creek near Marietta, GA | C27: GA | D27: Atlanta, GA | E27: =SUM(F27:Q27) -> 24 | F27: 2 | G27: 2 | H27: 2 | I27: 2 | J27: 2 | K27: 2 | L27: 2 | M27: 2 | N27: 2 | O27: 2 | P27: 2 | Q27: 2
... A101: 12510500 | B101: Yakima River at Kiona, WA | C101: WA | D101: Kennewick, WA | E101: =SUM(F101:Q101) -> 18 | F101: 1 | G101: 1 | H101: 1 | I101: 1 | J101: 1 | K101: 2 | L101: 2 | M101: 2 | N101: 2 | O101: 2 | P101: 2 | Q101: 1
A102: 04063700 | B102: Popple River near Fence, WI | C102: WI | D102: Rinelander, WI | E102: 0 | F102: QW sampling to continue under the HBN program only
A103: 06324970 | B103: Little Powder River near Weston, WY | C103: WY | D103: Cheyenne, WY | E103: =SUM(F103:Q103) -> 0 | F103: 0 | G103: 0 | H103: 0 | I103: 0 | J103: 0 | K103: 0 | L103: 0 | M103: 0 | N103: 0 | O103: 0 | P103: 0 | Q103: 0
A104: 06329500 | B104: Yellowstone River near Sidney, MT | C104: WY | D104: Cheyenne, WY | E104: =SUM(F104:Q104) -> 14 | F104: 1 | G104: 0 | H104: 1 | I104: 1 | J104: 1 | K104: 1 | L104: 2 | M104: 2 | N104: 2 | O104: 2 | P104: 1 | Q104: 0
A105: 01435000 | B105: Neversink River near Claryville, NY | C105: HBN | E105: =SUM(F105:Q105) -> 16 | F105: 2 | G105: 1 | H105: 1 | I105: 1 | J105: 1 | K105: 2 | L105: 2 | M105: 1 | N105: 1 | O105: 1 | P105: 1 | Q105: 2
A106: 01466500 | B106: McDonalds Branch in Byrne State Forest, NJ | C106: HBN | E106: =SUM(F106:Q106) -> 18 | F106: 2 | G106: 1 | H106: 2 | I106: 1 | J106: 1 | K106: 2 | L106: 1 | M106: 1 | N106: 1 | O106: 2 | P106: 2 | Q106: 2
A107: 02327100 | B107: Sopchoppy River near Sopchoppy, FLA | C107: HBN | E107: =SUM(F107:Q107) -> 18 | F107: 2 | G107: 2 | H107: 1 | I107: 1 | J107: 1 | K107: 1 | L107: 2 | M107: 2 | N107: 2 | O107: 1 | P107: 1 | Q107: 2
A108: 03497300 | B108: Little River above Townsend, TN | C108: HBN | E108: =SUM(F108:Q108) -> 18 | F108: 2 | G108: 2 | H108: 2 | I108: 2 | J108: 1 | K108: 1 | L108: 1 | M108: 1 | N108: 1 | O108: 2 | P108: 1 | Q108: 2
A109: 05124480 | B109: Kawishiwi River near Ely, MN | C109: HBN | E109: =SUM(F109:Q109) -> 16 | F109: 2 | G109: 2 | H109: 1 | I109: 1 | J109: 2 | K109: 1 | L109: 0 | M109: 0 | N109: 2 | O109: 1 | P109: 2 | Q109: 2
A110: 05014300 | B110: Swiftcurrent Creek above Swiftcurrent Lake at Many Glacier, MT | C110: HBN | E110: =SUM(F110:Q110) -> 12 | F110: 1 | G110: 0 | H110: 0 | I110: 1 | J110: 0 | K110: 1 | L110: 2 | M110: 2 | N110: 2 | O110: 1 | P110: 1 | Q110: 1
A111: 09196500 | B111: Pine Creek abv Fremont Lake WY | C111: HBN | E111: =SUM(F111:Q111) -> 12 | F111: 1 | G111: 0 | H111: 1 | I111: 0 | J111: 1 | K111: 0 | L111: 1 | M111: 3 | N111: 3 | O111: 1 | P111: 1 | Q111: 0
A112: 14161500 | B112: Lookout Creek near Blue River, OR | C112: HBN | E112: =SUM(F112:Q112) -> 15 | F112: 2 | G112: 2 | H112: 1 | I112: 1 | J112: 1 | K112: 1 | L112: 1 | M112: 1 | N112: 1 | O112: 1 | P112: 1 | Q112: 2
A113: 12447390 | B113: Andrews Creek near Mazama, WA | C113: HBN | E113: =SUM(F113:Q113) -> 7 | F113: 1 | G113: 0 | H113: 1 | I113: 0 | J113: 1 | K113: 0 | L113: 1 | M113: 1 | N113: 1 | O113: 0 | P113: 1 | Q113: 0
A114: 09352900 | B114: Vallecito Creek near Bayfield, CO | C114: HBN | E114: =SUM(F114:Q114) -> 14 | F114: 1 | G114: 0 | H114: 1 | I114: 0 | J114: 1 | K114: 3 | L114: 3 | M114: 2 | N114: 1 | O114: 1 | P114: 1 | Q114: 0
A115: 402114105350101 | B115: Big Thompson River Bl Moraine Park Nr Estes Park, CO | C115: HBN | E115: =SUM(F115:Q115) -> 16 | F115: 1 | G115: 0 | H115: 1 | I115: 1 | J115: 0 | K115: 2 | L115: 3 | M115: 3 | N115: 2 | O115: 1 | P115: 1 | Q115: 1
A116: 16618000 | B116: Kahakuloa Stream near Honokohau, Maui, HI | C116: HBN | E116: =SUM(F116:Q116) -> 12 | F116: 1 | G116: 1 | H116: 1 | I116: 1 | J116: 1 | K116: 1 | L116: 1 | M116: 1 | N116: 1 | O116: 1 | P116: 1 | Q116: 1
... A121: 04063700 | B121: Popple River near Fence, WI | C121: HBN | E121: =SUM(F121:Q121) -> 18 | F121: 2 | G121: 1 | H121: 1 | I121: 1 | J121: 1 | K121: 2 | L121: 2 | M121: 2 | N121: 1 | O121: 2 | P121: 1 | Q121: 2

Sheet Continuous Monitoring Sites
A1: Station ID | B1: Station Name | C1: Monitor type
A2: 1646500 | B2: Potomac River at Little Falls Pumping Station near Washington, DC | C2: Nitrate
A3: 3374100 | B3: White River at Hazleton, IN | C3: Nitrate
A4: 3612600 | B4: Ohio River at Olmstead, IL | C4: Nitrate
A5: 5420500 | B5: Mississippi River at Clinton, IA | C5: Nitrate
A6: 5586300 | B6: Illinois River at Florence | C6: Nitrate
A7: 6934500 | B7: Missouri River at Hermann, MO | C7: Nitrate
A8: 7020850 | B8: Mississippi River at Cape Girardeau, MO | C8: Nitrate
A9: 7289000 | B9: Mississippi River at Vicksburg, MS | C9: Nitrate
A10: 7374000 | B10: Mississippi River at Baton Rouge, LA | C10: Nitrate
A11: 7381600 | B11: Lower Atchafalaya River at Morgan City, LA | C11: Nitrate
A12: 11447650 | B12: Sacramento River at Freeport, CA | C12: Nitrate
A13: 14211720 | B13: Willamette River at Portland, OR | C13: Nitrate
... A25: 1545600 | B25: Young Womans Creek near Renova, PA | C25: Temperature
A26: 09471000 | B26: San Pedro River at Charleston, AZ | C26: Temperature
A27: 09505800 | B27: West Clear Creek near Camp Verde, AZ | C27: Temperature
A28: 07055646 | B28: Buffalo River near Boxley, AR | C28: Temperature
A29: 07060710 | B29: North Sylamore Creek near Fifty Six, AR | C29: Temperature
A30: 10343500 | B30: Sagehen Creek near Truckee, CA | C30: Temperature
A31: 11206800 | B31: Marble Fork Kaweah River at Tokopah Falls near Kaweah, CA | C31: Temperature
A32: 11335000 | B32: Cosumnes River at Michigan Bar, CA | C32: Temperature
A33: 11264500 | B33: Merced River at Happy Isles Bridge nr Yosemite, CA | C33: Temperature
A34: 01170100 | B34: Green River near Colrain, MA | C34: Temperature
A35: 2338523 | B35: Hillibahatchee Creek near Franklin, GA | C35: Temperature
A36: 08014500 | B36: Ouiska (Whisky) Chitto Creek near Oberlin, LA | C36: Temperature
A37: 01610400 | B37: Waites Run near Wardensville, WV | C37: Temperature
A38: 06775900 | B38: Dismal River near Thedford, NE | C38: Temperature
A39: 402114105350101 | B39: Big Thompson River Bl Moraine Park Nr Estes Park, CO | C39: Temperature
A40: 08227000 | B40: Saguache Creek near Saguache, CO | C40: Temperature
A41: 9352900 | B41: Vallecito Creek near Bayfield, CO | C41: Temperature
A42: 14161500 | B42: Lookout Creek near Blue River, OR | C42: Temperature
A43: 14205400 | B43: E Fork Dairy Creek near Meachan Corner, OR | C43: Temperature
A44: 13331500 | B44: Minam R. at Minam, OR | C44: Temperature
A45: 02172300 | B45: McTier Creek near Monetta, SC | C45: Temperature
A46: 08195000 | B46: Frio River at Concan, TX | C46: Temperature
A47: 10172200 | B47: Red Butte Creek at Ft Douglas, UT | C47: Temperature
A48: 12447390 | B48: Andrews Creek near Mazama, WA | C48: Temperature
A49: 12056500 | B49: North Fork Skokomish River near Hdsprt, WA | C49: Temperature
A50: 04063700 | B50: Popple River near Fence, WI | C50: Temperature
A51: 9196500 | B51: Pine Creek abv Fremont Lake WY | C51: Temperature
A52: 5014300 | B52: Swiftcurrent Creek above Swiftcurrent Lake at Many Glacier, MT | C52: Temperature
A53: 06324970 | B53: Little Powder River near Weston, WY | C53: Temperature
A54: 9508300 | B54: Wet Bottom Crk near Childs, AZ | C54: Temperature
A55: 2479155 | B55: Cypress Crk at Janice, MS | C55: Temperature
A56: 10249300 | B56: South Twin River nr Round Mountain, NV | C56: Temperature

Sheet Definitions
A1: Field Name | B1: Data type | C1: Restrictions | D1: Field Definition
A2: NSFN Chem Sampling
A3: Last update | B3: Date | C3: mm/dd/yy
A4: Primary STAID | B4: Text | C4: 8 or 15 digits, include leading 0 | D4: Primary NWIS station identification number for this site.
A5: Site name | B5: Text | D5: NAWQA site name (generally same as or similar to NWIS station name)
A6: Site group | B6: Text | D6: Redesigned Cycle II site category
A7: Network category | B7: Text | C7: Integrator, Agricultural, Urban, Reference, Drinking-water
A8: Fiscal year | B8: Number | D8: Water year for which annual sampling information applies
A9: Daily Streamflow - Gage? | B9: Text | C9: yes or no | D9: Continuous streamflow measured
A10: Daily Streamflow - Gross annual NAWQA cost | B10: $ | D10: NAWQA share of Gross cost for streamflow gage maintanance plus record compilation, review and publication
A11: QW monitor - Parameters | B11: Text | C11: T, SC, DO, &/or pH | D11: Continuous monitoring of Temperature, SC, DO, and/or pH?
A12: QW monitor - Type | B12: Text | D12: In-stream probe unit and (if used) on-shore data logger
A13: QW monitor - Annual NAWQA cost | B13: $ | D13: Gross NAWQA cost for 1 year of monitoring
A14: Constituents, by group: | B14: Suspended Sediment Major Ions Nutrients Pesticides (schedule 2437)
A15: Planned | B15: Number | C15: max 3 digits | D15: Planned number of environmental samples
A16: Collected | B16: Number | C16: max 3 digits | D16: Number of environmental samples collected as of last update (column A)
A17: Planned blanks | B17: Number | C17: max 3 digits | D17: Planned number of blank samples
A18: Collected blanks | B18: Number | C18: max 3 digits | D18: Number of blank samples collected as of last update (column A)
A20: Planned reps | B20: Number | C20: max 3 digits | D20: Planned number of duplicate samples
A21: Collected reps | B21: Number | C21: max 3 digits | D21: Number of duplicate samples collected as of last update (column A)
A22: Planned spikes | B22: Number | C22: max 3 digits | D22: Planned number of spike samples
A23: Collected spikes | B23: Number | C23: max 3 digits | D23: Actual number of spike samples collected as of last update (column A)
A24: SU Annual Comments: Unusual Sampling Circumstances | B24: Text | D24: Brief description of conditions that caused a deviation from the planned sampling for the year
A25: Nutrient blanks
C26: Use OBW for the following analytes:
C27: Lab code | D27: Analyte
C29: 2616 | D29: UV -254 nm (UAS)
C30: 2617 | D30: UV -280 nm (UAS)
C31: 8096 | D31: UV -412 nm (UAS)
C34: OBW or IBW may be used for the following analyte:
C35: 2612 | D35: Dissolved Organic carbon (DOC)
C37: Use IBW for the following analytes
C38: Lab code | D38: Analyte
C40: 2608 | D40: Particulate inorganic carbon (TPCN)
C41: 2606 | D41: Total particulate carbon (TPCN)
C42: 2607 | D42: Total particulate nitrogen (TPCN)
C43: 2611 | D43: Particulate Organic carbon (TPCN)
C44: 8097 | D44: Dissolved Inorganic carbon (DIC)
C45: 1985 | D45: Dissolved nitrogen, ammonia + organic nitrogen (FCC)
C46: 1986 | D46: nitrogen, ammonia + organic nitrogen (WCA)
C47: 3116 | D47: Dissolved Nitrogen, ammonia as N (FCC)
C48: 3117 | D48: Dissolved nitrogen, nitrite (FCC)
C49: 3156 or 3157 | D49: Dissolved nitrogen, nitrite + nitrate (FCC)
C50: 1983 or 2331 | D50: Dissolved Phosphorus (FCC)
C51: 1984 or 2333 | D51: Phosphorus (WCA)
C52: 3118 | D52: Dissolved phosphorus, phosphate, ortho (FCC)
C53: 2754 | D53: Total nitrogen (NH3+NO2+NO3+Organic), filtered (FCC)
A55: Major Ion (SH2648) and Nutrient (SH2649) blanks at reference sites
C57: Use IBW for all analytes
A61: NFSN Eco Sampling
A62: Last update | B62: Date | C62: mm/dd/yy
A63: SC | B63: Text | C63: 2 character Science Center
A64: Primary STAID | B64: Text | C64: 8 or 15 digits, include leading 0. | D64: Primary NWIS station identification number for this site.
A65: Site name | B65: Text | D65: NAWQA site name (generally same as or similar to NWIS station name)
A66: Ecological STAID | B66: Text | C66: 8 or 15 digits, include leading 0. | D66: NWIS station identification number for ecological sampling location.
A67: Site name | B67: Text | D67: NAWQA site name for ecological sampling location
A68: Cycle 2 Site Type | B68: Text | C68: rotate2, rotate4, or eco_only
A69: Cycle 3 Site Type | B69: Text | C69: Integrator, Agricultural, Urban, Reference
A70: Ecoregion | B70: Number | C70: 1 or 2 digits | D70: Omernik Level III ecoregion (1987, revised 2002)
A71: Fiscal year | B71: Number | D71: Fiscal/Water year for which annual sampling information applies
A72: Reach Sampled (Primary Reach) | B72: Text | C72: 1 character | D72: Letter designation of the primary sampling reach (typically, A, B, or C)
A73: Inv / Algae RTH (Riffle or Snag) | B73: Text | C73: Riffle, Snag, Depositional | D73: Targeted habitat (typically, Riffle or Snag) for collection of invertebrate and algae samples
A74: Components: | B74: Inverts and Algae -- Invertebrates - RTH Invertebrates - QMH Algae - RTH Algae - Chl a / Biomass Fish Habitat
A75: Index Period - Start Date | B75: Date | C75: DD-MMM | D75: Beginning date of 6-week period for sampling to be conducted each year
A76: Index Period - End Date | B76: Date | C76: DD-MMM | D76: Ending date of 6-week period for sampling to be conducted each year
A77: QA Plan Submitted (Fish) | B77: Text | C77: Yes or No | D77: 'Yes' means Fish QA Plan has been reviewed/updated for the current fiscal year and submitted to Ecological National Synthesis
A78: No. of Samples Planned | B78: Number | C78: Max 1 digit | D78: No. samples planned: normally = "No. of Eco Reaches Planned" or zero; blank if this sample type was not part of the overall design that year)
A79: Date Completed - (MM/DD/YY) | B79: Date | C79: MM/DD/YY | D79: Actual date that sample was collected
A80: SU Annual Comments: Unusual Sampling Circumstances | B80: Text | D80: Brief description of conditions (if any) that caused a deviation from the planned sampling for the year
