Workbook
Name source: #REF!

Sheet WY2016 Chem Sampling
A1: Last update | B1: Science Center (SC) Collecting Samples | C1: Water Year | D1: 42339 | F1: Cycle 2 Site Type | G1: Cycle 3 Site Type | H1: Cycle 3 Program (through FY15) | I1: Cycle 3 Network Code | J1: Suspended Sediment (conc. + sand/fine) | N1: Major Ions (schedules 998/1201) | T1: Major Ions at Reference Sites (schedule 2648) see 'reference site schedule' tab for analyte list | Z1: Nutrients (schedules 2430/2431/2432) | AD1: Nutrient blanks (Inorganic analytes)* | AF1: Nutrient blanks (Organic analytes)* | AH1: Nutrients at Reference sites (schedule 2649) see 'reference site schedule' tab for analyte list | AN1: Pesticides (schedule 2437) | AV1: Glyphosate (Kansas Lab) | BB1: Isotope samples (Ty Coplen) | BD1: DOC fractionation samples (George Aiken) | BF1: Tritium (Megan Young) | BH1: DNA samples (Byron Crump) | BJ1: Comments | BK1: Sampling Comments
D2: Primary STAID | E2: Site name | J2: Planned | K2: Collected | L2: Planned reps | M2: Collected reps | N2: Planned (plus alkalinity) | O2: Collected (plus alkalinity) | P2: Planned reps | Q2: Collected reps | R2: Planned blanks (IBW) | S2: Collected blanks | T2: Planned | U2: Collected | V2: Planned reps | W2: Collected reps | X2: Planned blanks (IBW) | Y2: Collected blanks | Z2: Planned | AA2: Collected | AB2: Planned reps | AC2: Collected reps | AD2: Planned blanks | AE2: Collected blanks | AF2: Planned blanks | AG2: Collected blanks | AH2: Planned | AI2: Collected | AJ2: Planned reps | AK2: Collected reps | AL2: Planned blanks (IBW) | AM2: Collected blanks | AN2: Planned | AO2: Collected | AP2: Planned blanks | AQ2: Collected blanks | AR2: Planned reps | AS2: Collected reps | AT2: Planned spikes | AU2: Collected spikes | AV2: Planned | AW2: Collected | AX2: Planned blanks | AY2: Collected blanks | AZ2: Planned reps | BA2: Collected reps | BB2: Planned | BC2: Collected | BD2: Planned | BE2: Collected | BF2: Planned | BG2: Collected | BH2: Planned | BI2: Collected | BJ2: Comments | BK2: Comments
B5: AL | C5: 2016 | D5: 02429500 | E5: Alabama R. at Claiborne, AL | G5: Large Inland River | H5: NASQAN | I5: nfsnlir | J5: 14 | L5: 1 | N5: 14 | P5: 1 | R5: 1 | Z5: 14 | AB5: 1 | AD5: 1 | AF5: 1 | AN5: 14 | AP5: 1 | AR5: 1 | AT5: 1 | AV5: 0 | BB5: 14 | BD5: 14 | BH5: 14
B6: AL | C6: 2016 | D6: 02469762 | E6: Tombigbee River near Coffeeville, AL | F6: rotate4 | G6: Large Inland River | H6: NAWQA | I6: nfsnlir | J6: 18 | L6: 1 | N6: 18 | P6: 1 | R6: 1 | Z6: 18 | AB6: 1 | AD6: 1 | AF6: 1 | AN6: 18 | AP6: 1 | AR6: 1 | AT6: 1 | AV6: 0 | AX6: 0 | AZ6: 0
B7: AL | E7: WSC sum | J7: =SUM(J5:J6) -> 32 | K7: =SUM(K5:K6) -> 0 | L7: =SUM(L5:L6) -> 2 | M7: =SUM(M5:M6) -> 0 | N7: =SUM(N5:N6) -> 32 | O7: =SUM(O5:O6) -> 0 | P7: =SUM(P5:P6) -> 2 | Q7: =SUM(Q5:Q6) -> 0 | ... BI7: =SUM(BI5:BI6) -> 0
B9: AK | C9: 2016 | D9: 15565447 | E9: Yukon River at Pilot Station, AK | F9: NASQAN | G9: Coastal River | H9: NASQAN | I9: nfsncoast | J9: 7 | L9: 1 | N9: 7 | P9: 0 | R9: 1 | Z9: 7 | AB9: 0 | AD9: 1 | AF9: 1 | AN9: 3 | AP9: 0 | AR9: 1 | AV9: 0 | AX9: 0 | AZ9: 0 | BB9: 7 | BD9: 7 | BH9: 7
B10: AK | E10: WSC sum | J10: =SUM(J8:J9) -> 7 | K10: =SUM(K8:K9) -> 0 | L10: =SUM(L8:L9) -> 1 | M10: =SUM(M8:M9) -> 0 | N10: =SUM(N8:N9) -> 7 | O10: =SUM(O8:O9) -> 0 | P10: =SUM(P8:P9) -> 0 | Q10: =SUM(Q8:Q9) -> 0 | ... BI10: =SUM(BI8:BI9) -> 0
B12: AZ | C12: 2016 | D12: 09380000 | E12: Colorado River at Lees Ferry, AZ | F12: N/A | G12: Large Inland River | H12: NAWQA | I12: nfsnlir | J12: 14 | L12: 1 | N12: 14 | P12: 1 | R12: 1 | Z12: 14 | AB12: 1 | AD12: 1 | AF12: 1 | AN12: 14 | AP12: 1 | AR12: 1 | AT12: 1 | AV12: 0 | AX12: 0 | AZ12: 0 | BB12: 14 | BJ12: not required but Ty Coplen willing to get isotope samples
B13: AZ | C13: 2016 | D13: 09522000 | E13: Colorado River at NIB | F13: NASQAN | G13: Coastal River | H13: NASQAN | I13: nfsncoast | J13: 12 | L13: 1 | N13: 12 | P13: 1 | R13: 1 | Z13: 12 | AB13: 1 | AD13: 1 | AF13: 1 | AN13: 12 | AP13: 1 | AR13: 1 | AT13: 1 | AV13: 0 | AX13: 0 | AZ13: 0 | BB13: 12 | BD13: 12 | BH13: 12
B14: AZ | C14: 2016 | D14: 09471000 | E14: San Pedro River at Charleston, AZ | F14: rotate4 | G14: Reference-dropped 2016 | H14: NAWQA | I14: nfsnref | J14: 0 | L14: 0 | N14: 0 | P14: 0 | R14: 0 | Z14: 0 | AB14: 0 | AD14: 0 | AF14: 0 | AN14: 0 | AP14: 0 | AR14: 0 | AV14: 0
B15: AZ | C15: 2016 | D15: 09505800 | E15: West Clear Creek near Camp Verde, AZ | F15: rotate4 | G15: Reference | H15: NAWQA | I15: nfsnref | J15: 0 | L15: 0 | N15: 0 | P15: 0 | R15: 0 | T15: 17 | V15: 1 | X15: 1 | Z15: 0 | AB15: 0 | AD15: 0 | AF15: 0 | AH15: 17 | AJ15: 1 | AL15: 1 | AN15: 0 | AP15: 0 | AR15: 0 | AV15: 0
B16: AZ | E16: WSC sum | J16: =SUM(J12:J15) -> 26 | K16: =SUM(K12:K15) -> 0 | L16: =SUM(L12:L15) -> 2 | M16: =SUM(M12:M15) -> 0 | N16: =SUM(N12:N15) -> 26 | O16: =SUM(O12:O15) -> 0 | P16: =SUM(P12:P15) -> 2 | Q16: =SUM(Q12:Q15) -> 0 | ... BI16: =SUM(BI12:BI15) -> 0
B18: AR | C18: 2016 | D18: 07263620 | E18: Arkansas River at Terry L&D below Little Rock, AR | F18: NASQAN | G18: Large Inland River | H18: NASQAN | I18: nfsnlir | J18: 14 | L18: 1 | N18: 14 | P18: 1 | R18: 1 | Z18: 14 | AB18: 1 | AD18: 1 | AF18: 1 | AN18: 14 | AP18: 1 | AR18: 1 | AT18: 1 | AV18: 14 | AX18: 1 | AZ18: 1 | BB18: 14 | BD18: 14
B19: AR | C19: 2016 | D19: 07055646 | E19: Buffalo River near Boxley, AR | F19: rotate4 | G19: Reference-dropped 2016 | H19: NAWQA | I19: nfsnref | J19: 0 | L19: 0 | N19: 0 | P19: 0 | R19: 0 | Z19: 0 | AB19: 0 | AD19: 0 | AF19: 0 | AN19: 0 | AP19: 0 | AR19: 0 | AV19: 0
B20: AR | C20: 2016 | D20: 07060710 | E20: North Sylamore Creek near Fifty Six, AR | F20: rotate4/HBN | G20: Reference | H20: NAWQA | I20: nfsnref | J20: 0 | L20: 0 | N20: 0 | P20: 0 | R20: 0 | T20: 16 | V20: 1 | X20: 1 | Z20: 0 | AB20: 0 | AD20: 0 | AF20: 0 | AH20: 16 | AJ20: 1 | AL20: 1 | AN20: 0 | AP20: 0 | AR20: 0 | AV20: 0
B21: AR | E21: WSC sum | J21: =SUM(J18:J20) -> 14 | K21: =SUM(K18:K20) -> 0 | L21: =SUM(L18:L20) -> 1 | M21: =SUM(M18:M20) -> 0 | N21: =SUM(N18:N20) -> 14 | O21: =SUM(O18:O20) -> 0 | P21: =SUM(P18:P20) -> 1 | Q21: =SUM(Q18:Q20) -> 0 | ... BI21: =SUM(BI18:BI20) -> 0
B23: CA | C23: 2016 | D23: 11335000 | E23: Cosumnes River at Michigan Bar, CA | F23: eco_only | G23: Reference-dropped 2016 | H23: NAWQA | I23: nfsnref | J23: 0 | L23: 0 | N23: 0 | P23: 0 | R23: 0 | Z23: 0 | AB23: 0 | AD23: 0 | AF23: 0 | AN23: 0 | AP23: 0 | AR23: 0 | AV23: 0
B24: CA | C24: 2016 | D24: 11274538 | E24: Orestimba Creek near Crows Landing, CA | F24: rotate4 | G24: Agriculture | H24: NAWQA | I24: nfsnag | J24: 0 | L24: 0 | N24: 0 | P24: 0 | R24: 0 | Z24: 0 | AB24: 0 | AD24: 0 | AF24: 0 | AN24: 0 | AP24: 0 | AR24: 0 | AT24: 0 | AV24: 0 | BJ24: if flows warrant, we will try (but can't guarantee) to provide funding for additional samples
B25: CA | C25: 2016 | D25: 11447650 | E25: Sacramento River a Freeport, CA | F25: rotate4/NASQAN | G25: Coastal River | H25: NAWQA | I25: nfsncoast | J25: 14 | L25: 1 | N25: 14 | P25: 1 | R25: 1 | Z25: 14 | AB25: 1 | AD25: 1 | AF25: 1 | AN25: 14 | AP25: 1 | AR25: 1 | AT25: 1 | AV25: 14 | AX25: 1 | AZ25: 1 | BB25: 14 | BD25: 14 | BH25: 14
B26: CA | C26: 2016 | D26: 11303500 | E26: San Joaquin River near Vernalis, CA | F26: agcore | G26: Coastal River | H26: NAWQA | I26: nfsncoast | J26: 18 | L26: 1 | N26: 18 | P26: 1 | R26: 1 | Z26: 18 | AB26: 1 | AD26: 1 | AF26: 1 | AN26: 18 | AP26: 1 | AR26: 1 | AT26: 1 | AV26: 18 | AX26: 1 | AZ26: 1 | BB26: 18 | BD26: 18 | BH26: 18
B27: CA | C27: 2016 | D27: 11264500 | E27: Merced River at Happy Isles Bridge nr Yosemite, CA | G27: Reference-dropped 2016 see comments | H27: NAWQA | I27: nfsnref | J27: 0 | L27: 0 | N27: 0 | P27: 0 | R27: 0 | T27: 0 | V27: 0 | X27: 0 | Z27: 0 | AB27: 0 | AD27: 0 | AF27: 0 | AH27: 0 | AJ27: 0 | AL27: 0 | AN27: 0 | AP27: 0 | AR27: 0 | AV27: 0 | BJ27: Site will be sampling by the HBN program only, beginning in FY16
B28: CA | C28: 2016 | D28: 11049400 | E28: Santa Ana River above Seven Oaks Dam, CA | F28: eco_only | G28: Reference-dropped 2013 | H28: NAWQA | I28: nfsnref | J28: 0 | N28: 0 | Z28: 0 | AN28: 0 | AV28: 0 | BJ28: CA reference site switched to Merced R nr Yosemite beginning FY14
B29: CA | C29: 2016 | D29: 11074000 | E29: Santa Ana River below Prado Dam, CA | F29: urbcore | G29: Coastal River | H29: NAWQA | I29: nfsncoast | J29: 18 | L29: 1 | N29: 18 | P29: 1 | R29: 1 | Z29: 18 | AB29: 1 | AD29: 1 | AF29: 1 | AN29: 18 | AP29: 1 | AR29: 1 | AT29: 1 | AV29: 18 | AX29: 1 | AZ29: 1
B30: CA | E30: WSC sum | J30: =SUM(J23:J29) -> 50 | K30: =SUM(K23:K29) -> 0 | L30: =SUM(L23:L29) -> 3 | M30: =SUM(M23:M29) -> 0 | N30: =SUM(N23:N29) -> 50 | O30: =SUM(O23:O29) -> 0 | P30: =SUM(P23:P29) -> 3 | Q30: =SUM(Q23:Q29) -> 0 | ... BI30: =SUM(BI23:BI29) -> 0
B32: CO | C32: 2016 | D32: 06713500 | E32: Cherry Creek at Denver, CO | F32: rotate2 | G32: Urban | H32: NAWQA | I32: nfsnurb | J32: 24 | L32: 1 | N32: 24 | P32: 1 | R32: 1 | Z32: 24 | AB32: 2 | AD32: 2 | AF32: 2 | AN32: 24 | AP32: 1 | AR32: 1 | AT32: 1 | AV32: 24 | AX32: 1 | AZ32: 1
B33: CO | C33: 2016 | D33: 09163500 | E33: Colorado River near Colorado-Utah state line | F33: rotate4 | G33: Large Inland River | H33: NAWQA | I33: nfsnlir | J33: 18 | L33: 1 | N33: 18 | P33: 1 | R33: 1 | Z33: 18 | AB33: 1 | AD33: 1 | AF33: 1 | AN33: 18 | AP33: 1 | AR33: 1 | AT33: 1 | AV33: 18 | AX33: 1 | AZ33: 1
B34: CO | C34: 2016 | D34: 06754000 | E34: South Platte River near Kersey, CO | F34: rotate4 | G34: Large Inland River | H34: NAWQA | I34: nfsnlir | J34: 18 | L34: 1 | N34: 18 | P34: 1 | R34: 1 | Z34: 18 | AB34: 1 | AD34: 1 | AF34: 1 | AN34: 18 | AP34: 1 | AR34: 1 | AT34: 1 | AV34: 18 | AX34: 1 | AZ34: 1
B35: CO | E35: WSC sum | J35: =SUM(J32:J34) -> 60 | K35: =SUM(K32:K34) -> 0 | L35: =SUM(L32:L34) -> 3 | M35: =SUM(M32:M34) -> 0 | N35: =SUM(N32:N34) -> 60 | O35: =SUM(O32:O34) -> 0 | P35: =SUM(P32:P34) -> 3 | Q35: =SUM(Q32:Q34) -> 0 | ... BI35: =SUM(BI32:BI34) -> 0
B37: CT (NENG) | C37: 2016 | D37: 01184000 | E37: Connecticut River at Thompsonville, CT | F37: rotate4 | G37: Coastal River | H37: NAWQA | I37: nfsncoast | J37: 18 | L37: 1 | N37: 18 | P37: 1 | R37: 1 | Z37: 18 | AB37: 1 | AD37: 1 | AF37: 1 | AN37: 18 | AP37: 1 | AR37: 1 | AT37: 1 | AV37: 18 | AX37: 1 | AZ37: 1
B38: CT (NENG) | C38: 2016 | D38: 01170100 | E38: Green River near Colrain, MA | F38: rotate4 | G38: Reference | H38: NAWQA | I38: nfsnref | J38: 0 | L38: 0 | N38: 0 | P38: 0 | R38: 0 | T38: 18 | V38: 1 | X38: 1 | Z38: 0 | AB38: 0 | AD38: 0 | AF38: 0 | AH38: 18 | AJ38: 1 | AL38: 1 | AN38: 0 | AP38: 0 | AR38: 0 | AV38: 0
B39: CT (NENG) | C39: 2016 | D39: 01209710 | E39: Norwalk River at Winnipauk,CT | F39: rotate4 | G39: Urban | H39: NAWQA | I39: nfsnurb | J39: 24 | L39: 1 | N39: 24 | P39: 1 | R39: 1 | Z39: 24 | AB39: 2 | AD39: 2 | AF39: 2 | AN39: 24 | AP39: 1 | AR39: 1 | AT39: 1 | AV39: 24 | AX39: 1 | AZ39: 1
B40: CT (NENG) | E40: WSC sum | J40: =SUM(J37:J39) -> 42 | K40: =SUM(K37:K39) -> 0 | L40: =SUM(L37:L39) -> 2 | M40: =SUM(M37:M39) -> 0 | N40: =SUM(N37:N39) -> 42 | O40: =SUM(O37:O39) -> 0 | P40: =SUM(P37:P39) -> 2 | Q40: =SUM(Q37:Q39) -> 0 | ... AW40: =SUM(AW37:AW39) -> 0 | BA40: =SUM(BA37:BA39) -> 0 | BB40: =SUM(BB37:BB39) -> 0 | BC40: =SUM(BC37:BC39) -> 0 | BD40: =SUM(BD37:BD39) -> 0 | BE40: =SUM(BE37:BE39) -> 0 | BF40: =SUM(BF37:BF39) -> 0 | BG40: =SUM(BG37:BG39) -> 0 | BH40: =SUM(BH37:BH39) -> 0 | BI40: =SUM(BI37:BI39) -> 0
B42: FL | C42: 2016 | D42: 02359170 | E42: Apalachicola River near Sumatra, FL | F42: NMN | G42: Coastal River | H42: NMN | I42: nfsncoast | J42: 14 | L42: 1 | N42: 14 | P42: 1 | R42: 1 | Z42: 14 | AB42: 1 | AD42: 1 | AF42: 1 | AN42: 14 | AP42: 1 | AR42: 1 | AT42: 1 | AV42: 0 | AX42: 0 | AZ42: 0 | BB42: 14 | BD42: 14 | BH42: 14
B43: FL | E43: WSC sum | J43: =SUM(J42) -> 14 | K43: =SUM(K41:K42) -> 0 | L43: =SUM(L41:L42) -> 1 | M43: =SUM(M41:M42) -> 0 | N43: =SUM(N41:N42) -> 14 | O43: =SUM(O41:O42) -> 0 | P43: =SUM(P41:P42) -> 1 | Q43: =SUM(Q41:Q42) -> 0 | R43: =SUM(R41:R42) -> 1 | ... BI43: =SUM(BI41:BI42) -> 0
B45: GA | C45: 2016 | D45: 02226160 | E45: Altamaha River at Everett City, GA | F45: NASQAN | G45: Coastal River | H45: NASQAN | I45: nfsncoast | J45: 14 | L45: 1 | N45: 14 | P45: 1 | R45: 1 | Z45: 14 | AB45: 1 | AD45: 1 | AF45: 1 | AN45: 14 | AP45: 1 | AR45: 1 | AT45: 1 | AV45: 0 | AX45: 0 | AZ45: 0 | BB45: 14 | BD45: 14 | BH45: 14
B46: GA | C46: 2016 | D46: 02338523 | E46: Hillibahatchee Creek near Franklin, GA | F46: rotate4 | G46: Reference | H46: NAWQA | I46: nfsnref | J46: 0 | L46: 0 | N46: 0 | P46: 0 | R46: 0 | T46: 14 | V46: 1 | X46: 1 | Z46: 0 | AB46: 0 | AD46: 0 | AF46: 0 | AH46: 14 | AJ46: 1 | AL46: 1 | AN46: 0 | AP46: 0 | AR46: 0 | AV46: 0
B47: GA | C47: 2016 | D47: 02335870 | E47: Sope Creek near Marietta, GA | F47: rotate2 | G47: Urban | H47: NAWQA | I47: nfsnurb | J47: 24 | L47: 1 | N47: 24 | P47: 1 | R47: 1 | Z47: 24 | AB47: 2 | AD47: 2 | AF47: 2 | AN47: 24 | AP47: 1 | AR47: 1 | AT47: 1 | AV47: 24 | AX47: 1 | AZ47: 1
B48: GA | C48: 2016 | D48: 02338000 | E48: Chattahoochee River near Whitesburg, GA | F48: urbcore | G48: Urban | H48: NAWQA | I48: nfsnlir | J48: 18 | L48: 1 | N48: 18 | P48: 1 | R48: 1 | Z48: 18 | AB48: 1 | AD48: 1 | AF48: 1 | AN48: 18 | AP48: 1 | AR48: 1 | AT48: 1 | AV48: 18 | AX48: 1 | AZ48: 1
B49: GA | E49: WSC sum | J49: =SUM(J45:J48) -> 56 | K49: =SUM(K45:K47) -> 0 | L49: =SUM(L45:L48) -> 3 | M49: =SUM(M45:M47) -> 0 | N49: =SUM(N45:N48) -> 56 | O49: =SUM(O45:O47) -> 0 | P49: =SUM(P45:P48) -> 3 | Q49: =SUM(Q45:Q47) -> 0 | R49: =SUM(R45:R48) -> 3 | S49: =SUM(S45:S47) -> 0 | T49: =SUM(T45:T48) -> 14 | U49: =SUM(U45:U48) -> 0 | V49: =SUM(V45:V48) -> 1 | W49: =SUM(W45:W48) -> 0 | X49: =SUM(X45:X48) -> 1 | Y49: =SUM(Y45:Y48) -> 0 | Z49: =SUM(Z45:Z48) -> 56 | AA49: =SUM(AA45:AA47) -> 0 | AB49: =SUM(AB45:AB48) -> 4 | AC49: =SUM(AC45:AC47) -> 0 | AD49: =SUM(AD45:AD48) -> 4 | AE49: =SUM(AE45:AE47) -> 0 | AF49: =SUM(AF45:AF48) -> 4 | AG49: =SUM(AG45:AG47) -> 0 | AH49: =SUM(AH45:AH47) -> 14 | AI49: =SUM(AI45:AI47) -> 0 | AJ49: =SUM(AJ45:AJ47) -> 1 | AK49: =SUM(AK45:AK47) -> 0 | AL49: =SUM(AL45:AL47) -> 1 | AM49: =SUM(AM45:AM47) -> 0 | AN49: =SUM(AN45:AN48) -> 56 | AO49: =SUM(AO45:AO47) -> 0 | AP49: =SUM(AP45:AP48) -> 3 | AQ49: =SUM(AQ45:AQ47) -> 0 | AR49: =SUM(AR45:AR48) -> 3 | AS49: =SUM(AS45:AS47) -> 0 | AT49: =SUM(AT45:AT48) -> 3 | AU49: =SUM(AU45:AU47) -> 0 | AV49: =SUM(AV45:AV48) -> 42 | AW49: =SUM(AW45:AW47) -> 0 | AX49: =SUM(AX45:AX48) -> 2 | AY49: =SUM(AY45:AY47) -> 0 | AZ49: =SUM(AZ45:AZ48) -> 2 | BA49: =SUM(BA45:BA47) -> 0 | BB49: =SUM(BB45:BB48) -> 14 | BC49: =SUM(BC45:BC47) -> 0 | BD49: =SUM(BD45:BD47) -> 14 | BE49: =SUM(BE45:BE47) -> 0 | BF49: =SUM(BF45:BF47) -> 0 | BG49: =SUM(BG45:BG47) -> 0 | BH49: =SUM(BH45:BH47) -> 14 | BI49: =SUM(BI45:BI47) -> 0
B51: ID | C51: 2016 | D51: 13092747 | E51: Rock Creek at Twin Falls, ID | F51: rotate4 | G51: Agriculture | H51: NAWQA | I51: nfsnag | J51: 24 | L51: 1 | N51: 24 | P51: 1 | R51: 1 | Z51: 24 | AB51: 2 | AD51: 2 | AF51: 2 | AN51: 24 | AP51: 1 | AR51: 1 | AT51: 1 | AV51: 24 | AX51: 1 | AZ51: 1
...

Sheet WY2016 Eco Sampling
A1: Last Update | B1: SC | C1: 42341 | G1: Ecological STAID | H1: Ecological Site name | I1: Cycle 2 Site Type | J1: Cycle 3 Site Type | K1: Eco- region | L1: Fiscal year | M1: Reach Sampled (Primary Reach) | N1: Inv / Algae RTH (Riffle or Snag) | O1: Index Period for Inverts and Algae | Q1: Inverts - RTH | S1: Outside IP | T1: Inverts - QMH | V1: Outside IP | W1: Algae - RTH | Y1: Outside IP | Z1: Algae - Chl a / Biomass | AB1: Outside IP | AC1: Fish | AH1: Outside IP | AI1: Habitat | AM1: Outside IP | AN1: IP Check | AO1: SU Annual Comments: Unusual Sampling Circumstances
C2: Primary STAID | D2: Site name | E2: WSC Ecology contact | F2: Fish QA Plan | Q2: No. of Samples Planned | R2: Date Com-pleted (MM/DD/YY) | T2: No. of Samples Planned | U2: Date Com-pleted (MM/DD/YY) | W2: No. of Samples Planned | X2: Date Com-pleted (MM/DD/YY) | Z2: No. of Samples Planned | AA2: Date Com-pleted (MM/DD/YY) | AC2: Index Period | AE2: QA Plan Submitted (Yes/No) | AF2: No. of Samples Planned | AG2: Date Com-pleted (MM/DD/YY) | AI2: Index Period | AK2: No. of Samples Planned | AL2: Date Com-pleted (MM/DD/YY)
O3: Start Date | P3: End Date | R3: Reach A | U3: Reach A | X3: Reach A | AA3: Reach A | AC3: Start Date | AD3: End Date | AI3: Start Date | AJ3: End Date
B5: AZ | C5: 09471000 | D5: San Pedro River at Charleston, AZ | E5: Nick Paretti | F5: Yes | I5: rotate4 | J5: Reference | K5: 79 | L5: 2016 | M5: A | N5: Riffle | O5: 41944 | P5: 41988 | Q5: 0 | T5: 0 | V5: =IF(T5>0,IF(U5<($O5-7),"EARLY",IF(U5>N($P5+7),"LATE","")),"") | W5: 0 | Y5: =IF(W5>0,IF(X5<($O5-7),"EARLY",IF(X5>N($P5+7),"LATE","")),"") | Z5: 0 | AB5: =IF(Z5>0,IF(AA5<($O5-7),"EARLY",IF(AA5>N($P5+7),"LATE","")),"") | AC5: 41944 | AD5: 41988 | AF5: 0 | AH5: =IF(AF5>0,IF(AG5<($AC5-7),"EARLY",IF(AG5>N($AD5+7),"LATE","")),"") | AI5: 41944 | AJ5: 41988 | AK5: 0 | AM5: =IF(AK5>0,IF(AL5<($AI5-7),"EARLY",IF(AL5>N($AJ5+7),"LATE","")),"") | AN5: =IF(OR(S5<>"",V5<>"",Y5<>"",AB5<>"",AH5<>"",AM5<>""),"CHECK","")
B6: AZ | C6: 09505800 | D6: West Clear Creek near Camp Verde, AZ | F6: Yes | I6: rotate4 | J6: Reference | K6: 23 | L6: 2016 | M6: A | N6: Riffle | O6: 42292 | P6: 42338 | Q6: 1 | S6: =IF(Q6>0,IF(R6<($O6-7),"EARLY",IF(R6>N($P6+7),"LATE","")),"") -> EARLY | T6: 0 | V6: =IF(T6>0,IF(U6<($O6-7),"EARLY",IF(U6>N($P6+7),"LATE","")),"") | W6: 1 | Y6: =IF(W6>0,IF(X6<($O6-7),"EARLY",IF(X6>N($P6+7),"LATE","")),"") -> EARLY | Z6: 1 | AB6: =IF(Z6>0,IF(AA6<($O6-7),"EARLY",IF(AA6>N($P6+7),"LATE","")),"") -> EARLY | AC6: 42292 | AD6: 42338 | AF6: 1 | AH6: =IF(AF6>0,IF(AG6<($AC6-7),"EARLY",IF(AG6>N($AD6+7),"LATE","")),"") -> EARLY | AI6: 42292 | AJ6: 42338 | AK6: 1 | AM6: =IF(AK6>0,IF(AL6<($AI6-7),"EARLY",IF(AL6>N($AJ6+7),"LATE","")),"") -> EARLY | AN6: =IF(OR(S6<>"",V6<>"",Y6<>"",AB6<>"",AH6<>"",AM6<>""),"CHECK","") -> CHECK | AO6: Sampling plan shown for the Fiscal Years in which samples are collected (i.e., Fall 2012 = FY2013)
B7: AR | C7: 07055646 | D7: Buffalo River near Boxley, AR | E7: Billy Justus | F7: Yes | I7: rotate4 | J7: Reference | K7: 38 | L7: 2016 | M7: A | N7: Riffle | O7: 42231 | P7: 42277 | Q7: 0 | S7: =IF(Q7>0,IF(R7<($O7-7),"EARLY",IF(R7>N($P7+7),"LATE","")),"") | T7: 0 | V7: =IF(T7>0,IF(U7<($O7-7),"EARLY",IF(U7>N($P7+7),"LATE","")),"") | W7: 0 | Y7: =IF(W7>0,IF(X7<($O7-7),"EARLY",IF(X7>N($P7+7),"LATE","")),"") | Z7: 0 | AB7: =IF(Z7>0,IF(AA7<($O7-7),"EARLY",IF(AA7>N($P7+7),"LATE","")),"") | AC7: 42200 | AD7: 42247 | AF7: 0 | AH7: =IF(AF7>0,IF(AG7<($AC7-7),"EARLY",IF(AG7>N($AD7+7),"LATE","")),"") | AI7: 42200 | AJ7: 42247 | AK7: 0 | AM7: =IF(AK7>0,IF(AL7<($AI7-7),"EARLY",IF(AL7>N($AJ7+7),"LATE","")),"") | AN7: =IF(OR(S7<>"",V7<>"",Y7<>"",AB7<>"",AH7<>"",AM7<>""),"CHECK","")
B8: AR | C8: 07060710 | D8: North Sylamore Creek near Fifty Six, AR | F8: Yes | I8: rotate4 | J8: Reference | K8: 39 | L8: 2016 | M8: C | N8: Riffle | O8: 42231 | P8: 42277 | Q8: 1 | S8: =IF(Q8>0,IF(R8<($O8-7),"EARLY",IF(R8>N($P8+7),"LATE","")),"") -> EARLY | T8: 0 | V8: =IF(T8>0,IF(U8<($O8-7),"EARLY",IF(U8>N($P8+7),"LATE","")),"") | W8: 1 | Y8: =IF(W8>0,IF(X8<($O8-7),"EARLY",IF(X8>N($P8+7),"LATE","")),"") -> EARLY | Z8: 1 | AB8: =IF(Z8>0,IF(AA8<($O8-7),"EARLY",IF(AA8>N($P8+7),"LATE","")),"") -> EARLY | AC8: 42200 | AD8: 42247 | AF8: 1 | AH8: =IF(AF8>0,IF(AG8<($AC8-7),"EARLY",IF(AG8>N($AD8+7),"LATE","")),"") -> EARLY | AI8: 42200 | AJ8: 42247 | AK8: 1 | AM8: =IF(AK8>0,IF(AL8<($AI8-7),"EARLY",IF(AL8>N($AJ8+7),"LATE","")),"") -> EARLY | AN8: =IF(OR(S8<>"",V8<>"",Y8<>"",AB8<>"",AH8<>"",AM8<>""),"CHECK","") -> CHECK
B9: CA | C9: 11274538 | D9: Orestimba Creek near Crows Landing, CA | E9: Jason May | F9: Yes | I9: rotate4 | J9: Agricultural | K9: 5 | L9: 2016 | M9: A | N9: Snag | O9: 42231 | P9: 42277 | Q9: 0 | S9: =IF(Q9>0,IF(R9<($O9-7),"EARLY",IF(R9>N($P9+7),"LATE","")),"") | T9: 0 | V9: =IF(T9>0,IF(U9<($O9-7),"EARLY",IF(U9>N($P9+7),"LATE","")),"") | W9: 0 | Y9: =IF(W9>0,IF(X9<($O9-7),"EARLY",IF(X9>N($P9+7),"LATE","")),"") | Z9: 0 | AB9: =IF(Z9>0,IF(AA9<($O9-7),"EARLY",IF(AA9>N($P9+7),"LATE","")),"") | AC9: 42231 | AD9: 42277 | AF9: 0 | AH9: =IF(AF9>0,IF(AG9<($AC9-7),"EARLY",IF(AG9>N($AD9+7),"LATE","")),"") | AI9: 42231 | AJ9: 42277 | AK9: 0 | AM9: =IF(AK9>0,IF(AL9<($AI9-7),"EARLY",IF(AL9>N($AJ9+7),"LATE","")),"") | AN9: =IF(OR(S9<>"",V9<>"",Y9<>"",AB9<>"",AH9<>"",AM9<>""),"CHECK","")
B10: CA | C10: 11335000 | D10: Cosumnes River at Michigan Bar, CA | F10: Yes | I10: eco_only | J10: Reference | K10: 7 | L10: 2016 | M10: C | N10: Riffle | O10: 42231 | P10: 42277 | Q10: 0 | S10: =IF(Q10>0,IF(R10<($O10-7),"EARLY",IF(R10>N($P10+7),"LATE","")),"") | T10: 0 | V10: =IF(T10>0,IF(U10<($O10-7),"EARLY",IF(U10>N($P10+7),"LATE","")),"") | W10: 0 | Y10: =IF(W10>0,IF(X10<($O10-7),"EARLY",IF(X10>N($P10+7),"LATE","")),"") | Z10: 0 | AB10: =IF(Z10>0,IF(AA10<($O10-7),"EARLY",IF(AA10>N($P10+7),"LATE","")),"") | AC10: 42231 | AD10: 42277 | AF10: 0 | AH10: =IF(AF10>0,IF(AG10<($AC10-7),"EARLY",IF(AG10>N($AD10+7),"LATE","")),"") | AI10: 42231 | AJ10: 42277 | AK10: 0 | AM10: =IF(AK10>0,IF(AL10<($AI10-7),"EARLY",IF(AL10>N($AJ10+7),"LATE","")),"") | AN10: =IF(OR(S10<>"",V10<>"",Y10<>"",AB10<>"",AH10<>"",AM10<>""),"CHECK","")
B11: CA | C11: 11264500 | D11: Merced River at Happy Isles Bridge nr Yosemite, CA | F11: Yes | I11: eco_only | J11: Reference | L11: 2016 | M11: A | N11: Riffle | O11: 42231 | P11: 42277 | Q11: 1 | S11: =IF(Q11>0,IF(R11<($O11-7),"EARLY",IF(R11>N($P11+7),"LATE","")),"") -> EARLY | T11: 0 | V11: =IF(T11>0,IF(U11<($O11-7),"EARLY",IF(U11>N($P11+7),"LATE","")),"") | W11: 1 | Y11: =IF(W11>0,IF(X11<($O11-7),"EARLY",IF(X11>N($P11+7),"LATE","")),"") -> EARLY | Z11: 1 | AB11: =IF(Z11>0,IF(AA11<($O11-7),"EARLY",IF(AA11>N($P11+7),"LATE","")),"") -> EARLY | AC11: 42193 | AD11: 42238 | AF11: 1 | AH11: =IF(AF11>0,IF(AG11<($AC11-7),"EARLY",IF(AG11>N($AD11+7),"LATE","")),"") -> EARLY | AI11: 42193 | AJ11: 42238 | AK11: 1 | AM11: =IF(AK11>0,IF(AL11<($AI11-7),"EARLY",IF(AL11>N($AJ11+7),"LATE","")),"") -> EARLY | AN11: =IF(OR(S11<>"",V11<>"",Y11<>"",AB11<>"",AH11<>"",AM11<>""),"CHECK","") -> CHECK
B12: CO | C12: 06713500 | D12: Cherry Creek at Denver, CO | E12: Bob Zuellig | F12: Yes | I12: rotate2 | J12: Urban | K12: 25 | L12: 2016 | M12: B | N12: Riffle | O12: 42200 | P12: 42247 | Q12: 1 | S12: =IF(Q12>0,IF(R12<($O12-7),"EARLY",IF(R12>N($P12+7),"LATE","")),"") -> EARLY | T12: 0 | V12: =IF(T12>0,IF(U12<($O12-7),"EARLY",IF(U12>N($P12+7),"LATE","")),"") | W12: 1 | Y12: =IF(W12>0,IF(X12<($O12-7),"EARLY",IF(X12>N($P12+7),"LATE","")),"") -> EARLY | Z12: 1 | AB12: =IF(Z12>0,IF(AA12<($O12-7),"EARLY",IF(AA12>N($P12+7),"LATE","")),"") -> EARLY | AC12: 42200 | AD12: 42247 | AF12: 1 | AH12: =IF(AF12>0,IF(AG12<($AC12-7),"EARLY",IF(AG12>N($AD12+7),"LATE","")),"") -> EARLY | AI12: 42200 | AJ12: 42247 | AK12: 1 | AM12: =IF(AK12>0,IF(AL12<($AI12-7),"EARLY",IF(AL12>N($AJ12+7),"LATE","")),"") -> EARLY | AN12: =IF(OR(S12<>"",V12<>"",Y12<>"",AB12<>"",AH12<>"",AM12<>""),"CHECK","") -> CHECK
B13: CT(NENG) | C13: 01170100 | D13: Green River near Colrain, MA | E13: Karen Beaulieu | F13: Yes | G13: 01170095 | H13: Green River at Stewartville, MA | I13: rotate4 | J13: Reference | K13: 58 | L13: 2016 | M13: A | N13: Riffle | O13: 42217 | P13: 42262 | Q13: 1 | S13: =IF(Q13>0,IF(R13<($O13-7),"EARLY",IF(R13>N($P13+7),"LATE","")),"") -> EARLY | T13: 0 | V13: =IF(T13>0,IF(U13<($O13-7),"EARLY",IF(U13>N($P13+7),"LATE","")),"") | W13: 1 | Y13: =IF(W13>0,IF(X13<($O13-7),"EARLY",IF(X13>N($P13+7),"LATE","")),"") -> EARLY | Z13: 1 | AB13: =IF(Z13>0,IF(AA13<($O13-7),"EARLY",IF(AA13>N($P13+7),"LATE","")),"") -> EARLY | AC13: 42217 | AD13: 42262 | AF13: 1 | AH13: =IF(AF13>0,IF(AG13<($AC13-7),"EARLY",IF(AG13>N($AD13+7),"LATE","")),"") -> EARLY | AI13: 42217 | AJ13: 42262 | AK13: 1 | AM13: =IF(AK13>0,IF(AL13<($AI13-7),"EARLY",IF(AL13>N($AJ13+7),"LATE","")),"") -> EARLY | AN13: =IF(OR(S13<>"",V13<>"",Y13<>"",AB13<>"",AH13<>"",AM13<>""),"CHECK","") -> CHECK
B14: CT(NENG) | C14: 01209710 | D14: Norwalk River at Winnipauk,CT | F14: Yes | I14: rotate4 | J14: Urban | K14: 59 | L14: 2016 | M14: A | N14: Riffle | O14: 42217 | P14: 42262 | Q14: 1 | S14: =IF(Q14>0,IF(R14<($O14-7),"EARLY",IF(R14>N($P14+7),"LATE","")),"") -> EARLY | T14: 0 | V14: =IF(T14>0,IF(U14<($O14-7),"EARLY",IF(U14>N($P14+7),"LATE","")),"") | W14: 1 | Y14: =IF(W14>0,IF(X14<($O14-7),"EARLY",IF(X14>N($P14+7),"LATE","")),"") -> EARLY | Z14: 1 | AB14: =IF(Z14>0,IF(AA14<($O14-7),"EARLY",IF(AA14>N($P14+7),"LATE","")),"") -> EARLY | AC14: 42217 | AD14: 42262 | AF14: 1 | AH14: =IF(AF14>0,IF(AG14<($AC14-7),"EARLY",IF(AG14>N($AD14+7),"LATE","")),"") -> EARLY | AI14: 42217 | AJ14: 42262 | AK14: 1 | AM14: =IF(AK14>0,IF(AL14<($AI14-7),"EARLY",IF(AL14>N($AJ14+7),"LATE","")),"") -> EARLY | AN14: =IF(OR(S14<>"",V14<>"",Y14<>"",AB14<>"",AH14<>"",AM14<>""),"CHECK","") -> CHECK
B15: GA | C15: 2338523 | D15: Hillibahatchee Creek near Franklin, GA | E15: Jeff Riley | F15: Yes | I15: rotate4 | J15: Reference | K15: 45 | L15: 2016 | M15: B | N15: Riffle | O15: 42139 | P15: 42185 | Q15: 1 | S15: =IF(Q15>0,IF(R15<($O15-7),"EARLY",IF(R15>N($P15+7),"LATE","")),"") -> EARLY | T15: 0 | V15: =IF(T15>0,IF(U15<($O15-7),"EARLY",IF(U15>N($P15+7),"LATE","")),"") | W15: 1 | Y15: =IF(W15>0,IF(X15<($O15-7),"EARLY",IF(X15>N($P15+7),"LATE","")),"") -> EARLY | Z15: 1 | AB15: =IF(Z15>0,IF(AA15<($O15-7),"EARLY",IF(AA15>N($P15+7),"LATE","")),"") -> EARLY | AC15: 42248 | AD15: 42292 | AF15: 1 | AH15: =IF(AF15>0,IF(AG15<($AC15-7),"EARLY",IF(AG15>N($AD15+7),"LATE","")),"") -> EARLY | AI15: 42248 | AJ15: 42292 | AK15: 1 | AM15: =IF(AK15>0,IF(AL15<($AI15-7),"EARLY",IF(AL15>N($AJ15+7),"LATE","")),"") -> EARLY | AN15: =IF(OR(S15<>"",V15<>"",Y15<>"",AB15<>"",AH15<>"",AM15<>""),"CHECK","") -> CHECK
B16: GA | C16: 02335870 | D16: Sope Creek near Marietta, GA | F16: Yes | I16: rotate2 | J16: Urban | K16: 45 | L16: 2016 | M16: A | N16: Riffle | O16: 42139 | P16: 42185 | Q16: 1 | S16: =IF(Q16>0,IF(R16<($O16-7),"EARLY",IF(R16>N($P16+7),"LATE","")),"") -> EARLY | T16: 0 | V16: =IF(T16>0,IF(U16<($O16-7),"EARLY",IF(U16>N($P16+7),"LATE","")),"") | W16: 1 | Y16: =IF(W16>0,IF(X16<($O16-7),"EARLY",IF(X16>N($P16+7),"LATE","")),"") -> EARLY | Z16: 1 | AB16: =IF(Z16>0,IF(AA16<($O16-7),"EARLY",IF(AA16>N($P16+7),"LATE","")),"") -> EARLY | AC16: 42248 | AD16: 42292 | AF16: 1 | AH16: =IF(AF16>0,IF(AG16<($AC16-7),"EARLY",IF(AG16>N($AD16+7),"LATE","")),"") -> EARLY | AI16: 42248 | AJ16: 42292 | AK16: 1 | AM16: =IF(AK16>0,IF(AL16<($AI16-7),"EARLY",IF(AL16>N($AJ16+7),"LATE","")),"") -> EARLY | AN16: =IF(OR(S16<>"",V16<>"",Y16<>"",AB16<>"",AH16<>"",AM16<>""),"CHECK","") -> CHECK
B17: ID | C17: 13092747 | D17: Rock Creek at Twin Falls, ID | E17: Dorene MacCoy | F17: Yes | I17: rotate4 | J17: Agricultural | K17: 12 | L17: 2016 | M17: A | N17: Riffle | O17: 42186 | P17: 42231 | Q17: 1 | S17: =IF(Q17>0,IF(R17<($O17-7),"EARLY",IF(R17>N($P17+7),"LATE","")),"") -> EARLY | T17: 0 | V17: =IF(T17>0,IF(U17<($O17-7),"EARLY",IF(U17>N($P17+7),"LATE","")),"") | W17: 1 | Y17: =IF(W17>0,IF(X17<($O17-7),"EARLY",IF(X17>N($P17+7),"LATE","")),"") -> EARLY | Z17: 1 | AB17: =IF(Z17>0,IF(AA17<($O17-7),"EARLY",IF(AA17>N($P17+7),"LATE","")),"") -> EARLY | AC17: 42186 | AD17: 42231 | AF17: 1 | AH17: =IF(AF17>0,IF(AG17<($AC17-7),"EARLY",IF(AG17>N($AD17+7),"LATE","")),"") -> EARLY | AI17: 42186 | AJ17: 42231 | AK17: 1 | AM17: =IF(AK17>0,IF(AL17<($AI17-7),"EARLY",IF(AL17>N($AJ17+7),"LATE","")),"") -> EARLY | AN17: =IF(OR(S17<>"",V17<>"",Y17<>"",AB17<>"",AH17<>"",AM17<>""),"CHECK","") -> CHECK
B18: IN | C18: 394340085524601 | D18: Sugar Creek at New Palestine, IN | E18: Edward Dobrowolski | F18: Yes | I18: rotate2 | J18: Agricultural | K18: 55 | L18: 2016 | M18: A | N18: Riffle | O18: 42200 | P18: 42247 | Q18: 1 | S18: =IF(Q18>0,IF(R18<($O18-7),"EARLY",IF(R18>N($P18+7),"LATE","")),"") -> EARLY | T18: 0 | V18: =IF(T18>0,IF(U18<($O18-7),"EARLY",IF(U18>N($P18+7),"LATE","")),"") | W18: 1 | Y18: =IF(W18>0,IF(X18<($O18-7),"EARLY",IF(X18>N($P18+7),"LATE","")),"") -> EARLY | Z18: 1 | AB18: =IF(Z18>0,IF(AA18<($O18-7),"EARLY",IF(AA18>N($P18+7),"LATE","")),"") -> EARLY | AC18: 42217 | AD18: 42262 | AF18: 1 | AH18: =IF(AF18>0,IF(AG18<($AC18-7),"EARLY",IF(AG18>N($AD18+7),"LATE","")),"") -> EARLY | AI18: 42200 | AJ18: 42247 | AK18: 1 | AM18: =IF(AK18>0,IF(AL18<($AI18-7),"EARLY",IF(AL18>N($AJ18+7),"LATE","")),"") -> EARLY | AN18: =IF(OR(S18<>"",V18<>"",Y18<>"",AB18<>"",AH18<>"",AM18<>""),"CHECK","") -> CHECK
B19: IA | C19: 05451210 | D19: South Fork Iowa River near New Providence, IA | E19: Jason McVay | F19: Yes | I19: rotate2 | J19: Agricultural | K19: 47 | L19: 2016 | M19: A | N19: Snag | O19: 42217 | P19: 42262 | Q19: 1 | S19: =IF(Q19>0,IF(R19<($O19-7),"EARLY",IF(R19>N($P19+7),"LATE","")),"") -> EARLY | T19: 0 | V19: =IF(T19>0,IF(U19<($O19-7),"EARLY",IF(U19>N($P19+7),"LATE","")),"") | W19: 1 | Y19: =IF(W19>0,IF(X19<($O19-7),"EARLY",IF(X19>N($P19+7),"LATE","")),"") -> EARLY | Z19: 1 | AB19: =IF(Z19>0,IF(AA19<($O19-7),"EARLY",IF(AA19>N($P19+7),"LATE","")),"") -> EARLY | AC19: 42231 | AD19: 42277 | AF19: 1 | AH19: =IF(AF19>0,IF(AG19<($AC19-7),"EARLY",IF(AG19>N($AD19+7),"LATE","")),"") -> EARLY | AI19: 42217 | AJ19: 42262 | AK19: 1 | AM19: =IF(AK19>0,IF(AL19<($AI19-7),"EARLY",IF(AL19>N($AJ19+7),"LATE","")),"") -> EARLY | AN19: =IF(OR(S19<>"",V19<>"",Y19<>"",AB19<>"",AH19<>"",AM19<>""),"CHECK","") -> CHECK
B20: LA | C20: 08014500 | D20: Ouiska (Whisky) Chitto Creek near Oberlin, LA | E20: Scott Mize | F20: Yes | I20: rotate4 | J20: Reference | K20: 35 | L20: 2016 | M20: A | N20: Snag | O20: 42200 | P20: 42247 | Q20: 1 | S20: =IF(Q20>0,IF(R20<($O20-7),"EARLY",IF(R20>N($P20+7),"LATE","")),"") -> EARLY | T20: 0 | V20: =IF(T20>0,IF(U20<($O20-7),"EARLY",IF(U20>N($P20+7),"LATE","")),"") | W20: 1 | Y20: =IF(W20>0,IF(X20<($O20-7),"EARLY",IF(X20>N($P20+7),"LATE","")),"") -> EARLY | Z20: 1 | AB20: =IF(Z20>0,IF(AA20<($O20-7),"EARLY",IF(AA20>N($P20+7),"LATE","")),"") -> EARLY | AC20: 42200 | AD20: 42247 | AF20: 1 | AH20: =IF(AF20>0,IF(AG20<($AC20-7),"EARLY",IF(AG20>N($AD20+7),"LATE","")),"") -> EARLY | AI20: 42200 | AJ20: 42247 | AK20: 1 | AM20: =IF(AK20>0,IF(AL20<($AI20-7),"EARLY",IF(AL20>N($AJ20+7),"LATE","")),"") -> EARLY | AN20: =IF(OR(S20<>"",V20<>"",Y20<>"",AB20<>"",AH20<>"",AM20<>""),"CHECK","") -> CHECK
B21: MD | C21: 01610400 | D21: Waites Run near Wardensville, WV | E21: Robin Brightbill | F21: Yes | I21: rotate4 | J21: Reference | K21: 67 | L21: 2016 | M21: B | N21: Riffle | O21: 42186 | P21: 42231 | Q21: 1 | S21: =IF(Q21>0,IF(R21<($O21-7),"EARLY",IF(R21>N($P21+7),"LATE","")),"") -> EARLY | T21: 0 | V21: =IF(T21>0,IF(U21<($O21-7),"EARLY",IF(U21>N($P21+7),"LATE","")),"") | W21: 1 | Y21: =IF(W21>0,IF(X21<($O21-7),"EARLY",IF(X21>N($P21+7),"LATE","")),"") -> EARLY | Z21: 1 | AB21: =IF(Z21>0,IF(AA21<($O21-7),"EARLY",IF(AA21>N($P21+7),"LATE","")),"") -> EARLY | AC21: 42186 | AD21: 42231 | AF21: 1 | AH21: =IF(AF21>0,IF(AG21<($AC21-7),"EARLY",IF(AG21>N($AD21+7),"LATE","")),"") -> EARLY | AI21: 42186 | AJ21: 42231 | AK21: 1 | AM21: =IF(AK21>0,IF(AL21<($AI21-7),"EARLY",IF(AL21>N($AJ21+7),"LATE","")),"") -> EARLY | AN21: =IF(OR(S21<>"",V21<>"",Y21<>"",AB21<>"",AH21<>"",AM21<>""),"CHECK","") -> CHECK
B22: MD | C22: 01654000 | D22: Accotink Creek near Annandale, VA | F22: Yes | I22: rotate2 | J22: Urban | K22: 45 | L22: 2016 | M22: A | N22: Riffle | O22: 42156 | P22: 42200 | Q22: 1 | S22: =IF(Q22>0,IF(R22<($O22-7),"EARLY",IF(R22>N($P22+7),"LATE","")),"") -> EARLY | T22: 0 | V22: =IF(T22>0,IF(U22<($O22-7),"EARLY",IF(U22>N($P22+7),"LATE","")),"") | W22: 1 | Y22: =IF(W22>0,IF(X22<($O22-7),"EARLY",IF(X22>N($P22+7),"LATE","")),"") -> EARLY | Z22: 1 | AB22: =IF(Z22>0,IF(AA22<($O22-7),"EARLY",IF(AA22>N($P22+7),"LATE","")),"") -> EARLY | AC22: 42217 | AD22: 42262 | AF22: 1 | AH22: =IF(AF22>0,IF(AG22<($AC22-7),"EARLY",IF(AG22>N($AD22+7),"LATE","")),"") -> EARLY | AI22: 42217 | AJ22: 42262 | AK22: 1 | AM22: =IF(AK22>0,IF(AL22<($AI22-7),"EARLY",IF(AL22>N($AJ22+7),"LATE","")),"") -> EARLY | AN22: =IF(OR(S22<>"",V22<>"",Y22<>"",AB22<>"",AH22<>"",AM22<>""),"CHECK","") -> CHECK
B23: MN | C23: 05288705 | D23: Shingle Creek at Minneapolis, MN | E23: Kathy Lee | F23: Yes | I23: rotate2 | J23: Urban | K23: 51 | L23: 2016 | M23: B | N23: Riffle | O23: 42186 | P23: 42231 | Q23: 1 | S23: =IF(Q23>0,IF(R23<($O23-7),"EARLY",IF(R23>N($P23+7),"LATE","")),"") -> EARLY | T23: 0 | V23: =IF(T23>0,IF(U23<($O23-7),"EARLY",IF(U23>N($P23+7),"LATE","")),"") | W23: 1 | Y23: =IF(W23>0,IF(X23<($O23-7),"EARLY",IF(X23>N($P23+7),"LATE","")),"") -> EARLY | Z23: 1 | AB23: =IF(Z23>0,IF(AA23<($O23-7),"EARLY",IF(AA23>N($P23+7),"LATE","")),"") -> EARLY | AC23: 42186 | AD23: 42231 | AF23: 1 | AH23: =IF(AF23>0,IF(AG23<($AC23-7),"EARLY",IF(AG23>N($AD23+7),"LATE","")),"") -> EARLY | AI23: 42186 | AJ23: 42231 | AK23: 1 | AM23: =IF(AK23>0,IF(AL23<($AI23-7),"EARLY",IF(AL23>N($AJ23+7),"LATE","")),"") -> EARLY | AN23: =IF(OR(S23<>"",V23<>"",Y23<>"",AB23<>"",AH23<>"",AM23<>""),"CHECK","") -> CHECK
B24: MS | C24: 07288650 | D24: Bogue Phalia near Leland, MS | E24: Jeannie Barlow | F24: Yes | I24: dropped08 | J24: Agricultural | K24: 73 | L24: 2016 | M24: A | N24: Snag | O24: 42217 | P24: 42262 | Q24: 1 | S24: =IF(Q24>0,IF(R24<($O24-7),"EARLY",IF(R24>N($P24+7),"LATE","")),"") -> EARLY | T24: 0 | V24: =IF(T24>0,IF(U24<($O24-7),"EARLY",IF(U24>N($P24+7),"LATE","")),"") | W24: 1 | Y24: =IF(W24>0,IF(X24<($O24-7),"EARLY",IF(X24>N($P24+7),"LATE","")),"") -> EARLY | Z24: 1 | AB24: =IF(Z24>0,IF(AA24<($O24-7),"EARLY",IF(AA24>N($P24+7),"LATE","")),"") -> EARLY | AC24: 42200 | AD24: 42247 | AF24: 1 | AH24: =IF(AF24>0,IF(AG24<($AC24-7),"EARLY",IF(AG24>N($AD24+7),"LATE","")),"") -> EARLY | AI24: 42200 | AJ24: 42247 | AK24: 1 | AM24: =IF(AK24>0,IF(AL24<($AI24-7),"EARLY",IF(AL24>N($AJ24+7),"LATE","")),"") -> EARLY | AN24: =IF(OR(S24<>"",V24<>"",Y24<>"",AB24<>"",AH24<>"",AM24<>""),"CHECK","") -> CHECK
B25: NE | C25: 06775900 | D25: Dismal River near Thedford, NE | E25: Jason Alexander | F25: Yes | I25: eco_only | J25: Reference | K25: 44 | L25: 2016 | M25: C | N25: Snag | O25: 42217 | P25: 42262 | Q25: 1 | S25: =IF(Q25>0,IF(R25<($O25-7),"EARLY",IF(R25>N($P25+7),"LATE","")),"") -> EARLY | T25: 0 | V25: =IF(T25>0,IF(U25<($O25-7),"EARLY",IF(U25>N($P25+7),"LATE","")),"") | W25: 1 | Y25: =IF(W25>0,IF(X25<($O25-7),"EARLY",IF(X25>N($P25+7),"LATE","")),"") -> EARLY | Z25: 1 | AB25: =IF(Z25>0,IF(AA25<($O25-7),"EARLY",IF(AA25>N($P25+7),"LATE","")),"") -> EARLY | AC25: 42217 | AD25: 42262 | AF25: 1 | AH25: =IF(AF25>0,IF(AG25<($AC25-7),"EARLY",IF(AG25>N($AD25+7),"LATE","")),"") -> EARLY | AI25: 42217 | AJ25: 42262 | AK25: 1 | AM25: =IF(AK25>0,IF(AL25<($AI25-7),"EARLY",IF(AL25>N($AJ25+7),"LATE","")),"") -> EARLY | AN25: =IF(OR(S25<>"",V25<>"",Y25<>"",AB25<>"",AH25<>"",AM25<>""),"CHECK","") -> CHECK
B26: NE | C26: 06800000 | D26: Maple Creek near Nickerson, NE | F26: Yes | I26: rotate2 | J26: Agricultural | K26: 47 | L26: 2016 | M26: C | N26: Snag | O26: 42217 | P26: 42262 | Q26: 1 | S26: =IF(Q26>0,IF(R26<($O26-7),"EARLY",IF(R26>N($P26+7),"LATE","")),"") -> EARLY | T26: 0 | V26: =IF(T26>0,IF(U26<($O26-7),"EARLY",IF(U26>N($P26+7),"LATE","")),"") | W26: 1 | Y26: =IF(W26>0,IF(X26<($O26-7),"EARLY",IF(X26>N($P26+7),"LATE","")),"") -> EARLY | Z26: 1 | AB26: =IF(Z26>0,IF(AA26<($O26-7),"EARLY",IF(AA26>N($P26+7),"LATE","")),"") -> EARLY | AC26: 42217 | AD26: 42262 | AF26: 1 | AH26: =IF(AF26>0,IF(AG26<($AC26-7),"EARLY",IF(AG26>N($AD26+7),"LATE","")),"") -> EARLY | AI26: 42217 | AJ26: 42262 | AK26: 1 | AM26: =IF(AK26>0,IF(AL26<($AI26-7),"EARLY",IF(AL26>N($AJ26+7),"LATE","")),"") -> EARLY | AN26: =IF(OR(S26<>"",V26<>"",Y26<>"",AB26<>"",AH26<>"",AM26<>""),"CHECK","") -> CHECK
B27: NM | C27: 08227000 | D27: Saguache Creek near Saguache, CO | E27: Joe Beman | F27: Yes | I27: eco_only | J27: Reference | K27: 21 | L27: 2016 | M27: A | N27: Riffle | O27: 42200 | P27: 42247 | Q27: 0 | S27: =IF(Q27>0,IF(R27<($O27-7),"EARLY",IF(R27>N($P27+7),"LATE","")),"") | T27: 0 | V27: =IF(T27>0,IF(U27<($O27-7),"EARLY",IF(U27>N($P27+7),"LATE","")),"") | W27: 0 | Y27: =IF(W27>0,IF(X27<($O27-7),"EARLY",IF(X27>N($P27+7),"LATE","")),"") | Z27: 0 | AB27: =IF(Z27>0,IF(AA27<($O27-7),"EARLY",IF(AA27>N($P27+7),"LATE","")),"") | AC27: 42200 | AD27: 42247 | AF27: 0 | AH27: =IF(AF27>0,IF(AG27<($AC27-7),"EARLY",IF(AG27>N($AD27+7),"LATE","")),"") | AI27: 42200 | AJ27: 42247 | AK27: 0 | AM27: =IF(AK27>0,IF(AL27<($AI27-7),"EARLY",IF(AL27>N($AJ27+7),"LATE","")),"") | AN27: =IF(OR(S27<>"",V27<>"",Y27<>"",AB27<>"",AH27<>"",AM27<>""),"CHECK","")
B28: NY | C28: 01349150 | D28: Canajoharie Creek near Canajoharie, NY | E28: Karen Murray | F28: Yes | I28: rotate4 | J28: Agricultural | K28: 83 | L28: 2016 | M28: A | N28: Riffle | O28: 42200 | P28: 42247 | Q28: 1 | S28: =IF(Q28>0,IF(R28<($O28-7),"EARLY",IF(R28>N($P28+7),"LATE","")),"") -> EARLY | T28: 0 | V28: =IF(T28>0,IF(U28<($O28-7),"EARLY",IF(U28>N($P28+7),"LATE","")),"") | W28: 1 | Y28: =IF(W28>0,IF(X28<($O28-7),"EARLY",IF(X28>N($P28+7),"LATE","")),"") -> EARLY | Z28: 1 | AB28: =IF(Z28>0,IF(AA28<($O28-7),"EARLY",IF(AA28>N($P28+7),"LATE","")),"") -> EARLY | AC28: 42217 | AD28: 42262 | AF28: 1 | AH28: =IF(AF28>0,IF(AG28<($AC28-7),"EARLY",IF(AG28>N($AD28+7),"LATE","")),"") -> EARLY | AI28: 42217 | AJ28: 42262 | AK28: 1 | AM28: =IF(AK28>0,IF(AL28<($AI28-7),"EARLY",IF(AL28>N($AJ28+7),"LATE","")),"") -> EARLY | AN28: =IF(OR(S28<>"",V28<>"",Y28<>"",AB28<>"",AH28<>"",AM28<>""),"CHECK","") -> CHECK
B29: NC | C29: 02091500 | D29: Contentnea Creek at Hookerton, NC | E29: Michelle Moorman | F29: Yes | I29: rotate4 | J29: Agricultural | K29: 65 | L29: 2016 | M29: A | N29: Snag | O29: 42139 | P29: 42185 | Q29: 1 | S29: =IF(Q29>0,IF(R29<($O29-7),"EARLY",IF(R29>N($P29+7),"LATE","")),"") -> EARLY | T29: 0 | V29: =IF(T29>0,IF(U29<($O29-7),"EARLY",IF(U29>N($P29+7),"LATE","")),"") | W29: 1 | Y29: =IF(W29>0,IF(X29<($O29-7),"EARLY",IF(X29>N($P29+7),"LATE","")),"") -> EARLY | Z29: 1 | AB29: =IF(Z29>0,IF(AA29<($O29-7),"EARLY",IF(AA29>N($P29+7),"LATE","")),"") -> EARLY | AC29: 42248 | AD29: 42292 | AF29: 1 | AH29: =IF(AF29>0,IF(AG29<($AC29-7),"EARLY",IF(AG29>N($AD29+7),"LATE","")),"") -> EARLY | AI29: 42248 | AJ29: 42292 | AK29: 1 | AM29: =IF(AK29>0,IF(AL29<($AI29-7),"EARLY",IF(AL29>N($AJ29+7),"LATE","")),"") -> EARLY | AN29: =IF(OR(S29<>"",V29<>"",Y29<>"",AB29<>"",AH29<>"",AM29<>""),"CHECK","") -> CHECK
B30: NC | C30: 2087580 | D30: Swift Creek near Apex, NC | F30: Yes | I30: rotate2 | J30: Urban | K30: 65 | L30: 2016 | M30: C | N30: Riffle | O30: 42139 | P30: 42185 | Q30: 1 | S30: =IF(Q30>0,IF(R30<($O30-7),"EARLY",IF(R30>N($P30+7),"LATE","")),"") -> EARLY | T30: 0 | V30: =IF(T30>0,IF(U30<($O30-7),"EARLY",IF(U30>N($P30+7),"LATE","")),"") | W30: 1 | Y30: =IF(W30>0,IF(X30<($O30-7),"EARLY",IF(X30>N($P30+7),"LATE","")),"") -> EARLY | Z30: 1 | AB30: =IF(Z30>0,IF(AA30<($O30-7),"EARLY",IF(AA30>N($P30+7),"LATE","")),"") -> EARLY | AC30: 42248 | AD30: 42292 | AF30: 1 | AH30: =IF(AF30>0,IF(AG30<($AC30-7),"EARLY",IF(AG30>N($AD30+7),"LATE","")),"") -> EARLY | AI30: 42248 | AJ30: 42292 | AK30: 1 | AM30: =IF(AK30>0,IF(AL30<($AI30-7),"EARLY",IF(AL30>N($AJ30+7),"LATE","")),"") -> EARLY | AN30: =IF(OR(S30<>"",V30<>"",Y30<>"",AB30<>"",AH30<>"",AM30<>""),"CHECK","") -> CHECK
B31: OH | C31: 04161820 | D31: Clinton River at Sterling Heights, MI | E31: Stephanie Janosy | F31: Yes | I31: rotate4 | J31: Urban | K31: 56 | L31: 2016 | M31: A | N31: Riffle | O31: 42217 | P31: 42262 | Q31: 1 | S31: =IF(Q31>0,IF(R31<($O31-7),"EARLY",IF(R31>N($P31+7),"LATE","")),"") -> EARLY | T31: 0 | V31: =IF(T31>0,IF(U31<($O31-7),"EARLY",IF(U31>N($P31+7),"LATE","")),"") | W31: 1 | Y31: =IF(W31>0,IF(X31<($O31-7),"EARLY",IF(X31>N($P31+7),"LATE","")),"") -> EARLY | Z31: 1 | AB31: =IF(Z31>0,IF(AA31<($O31-7),"EARLY",IF(AA31>N($P31+7),"LATE","")),"") -> EARLY | AC31: 42217 | AD31: 42262 | AF31: 1 | AH31: =IF(AF31>0,IF(AG31<($AC31-7),"EARLY",IF(AG31>N($AD31+7),"LATE","")),"") -> EARLY | AI31: 42217 | AJ31: 42262 | AK31: 1 | AM31: =IF(AK31>0,IF(AL31<($AI31-7),"EARLY",IF(AL31>N($AJ31+7),"LATE","")),"") -> EARLY | AN31: =IF(OR(S31<>"",V31<>"",Y31<>"",AB31<>"",AH31<>"",AM31<>""),"CHECK","") -> CHECK
B32: OR | C32: 14201300 | D32: Zollner Creek near Mt. Angel, OR | E32: Jennifer Moarce | F32: NO | I32: rotate4 | J32: Agricultural | K32: 3 | L32: 2016 | M32: A | N32: Snag | O32: 42231 | P32: 42277 | Q32: 1 | S32: =IF(Q32>0,IF(R32<($O32-7),"EARLY",IF(R32>N($P32+7),"LATE","")),"") -> EARLY | T32: 0 | V32: =IF(T32>0,IF(U32<($O32-7),"EARLY",IF(U32>N($P32+7),"LATE","")),"") | W32: 1 | Y32: =IF(W32>0,IF(X32<($O32-7),"EARLY",IF(X32>N($P32+7),"LATE","")),"") -> EARLY | Z32: 1 | AB32: =IF(Z32>0,IF(AA32<($O32-7),"EARLY",IF(AA32>N($P32+7),"LATE","")),"") -> EARLY | AC32: 42231 | AD32: 42277 | AF32: 1 | AH32: =IF(AF32>0,IF(AG32<($AC32-7),"EARLY",IF(AG32>N($AD32+7),"LATE","")),"") -> EARLY | AI32: 42231 | AJ32: 42277 | AK32: 1 | AM32: =IF(AK32>0,IF(AL32<($AI32-7),"EARLY",IF(AL32>N($AJ32+7),"LATE","")),"") -> EARLY | AN32: =IF(OR(S32<>"",V32<>"",Y32<>"",AB32<>"",AH32<>"",AM32<>""),"CHECK","") -> CHECK
B33: OR | C33: 14206950 | D33: Fanno Creek at Durham, OR | F33: NO | I33: rotate2 | J33: Urban | K33: 3 | L33: 2016 | M33: A | N33: Riffle | O33: 42231 | P33: 42277 | Q33: 1 | S33: =IF(Q33>0,IF(R33<($O33-7),"EARLY",IF(R33>N($P33+7),"LATE","")),"") -> EARLY | T33: 0 | V33: =IF(T33>0,IF(U33<($O33-7),"EARLY",IF(U33>N($P33+7),"LATE","")),"") | W33: 1 | Y33: =IF(W33>0,IF(X33<($O33-7),"EARLY",IF(X33>N($P33+7),"LATE","")),"") -> EARLY | Z33: 1 | AB33: =IF(Z33>0,IF(AA33<($O33-7),"EARLY",IF(AA33>N($P33+7),"LATE","")),"") -> EARLY | AC33: 42231 | AD33: 42277 | AF33: 1 | AH33: =IF(AF33>0,IF(AG33<($AC33-7),"EARLY",IF(AG33>N($AD33+7),"LATE","")),"") -> EARLY | AI33: 42231 | AJ33: 42277 | AK33: 1 | AM33: =IF(AK33>0,IF(AL33<($AI33-7),"EARLY",IF(AL33>N($AJ33+7),"LATE","")),"") -> EARLY | AN33: =IF(OR(S33<>"",V33<>"",Y33<>"",AB33<>"",AH33<>"",AM33<>""),"CHECK","") -> CHECK
B34: OR | C34: 14205400 | D34: E Fork Dairy Creek near Meachan Corner, OR | F34: NO | I34: rotate4 | J34: Reference | K34: 3 | L34: 2016 | M34: A | N34: Riffle | O34: 42231 | P34: 42277 | Q34: 0 | S34: =IF(Q34>0,IF(R34<($O34-7),"EARLY",IF(R34>N($P34+7),"LATE","")),"") | T34: 0 | V34: =IF(T34>0,IF(U34<($O34-7),"EARLY",IF(U34>N($P34+7),"LATE","")),"") | W34: 0 | Y34: =IF(W34>0,IF(X34<($O34-7),"EARLY",IF(X34>N($P34+7),"LATE","")),"") | Z34: 0 | AB34: =IF(Z34>0,IF(AA34<($O34-7),"EARLY",IF(AA34>N($P34+7),"LATE","")),"") | AC34: 42231 | AD34: 42277 | AF34: 0 | AH34: =IF(AF34>0,IF(AG34<($AC34-7),"EARLY",IF(AG34>N($AD34+7),"LATE","")),"") | AI34: 42231 | AJ34: 42277 | AK34: 0 | AM34: =IF(AK34>0,IF(AL34<($AI34-7),"EARLY",IF(AL34>N($AJ34+7),"LATE","")),"") | AN34: =IF(OR(S34<>"",V34<>"",Y34<>"",AB34<>"",AH34<>"",AM34<>""),"CHECK","")
B35: SC | C35: 02172300 | D35: McTier Creek near Monetta, SC | E35: Jeff Riley | F35: Yes | I35: rotate4 | J35: Reference | K35: 65 | L35: 2016 | M35: A | N35: Snag | O35: 42139 | P35: 42185 | Q35: 0 | S35: =IF(Q35>0,IF(R35<($O35-7),"EARLY",IF(R35>N($P35+7),"LATE","")),"") | T35: 0 | V35: =IF(T35>0,IF(U35<($O35-7),"EARLY",IF(U35>N($P35+7),"LATE","")),"") | W35: 0 | Y35: =IF(W35>0,IF(X35<($O35-7),"EARLY",IF(X35>N($P35+7),"LATE","")),"") | Z35: 0 | AB35: =IF(Z35>0,IF(AA35<($O35-7),"EARLY",IF(AA35>N($P35+7),"LATE","")),"") | AC35: 42248 | AD35: 42292 | AF35: 0 | AH35: =IF(AF35>0,IF(AG35<($AC35-7),"EARLY",IF(AG35>N($AD35+7),"LATE","")),"") | AI35: 42139 | AJ35: 42185 | AK35: 0 | AM35: =IF(AK35>0,IF(AL35<($AI35-7),"EARLY",IF(AL35>N($AJ35+7),"LATE","")),"") | AN35: =IF(OR(S35<>"",V35<>"",Y35<>"",AB35<>"",AH35<>"",AM35<>""),"CHECK","")
B36: TX | C36: 08057200 | D36: White Rock Creek at Dallas, TX | E36: Bruce Moring | F36: Yes | I36: rotate2 | J36: Urban | K36: 32 | L36: 2016 | M36: A | N36: Riffle | O36: 42186 | P36: 42231 | Q36: 1 | S36: =IF(Q36>0,IF(R36<($O36-7),"EARLY",IF(R36>N($P36+7),"LATE","")),"") -> EARLY | T36: 0 | V36: =IF(T36>0,IF(U36<($O36-7),"EARLY",IF(U36>N($P36+7),"LATE","")),"") | W36: 1 | Y36: =IF(W36>0,IF(X36<($O36-7),"EARLY",IF(X36>N($P36+7),"LATE","")),"") -> EARLY | Z36: 1 | AB36: =IF(Z36>0,IF(AA36<($O36-7),"EARLY",IF(AA36>N($P36+7),"LATE","")),"") -> EARLY | AC36: 42186 | AD36: 42231 | AF36: 1 | AH36: =IF(AF36>0,IF(AG36<($AC36-7),"EARLY",IF(AG36>N($AD36+7),"LATE","")),"") -> EARLY | AI36: 42186 | AJ36: 42231 | AK36: 1 | AM36: =IF(AK36>0,IF(AL36<($AI36-7),"EARLY",IF(AL36>N($AJ36+7),"LATE","")),"") -> EARLY | AN36: =IF(OR(S36<>"",V36<>"",Y36<>"",AB36<>"",AH36<>"",AM36<>""),"CHECK","") -> CHECK
B37: TX | C37: 08195000 | D37: Frio River at Concan, TX | F37: Yes | I37: eco_only | J37: Reference | K37: 30 | L37: 2016 | M37: B | N37: Riffle | O37: 42186 | P37: 42231 | Q37: 1 | S37: =IF(Q37>0,IF(R37<($O37-7),"EARLY",IF(R37>N($P37+7),"LATE","")),"") -> EARLY | T37: 0 | V37: =IF(T37>0,IF(U37<($O37-7),"EARLY",IF(U37>N($P37+7),"LATE","")),"") | W37: 1 | Y37: =IF(W37>0,IF(X37<($O37-7),"EARLY",IF(X37>N($P37+7),"LATE","")),"") -> EARLY | Z37: 1 | AB37: =IF(Z37>0,IF(AA37<($O37-7),"EARLY",IF(AA37>N($P37+7),"LATE","")),"") -> EARLY | AC37: 42186 | AD37: 42231 | AF37: 1 | AH37: =IF(AF37>0,IF(AG37<($AC37-7),"EARLY",IF(AG37>N($AD37+7),"LATE","")),"") -> EARLY | AI37: 42186 | AJ37: 42231 | AK37: 1 | AM37: =IF(AK37>0,IF(AL37<($AI37-7),"EARLY",IF(AL37>N($AJ37+7),"LATE","")),"") -> EARLY | AN37: =IF(OR(S37<>"",V37<>"",Y37<>"",AB37<>"",AH37<>"",AM37<>""),"CHECK","") -> CHECK
B38: UT | C38: 10168000 | D38: Little Cottonwood Creek at Salt Lake City, UT | E38: Anne Brasher | F38: NO | I38: rotate2 | J38: Urban | K38: 19 | L38: 2016 | M38: A | N38: Depositional | O38: 42200 | P38: 42247 | Q38: 1 | S38: =IF(Q38>0,IF(R38<($O38-7),"EARLY",IF(R38>N($P38+7),"LATE","")),"") -> EARLY | T38: 0 | V38: =IF(T38>0,IF(U38<($O38-7),"EARLY",IF(U38>N($P38+7),"LATE","")),"") | W38: 1 | Y38: =IF(W38>0,IF(X38<($O38-7),"EARLY",IF(X38>N($P38+7),"LATE","")),"") -> EARLY | Z38: 1 | AB38: =IF(Z38>0,IF(AA38<($O38-7),"EARLY",IF(AA38>N($P38+7),"LATE","")),"") -> EARLY | AC38: 42200 | AD38: 42247 | AF38: 1 | AH38: =IF(AF38>0,IF(AG38<($AC38-7),"EARLY",IF(AG38>N($AD38+7),"LATE","")),"") -> EARLY | AI38: 42200 | AJ38: 42247 | AK38: 1 | AM38: =IF(AK38>0,IF(AL38<($AI38-7),"EARLY",IF(AL38>N($AJ38+7),"LATE","")),"") -> EARLY | AN38: =IF(OR(S38<>"",V38<>"",Y38<>"",AB38<>"",AH38<>"",AM38<>""),"CHECK","") -> CHECK
B39: UT | C39: 10172200 | D39: Red Butte Creek at Ft Douglas, UT | F39: NO | I39: rotate4 | J39: Reference | K39: 19 | L39: 2016 | M39: A | N39: Riffle | O39: 42200 | P39: 42247 | Q39: 1 | S39: =IF(Q39>0,IF(R39<($O39-7),"EARLY",IF(R39>N($P39+7),"LATE","")),"") -> EARLY | T39: 0 | V39: =IF(T39>0,IF(U39<($O39-7),"EARLY",IF(U39>N($P39+7),"LATE","")),"") | W39: 1 | Y39: =IF(W39>0,IF(X39<($O39-7),"EARLY",IF(X39>N($P39+7),"LATE","")),"") -> EARLY | Z39: 1 | AB39: =IF(Z39>0,IF(AA39<($O39-7),"EARLY",IF(AA39>N($P39+7),"LATE","")),"") -> EARLY | AF39: 0 | AH39: =IF(AF39>0,IF(AG39<($AC39-7),"EARLY",IF(AG39>N($AD39+7),"LATE","")),"") | AI39: 42200 | AJ39: 42247 | AK39: 1 | AM39: =IF(AK39>0,IF(AL39<($AI39-7),"EARLY",IF(AL39>N($AJ39+7),"LATE","")),"") -> EARLY | AN39: =IF(OR(S39<>"",V39<>"",Y39<>"",AB39<>"",AH39<>"",AM39<>""),"CHECK","") -> CHECK | AO39: No fish collected at this site (only fish present are those stocked by the State).
B40: WA | C40: 12505450 | D40: Granger Drain at Granger, WA | E40: Bob Black | F40: Yes | I40: rotate4 | J40: Agricultural | K40: 10 | L40: 2016 | M40: A | N40: Riffle | O40: 42217 | P40: 42262 | Q40: 1 | S40: =IF(Q40>0,IF(R40<($O40-7),"EARLY",IF(R40>N($P40+7),"LATE","")),"") -> EARLY | T40: 0 | V40: =IF(T40>0,IF(U40<($O40-7),"EARLY",IF(U40>N($P40+7),"LATE","")),"") | W40: 1 | Y40: =IF(W40>0,IF(X40<($O40-7),"EARLY",IF(X40>N($P40+7),"LATE","")),"") -> EARLY | Z40: 1 | AB40: =IF(Z40>0,IF(AA40<($O40-7),"EARLY",IF(AA40>N($P40+7),"LATE","")),"") -> EARLY | AC40: 42217 | AD40: 42262 | AF40: 1 | AH40: =IF(AF40>0,IF(AG40<($AC40-7),"EARLY",IF(AG40>N($AD40+7),"LATE","")),"") -> EARLY | AI40: 42217 | AJ40: 42262 | AK40: 1 | AM40: =IF(AK40>0,IF(AL40<($AI40-7),"EARLY",IF(AL40>N($AJ40+7),"LATE","")),"") -> EARLY | AN40: =IF(OR(S40<>"",V40<>"",Y40<>"",AB40<>"",AH40<>"",AM40<>""),"CHECK","") -> CHECK
B41: WA | C41: 12056500 | D41: North Fork Skokomish River near Hoodsport, WA | F41: Yes | I41: eco_only | J41: Reference | K41: 1 | L41: 2016 | M41: A | N41: Riffle | O41: 42231 | P41: 42277 | Q41: 1 | S41: =IF(Q41>0,IF(R41<($O41-7),"EARLY",IF(R41>N($P41+7),"LATE","")),"") -> EARLY | T41: 0 | V41: =IF(T41>0,IF(U41<($O41-7),"EARLY",IF(U41>N($P41+7),"LATE","")),"") | W41: 1 | Y41: =IF(W41>0,IF(X41<($O41-7),"EARLY",IF(X41>N($P41+7),"LATE","")),"") -> EARLY | Z41: 1 | AB41: =IF(Z41>0,IF(AA41<($O41-7),"EARLY",IF(AA41>N($P41+7),"LATE","")),"") -> EARLY | AF41: 0 | AH41: =IF(AF41>0,IF(AG41<($AC41-7),"EARLY",IF(AG41>N($AD41+7),"LATE","")),"") | AI41: 42231 | AJ41: 42277 | AK41: 1 | AM41: =IF(AK41>0,IF(AL41<($AI41-7),"EARLY",IF(AL41>N($AJ41+7),"LATE","")),"") -> EARLY | AN41: =IF(OR(S41<>"",V41<>"",Y41<>"",AB41<>"",AH41<>"",AM41<>""),"CHECK","") -> CHECK | AO41: No fish collected at this site
...

Sheet reference site schedules
A1: Parameter Group | B1: Analyte | C1: Lab Code | D1: Parameter Code | E1: Collection Method
A2: FIELD AND DISSOLVED - ALL SITES (except speciated Aluminum)
A3: Field measurements | B3: Air temperature | D3: 00020
B4: Water temperature | D4: 00010
A6: Major Ions | B6: pH, laboratory | C6: 8011 | D6: 00408 | E6: Centroid/grab
A7: SH2648 | B7: Specific conductance, laboratory | C7: 8009 | D7: 90095 | E7: Centroid/grab
B8: Alkalinity, inflection point, laboratory | C8: 8007 | D8: 39087 | E8: Centroid/grab
B9: ICP-AES setup
B10: Calcium | C10: 659 | D10: 915 | E10: Centroid/grab
B11: Chloride | C11: 1571 | D11: 940 | E11: Centroid/grab
B12: Fluoride | C12: 651 | D12: 950 | E12: Centroid/grab
B13: Magnesium | C13: 663 | D13: 925 | E13: Centroid/grab
B14: Potassium | C14: 2773 | D14: 935 | E14: Centroid/grab
B15: Residue, 180 degrees Celsius (TDS) | C15: 27 | D15: 70300 | E15: Centroid/grab
B16: Silica | C16: 667 | D16: 955 | E16: Centroid/grab
B17: Sodium | C17: 675 | D17: 930 | E17: Centroid/grab
B18: Sulfate | C18: 1572 | D18: 945 | E18: Centroid/grab
A20: Metals
B21: Total Aluminum | D21: 01105 | E21: Centroid/grab | F21: only measured at select HBN sites in NE, analyzed at NY WSC
B22: Total Monomeric Aluminum | D22: 49287 | E22: Centroid/grab | F22: only measured at select HBN sites in NE, analyzed at NY WSC
B23: Total Organic Monomeric Aluminum | D23: 49288 | E23: Centroid/grab | F23: only measured at select HBN sites in NE, analyzed at NY WSC
B24: Dissolved Aluminum | D24: 01106 | E24: Centroid/grab | F24: only measured at select HBN sites in NE, analyzed at NY WSC
A26: Nutrients and Carbon | B26: Dissolved Nitrite | C26: 3117 | D26: 613 | E26: Centroid/grab
A27: SH2649 | B27: Dissolved Nitrite + Nitrate | C27: 3157 | D27: 631 | E27: Centroid/grab
B28: Total Dissolved N (NH3+NO2+NO3+Organic) | C28: 2754 | D28: 62854 | E28: Centroid/grab
B29: Dissolved Ammonia | C29: 3116 | D29: 00608 | E29: Centroid/grab
B30: Dissolved ortho phosphate | C30: 3118 | D30: 671 | E30: Centroid/grab
B31: Dissolved Organic Carbon | C31: 2612 | D31: 681 | E31: Centroid/grab

Sheet Sample counts
A1: SC Collecting Samples | B1: Suspended Sediment Samples | C1: SH 998/1201 Major Ion Samples | D1: SH 998/1201 Major Ions Blanks | E1: SH2648 Reference Major Ion Samples | F1: SH2648 Reference Major Ions Blanks | G1: SH 2430/31/32 Nutrients Samples | H1: Nutrient Blanks | I1: SH2649 Reference Nutrients Samples | J1: SH2649 Reference Nutrient Blanks | K1: SH2437 Pesticide Samples | L1: SH2437 Pesticide Blanks | M1: LCGY Glyphosate Samples | N1: LCGY Glyphosate Blanks | O1: LC 2172 Inverts RTH | P1: LC 2176 Inverts QMH | Q1: Algae RTH | R1: SH 1632 Chl a
A2: AL | B2: ='WY2016 Chem Sampling'!$J$7+'WY2016 Chem Sampling'!$L$7 -> 34 | C2: ='WY2016 Chem Sampling'!$N$7+'WY2016 Chem Sampling'!$P$7 -> 34 | D2: ='WY2016 Chem Sampling'!$R$7 -> 2 | E2: ='WY2016 Chem Sampling'!$T$7+'WY2016 Chem Sampling'!$V$7 -> 0 | F2: ='WY2016 Chem Sampling'!$X$7 -> 0 | G2: ='WY2016 Chem Sampling'!$Z$7+'WY2016 Chem Sampling'!$AB$7 -> 34 | H2: ='WY2016 Chem Sampling'!$AD$7 -> 2 | K2: ='WY2016 Chem Sampling'!AN7+'WY2016 Chem Sampling'!AR7+'WY2016 Chem Sampling'!AT7 -> 36 | L2: ='WY2016 Chem Sampling'!$AP$7 -> 2 | M2: ='WY2016 Chem Sampling'!AZ7+'WY2016 Chem Sampling'!AV7 -> 0 | N2: ='WY2016 Chem Sampling'!$AX$7 -> 0 | O2: 0 | P2: 0 | Q2: 0 | R2: 0
A3: AK | B3: ='WY2016 Chem Sampling'!$J$10+'WY2016 Chem Sampling'!$L$10 -> 8 | C3: ='WY2016 Chem Sampling'!$N$10+'WY2016 Chem Sampling'!$P$10 -> 7 | D3: ='WY2016 Chem Sampling'!$R$10 -> 1 | G3: ='WY2016 Chem Sampling'!$Z$10+'WY2016 Chem Sampling'!$AB$10 -> 7 | H3: ='WY2016 Chem Sampling'!$AD$10 -> 1 | K3: ='WY2016 Chem Sampling'!AN10+'WY2016 Chem Sampling'!AR10+'WY2016 Chem Sampling'!AT10 -> 4 | L3: ='WY2016 Chem Sampling'!$AP$10 -> 0 | M3: ='WY2016 Chem Sampling'!AZ10+'WY2016 Chem Sampling'!AV10 -> 0 | N3: ='WY2016 Chem Sampling'!$AX$10 -> 0 | O3: 0 | P3: 0 | Q3: 0 | R3: 0
A4: AZ | B4: ='WY2016 Chem Sampling'!$J$16+'WY2016 Chem Sampling'!$L$16 -> 28 | C4: ='WY2016 Chem Sampling'!$N$16+'WY2016 Chem Sampling'!$P$16 -> 28 | D4: ='WY2016 Chem Sampling'!$R$16 -> 2 | E4: ='WY2016 Chem Sampling'!$T$16+'WY2016 Chem Sampling'!$V$16 -> 18 | F4: ='WY2016 Chem Sampling'!$X$16 -> 1 | G4: ='WY2016 Chem Sampling'!$Z$16+'WY2016 Chem Sampling'!$AB$16 -> 28 | H4: ='WY2016 Chem Sampling'!$AD$16 -> 2 | I4: ='WY2016 Chem Sampling'!$AH$16+'WY2016 Chem Sampling'!$AJ$16 -> 18 | J4: ='WY2016 Chem Sampling'!$AL$16 -> 1 | K4: ='WY2016 Chem Sampling'!AN16+'WY2016 Chem Sampling'!AR16+'WY2016 Chem Sampling'!AT16 -> 30 | L4: ='WY2016 Chem Sampling'!$AP$16 -> 2 | M4: ='WY2016 Chem Sampling'!AZ16+'WY2016 Chem Sampling'!AV16 -> 0 | N4: ='WY2016 Chem Sampling'!$AX$16 -> 0 | O4: ='WY2016 Eco Sampling'!$Q$5+'WY2016 Eco Sampling'!$Q$6 -> 1 | P4: ='WY2016 Eco Sampling'!$T$5+'WY2016 Eco Sampling'!$T$6 -> 0 | Q4: ='WY2016 Eco Sampling'!$W$5+'WY2016 Eco Sampling'!$W$6 -> 1 | R4: ='WY2016 Eco Sampling'!$Z$5+'WY2016 Eco Sampling'!$Z$6 -> 1
A5: AR | B5: ='WY2016 Chem Sampling'!$J$21+'WY2016 Chem Sampling'!$L$21 -> 15 | C5: ='WY2016 Chem Sampling'!$N$21+'WY2016 Chem Sampling'!$P$21 -> 15 | D5: ='WY2016 Chem Sampling'!$R$21 -> 1 | E5: ='WY2016 Chem Sampling'!$T$21+'WY2016 Chem Sampling'!$V$21 -> 17 | F5: ='WY2016 Chem Sampling'!$X$21 -> 1 | G5: ='WY2016 Chem Sampling'!$Z$21+'WY2016 Chem Sampling'!$AB$21 -> 15 | H5: ='WY2016 Chem Sampling'!$AD$21 -> 1 | I5: ='WY2016 Chem Sampling'!$AH$21+'WY2016 Chem Sampling'!$AJ$21 -> 17 | J5: ='WY2016 Chem Sampling'!$AL$21 -> 1 | K5: ='WY2016 Chem Sampling'!AN21+'WY2016 Chem Sampling'!AR21+'WY2016 Chem Sampling'!AT21 -> 16 | L5: ='WY2016 Chem Sampling'!$AP$21 -> 1 | M5: ='WY2016 Chem Sampling'!AZ21+'WY2016 Chem Sampling'!AV21 -> 15 | N5: ='WY2016 Chem Sampling'!$AX$21 -> 1 | O5: ='WY2016 Eco Sampling'!$Q$7+'WY2016 Eco Sampling'!$Q$8 -> 1 | P5: ='WY2016 Eco Sampling'!$T$7+'WY2016 Eco Sampling'!$T$8 -> 0 | Q5: ='WY2016 Eco Sampling'!$W$7+'WY2016 Eco Sampling'!$W$8 -> 1 | R5: ='WY2016 Eco Sampling'!$Z$7+'WY2016 Eco Sampling'!$Z$8 -> 1
A6: CA | B6: ='WY2016 Chem Sampling'!$J$30+'WY2016 Chem Sampling'!$L$30 -> 53 | C6: ='WY2016 Chem Sampling'!$N$30+'WY2016 Chem Sampling'!$P$30 -> 53 | D6: ='WY2016 Chem Sampling'!$R$30 -> 3 | E6: ='WY2016 Chem Sampling'!$T$30+'WY2016 Chem Sampling'!$V$30 -> 0 | F6: ='WY2016 Chem Sampling'!$X$30 -> 0 | G6: ='WY2016 Chem Sampling'!$Z$30+'WY2016 Chem Sampling'!$AB$30 -> 53 | H6: ='WY2016 Chem Sampling'!$AD$30 -> 3 | K6: ='WY2016 Chem Sampling'!AN30+'WY2016 Chem Sampling'!AR30+'WY2016 Chem Sampling'!AT30 -> 56 | L6: ='WY2016 Chem Sampling'!$AP$30 -> 3 | M6: ='WY2016 Chem Sampling'!AZ30+'WY2016 Chem Sampling'!AV30 -> 53 | N6: ='WY2016 Chem Sampling'!$AX$30 -> 3 | O6: 2 | P6: ='WY2016 Eco Sampling'!$T$9+'WY2016 Eco Sampling'!$T$10+'WY2016 Eco Sampling'!$T$11 -> 0 | Q6: ='WY2016 Eco Sampling'!$W$9+'WY2016 Eco Sampling'!$W$10+'WY2016 Eco Sampling'!$W$11 -> 1 | R6: ='WY2016 Eco Sampling'!$Z$9+'WY2016 Eco Sampling'!$Z$10+'WY2016 Eco Sampling'!$Z$11 -> 1
A7: CO | B7: ='WY2016 Chem Sampling'!$J$35+'WY2016 Chem Sampling'!$L$35 -> 63 | C7: ='WY2016 Chem Sampling'!$N$35+'WY2016 Chem Sampling'!$P$35 -> 63 | D7: ='WY2016 Chem Sampling'!$R$35 -> 3 | G7: ='WY2016 Chem Sampling'!$Z$35+'WY2016 Chem Sampling'!$AB$35 -> 64 | H7: ='WY2016 Chem Sampling'!$AD$35 -> 4 | K7: ='WY2016 Chem Sampling'!AN35+'WY2016 Chem Sampling'!AR35+'WY2016 Chem Sampling'!AT35 -> 66 | L7: ='WY2016 Chem Sampling'!$AP$35 -> 3 | M7: ='WY2016 Chem Sampling'!AZ35+'WY2016 Chem Sampling'!AV35 -> 63 | N7: ='WY2016 Chem Sampling'!$AX$35 -> 3 | O7: ='WY2016 Eco Sampling'!$Q$12 -> 1 | P7: ='WY2016 Eco Sampling'!$T$12 -> 0 | Q7: ='WY2016 Eco Sampling'!$W$12 -> 1 | R7: ='WY2016 Eco Sampling'!$Z$12 -> 1
A8: CT (NENG) | B8: ='WY2016 Chem Sampling'!$J$40+'WY2016 Chem Sampling'!$L$40 -> 44 | C8: ='WY2016 Chem Sampling'!$N$40+'WY2016 Chem Sampling'!$P$40 -> 44 | D8: ='WY2016 Chem Sampling'!$R$40 -> 2 | E8: ='WY2016 Chem Sampling'!$T$40+'WY2016 Chem Sampling'!$V$40 -> 19 | F8: ='WY2016 Chem Sampling'!$X$40 -> 1 | G8: ='WY2016 Chem Sampling'!$Z$40+'WY2016 Chem Sampling'!$AB$40 -> 45 | H8: ='WY2016 Chem Sampling'!$AD$40 -> 3 | I8: ='WY2016 Chem Sampling'!$AH$40+'WY2016 Chem Sampling'!$AJ$40 -> 19 | J8: ='WY2016 Chem Sampling'!$AL$40 -> 1 | K8: ='WY2016 Chem Sampling'!AN40+'WY2016 Chem Sampling'!AR40+'WY2016 Chem Sampling'!AT40 -> 46 | L8: ='WY2016 Chem Sampling'!$AP$40 -> 2 | M8: ='WY2016 Chem Sampling'!AZ40+'WY2016 Chem Sampling'!AV40 -> 42 | N8: ='WY2016 Chem Sampling'!$AX$40 -> 0 | O8: ='WY2016 Eco Sampling'!$Q$13+'WY2016 Eco Sampling'!$Q$14 -> 2 | P8: ='WY2016 Eco Sampling'!$T$13+'WY2016 Eco Sampling'!$T$14 -> 0 | Q8: ='WY2016 Eco Sampling'!$W$13+'WY2016 Eco Sampling'!$W$14 -> 2 | R8: ='WY2016 Eco Sampling'!$Z$13+'WY2016 Eco Sampling'!$Z$14 -> 2
A9: FL | B9: ='WY2016 Chem Sampling'!$J$43+'WY2016 Chem Sampling'!$L$43 -> 15 | C9: ='WY2016 Chem Sampling'!$N$43+'WY2016 Chem Sampling'!$P$43 -> 15 | D9: ='WY2016 Chem Sampling'!$R$43 -> 1 | G9: ='WY2016 Chem Sampling'!$Z$43+'WY2016 Chem Sampling'!$AB$43 -> 15 | H9: ='WY2016 Chem Sampling'!$AD$43 -> 1 | K9: ='WY2016 Chem Sampling'!AN43+'WY2016 Chem Sampling'!AR43+'WY2016 Chem Sampling'!AT43 -> 16 | L9: ='WY2016 Chem Sampling'!$AP$43 -> 1 | M9: ='WY2016 Chem Sampling'!AZ43+'WY2016 Chem Sampling'!AV43 -> 0 | N9: ='WY2016 Chem Sampling'!$AX$43 -> 0 | O9: 0 | P9: 0 | Q9: 0 | R9: 0
A10: GA | B10: ='WY2016 Chem Sampling'!$J$49+'WY2016 Chem Sampling'!$L$49 -> 59 | C10: ='WY2016 Chem Sampling'!$N$49+'WY2016 Chem Sampling'!$P$49 -> 59 | D10: ='WY2016 Chem Sampling'!$R$49 -> 3 | E10: ='WY2016 Chem Sampling'!$T$49+'WY2016 Chem Sampling'!$V$49 -> 15 | F10: ='WY2016 Chem Sampling'!$X$49 -> 1 | G10: ='WY2016 Chem Sampling'!$Z$49+'WY2016 Chem Sampling'!$AB$49 -> 60 | H10: ='WY2016 Chem Sampling'!$AD$49 -> 4 | I10: ='WY2016 Chem Sampling'!$AH$49+'WY2016 Chem Sampling'!$AJ$49 -> 15 | J10: ='WY2016 Chem Sampling'!$AL$49 -> 1 | K10: ='WY2016 Chem Sampling'!AN49+'WY2016 Chem Sampling'!AR49+'WY2016 Chem Sampling'!AT49 -> 62 | L10: ='WY2016 Chem Sampling'!$AP$49 -> 3 | M10: ='WY2016 Chem Sampling'!AZ49+'WY2016 Chem Sampling'!AV49 -> 44 | N10: ='WY2016 Chem Sampling'!$AX$49 -> 2 | O10: ='WY2016 Eco Sampling'!$Q$15+'WY2016 Eco Sampling'!$Q$16 -> 2 | P10: ='WY2016 Eco Sampling'!$T$15+'WY2016 Eco Sampling'!$T$16 -> 0 | Q10: ='WY2016 Eco Sampling'!$W$15+'WY2016 Eco Sampling'!$W$16 -> 2 | R10: ='WY2016 Eco Sampling'!$Z$15+'WY2016 Eco Sampling'!$Z$16 -> 2
