Workbook

Sheet chem site information
A1: CYCLE II SU | B1: Science Center (SC) | C1: STATION ID | D1: STATION NAME | E1: CYCLE II SITE (145) | F1: CYCLE II SITE (84) | G1: CYCLE II SITE TYPE | H1: CYCLE II SITE SAMPLING SCHEDULE | I1: SAMPLED FOR ECOLOGY Cycle II | J1: SAMPLED FOR ECOLOGY Cycle III | K1: PROPOSED COST CENTER TO DO SAMPLING | L1: NUMBER OF SAMPLES IN 2016 | M1: SITE OFFICE | N1: SITE SIZE | O1: LOW FLOW SITE TYPE | P1: HIGH FLOW SITE TYPE | Q1: Comments
A2: NASQAN | B2: AK | C2: 15565447 | D2: Yukon River at Pilot Station, AK | E2: N | F2: N | G2: NA | H2: NA | I2: N | J2: N | K2: Anchorage, AK | L2: 7 | M2: Anchorage, AK | N2: large | O2: boat | P2: boat
B3: AL | C3: 2428401 | D3: Alabama R. below Claiborne L&D nr Monroeville, AL | E3: N | F3: N | G3: NA | H3: NA | I3: N | J3: N | K3: Montgomery, AL | L3: 14 | M3: Montgomery, AL | N3: large | O3: boat | P3: boat
A4: MOBL | B4: AL | C4: 02469762 | D4: Tombigbee River near Coffeeville, AL | E4: Y | F4: Y | G4: Integ | H4: rotate4 | I4: N | J4: N | K4: Montgomery, AL | L4: 18 | M4: Montgomery, AL | N4: large | O4: boat | P4: boat
A5: NASQAN | B5: AR | C5: 07263620 | D5: Arkansas River at Terry L&D below Little Rock, AR | E5: N | F5: N | G5: NA | H5: NA | I5: N | J5: N | K5: Little Rock, AR | L5: 14 | M5: Little Rock, AR | N5: large | O5: boat | P5: boat
A6: OZRK | B6: AR | C6: 07055646 | D6: Buffalo River near Boxley, AR | E6: Y | F6: N | G6: Ref | H6: rotate4 | I6: N | J6: Y | K6: Little Rock, AR | L6: 6 | M6: Little Rock, AR | N6: medium | O6: wading | P6: bridge
A7: OZRK | B7: AR | C7: 07060710 | D7: North Sylamore Creek near Fifty Six, AR | E7: Y | F7: Y | G7: Ref | H7: rotate4 | I7: Y | J7: Y | K7: Little Rock, AR | L7: 6 | M7: Little Rock, AR | N7: small | O7: wading | P7: bridge
A8: CAZB | B8: AZ | C8: 09471000 | D8: San Pedro River at Charleston, AZ | E8: Y | F8: N | G8: Ref | H8: rotate4 | I8: N | J8: Y | K8: Tucson, AZ | L8: 6 | M8: Tucson, AZ | N8: small | O8: wading | P8: bridge
A9: CAZB | B9: AZ | C9: 09505800 | D9: West Clear Creek near Camp Verde, AZ | E9: Y | F9: Y | G9: Ref | H9: rotate4 | I9: Y | J9: Y | K9: Tucson, AZ | L9: 6 | M9: Tucson, AZ | N9: small | O9: wading | P9: cableway
A10: CO-OP | B10: AZ | C10: 09380000 | D10: Colorado River at Lees Ferry, AZ | E10: N | F10: N | G10: NA | H10: NA | I10: N | J10: N | K10: Tucson, AZ | L10: 14 | M10: Flagstaff, AZ | N10: large | O10: boat | P10: cableway
A11: NASQAN | B11: AZ | C11: 09522000 | D11: Colorado River at NIB | E11: N | F11: N | G11: NA | H11: NA | I11: N | J11: N | K11: Tucson, AZ | L11: 12 | M11: Yuma, AZ | N11: large | O11: boat | P11: cableway
A12: NASQAN/SACR | B12: CA | C12: 11447650 | D12: Sacramento River at Freeport, CA | E12: Y | F12: Y | G12: Integ | H12: rotate4 | I12: N | J12: N | K12: Sacramento, CA | L12: 14 | M12: Sacramento, CA | N12: large | O12: bridge | P12: bridge
A13: SANJ | B13: CA | C13: 11274538 | D13: Orestimba Creek near Crows Landing, CA | E13: Y | F13: Y | G13: Ag | H13: rotate4 | I13: Y | J13: Y | K13: Sacramento, CA | L13: 24 | M13: Sacramento, CA | N13: small | O13: wading | P13: bridge | Q13: number of sampling trips based on continuous flow
A14: SANJ | B14: CA | C14: 11303500 | D14: San Joaquin River near Vernalis, CA | E14: Y | F14: Y | G14: Integ | H14: agcore | I14: N | J14: N | K14: Sacramento, CA | L14: 18 | M14: Sacramento, CA | N14: large | O14: bridge | P14: bridge
A15: SANJ | B15: CA | C15: 11335000 | D15: Cosumnes River at Michigan Bar, CA | E15: Y | F15: Y | G15: Ref | H15: eco_only | I15: Y | J15: Y | K15: Sacramento, CA | L15: 6 | M15: Sacramento, CA | N15: small | O15: wading | P15: bridge
A16: NA | B16: CA | C16: 11264500 | D16: Merced River at Happy Isles Bridge nr Yosemite, CA | E16: N | F16: N | G16: Ref | H16: NA | I16: N | J16: Y | K16: San Diego, CA | L16: 6 | M16: Sacramento, CA | N16: small | O16: wading | P16: bridge
A17: SOCA | B17: CA | C17: 11074000 | D17: Santa Ana River below Prado Dam, CA | E17: Y | F17: Y | G17: Integ | H17: urbcore | I17: N | J17: N | K17: San Diego, CA | L17: 18 | M17: San Diego, CA | N17: small | O17: wading | P17: cableway
A18: SPLT | B18: CO | C18: 06713500 | D18: Cherry Creek at Denver, CO | E18: Y | F18: Y | G18: Urban | H18: rotate2 | I18: Y | J18: Y | K18: Lakewood, CO | L18: 24 | M18: Lakewood, CO | N18: small | O18: wading | P18: bridge
A19: SPLT | B19: CO | C19: 06754000 | D19: South Platte River near Kersey, CO | E19: Y | F19: Y | G19: Integ | H19: rotate4 | I19: N | J19: N | K19: Lakewood, CO | L19: 18 | M19: Lakewood, CO | N19: medium | O19: wading | P19: bridge
A20: UCOL | B20: CO | C20: 09163500 | D20: Colorado River near Colorado-Utah state line | E20: Y | F20: Y | G20: Integ | H20: rotate4 | I20: N | J20: N | K20: Lakewood, CO | L20: 18 | M20: Grand Junction, CO | N20: large | O20: boat | P20: cableway
A21: CONN | B21: CT | C21: 01170100 | D21: Green River near Colrain, MA | E21: Y | F21: Y | G21: Ref | H21: rotate4 | I21: Y | J21: Y | K21: East Hartford, CT | L21: 6 | M21: East Hartford, CT | N21: small | O21: wading | P21: bridge
A22: CONN | B22: CT | C22: 01184000 | D22: Connecticut River at Thompsonville, CT | E22: Y | F22: Y | G22: Integ | H22: rotate4 | I22: N | J22: N | K22: East Hartford, CT | L22: 18 | M22: East Hartford, CT | N22: large | O22: boat | P22: boat
A23: CONN | B23: CT | C23: 01209710 | D23: Norwalk River at Winnipauk,CT | E23: Y | F23: Y | G23: Urban | H23: rotate4 | I23: Y | J23: Y | K23: East Hartford, CT | L23: 24 | M23: East Hartford, CT | N23: small | O23: wading | P23: bridge
A24: NMN | B24: FL | C24: 02359170 | D24: Apalachicola River near Sumatra, FL | E24: N | F24: N | G24: NA | H24: NA | I24: N | J24: N | K24: Tallahassee, FL | L24: 14 | M24: Tallahassee, FL | N24: large | O24: boat | P24: boat
A25: ACFB | B25: GA | C25: 02335870 | D25: Sope Creek near Marietta, GA | E25: Y | F25: Y | G25: Urban | H25: rotate2 | I25: Y | J25: Y | K25: Atlanta, GA | L25: 24 | M25: Atlanta, GA | N25: small | O25: wading | P25: bridge
A26: ACFB | B26: GA | C26: 02338523 | D26: Hillibahatchee Creek near Franklin, GA | E26: Y | F26: Y | G26: Ref | H26: rotate4 | I26: Y | J26: Y | K26: Atlanta, GA | L26: 6 | M26: Atlanta, GA | N26: small | O26: wading | P26: bridge
A27: NASQAN | B27: GA | C27: 02226160 | D27: Altamaha River at Everett City, GA | E27: N | F27: N | G27: NA | H27: NA | I27: N | J27: N | K27: Atlanta, GA | L27: 14 | M27: Atlanta, GA | N27: large | O27: boat | P27: boat
A28: ACFB | B28: GA | C28: 02338000 | D28: Chattahoochee River near Whitesburg, GA | E28: Y | F28: Y | G28: Integ | H28: urbcore | I28: N | J28: N | K28: Atlanta, GA | L28: 18 | M28: Atlanta, GA | N28: large | O28: boat | P28: boat
... A39: WHMI | B39: IN | C39: 394340085524601 | D39: Sugar Creek at New Palestine, IN | E39: Y | F39: Y | G39: Ag | H39: rotate2 | I39: Y | J39: Y | K39: Indianapolis, IN | L39: 24 | M39: Indianapolis, IN | N39: small | O39: wading | P39: bridge
A40: CO-OP | B40: KS | C40: 06892350 | D40: Kansas River at DeSoto, KS | E40: N | F40: N | G40: NA | H40: NA | I40: N | J40: N | K40: Lawrence, KS | L40: 14 | M40: Lawrence, KS | N40: large
A41: CO-OP | B41: KS | C41: 07144100 | D41: Little Arkansas River near Sedgwick, KS | E41: N | F41: N | G41: NA | H41: NA | I41: N | J41: N | K41: Lawrence, KS | L41: 18 | M41: Lawrence, KS | N41: large
A42: NASQAN | B42: KY | C42: 03303280 | D42: Ohio River at Cannelton Dam at Cannelton, IN | E42: N | F42: N | G42: NA | H42: NA | I42: N | J42: N | K42: Louisville, KY | L42: 14 | M42: Murray, KY | N42: large | O42: boat | P42: boat
A43: NASQAN | B43: KY | C43: 03378500 | D43: Wabash River at New Harmony, IN | E43: N | F43: N | G43: NA | H43: NA | I43: N | J43: N | K43: Louisville, KY | L43: 14 | M43: Murray, KY | N43: large | O43: boat | P43: boat
A44: NASQAN | B44: KY | C44: 03609750 | D44: Tennessee River at Highway 60 near Paducah, KY | E44: N | F44: N | G44: NA | H44: NA | I44: N | J44: N | K44: Louisville, KY | L44: 14 | M44: Murray, KY | N44: large | O44: boat | P44: boat
A45: NASQAN | B45: KY | C45: 03612600 | D45: Ohio River at Olmsted, IL | E45: N | F45: N | G45: NA | H45: NA | I45: N | J45: N | K45: Louisville, KY | L45: 14 | M45: Murray, KY | N45: large | O45: boat | P45: boat
A46: ACAD | B46: LA | C46: 08014500 | D46: Ouiska (Whiskey) Chitto Creek near Oberlin, LA | E46: Y | F46: Y | G46: Ref | H46: rotate4 | I46: Y | J46: Y | K46: Baton Rouge, LA | L46: 6 | M46: Baton Rouge, LA | N46: medium | O46: wading | P46: bridge
A47: NASQAN | B47: LA | C47: 07373420 | D47: Mississippi River near St. Francisville, LA | E47: N | F47: N | G47: NA | H47: NA | I47: N | J47: N | K47: Baton Rouge, LA | L47: 16 | M47: Baton Rouge, LA | N47: large | O47: boat | P47: boat
A48: NASQAN | B48: LA | C48: 07374000 | D48: Mississippi River at Baton Rouge, LA | E48: N | F48: N | G48: NA | H48: NA | I48: N | J48: N | K48: Baton Rouge, LA | L48: 14 | M48: Baton Rouge, LA | N48: large | O48: boat | P48: boat
A49: NASQAN | B49: LA | C49: 07374525 | D49: Mississippi River at Belle Chasse, LA | E49: N | F49: N | G49: NA | H49: NA | I49: N | J49: N | K49: Baton Rouge, LA | L49: 14 | M49: Baton Rouge, LA | N49: large | O49: boat | P49: boat
A50: NASQAN | B50: LA | C50: 07381495 | D50: Atchafalaya River at Melville, LA | E50: N | F50: N | G50: NA | H50: NA | I50: N | J50: N | K50: Baton Rouge, LA | L50: 16 | M50: Baton Rouge, LA | N50: large | O50: boat | P50: boat
...

Sheet FY16 chem site costs
A1: SC | B1: STATION ID | C1: STATION NAME | D1: CYCLE 3 SITE TYPE | E1: FY16 sample collection site target NAWQA | F1: FY16 sample collection site target NASQAN | G1: FY16 sample collection site target NMN | H1: Extra sampling (DOC frac, DNA, isotope, tritium - see SWPLAN) | I1: QW Cont. Monitoring | J1: ref site temp monitoring | K1: comments
A2: AK | B2: 15565447 | C2: Yukon River at Pilot Station, AK | D2: Coastal Rivers | E2: 0 | F2: 73820 | G2: 0 | H2: 1400 | I2: 0 | J2: 4348 | K2: temp monitoring at HBN site
A3: AL | B3: 2428401 | C3: Alabama R. below Claiborne L&D nr Monroeville, AL | D3: Large Inland Rivers | E3: 0 | F3: 82775 | G3: 0 | H3: 2100 | I3: 0 | J3: 2070 | K3: temp monitoring at HBN site
A4: AL | B4: 02469762 | C4: Tombigbee River near Coffeeville, AL | D4: Large Inland Rivers | E4: 89550 | F4: 0 | G4: 0 | H4: 0 | I4: 0 | J4: 0
A5: AR | B5: 07263620 | C5: Arkansas River at Terry L&D below Little Rock, AR | D5: Large Inland Rivers | E5: 0 | F5: 59040 | G5: 0 | H5: 1400 | I5: 0 | J5: 0
A6: AR | B6: 07055646 | C6: Buffalo River near Boxley, AR | D6: reference | E6: 19380 | F6: 0 | G6: 0 | H6: 0 | I6: 0 | J6: 5070
A7: AR | B7: 07060710 | C7: North Sylamore Creek near Fifty Six, AR | D7: reference | E7: 18730 | F7: 0 | G7: 0 | H7: 0 | I7: 0 | J7: 5070
A8: AZ | B8: 09471000 | C8: San Pedro River at Charleston, AZ | D8: reference | E8: 24850 | F8: 0 | G8: 0 | H8: 0 | I8: 0 | J8: 12425 | K8: temp monitoring for three reference/HBN sites
A9: AZ | B9: 09505800 | C9: West Clear Creek near Camp Verde, AZ | D9: reference | E9: 23931 | F9: 0 | G9: 0 | H9: 0 | I9: 0
A10: AZ | B10: 09380000 | C10: Colorado River at Lees Ferry, AZ | D10: Large Inland Rivers | E10: 75835 | F10: 0 | G10: 0 | H10: 0 | I10: 0 | J10: 0
A11: AZ | B11: 09522000 | C11: Colorado River at NIB | D11: Coastal Rivers | E11: 0 | F11: 53854 | G11: 0 | H11: 1800 | I11: 0 | J11: 0
A12: CA | B12: 11447650 | C12: Sacramento River at Freeport, CA | D12: Coastal Rivers | E12: 74750 | F12: 0 | G12: 0 | H12: 2000 | I12: 261300 | J12: 0 | K12: cont. monitoring at Sacramento site plus Pellerin salary
A13: CA | B13: 11274538 | C13: Orestimba Creek near Crows Landing, CA | D13: Agriculture | E13: 0 | F13: 0 | G13: 0 | H13: 0 | I13: 0 | J13: 0
A14: CA | B14: 11303500 | C14: San Joaquin River near Vernalis, CA | D14: Coastal Rivers | E14: 92034 | F14: 0 | G14: 0 | H14: 2000 | I14: 0 | J14: 21420 | K14: temp monitoring for four reference/HBN sites
A15: CA | B15: 11335000 | C15: Cosumnes River at Michigan Bar, CA | D15: reference | E15: 31498 | F15: 0 | G15: 0 | H15: 0 | I15: 0
A16: CA | B16: 11264500 | C16: Merced River at Happy Isles Bridge nr Yosemite, CA | D16: reference | E16: 25263 | F16: 0 | G16: 0 | H16: 0 | I16: 0
A17: CA | B17: 11074000 | C17: Santa Ana River below Prado Dam, CA | D17: Coastal Rivers | E17: 82395 | F17: 0 | G17: 0 | H17: 0 | I17: 0
A18: CO | B18: 06713500 | C18: Cherry Creek at Denver, CO | D18: Urban | E18: 86767 | F18: 0 | G18: 0 | H18: 0 | I18: 0 | J18: 17600 | K18: temp monitoring for three reference/HBN sites
A19: CO | B19: 06754000 | C19: South Platte River near Kersey, CO | D19: Large Inland Rivers | E19: 83670 | F19: 0 | G19: 0 | H19: 0 | I19: 0
A20: CO | B20: 09163500 | C20: Colorado River near Colorado-Utah state line | D20: Large Inland Rivers | E20: 77025 | F20: 0 | G20: 0 | H20: 0 | I20: 0
A21: NENG | B21: 01170100 | C21: Green River near Colrain, MA | D21: reference | E21: 29575 | F21: 0 | G21: 0 | H21: 0 | I21: 0 | J21: 0
A22: NENG | B22: 01184000 | C22: Connecticut River at Thompsonville, CT | D22: Coastal Rivers | E22: 63370 | F22: 0 | G22: 0 | H22: 0 | J22: 0
A23: NENG | B23: 01209710 | C23: Norwalk River at Winnipauk,CT | D23: Urban | E23: 62860 | F23: 0 | G23: 0 | H23: 0 | J23: 0
A24: FL | B24: 02359170 | C24: Apalachicola River near Sumatra, FL | D24: Coastal Rivers | E24: 0 | F24: 0 | G24: 57070 | H24: 1900 | J24: 3000 | K24: temp monitoring at HBN site
A25: GA | B25: 02335870 | C25: Sope Creek near Marietta, GA | D25: Urban | E25: 84530 | F25: 0 | G25: 0 | H25: 0 | J25: 0
A26: GA | B26: 02338523 | C26: Hillibahatchee Creek near Franklin, GA | D26: reference | E26: 42025 | F26: 0 | G26: 0 | H26: 0 | J26: 3315
A27: GA | B27: 02226160 | C27: Altamaha River at Everett City, GA | D27: Coastal Rivers | E27: 0 | F27: 72180 | G27: 0 | H27: 2100 | J27: 0
A28: GA | B28: 02338000 | C28: Chattahoochee River near Whitesburg, GA | D28: Large Inland Rivers | E28: 75900 | F28: 0 | G28: 0 | H28: 0 | J28: 0
A29: IA | B29: 05451210 | C29: South Fork Iowa River near New Providence, IA | D29: Agriculture | E29: 76990 | F29: 0 | G29: 0 | H29: 0 | J29: 0
A30: IA | B30: 05465500 | C30: Iowa River at Wapello, IA | D30: Large Inland Rivers | E30: 0 | F30: 54020 | G30: 0 | H30: 1000 | J30: 0
A31: IA | B31: 05490500 | C31: Des Moines River at Keosauqua, IA | D31: Large Inland Rivers | E31: 0 | F31: 54020 | G31: 0 | H31: 1000 | J31: 0
A32: IA | B32: 05420500 | C32: Mississippi River at Clinton, IA | D32: Large Inland Rivers | E32: 0 | F32: 53500 | G32: 0 | H32: 1000 | I32: 45040 | J32: 0
A33: IA | B33: 06610000 | C33: Missouri River at Omaha, NE | D33: Large Inland Rivers | E33: 0 | F33: 56050 | G33: 0 | H33: 1200 | I33: 0 | J33: 0
A34: ID | B34: 13092747 | C34: Rock Creek at Twin Falls, ID | D34: Agriculture | E34: 79192 | F34: 0 | G34: 0 | H34: 0 | I34: 0 | J34: 0
A35: ID | B35: 13154500 | C35: Snake River at King Hill, ID | D35: Large Inland Rivers | E35: 76097 | F35: 0 | G35: 0 | H35: 0 | I35: 0 | J35: 0
A36: ID | B36: 13056500 | C36: Henrys Fork near Rexburg, ID | D36: Large Inland Rivers | E36: 104839 | F36: 0 | G36: 0 | H36: 0 | I36: 0 | J36: 0 | K36: $20K for vehicle, check with IDWSC
A37: IL | B37: 05586100 | C37: Illinois River at Valley City, IL | D37: Large Inland Rivers | E37: 99932 | F37: 0 | G37: 0 | H37: 1000 | I37: 20700 | J37: 0
A38: IN | B38: 03374100 | C38: White River at Hazleton, IN | D38: Large Inland Rivers | E38: 134146 | F38: 0 | G38: 0 | H38: 1000 | I38: 11500 | J38: 0
A39: IN | B39: 394340085524601 | C39: Sugar Creek at New Palestine, IN | D39: Agriculture | E39: 85822 | F39: 0 | G39: 0 | H39: 0 | I39: 0 | J39: 0
A40: KS | B40: 06892350 | C40: Kansas River at DeSoto, KS | D40: Large Inland Rivers | E40: 34576 | F40: 0 | G40: 0 | H40: 0 | I40: 0 | J40: 0
...

Sheet Eco site information
M1: Cycle 3 Sampling Schedule
A2: sc | B2: Station number | C2: Station name | D2: PROPOSED COST CENTER TO DO SAMPLING | E2: Cycle III site type | F2: Eco-region | G2: RTH (Snag or Riffle) | H2: RT Miles to Site | I2: RT Travel Time to Site (hrs) | J2: Fish Rela-tive Rich- ness | K2: Fish Rich- ness factor | L2: Area (sq km) | M2: 2013 | N2: 2014 | O2: 2015 | P2: 2016 | Q2: 2017 | R2: 2018 | S2: 2019 | T2: 2020 | U2: 2021 | V2: 2022
A3: AR | B3: 07055646 | C3: Buffalo River near Boxley, AR | D3: Little Rock, AR | E3: Reference | F3: 38 | G3: Riffle | H3: 380 | I3: 8.2 | J3: Hi | K3: =IF(J3="Lo",0.8,IF(J3="Med",1,(IF(J3="Hi",1.2,"error")))) -> 1.2 | L3: 134 | M3: IAFH | N3: IAFH | O3: IAFH | P3: IAFH | Q3: IAFH | R3: IAFH | S3: IAFH | T3: IAFH | U3: IAFH | V3: IAFH
A4: AR | B4: 7060710 | C4: North Sylamore Creek near Fifty Six, AR | D4: Little Rock, AR | E4: Reference | F4: 39 | G4: Riffle | H4: 260 | I4: 6.2 | J4: Med | K4: =IF(J4="Lo",0.8,IF(J4="Med",1,(IF(J4="Hi",1.2,"error")))) -> 1 | L4: 150 | M4: IAFH | N4: IAFH | O4: IAFH | P4: IAFH | Q4: IAFH | R4: IAFH | S4: IAFH | T4: IAFH | U4: IAFH | V4: IAFH
A5: AZ | B5: 09471000 | C5: San Pedro River at Charleston, AZ | D5: Tucson, AZ | E5: Reference | F5: 79 | G5: Riffle | H5: 170 | I5: 3.2 | J5: Med | K5: =IF(J5="Lo",0.8,IF(J5="Med",1,(IF(J5="Hi",1.2,"error")))) -> 1 | L5: 3196 | M5: IAFH | N5: IAFH | O5: IAFH | P5: IAFH | Q5: IAFH | R5: IAFH | S5: IAFH | T5: IAFH | U5: IAFH | V5: IAFH
A6: AZ | B6: 9505800 | C6: West Clear Creek near Camp Verde, AZ | D6: Tucson, AZ | E6: Reference | F6: 23 | G6: Riffle | H6: 460 | I6: 7 | J6: Lo | K6: =IF(J6="Lo",0.8,IF(J6="Med",1,(IF(J6="Hi",1.2,"error")))) -> 0.8 | L6: 615 | M6: IAFH | N6: IAFH | O6: IAFH | P6: IAFH | Q6: IAFH | R6: IAFH | S6: IAFH | T6: IAFH | U6: IAFH | V6: IAFH
A7: CA | B7: 11274538 | C7: Orestimba Creek near Crows Landing, CA | D7: Sacramento, CA | E7: Agriculture | F7: 5 | G7: Snag | H7: 240 | I7: 3.6 | J7: Lo | K7: =IF(J7="Lo",0.8,IF(J7="Med",1,(IF(J7="Hi",1.2,"error")))) -> 0.8 | L7: 27.9 | M7: IAFH | N7: IAFH | O7: IAFH | P7: IAFH | Q7: IAFH | R7: IAFH | S7: IAFH | T7: IAFH | U7: IAFH | V7: IAFH
A8: CA | B8: 11335000 | C8: Cosumnes River at Michigan Bar, CA | D8: Sacramento, CA | E8: Reference | F8: 7 | G8: Riffle | H8: 82 | I8: 1.8 | J8: Lo | K8: =IF(J8="Lo",0.8,IF(J8="Med",1,(IF(J8="Hi",1.2,"error")))) -> 0.8 | L8: 1390 | M8: IAFH | N8: IAFH | O8: IAFH | P8: IAFH | Q8: IAFH | R8: IAFH | S8: IAFH | T8: IAFH | U8: IAFH | V8: IAFH
A9: CA | B9: 11264500 | C9: Merced River at Happy Isles Bridge nr Yosemite, CA | D9: Sacramento, CA | E9: Reference | G9: Riffle | H9: 400 | I9: 9 | J9: Med | K9: =IF(J9="Lo",0.8,IF(J9="Med",1,(IF(J9="Hi",1.2,"error")))) -> 1 | L9: 468.8 | M9: IAFH | N9: IAFH | O9: IAFH | P9: IAFH | Q9: IAFH | R9: IAFH | S9: IAFH | T9: IAFH | U9: IAFH | V9: IAFH
A10: CO | B10: 6713500 | C10: Cherry Creek at Denver, CO | D10: Lakewood, CO | E10: Urban | F10: 25 | G10: Riffle | H10: 28 | I10: 0.8 | J10: Lo | K10: =IF(J10="Lo",0.8,IF(J10="Med",1,(IF(J10="Hi",1.2,"error")))) -> 0.8 | L10: 1060 | M10: IAFH | N10: IAFH | O10: IAFH | P10: IAFH | Q10: IAFH | R10: IAFH | S10: IAFH | T10: IAFH | U10: IAFH | V10: IAFH
A11: CT | B11: 1170100 | C11: Green River near Colrain, MA | D11: East Hartford, CT | E11: Reference | F11: 58 | G11: Riffle | H11: 174 | I11: 3.2 | J11: Lo | K11: =IF(J11="Lo",0.8,IF(J11="Med",1,(IF(J11="Hi",1.2,"error")))) -> 0.8 | L11: 107 | M11: IAFH | N11: IAFH | O11: IAFH | P11: IAFH | Q11: IAFH | R11: IAFH | S11: IAFH | T11: IAFH | U11: IAFH | V11: IAFH
A12: CT | B12: 1209710 | C12: Norwalk River at Winnipauk,CT | D12: East Hartford, CT | E12: Urban | F12: 59 | G12: Riffle | H12: 158 | I12: 3 | J12: Med | K12: =IF(J12="Lo",0.8,IF(J12="Med",1,(IF(J12="Hi",1.2,"error")))) -> 1 | L12: 85.1 | M12: IAFH | N12: IAFH | O12: IAFH | P12: IAFH | Q12: IAFH | R12: IAFH | S12: IAFH | T12: IAFH | U12: IAFH | V12: IAFH
A13: GA | B13: 2335870 | C13: Sope Creek near Marietta, GA | D13: Atlanta, GA | E13: Urban | F13: 45 | G13: Riffle | H13: 58 | I13: 1.2 | J13: Med | K13: =IF(J13="Lo",0.8,IF(J13="Med",1,(IF(J13="Hi",1.2,"error")))) -> 1 | L13: 79.5 | M13: IAFH | N13: IAFH | O13: IAFH | P13: IAFH | Q13: IAFH | R13: IAFH | S13: IAFH | T13: IAFH | U13: IAFH | V13: IAFH
A14: GA | B14: 2338523 | C14: Hillibahatchee Creek near Franklin, GA | D14: Atlanta, GA | E14: Reference | F14: 45 | G14: Riffle | H14: 180 | I14: 3.6 | J14: Med | K14: =IF(J14="Lo",0.8,IF(J14="Med",1,(IF(J14="Hi",1.2,"error")))) -> 1 | L14: 43.5 | M14: IAFH | N14: IAFH | O14: IAFH | P14: IAFH | Q14: IAFH | R14: IAFH | S14: IAFH | T14: IAFH | U14: IAFH | V14: IAFH
A15: IA | B15: 5451210 | C15: South Fork Iowa River near New Providence, IA | D15: Iowa City, IA | E15: Agriculture | F15: 47 | G15: Snag | H15: 320 | I15: 5.6 | J15: Hi | K15: =IF(J15="Lo",0.8,IF(J15="Med",1,(IF(J15="Hi",1.2,"error")))) -> 1.2 | L15: 581 | M15: IAFH | N15: IAFH | O15: IAFH | P15: IAFH | Q15: IAFH | R15: IAFH | S15: IAFH | T15: IAFH | U15: IAFH | V15: IAFH
A16: ID | B16: 13092747 | C16: Rock Creek at Twin Falls, ID | D16: Boise, ID | E16: Agriculture | F16: 12 | G16: Riffle | H16: 300 | I16: 4.4 | J16: Lo | K16: =IF(J16="Lo",0.8,IF(J16="Med",1,(IF(J16="Hi",1.2,"error")))) -> 0.8 | L16: 623 | M16: IAFH | N16: IAFH | O16: IAFH | P16: IAFH | Q16: IAFH | R16: IAFH | S16: IAFH | T16: IAFH | U16: IAFH | V16: IAFH
A17: IN | B17: 394340085524601 | C17: Sugar Creek at New Palestine, IN | D17: Indianapolis, IN | E17: Agriculture | F17: 55 | G17: Riffle | H17: 80 | I17: 1.8 | J17: Hi | K17: =IF(J17="Lo",0.8,IF(J17="Med",1,(IF(J17="Hi",1.2,"error")))) -> 1.2 | L17: 246 | M17: IAFH | N17: IAFH | O17: IAFH | P17: IAFH | Q17: IAFH | R17: IAFH | S17: IAFH | T17: IAFH | U17: IAFH | V17: IAFH
A18: LA | B18: 8014500 | C18: Ouiska (Whiskey) Chitto Creek near Oberlin, LA | D18: Baton Rouge, LA | E18: Reference | F18: 35 | G18: Snag | H18: 340 | I18: 5.6 | J18: Med | K18: =IF(J18="Lo",0.8,IF(J18="Med",1,(IF(J18="Hi",1.2,"error")))) -> 1 | L18: 1310 | M18: IAFH | N18: IAFH | O18: IAFH | P18: IAFH | Q18: IAFH | R18: IAFH | S18: IAFH | T18: IAFH | U18: IAFH | V18: IAFH
A19: MD | B19: 1610400 | C19: Waites Run near Wardensville, WV | D19: Baltimore, MD | E19: Reference | F19: 67 | G19: Riffle | H19: 320 | I19: 6.4 | J19: Med | K19: =IF(J19="Lo",0.8,IF(J19="Med",1,(IF(J19="Hi",1.2,"error")))) -> 1 | L19: 32.6 | M19: IAFH | N19: IAFH | O19: IAFH | P19: IAFH | Q19: IAFH | R19: IAFH | S19: IAFH | T19: IAFH | U19: IAFH | V19: IAFH
A20: MD | B20: 1654000 | C20: Accotink Creek near Annandale, VA | D20: Baltimore, MD | E20: Urban | F20: 45 | G20: Riffle | H20: 154 | I20: 2.8 | J20: Med | K20: =IF(J20="Lo",0.8,IF(J20="Med",1,(IF(J20="Hi",1.2,"error")))) -> 1 | L20: 60.7 | M20: IAFH | N20: IAFH | O20: IAFH | P20: IAFH | Q20: IAFH | R20: IAFH | S20: IAFH | T20: IAFH | U20: IAFH | V20: IAFH
A21: MN | B21: 05288705 | C21: Shingle Creek at Minneapolis, MN | D21: Mounds View, MN | E21: Urban | F21: 51 | G21: Snag | H21: 20 | I21: 0.6 | J21: Med | L21: 73 | M21: IAFH | N21: IAFH | O21: IAFH | P21: IAFH | Q21: IAFH | R21: IAFH | S21: IAFH | T21: IAFH | U21: IAFH | V21: IAFH
A22: MS | B22: 07288650 | C22: Bogue Phalia near Leland, MS | D22: Jackson, MS | E22: Agriculture | F22: 73 | G22: Snag | H22: 250 | I22: 4.5 | J22: Hi | K22: =IF(J22="Lo",0.8,IF(J22="Med",1,(IF(J22="Hi",1.2,"error")))) -> 1.2 | L22: 1254 | M22: IAFH | N22: IAFH | O22: IAFH | P22: IAFH | Q22: IAFH | R22: IAFH | S22: IAFH | T22: IAFH | U22: IAFH | V22: IAFH
A23: MT-WY | B23: 6324970 | C23: Little Powder River near Weston, WY | D23: Cheyenne, WY | E23: Reference | F23: 43 | G23: Riffle | H23: 600 | I23: 8.8 | J23: Med | K23: =IF(J23="Lo",0.8,IF(J23="Med",1,(IF(J23="Hi",1.2,"error")))) -> 1 | L23: 3200 | M23: IAFH | N23: IAFH | O23: IAFH | P23: IAFH | Q23: IAFH | R23: IAFH | S23: IAFH | T23: IAFH | U23: IAFH | V23: IAFH
A24: NC | B24: 2087580 | C24: Swift Creek near Apex, NC | D24: Raleigh, NC | E24: Urban | F24: 65 | G24: Riffle | H24: 40 | I24: 0.8 | J24: Med | K24: =IF(J24="Lo",0.8,IF(J24="Med",1,(IF(J24="Hi",1.2,"error")))) -> 1 | L24: 53.9 | M24: IAFH | N24: IAFH | O24: IAFH | P24: IAFH | Q24: IAFH | R24: IAFH | S24: IAFH | T24: IAFH | U24: IAFH | V24: IAFH
A25: NC | B25: 2091500 | C25: Contentnea Creek at Hookerton, NC | D25: Raleigh, NC | E25: Agriculture | F25: 65 | G25: Snag | H25: 200 | I25: 3.8 | J25: Hi | K25: =IF(J25="Lo",0.8,IF(J25="Med",1,(IF(J25="Hi",1.2,"error")))) -> 1.2 | L25: 1910 | M25: IAFH | N25: IAFH | O25: IAFH | P25: IAFH | Q25: IAFH | R25: IAFH | S25: IAFH | T25: IAFH | U25: IAFH | V25: IAFH
A26: NE | B26: 6775900 | C26: Dismal River near Thedford, NE | D26: Lincoln, NE | E26: Reference | F26: 44 | G26: Snag | H26: 660 | I26: 10.2 | J26: Med | K26: =IF(J26="Lo",0.8,IF(J26="Med",1,(IF(J26="Hi",1.2,"error")))) -> 1 | L26: 2500 | M26: IAFH | N26: IAFH | O26: IAFH | P26: IAFH | Q26: IAFH | R26: IAFH | S26: IAFH | T26: IAFH | U26: IAFH | V26: IAFH
A27: NE | B27: 6800000 | C27: Maple Creek near Nickerson, NE | D27: Lincoln, NE | E27: Agriculture | F27: 47 | G27: Snag | H27: 194 | I27: 3.4 | J27: Med | K27: =IF(J27="Lo",0.8,IF(J27="Med",1,(IF(J27="Hi",1.2,"error")))) -> 1 | L27: 955 | M27: IAFH | N27: IAFH | O27: IAFH | P27: IAFH | Q27: IAFH | R27: IAFH | S27: IAFH | T27: IAFH | U27: IAFH | V27: IAFH
A28: NM | B28: 8227000 | C28: Saguache Creek near Saguache, CO | D28: Albuquerque, NM | E28: Reference | F28: 21 | G28: Riffle | H28: 560 | I28: 10.6 | J28: Lo | K28: =IF(J28="Lo",0.8,IF(J28="Med",1,(IF(J28="Hi",1.2,"error")))) -> 0.8 | L28: 1330 | M28: IAFH | N28: IAFH | O28: IAFH | P28: IAFH | Q28: IAFH | R28: IAFH | S28: IAFH | T28: IAFH | U28: IAFH | V28: IAFH
A29: NY | B29: 1349150 | C29: Canajoharie Creek near Canajoharie, NY | D29: Troy, NY | E29: Agriculture | F29: 83 | G29: Riffle | H29: 140 | I29: 2.4 | J29: Med | K29: =IF(J29="Lo",0.8,IF(J29="Med",1,(IF(J29="Hi",1.2,"error")))) -> 1 | L29: 155 | M29: IAFH | N29: IAFH | O29: IAFH | P29: IAFH | Q29: IAFH | R29: IAFH | S29: IAFH | T29: IAFH | U29: IAFH | V29: IAFH
A30: OH | B30: 4161820 | C30: Clinton River at Sterling Heights, MI | D30: Columbus, OH | E30: Urban | F30: 56 | G30: Riffle | H30: 200 | I30: 3.4 | J30: Hi | K30: =IF(J30="Lo",0.8,IF(J30="Med",1,(IF(J30="Hi",1.2,"error")))) -> 1.2 | L30: 803 | M30: IAFH | N30: IAFH | O30: IAFH | P30: IAFH | Q30: IAFH | R30: IAFH | S30: IAFH | T30: IAFH | U30: IAFH | V30: IAFH
A31: OR | B31: 14201300 | C31: Zollner Creek near Mt. Angel, OR | D31: Portland, OR | E31: Agriculture | F31: 3 | G31: Snag | H31: 80 | I31: 2 | J31: Med | K31: =IF(J31="Lo",0.8,IF(J31="Med",1,(IF(J31="Hi",1.2,"error")))) -> 1 | L31: 38.85 | M31: IAFH | N31: IAFH | O31: IAFH | P31: IAFH | Q31: IAFH | R31: IAFH | S31: IAFH | T31: IAFH | U31: IAFH | V31: IAFH
A32: OR | B32: 14205400 | C32: East Fork Dairy Creek near Meachan Corner, OR | D32: Portland, OR | E32: Reference | F32: 3 | G32: Riffle | H32: 90 | I32: 2.2 | J32: Lo | K32: =IF(J32="Lo",0.8,IF(J32="Med",1,(IF(J32="Hi",1.2,"error")))) -> 0.8 | L32: 32.9 | M32: IAFH | N32: IAFH | O32: IAFH | P32: IAFH | Q32: IAFH | R32: IAFH | S32: IAFH | T32: IAFH | U32: IAFH | V32: IAFH
A33: OR | B33: 14206950 | C33: Fanno Creek at Durham, OR | D33: Portland, OR | E33: Urban | F33: 3 | G33: Riffle | H33: 50 | I33: 1.2 | J33: Lo | K33: =IF(J33="Lo",0.8,IF(J33="Med",1,(IF(J33="Hi",1.2,"error")))) -> 0.8 | L33: 80.7 | M33: IAFH | N33: IAFH | O33: IAFH | P33: IAFH | Q33: IAFH | R33: IAFH | S33: IAFH | T33: IAFH | U33: IAFH | V33: IAFH
A34: SC | B34: 2172300 | C34: McTier Creek near Monetta, SC | D34: Columbia, SC | E34: Reference | F34: 65 | G34: Snag | H34: 108 | I34: 1.8 | J34: Med | K34: =IF(J34="Lo",0.8,IF(J34="Med",1,(IF(J34="Hi",1.2,"error")))) -> 1 | L34: 40.4 | M34: IAFH | N34: IAFH | O34: IAFH | P34: IAFH | Q34: IAFH | R34: IAFH | S34: IAFH | T34: IAFH | U34: IAFH | V34: IAFH
A35: TX | B35: 8057200 | C35: White Rock Creek at Dallas, TX | D35: Austin, TX | E35: Urban | F35: 32(pr w /29) | G35: Riffle | H35: 440 | I35: 7 | J35: Hi | K35: =IF(J35="Lo",0.8,IF(J35="Med",1,(IF(J35="Hi",1.2,"error")))) -> 1.2 | L35: 173 | M35: IAFH | N35: IAFH | O35: IAFH | P35: IAFH | Q35: IAFH | R35: IAFH | S35: IAFH | T35: IAFH | U35: IAFH | V35: IAFH
A36: TX | B36: 8195000 | C36: Frio River at Concan, TX | D36: Austin, TX | E36: Reference | F36: 30 | G36: Riffle | H36: 380 | I36: 7.6 | J36: Med | K36: =IF(J36="Lo",0.8,IF(J36="Med",1,(IF(J36="Hi",1.2,"error")))) -> 1 | L36: 1030 | M36: IAFH | N36: IAFH | O36: IAFH | P36: IAFH | Q36: IAFH | R36: IAFH | S36: IAFH | T36: IAFH | U36: IAFH | V36: IAFH
A37: UT | B37: 10168000 | C37: Little Cottonwood Creek at Salt Lake City, UT | D37: West Valley City, UT | E37: Urban | F37: 19 | G37: Depos. | H37: 24 | I37: 0.8 | J37: Lo | K37: =IF(J37="Lo",0.8,IF(J37="Med",1,(IF(J37="Hi",1.2,"error")))) -> 0.8 | L37: 117 | M37: IAFH | N37: IAFH | O37: IAFH | P37: IAFH | Q37: IAFH | R37: IAFH | S37: IAFH | T37: IAFH | U37: IAFH | V37: IAFH
A38: UT | B38: 10172200 | C38: *Red Butte Creek at Fort Douglas, UT | D38: West Valley City, UT | E38: Reference | F38: 19 | G38: Riffle | H38: 34 | I38: 1.2 | J38: Med | K38: =IF(J38="Lo",0.8,IF(J38="Med",1,(IF(J38="Hi",1.2,"error")))) -> 1 | L38: 18.7 | M38: IAH | N38: IAH | O38: IAH | P38: IAH | Q38: IAH | R38: IAH | S38: IAH | T38: IAH | U38: IAH | V38: IAH
A39: WA | B39: 12056500 | C39: **North Fork Skokomish River near Hoodsport, WA | D39: Tacoma, WA | E39: Reference | F39: 1 | G39: Riffle | H39: 156 | I39: 2.8 | J39: Lo | K39: =IF(J39="Lo",0.8,IF(J39="Med",1,(IF(J39="Hi",1.2,"error")))) -> 0.8 | L39: 147 | M39: IAH | N39: IAH | O39: IAH | P39: IAH | Q39: IAH | R39: IAH | S39: IAH | T39: IAH | U39: IAH | V39: IAH
A40: WA | B40: 12505450 | C40: Granger Drain at Granger, WA | D40: Tacoma, WA | E40: Agriculture | F40: 10 | G40: Riffle | H40: 360 | I40: 6 | J40: Lo | K40: =IF(J40="Lo",0.8,IF(J40="Med",1,(IF(J40="Hi",1.2,"error")))) -> 0.8 | L40: 160 | M40: IAFH | N40: IAFH | O40: IAFH | P40: IAFH | Q40: IAFH | R40: IAFH | S40: IAFH | T40: IAFH | U40: IAFH | V40: IAFH
...

Sheet FY16 Eco site costs
F1: FY16 $ (Net) | O1: FY16 $ GROSS
A2: SC | B2: Station number | C2: Station name | D2: PROPOSED COST CENTER TO DO SAMPLING | E2: Cycle3 site type | F2: Eco Field Labor Cost (inc 22.4% lv assess) | G2: Eco Field Travel Cost (per diem) | H2: Eco Vehicle costs | I2: Eco Supply costs | J2: Eco Office Labor Costs (inc 22.4% lv assess) | K2: Eco QA / Mgt Labor Costs (inc 22.4% lv assess) | L2: Eco WSC net cost incl 10% contingency | M2: Dist Direct Cost | N2: Over-head Cost | O2: Eco WSC Total Cost
A3: AR | B3: 07055646 | C3: Buffalo River near Boxley, AR | D3: Little Rock, AR | E3: Reference | F3: 5922.3868 | G3: 795 | H3: 2112 | I3: 890 | J3: 2670.3021 | K3: 755.21567 | L3: 14457.47 | M3: 0 | N3: 6505.8615 | O3: 20963.332
A4: AR | B4: 7060710 | C4: North Sylamore Creek near Fifty Six, AR | D4: Little Rock, AR | E4: Reference | F4: 5034.6629 | G4: 795 | H4: 1584 | I4: 890 | J4: 2670.3021 | K4: 755.21567 | L4: 12900.174 | M4: 0 | N4: 5805.0782 | O4: 18705.252
A5: AZ | B5: 09471000 | C5: San Pedro River at Charleston, AZ | D5: Tucson, AZ | E5: Reference | F5: 5389.7524 | G5: 795 | H5: 2464 | I5: 890 | J5: 2670.3021 | K5: 755.21567 | L5: 14258.772 | M5: 1606.216 | N5: 3829.3635 | O5: 21979.247
A6: AZ | B6: 9505800 | C6: West Clear Creek near Camp Verde, AZ | D6: Tucson, AZ | E6: Reference | F6: 3624.4595 | G6: 0 | H6: 1188 | I6: 890 | J6: 2670.3021 | K6: 755.21567 | L6: 10038.85 | M6: 2281.4036 | N6: 5439.0714 | O6: 15474.43
A7: CA | B7: 11274538 | C7: Orestimba Creek near Crows Landing, CA | D7: Sacramento, CA | E7: Agriculture | F7: 4011.699 | G7: 0 | H7: 1496 | I7: 890 | J7: 2834.8871 | K7: 803.67603 | L7: 11037.963 | M7: 0 | N7: 5662.4752 | O7: 0
A8: CA | B8: 11335000 | C8: Cosumnes River at Michigan Bar, CA | D8: Sacramento, CA | E8: Reference | F8: 3226.7655 | G8: 0 | H8: 800.8 | I8: 890 | J8: 2834.8871 | K8: 803.67603 | L8: 9409.8164 | M8: 0 | N8: 4827.2358 | O8: 14237.052
A9: CA | B9: 11264500 | C9: Merced River at Happy Isles Bridge nr Yosemite, CA | D9: Sacramento, CA | E9: Reference | F9: 6641.3086 | G9: 795 | H9: 2200 | I9: 890 | J9: 2834.8871 | K9: 803.67603 | L9: 15579.434 | M9: 0 | N9: 7992.2496 | O9: 23571.683
A10: CO | B10: 6713500 | C10: Cherry Creek at Denver, CO | D10: Lakewood, CO | E10: Urban | F10: 2796.9772 | G10: 0 | H10: 563.2 | I10: 890 | J10: 2841.5896 | K10: 805.51629 | L10: 8685.0865 | M10: 0 | N10: 5108.5679 | O10: 13793.654
A11: CT | B11: 1170100 | C11: Green River near Colrain, MA | D11: East Hartford, CT | E11: Reference | F11: 3939.2689 | G11: 0 | H11: 1205.6 | I11: 890 | J11: 2909.3599 | K11: 825.45252 | L11: 10744.724 | M11: 0 | N11: 6017.0457 | O11: 16761.77
A12: CT | B12: 1209710 | C12: Norwalk River at Winnipauk,CT | D12: East Hartford, CT | E12: Urban | F12: 3849.7091 | G12: 0 | H12: 1135.2 | I12: 890 | J12: 2909.3599 | K12: 825.45252 | L12: 10568.769 | M12: 0 | N12: 5918.5104 | O12: 16487.279
A13: GA | B13: 2335870 | C13: Sope Creek near Marietta, GA | D13: Atlanta, GA | E13: Urban | F13: 2901.8526 | G13: 0 | H13: 695.2 | I13: 890 | J13: 2775.3088 | K13: 786.04014 | L13: 8851.3167 | M13: 0 | N13: 3648.4242 | O13: 12499.741
A14: GA | B14: 2338523 | C14: Hillibahatchee Creek near Franklin, GA | D14: Atlanta, GA | E14: Reference | F14: 3925.7723 | G14: 0 | H14: 1232 | I14: 890 | J14: 2775.3088 | K14: 786.04014 | L14: 10568.108 | M14: 0 | N14: 4356.0686 | O14: 14924.177
A15: IA | B15: 5451210 | C15: South Fork Iowa River near New Providence, IA | D15: Iowa City, IA | E15: Agriculture | F15: 4768.3457 | G15: 795 | H15: 1848 | I15: 890 | J15: 2670.3021 | K15: 755.21567 | L15: 12897.625 | M15: 0 | N15: 6448.8124 | O15: 19346.437
A16: ID | B16: 13092747 | C16: Rock Creek at Twin Falls, ID | D16: Boise, ID | E16: Agriculture | F16: 4996.6176 | G16: 954 | H16: 1760 | I16: 890 | J16: 2670.3021 | K16: 755.21567 | L16: 13226.824 | M16: 0 | N16: 6445.5635 | O16: 19672.387
A17: IN | B17: 394340085524601 | C17: Sugar Creek at New Palestine, IN | D17: Indianapolis, IN | E17: Agriculture | F17: 3048.5787 | G17: 0 | H17: 792 | I17: 890 | J17: 2680.7283 | K17: 758.28278 | L17: 8984.6238 | M17: 0 | N17: 4245.4144 | O17: 13230.038
... A20: MD | B20: 1654000 | C20: Accotink Creek near Annandale, VA | D20: Baltimore, MD | E20: Urban | F20: 3717.2618 | G20: 0 | H20: 1117.6 | I20: 890 | J20: 2876.5919 | K20: 815.79112 | L20: 10357.044 | M20: 0 | N20: 6214.2265 | O20: 16571.271
A21: MN | B21: 05288705 | C21: Shingle Creek at Minneapolis, MN | D21: Mounds View, MN | E21: Urban | F21: 2765.323 | G21: 0 | H21: 607.2 | I21: 890 | J21: 2809.5663 | K21: 796.1616 | L21: 8653.151 | M21: 0 | N21: 5191.8906 | O21: 13845
A22: MS | B22: 07288650 | C22: Bogue Phalia near Leland, MS | D22: Jackson, MS | E22: Agriculture | F22: 5041.0038 | G22: 954 | H22: 1540 | I22: 890 | J22: 2670.3021 | K22: 755.21567 | L22: 13033.649 | M22: 0 | N22: 5794.4995 | O22: 18828.148
A23: MT-WY | B23: 6324970 | C23: Little Powder River near Weston, WY | D23: Cheyenne, WY | E23: Reference | F23: 6188.704 | G23: 795 | H23: 3080 | I23: 890 | J23: 2670.3021 | K23: 755.21567 | L23: 15815.219 | M23: 0 | N23: 5338.269 | O23: 21153.488
A24: NC | B24: 2087580 | C24: Swift Creek near Apex, NC | D24: Raleigh, NC | E24: Urban | F24: 2637.8083 | G24: 0 | H24: 616 | I24: 890 | J24: 2670.3021 | K24: 755.21567 | L24: 8324.3336 | M24: 0 | N24: 3745.9501 | O24: 12070.284
A25: NC | B25: 2091500 | C25: Contentnea Creek at Hookerton, NC | D25: Raleigh, NC | E25: Agriculture | F25: 4730.3004 | G25: 954 | H25: 1320 | I25: 890 | J25: 2670.3021 | K25: 755.21567 | L25: 12449.875 | M25: 0 | N25: 5602.4437 | O25: 18052.319
A26: NE | B26: 6775900 | C26: Dismal River near Thedford, NE | D26: Lincoln, NE | E26: Reference | F26: 6810.1107 | G26: 795 | H26: 3344 | I26: 890 | J26: 2670.3021 | K26: 755.21567 | L26: 16789.166 | M26: 0 | N26: 9569.8248 | O26: 26358.991
A27: NE | B27: 6800000 | C27: Maple Creek near Nickerson, NE | D27: Lincoln, NE | E27: Agriculture | F27: 3706.6804 | G27: 0 | H27: 1293.6 | I27: 890 | J27: 2670.3021 | K27: 755.21567 | L27: 10245.453 | M27: 0 | N27: 5839.9082 | O27: 16085.361
A28: NM | B28: 8227000 | C28: Saguache Creek near Saguache, CO | D28: Albuquerque, NM | E28: Reference | F28: 6277.4764 | G28: 795 | H28: 2640 | I28: 890 | J28: 2670.3021 | K28: 755.21567 | L28: 15428.869 | M28: 0 | N28: 9431.2045 | O28: 24860.073
A29: NY | B29: 1349150 | C29: Canajoharie Creek near Canajoharie, NY | D29: Troy, NY | E29: Agriculture | F29: 3295.5758 | G29: 0 | H29: 1056 | I29: 890 | J29: 2670.3021 | K29: 755.21567 | L29: 9531.8779 | M29: 953 | N29: 4613.4289 | O29: 15098.495
A30: OH | B30: 4161820 | C30: Clinton River at Sterling Heights, MI | D30: Columbus, OH | E30: Urban | F30: 5943.8342 | G30: 795 | H30: 2376 | I30: 890 | J30: 2731.3698 | K30: 773.31162 | L30: 14858.542 | M30: 0 | N30: 8172.1982 | O30: 23030.74
A31: OR | B31: 14201300 | C31: Zollner Creek near Mt. Angel, OR | D31: Portland, OR | E31: Agriculture | F31: 3269.0835 | G31: 0 | H31: 792 | I31: 888.25 | J31: 2796.9059 | K31: 792.48107 | L31: 9392.5925 | M31: 0 | N31: 5237.5914 | O31: 14630.184
A32: OR | B32: 14205400 | C32: East Fork Dairy Creek near Meachan Corner, OR | D32: Portland, OR | E32: Reference | F32: 3355.1015 | G32: 0 | H32: 836 | I32: 888.25 | J32: 2796.9059 | K32: 792.48107 | L32: 9535.6123 | M32: 0 | N32: 5317.3435 | O32: 14852.956
A33: OR | B33: 14206950 | C33: Fanno Creek at Durham, OR | D33: Portland, OR | E33: Urban | F33: 2925.0116 | G33: 0 | H33: 660 | I33: 888.25 | J33: 2796.9059 | K33: 792.48107 | L33: 8868.9135 | M33: 0 | N33: 4945.5722 | O33: 13814.486
A34: SC | B34: 2172300 | C34: McTier Creek near Monetta, SC | D34: Columbia, SC | E34: Reference | F34: 3048.9129 | G34: 0 | H34: 915.2 | I34: 890 | J34: 2670.3021 | K34: 755.21567 | L34: 9105.6688 | M34: 0 | N34: 5099.1745 | O34: 14204.843
A35: TX | B35: 8057200 | C35: White Rock Creek at Dallas, TX | D35: Austin, TX | E35: Urban | F35: 5389.7524 | G35: 795 | H35: 2376 | I35: 888.25 | J35: 2670.3021 | K35: 755.21567 | L35: 14161.972 | M35: 0 | N35: 6739.8472 | O35: 21916.265
A36: TX | B36: 8195000 | C36: Frio River at Concan, TX | D36: Austin, TX | E36: Reference | F36: 6416.9758 | G36: 954 | H36: 2112 | I36: 888.25 | J36: 2670.3021 | K36: 755.21567 | L36: 15176.418 | M36: 0 | N36: 6289.3319 | O36: 20451.304
A37: UT | B37: 10168000 | C37: Little Cottonwood Creek at Salt Lake City, UT | D37: West Valley City, UT | E37: Urban | F37: 2637.8083 | G37: 0 | H37: 545.6 | I37: 890 | J37: 2670.3021 | K37: 755.21567 | L37: 8246.8936 | M37: 0 | N37: 4102.8296 | O37: 12349.723
A38: UT | B38: 10172200 | C38: Red Butte Creek at Fort Douglas, UT | D38: West Valley City, UT | E38: Reference | F38: 1369.6312 | G38: 0 | H38: 294.8 | I38: 517.275 | J38: 1393.2011 | K38: 503.47711 | L38: 4486.2229 | M38: 0 | N38: 2231.8959 | O38: 6718.1187
A39: WA | B39: 12056500 | C39: North Fork Skokomish River near Hoodsport, WA | D39: Tacoma, WA | E39: Reference | F39: 1766.0292 | G39: 0 | H39: 563.2 | I39: 517.275 | J39: 1475.186 | K39: 534.25046 | L39: 5341.5347 | M39: 0 | N39: 2231.8959 | O39: 7958.8867
A40: WA | B40: 12505450 | C40: Granger Drain at Granger, WA | D40: Tacoma, WA | E40: Agriculture | F40: 5217.8135 | G40: 795 | H40: 2024 | I40: 888.25 | J40: 2827.4398 | K40: 801.37569 | L40: 13809.267 | M40: 0 | N40: 5155.9628 | O40: 20575.808
A41: WI | B41: 4063700 | C41: Popple River near Fence, WI | D41: Madison, WI | E41: Reference | F41: 7748.5617 | G41: 954 | H41: 2992 | I41: 890 | J41: 2670.3021 | K41: 755.21567 | L41: 17609.162 | M41: 0 | N41: 5155.9628 | O41: 22765.125
N42: Total for FY16 = | O42: =SUM(O3:O41) -> 659169.57

Sheet SW sites
A1: SC | B1: 42108 | E1: Type | F1: NAWQA SWMSA Sample Analyses cost (by SC) (estimated prices) | G1: NASQAN Sample Analyses cost (by SC) (estimated prices) | H1: NMN Sample Analyses cost (by SC) (estimated prices) | I1: NAWQA SWMSA QW Gross Sampling costs | J1: NASQAN QW Gross Sampling costs | K1: NMN QW Gross Sampling costs | L1: NAWQA QW Gross Sampling costs (Extras) | M1: NASQAN QW Gross Sampling costs (Extras) | N1: NMN QW Gross Sampling costs (Extras) | O1: NAWQA SW STATUS Gross Continuous monitoring costs | P1: NASQAN Gross Continuous monitoring costs | Q1: NMN Gross Continuous monitoring costs | R1: NAWQA SW STATUS Ecology Sampling Gross Costs | S1: NAWQA SW STATUS Ecology Lab Analysis Costs (estimated prices)
B2: Station | C2: Site name | D2: Network | T2: comments
A4: AK | B4: 15565447 | C4: Yukon River at Pilot Station, AK | D4: NASQAN | E4: Coastal River | G4: 8336.64 | I4: ='FY16 chem site costs'!E2 -> 0 | J4: ='FY16 chem site costs'!F2 -> 73820 | K4: ='FY16 chem site costs'!G2 -> 0 | L4: 0 | M4: 1400 | N4: 0 | O4: 0 | P4: 0 | Q4: 0 | R4: 0 | S4: 0
A5: AL | B5: 2428401 | C5: Alabama R. below Claiborne L&D nr Monroeville, AL | D5: NASQAN | E5: Coastal River | F5: 29654.58 | G5: 23883.9 | I5: ='FY16 chem site costs'!E3 -> 0 | J5: ='FY16 chem site costs'!F3 -> 82775 | K5: ='FY16 chem site costs'!G3 -> 0 | L5: 0 | M5: 2100 | N5: 0 | O5: 0 | P5: 0 | Q5: 0 | R5: 0 | S5: 0
A6: AL | B6: 02469762 | C6: Tombigbee River near Coffeeville, AL | D6: NAWQA | E6: Large Inland River | I6: ='FY16 chem site costs'!E4 -> 89550 | J6: ='FY16 chem site costs'!F4 -> 0 | K6: ='FY16 chem site costs'!G4 -> 0 | L6: 0 | M6: 0 | N6: 0 | O6: 0 | P6: 0 | Q6: 0 | R6: 0 | S6: 0
A7: AR | B7: 07263620 | C7: Arkansas River at Terry L&D below Little Rock, AR | D7: NASQAN | E7: Large Inland River | F7: 8980.86 | G7: 23883.9 | I7: ='FY16 chem site costs'!E5 -> 0 | J7: ='FY16 chem site costs'!F5 -> 59040 | K7: ='FY16 chem site costs'!G5 -> 0 | L7: 0 | M7: 1400 | N7: 0 | O7: 0 | P7: 0 | Q7: 0 | R7: 0 | S7: ='FY16 chem site costs'!I5 -> 0
A8: AR | B8: 07055646 | C8: Buffalo River near Boxley, AR | D8: NAWQA | E8: reference | I8: ='FY16 chem site costs'!E6 -> 19380 | J8: ='FY16 chem site costs'!F6 -> 0 | K8: ='FY16 chem site costs'!G6 -> 0 | L8: 0 | M8: 0 | N8: 0 | O8: 0 | P8: 0 | Q8: 0 | R8: ='FY16 Eco site costs'!O3 -> 20963.332 | S8: 3000
A9: AR | B9: 07060710 | C9: North Sylamore Creek near Fifty Six, AR | D9: NAWQA | E9: reference | I9: ='FY16 chem site costs'!E7 -> 18730 | J9: ='FY16 chem site costs'!F7 -> 0 | K9: ='FY16 chem site costs'!G7 -> 0 | L9: 0 | M9: 0 | N9: 0 | O9: 0 | P9: 0 | Q9: 0 | R9: ='FY16 Eco site costs'!O4 -> 18705.252 | S9: 3000
A10: AZ | B10: 09471000 | C10: San Pedro River at Charleston, AZ | D10: NAWQA | E10: reference | F10: 32864.76 | G10: 20998.56 | I10: ='FY16 chem site costs'!E8 -> 24850 | J10: ='FY16 chem site costs'!F8 -> 0 | K10: ='FY16 chem site costs'!G8 -> 0 | L10: 0 | M10: 0 | N10: 0 | O10: 0 | P10: 0 | Q10: 0 | R10: ='FY16 Eco site costs'!O5 -> 21979.247 | S10: 3000
A11: AZ | B11: 09505800 | C11: West Clear Creek near Camp Verde, AZ | D11: NAWQA | E11: reference | I11: ='FY16 chem site costs'!E9 -> 23931 | J11: ='FY16 chem site costs'!F9 -> 0 | K11: ='FY16 chem site costs'!G9 -> 0 | L11: 0 | M11: 0 | N11: 0 | O11: 0 | P11: 0 | Q11: 0 | R11: ='FY16 Eco site costs'!O6 -> 15474.43 | S11: 3000
A12: AZ | B12: 09380000 | C12: Colorado River at Lees Ferry, AZ | D12: Co-op | E12: Large Inland River | I12: ='FY16 chem site costs'!E10 -> 75835 | J12: ='FY16 chem site costs'!F10 -> 0 | K12: ='FY16 chem site costs'!G10 -> 0 | L12: 0 | M12: 0 | N12: 0 | O12: 0 | P12: 0 | Q12: 0 | R12: 0 | S12: 0
A13: AZ | B13: 09522000 | C13: Colorado River at NIB | D13: NASQAN | E13: Coastal River | I13: ='FY16 chem site costs'!E11 -> 0 | J13: ='FY16 chem site costs'!F11 -> 53854 | K13: ='FY16 chem site costs'!G11 -> 0 | L13: 0 | M13: 1800 | N13: 0 | O13: 0 | P13: 0 | Q13: 0 | R13: 0 | S13: 0
A14: CA | B14: 11447650 | C14: Sacramento River a Freeport, CA | D14: NAWQA | E14: Coastal River | F14: 92815.41 | I14: ='FY16 chem site costs'!E12 -> 74750 | J14: ='FY16 chem site costs'!F12 -> 0 | K14: ='FY16 chem site costs'!G12 -> 0 | L14: 2000 | M14: 0 | N14: 0 | O14: 261300 | P14: 0 | Q14: 0 | R14: 0 | S14: 0
A15: CA | B15: 11274538 | C15: Orestimba Creek near Crows Landing, CA | D15: NAWQA | E15: Agriculture | I15: ='FY16 chem site costs'!E13 -> 0 | J15: ='FY16 chem site costs'!F13 -> 0 | K15: ='FY16 chem site costs'!G13 -> 0 | L15: 0 | M15: 0 | N15: 0 | O15: 0 | P15: 0 | Q15: 0 | R15: 0 | S15: 0
A16: CA | B16: 11303500 | C16: San Joaquin River near Vernalis, CA | D16: NAWQA | E16: Coastal River | I16: ='FY16 chem site costs'!E14 -> 92034 | J16: ='FY16 chem site costs'!F14 -> 0 | K16: ='FY16 chem site costs'!G14 -> 0 | L16: 2000 | M16: 0 | N16: 0 | O16: 0 | P16: 0 | Q16: 0 | R16: 0 | S16: 0
A17: CA | B17: 11335000 | C17: Cosumnes River at Michigan Bar, CA | D17: NAWQA | E17: reference | I17: ='FY16 chem site costs'!E15 -> 31498 | J17: ='FY16 chem site costs'!F15 -> 0 | K17: ='FY16 chem site costs'!G15 -> 0 | L17: 0 | M17: 0 | N17: 0 | O17: 0 | P17: 0 | Q17: 0 | R17: ='FY16 Eco site costs'!O8 -> 14237.052 | S17: 3000
A18: CA | B18: 11264500 | C18: Merced River at Happy Isles Bridge nr Yosemite, CA | D18: NAWQA | E18: reference | I18: ='FY16 chem site costs'!E16 -> 25263 | J18: ='FY16 chem site costs'!F16 -> 0 | K18: ='FY16 chem site costs'!G16 -> 0 | L18: 0 | M18: 0 | N18: 0 | O18: 0 | P18: 0 | Q18: 0 | R18: ='FY16 Eco site costs'!O9 -> 23571.683 | S18: 3000
A19: CA | B19: 11074000 | C19: Santa Ana River below Prado Dam, CA | D19: NAWQA | E19: Coastal River | I19: ='FY16 chem site costs'!E17 -> 82395 | J19: ='FY16 chem site costs'!F17 -> 0 | K19: ='FY16 chem site costs'!G17 -> 0 | L19: 0 | M19: 0 | N19: 0 | O19: 0 | P19: 0 | Q19: 0 | R19: 0 | S19: 0
A20: CO | B20: 06713500 | C20: Cherry Creek at Denver, CO | D20: NAWQA | E20: Urban | F20: 98419.46 | I20: ='FY16 chem site costs'!E18 -> 86767 | J20: ='FY16 chem site costs'!F18 -> 0 | K20: ='FY16 chem site costs'!G18 -> 0 | L20: 0 | M20: 0 | N20: 0 | O20: 0 | P20: 0 | Q20: 0 | R20: ='FY16 Eco site costs'!O10 -> 13793.654 | S20: 3000
A21: CO | B21: 06754000 | C21: South Platte River near Kersey, CO | D21: NAWQA | E21: Large Inland River | I21: ='FY16 chem site costs'!E19 -> 83670 | J21: ='FY16 chem site costs'!F19 -> 0 | K21: ='FY16 chem site costs'!G19 -> 0 | L21: 0 | M21: 0 | N21: 0 | O21: 0 | P21: 0 | Q21: 0 | R21: 0 | S21: 0
A22: CO | B22: 09163500 | C22: Colorado River near Colorado-Utah state line | D22: NAWQA | E22: Large Inland River | I22: ='FY16 chem site costs'!E20 -> 77025 | J22: ='FY16 chem site costs'!F20 -> 0 | K22: ='FY16 chem site costs'!G20 -> 0 | L22: 0 | M22: 0 | N22: 0 | O22: 0 | P22: 0 | Q22: 0 | R22: 0 | S22: 0
A23: CT | B23: 01170100 | C23: Green River near Colrain, MA | D23: NAWQA | E23: reference | F23: 73255.31 | I23: ='FY16 chem site costs'!E21 -> 29575 | J23: ='FY16 chem site costs'!F21 -> 0 | K23: ='FY16 chem site costs'!G21 -> 0 | L23: 0 | M23: 0 | N23: 0 | O23: 0 | P23: 0 | Q23: 0 | R23: ='FY16 Eco site costs'!O11 -> 16761.77 | S23: 3000
A24: CT | B24: 01184000 | C24: Connecticut River at Thompsonville, CT | D24: NAWQA | E24: Coastal River | I24: ='FY16 chem site costs'!E22 -> 63370 | J24: ='FY16 chem site costs'!F22 -> 0 | K24: ='FY16 chem site costs'!G22 -> 0 | L24: 0 | M24: 0 | N24: 0 | O24: 0 | P24: 0 | Q24: 0 | R24: 0 | S24: 0
A25: CT | B25: 01209710 | C25: Norwalk River at Winnipauk,CT | D25: NAWQA | E25: Urban | I25: ='FY16 chem site costs'!E23 -> 62860 | J25: ='FY16 chem site costs'!F23 -> 0 | K25: ='FY16 chem site costs'!G23 -> 0 | L25: 0 | M25: 0 | N25: 0 | O25: 0 | P25: 0 | Q25: 0 | R25: ='FY16 Eco site costs'!O12 -> 16487.279 | S25: 3000
A26: FL | B26: 02359170 | C26: Apalachicola River near Sumatra, FL | D26: NMN | E26: Coastal River | H26: 23883.9 | I26: ='FY16 chem site costs'!E24 -> 0 | J26: ='FY16 chem site costs'!F24 -> 0 | K26: ='FY16 chem site costs'!G24 -> 57070 | L26: 0 | M26: 0 | N26: 1900 | O26: 0 | P26: 0 | Q26: 0 | R26: 0 | S26: 0
A27: GA | B27: 02335870 | C27: Sope Creek near Marietta, GA | D27: NAWQA | E27: Urban | F27: 73255.31 | G27: 23883.9 | I27: ='FY16 chem site costs'!E25 -> 84530 | J27: ='FY16 chem site costs'!F25 -> 0 | K27: ='FY16 chem site costs'!G25 -> 0 | L27: 0 | M27: 0 | N27: 0 | O27: 0 | P27: 0 | Q27: 0 | R27: ='FY16 Eco site costs'!O13 -> 12499.741 | S27: 3000
A28: GA | B28: 02338523 | C28: Hillibahatchee Creek near Franklin, GA | D28: NAWQA | E28: reference | I28: ='FY16 chem site costs'!E26 -> 42025 | J28: ='FY16 chem site costs'!F26 -> 0 | K28: ='FY16 chem site costs'!G26 -> 0 | L28: 0 | M28: 0 | N28: 0 | O28: 0 | P28: 0 | Q28: 0 | R28: ='FY16 Eco site costs'!O14 -> 14924.177 | S28: 3000
A29: GA | B29: 02226160 | C29: Altamaha River at Everett City, GA | D29: NASQAN | E29: Coastal River | I29: ='FY16 chem site costs'!E27 -> 0 | J29: ='FY16 chem site costs'!F27 -> 72180 | K29: ='FY16 chem site costs'!G27 -> 0 | L29: 0 | M29: 2100 | N29: 0 | O29: 0 | P29: 0 | Q29: 0 | R29: 0 | S29: 0
A30: GA | B30: 02338000 | C30: Chattahoochee River near Whitesburg, GA | D30: NAWQA | E30: Large Inland River | I30: ='FY16 chem site costs'!E28 -> 75900 | J30: 0 | K30: 0 | L30: 0 | M30: 0 | N30: 0 | O30: 0 | P30: 0 | Q30: 0 | R30: 0 | S30: 0
A31: IA | B31: 05451210 | C31: South Fork Iowa River near New Providence, IA | D31: NAWQA | E31: Agriculture | F31: 39110.3 | G31: 95535.6 | I31: ='FY16 chem site costs'!E29 -> 76990 | J31: ='FY16 chem site costs'!F29 -> 0 | K31: ='FY16 chem site costs'!G29 -> 0 | L31: 0 | M31: 0 | N31: 0 | O31: 0 | P31: 0 | Q31: 0 | R31: ='FY16 Eco site costs'!O15 -> 19346.437 | S31: 3000
A32: IA | B32: 05465500 | C32: Iowa River at Wapello, IA | D32: NAWQA | E32: Large Inland River | I32: ='FY16 chem site costs'!E30 -> 0 | J32: ='FY16 chem site costs'!F30 -> 54020 | K32: ='FY16 chem site costs'!G30 -> 0 | L32: 0 | M32: 1000 | N32: 0 | O32: 0 | P32: 0 | Q32: 0 | R32: 0 | S32: 0
A33: IA | B33: 05490500 | C33: Des Moines at Keosauqua, IA | D33: NAWQA | E33: Large Inland River | I33: ='FY16 chem site costs'!E31 -> 0 | J33: ='FY16 chem site costs'!F31 -> 54020 | K33: ='FY16 chem site costs'!G31 -> 0 | L33: 0 | M33: 1000 | N33: 0 | O33: 0 | P33: 0 | Q33: 0 | R33: 0 | S33: 0
A34: IA | B34: 05420500 | C34: Mississippi River at Clinton, IA | D34: NASQAN | E34: Large Inland River | I34: ='FY16 chem site costs'!E32 -> 0 | J34: ='FY16 chem site costs'!F32 -> 53500 | K34: ='FY16 chem site costs'!G32 -> 0 | L34: 0 | M34: 1000 | N34: 0 | O34: 45040 | P34: 0 | Q34: 0 | R34: 0 | S34: 0
A35: IA | B35: 06610000 | C35: Missouri River at Omaha, NE | D35: NASQAN | E35: Large Inland River | I35: ='FY16 chem site costs'!E33 -> 0 | J35: ='FY16 chem site costs'!F33 -> 56050 | K35: ='FY16 chem site costs'!G33 -> 0 | L35: 0 | M35: 1200 | N35: 0 | O35: 0 | P35: 0 | Q35: 0 | R35: 0 | S35: 0
A36: ID | B36: 13092747 | C36: Rock Creek at Twin Falls, ID | D36: NAWQA | E36: Agriculture | F36: 99446.23 | I36: ='FY16 chem site costs'!E34 -> 79192 | J36: ='FY16 chem site costs'!F34 -> 0 | K36: ='FY16 chem site costs'!G34 -> 0 | L36: 0 | M36: 0 | N36: 0 | O36: 0 | P36: 0 | Q36: 0 | R36: ='FY16 Eco site costs'!O16 -> 19672.387 | S36: 3000
A37: ID | B37: 13154500 | C37: Snake River at King Hill, ID | D37: NAWQA | E37: Large Inland River | I37: ='FY16 chem site costs'!E35 -> 76097 | J37: ='FY16 chem site costs'!F35 -> 0 | K37: ='FY16 chem site costs'!G35 -> 0 | L37: 0 | M37: 0 | N37: 0 | O37: 0 | P37: 0 | Q37: 0 | R37: 0 | S37: 0
A38: ID | B38: 13056500 | C38: Henrys Fork near Rexburg, ID | D38: NAWQA | E38: Large Inland River | I38: ='FY16 chem site costs'!E36 -> 104839 | J38: 0 | K38: 0 | L38: 0 | M38: 0 | N38: 0 | O38: 0 | P38: 0 | Q38: 0 | R38: 0 | S38: 0
A39: IL | B39: 05586100 | C39: Illinois River at Valley City, IL | D39: NASQAN | E39: Large Inland River | F39: 23883.9 | I39: ='FY16 chem site costs'!E37 -> 99932 | J39: ='FY16 chem site costs'!F37 -> 0 | K39: ='FY16 chem site costs'!G37 -> 0 | L39: 1000 | M39: 0 | N39: 0 | O39: 20700 | P39: 0 | Q39: 0 | R39: 0 | S39: 0
A40: IN | B40: 03374100 | C40: White River at Hazleton, IN | D40: NAWQA | E40: Large Inland River | F40: 68764.88 | I40: ='FY16 chem site costs'!E38 -> 134146 | J40: ='FY16 chem site costs'!F38 -> 0 | K40: ='FY16 chem site costs'!G38 -> 0 | L40: 1000 | M40: 0 | N40: 0 | O40: 11500 | P40: 0 | Q40: 0 | R40: 0 | S40: 0
A41: IN | B41: 394340085524601 | C41: Sugar Creek at New Palestine, IN | D41: NAWQA | E41: Agriculture | I41: ='FY16 chem site costs'!E39 -> 85822 | J41: ='FY16 chem site costs'!F39 -> 0 | K41: ='FY16 chem site costs'!G39 -> 0 | L41: 0 | M41: 0 | N41: 0 | O41: 0 | P41: 0 | Q41: 0 | R41: ='FY16 Eco site costs'!O17 -> 13230.038 | S41: 3000
...

Sheet FY16 sampling by SC
A1: 42139
B2: NAWQA SW Chemistry | F2: NASQAN Chemistry | J2: NMN Chemistry | N2: NAWQA Ecology | P2: NAWQA SW Status Total | S2: NASQAN Total | V2: NMN Total
A3: SC | B3: Sampling & Data Review | C3: Sampling Extras (DOC Frac, DNA, etc) | D3: Lab Analysis (includes QC) | E3: QW Continuous Monitoring | F3: Sampling & Data Review | G3: Sampling Extras (DOC Frac, DNA, etc) | H3: Lab Analysis (includes QC) | I3: QW Continuous Monitoring | J3: Sampling & Data Review | K3: Sampling Extras (DOC Frac, DNA, etc) | L3: Lab Analysis (includes QC) | M3: QW Continuous Monitoring | N3: Sampling & Data Review | O3: Lab Analysis (includes QC) | P3: Lab Analysis | Q3: SC Costs | R3: TOTAL | S3: Lab Analysis | T3: WSC Costs | U3: TOTAL | V3: Lab Analysis | W3: WSC Costs | X3: TOTAL
A4: AK | B4: =SUM('SW sites'!I4) -> 0 | C4: 0 | D4: =SUM('SW sites'!F4) -> 0 | E4: =SUM('SW sites'!O4) -> 0 | F4: =SUM('SW sites'!J4) -> 73820 | G4: =SUM('SW sites'!M4) -> 1400 | H4: =SUM('SW sites'!G4) -> 8336.64 | I4: =SUM('SW sites'!P4) -> 0 | J4: =SUM('SW sites'!K4) -> 0 | K4: 0 | L4: =SUM('SW sites'!H4) -> 0 | M4: =SUM('SW sites'!Q4) -> 0 | N4: =SUM('SW sites'!R4) -> 0 | O4: 0 | P4: =D4+O4 -> 0 | Q4: =B4+C4+N4+E4 -> 0 | R4: =P4+Q4 -> 0 | S4: =H4 -> 8336.64 | T4: =F4+G4+I4 -> 75220 | U4: =S4+T4 -> 83556.64 | V4: =L4 -> 0 | W4: =J4+M4 -> 0 | X4: =V4+W4 -> 0
A5: AL | B5: =SUM('SW sites'!I6:'SW sites'!I5) -> 89550 | C5: 0 | D5: =SUM('SW sites'!F6:'SW sites'!F5) -> 29654.58 | E5: =SUM('SW sites'!O6:'SW sites'!O5) -> 0 | F5: =SUM('SW sites'!J6:'SW sites'!J5) -> 82775 | G5: =SUM('SW sites'!M6:'SW sites'!M5) -> 2100 | H5: =SUM('SW sites'!G6:'SW sites'!G5) -> 23883.9 | I5: =SUM('SW sites'!P5:'SW sites'!P6) -> 0 | J5: =SUM('SW sites'!K5:'SW sites'!K6) -> 0 | K5: 0 | L5: =SUM('SW sites'!H5:'SW sites'!H6) -> 0 | M5: =SUM('SW sites'!Q5:'SW sites'!Q6) -> 0 | N5: =SUM('SW sites'!R5:'SW sites'!R6) -> 0 | O5: 0 | P5: =D5+O5 -> 29654.58 | Q5: =B5+C5+N5+E5 -> 89550 | R5: =P5+Q5 -> 119204.58 | S5: =H5 -> 23883.9 | T5: =F5+G5+I5 -> 84875 | U5: =S5+T5 -> 108758.9 | V5: =L5 -> 0 | W5: =J5+M5 -> 0 | X5: =V5+W5 -> 0
A6: AR | B6: =SUM('SW sites'!I7:'SW sites'!I9) -> 38110 | C6: 0 | D6: =SUM('SW sites'!F7:'SW sites'!F9) -> 8980.86 | E6: =SUM('SW sites'!O7:'SW sites'!O9) -> 0 | F6: =SUM('SW sites'!J7:'SW sites'!J9) -> 59040 | G6: =SUM('SW sites'!M7:'SW sites'!M9) -> 1400 | H6: =SUM('SW sites'!G7:'SW sites'!G9) -> 23883.9 | I6: =SUM('SW sites'!P7:'SW sites'!P9) -> 0 | J6: =SUM('SW sites'!K7:'SW sites'!K9) -> 0 | K6: 0 | L6: =SUM('SW sites'!H7:'SW sites'!H9) -> 0 | M6: =SUM('SW sites'!Q7:'SW sites'!Q9) -> 0 | N6: =SUM('SW sites'!R7:'SW sites'!R9) -> 39668.583 | O6: 6000 | P6: =D6+O6 -> 14980.86 | Q6: =B6+C6+N6+E6 -> 77778.583 | R6: =P6+Q6 -> 92759.443 | S6: =H6 -> 23883.9 | T6: =F6+G6+I6 -> 60440 | U6: =S6+T6 -> 84323.9 | V6: =L6 -> 0 | W6: =J6+M6 -> 0 | X6: =V6+W6 -> 0
A7: AZ | B7: =SUM('SW sites'!I10:'SW sites'!I13) -> 124616 | C7: 0 | D7: =SUM('SW sites'!F10:'SW sites'!F13) -> 32864.76 | E7: =SUM('SW sites'!O10:'SW sites'!O13) -> 0 | F7: =SUM('SW sites'!J10:'SW sites'!J13) -> 53854 | G7: =SUM('SW sites'!M10:'SW sites'!M13) -> 1800 | H7: =SUM('SW sites'!G10:'SW sites'!G13) -> 20998.56 | I7: =SUM('SW sites'!P10:'SW sites'!P13) -> 0 | J7: =SUM('SW sites'!K10:'SW sites'!K13) -> 0 | K7: 0 | L7: =SUM('SW sites'!H10:'SW sites'!H13) -> 0 | M7: =SUM('SW sites'!Q10:'SW sites'!Q13) -> 0 | N7: =SUM('SW sites'!R10:'SW sites'!R13) -> 37453.677 | O7: 6000 | P7: =D7+O7 -> 38864.76 | Q7: =B7+C7+N7+E7 -> 162069.68 | R7: =P7+Q7 -> 200934.44 | S7: =H7 -> 20998.56 | T7: =F7+G7+I7 -> 55654 | U7: =S7+T7 -> 76652.56 | V7: =L7 -> 0 | W7: =J7+M7 -> 0 | X7: =V7+W7 -> 0
A8: CA | B8: =SUM('SW sites'!I14:'SW sites'!I19) -> 305940 | C8: =SUM('SW sites'!L14:'SW sites'!L19) -> 4000 | D8: =SUM('SW sites'!F14:'SW sites'!F19) -> 92815.41 | E8: =SUM('SW sites'!O14:'SW sites'!O19) -> 261300 | F8: =SUM('SW sites'!J14:'SW sites'!J19) -> 0 | G8: 0 | H8: =SUM('SW sites'!G14:'SW sites'!G19) -> 0 | I8: =SUM('SW sites'!P14:'SW sites'!P19) -> 0 | J8: =SUM('SW sites'!K14:'SW sites'!K19) -> 0 | K8: 0 | L8: =SUM('SW sites'!H14:'SW sites'!H19) -> 0 | M8: =SUM('SW sites'!Q14:'SW sites'!Q19) -> 0 | N8: =SUM('SW sites'!R14:'SW sites'!R19) -> 37808.736 | O8: 6000 | P8: =D8+O8 -> 98815.41 | Q8: =B8+C8+N8+E8 -> 609048.74 | R8: =P8+Q8 -> 707864.15 | S8: =H8 -> 0 | T8: =F8+G8+I8 -> 0 | U8: =S8+T8 -> 0 | V8: =L8 -> 0 | W8: =J8+M8 -> 0 | X8: =V8+W8 -> 0
A9: CO | B9: =SUM('SW sites'!I20:'SW sites'!I22) -> 247462 | C9: 0 | D9: =SUM('SW sites'!F20:'SW sites'!F22) -> 98419.46 | E9: =SUM('SW sites'!O20:'SW sites'!O22) -> 0 | F9: =SUM('SW sites'!J20:'SW sites'!J22) -> 0 | G9: 0 | H9: =SUM('SW sites'!G20:'SW sites'!G22) -> 0 | I9: =SUM('SW sites'!P20:'SW sites'!P22) -> 0 | J9: =SUM('SW sites'!K20:'SW sites'!K22) -> 0 | K9: 0 | L9: =SUM('SW sites'!H20:'SW sites'!H22) -> 0 | M9: =SUM('SW sites'!Q20:'SW sites'!Q22) -> 0 | N9: =SUM('SW sites'!R20:'SW sites'!R22) -> 13793.654 | O9: 3000 | P9: =D9+O9 -> 101419.46 | Q9: =B9+C9+N9+E9 -> 261255.65 | R9: =P9+Q9 -> 362675.11 | S9: =H9 -> 0 | T9: =F9+G9+I9 -> 0 | U9: =S9+T9 -> 0 | V9: =L9 -> 0 | W9: =J9+M9 -> 0 | X9: =V9+W9 -> 0
A10: CT | B10: =SUM('SW sites'!I23:'SW sites'!I25) -> 155805 | C10: 0 | D10: =SUM('SW sites'!F23:'SW sites'!F25) -> 73255.31 | E10: =SUM('SW sites'!O23:'SW sites'!O25) -> 0 | F10: =SUM('SW sites'!J23:'SW sites'!J25) -> 0 | G10: 0 | H10: =SUM('SW sites'!G23:'SW sites'!G25) -> 0 | I10: =SUM('SW sites'!P23:'SW sites'!P25) -> 0 | J10: =SUM('SW sites'!K23:'SW sites'!K25) -> 0 | K10: 0 | L10: =SUM('SW sites'!H23:'SW sites'!H25) -> 0 | M10: =SUM('SW sites'!Q23:'SW sites'!Q25) -> 0 | N10: =SUM('SW sites'!R23:'SW sites'!R25) -> 33249.049 | O10: 6000 | P10: =D10+O10 -> 79255.31 | Q10: =B10+C10+N10+E10 -> 189054.05 | R10: =P10+Q10 -> 268309.36 | S10: =H10 -> 0 | T10: =F10+G10+I10 -> 0 | U10: =S10+T10 -> 0 | V10: =L10 -> 0 | W10: =J10+M10 -> 0 | X10: =V10+W10 -> 0
A11: FL | B11: =SUM('SW sites'!I26) -> 0 | C11: 0 | D11: =SUM('SW sites'!F26) -> 0 | E11: =SUM('SW sites'!O26) -> 0 | F11: =SUM('SW sites'!J26) -> 0 | G11: 0 | H11: =SUM('SW sites'!G26) -> 0 | I11: =SUM('SW sites'!P26) -> 0 | J11: =SUM('SW sites'!K26) -> 57070 | K11: =SUM('SW sites'!N26) -> 1900 | L11: =SUM('SW sites'!H26) -> 23883.9 | M11: =SUM('SW sites'!Q26) -> 0 | N11: =SUM('SW sites'!R26) -> 0 | O11: 0 | P11: =D11+O11 -> 0 | Q11: =B11+C11+N11+E11 -> 0 | R11: =P11+Q11 -> 0 | S11: =H11 -> 0 | T11: =F11+G11+I11 -> 0 | U11: =S11+T11 -> 0 | V11: =L11 -> 23883.9 | W11: =J11+K11+M11 -> 58970 | X11: =V11+W11 -> 82853.9
A12: GA | B12: =SUM('SW sites'!I27:'SW sites'!I30) -> 202455 | C12: 0 | D12: =SUM('SW sites'!F27:'SW sites'!F30) -> 73255.31 | E12: =SUM('SW sites'!O27:'SW sites'!O29) -> 0 | F12: =SUM('SW sites'!J27:'SW sites'!J30) -> 72180 | G12: =SUM('SW sites'!M27:'SW sites'!M30) -> 2100 | H12: =SUM('SW sites'!G27:'SW sites'!G30) -> 23883.9 | I12: =SUM('SW sites'!P27:'SW sites'!P29) -> 0 | J12: =SUM('SW sites'!K27:'SW sites'!K29) -> 0 | K12: 0 | L12: =SUM('SW sites'!H27:'SW sites'!H29) -> 0 | M12: =SUM('SW sites'!Q27:'SW sites'!Q29) -> 0 | N12: =SUM('SW sites'!R27:'SW sites'!R30) -> 27423.918 | O12: 6000 | P12: =D12+O12 -> 79255.31 | Q12: =B12+C12+N12+E12 -> 229878.92 | R12: =P12+Q12 -> 309134.23 | S12: =H12 -> 23883.9 | T12: =F12+G12+I12 -> 74280 | U12: =S12+T12 -> 98163.9 | V12: =L12 -> 0 | W12: =J12+M12 -> 0 | X12: =V12+W12 -> 0
