Workbook
Name source: #REF!
Name source: #REF!
Name source: #REF!
Name source: #REF!
Name source: #REF!
Name source: #REF!
Name source: #REF!
Name source: #REF!
Name source: #REF!
Name source: #REF!
Name source: #REF!
Name source: #REF!
Name source: #REF!
Name source: #REF!

Sheet START HERE
B1: Enter the requested information in the "Start Here" worksheet cells B2, B3, B4. This information is automatically entered into the other worksheets. | C1: Enter cells (B2-B4) with the correct information
B2: Enter in cell "B2", your Science Center (SC) overhead rate as a 4 digit decimal e.g., .2345 (23.45%)
B3: Enter in cell "B3", the SC State (ST) code | C3: XX
A4: Enter in cell "B4", the SC 10-digit FBMS Cost Center Code | C4: GGXXXX0000 | D4: Note: FBMS Cost Center Codes are listed in the "requested allocations to SC" worksheet
A5: Enter ALL WSC personnel information, "Names, Grades, Steps, Net Salary per hour," in the "Staffing Summary" worksheet. This information is automatically entered into the other "Staffing" worksheets. | C5: In the Staffing Summary worksheet, enter info in columns A, D, E, & F Rows 8-42, and column B where necessary.
A6: Submit completed FY16 Budget and Work Plan files by August 15, 2015 to NAWQA Work Plan Guidance Share Point site at the following url: | C6: NAWQA WPG Share Point
A7: FY16 SC Budget Document Guidance
B9: This budget document guidance provides information and guidance for completing the attached FY16 budget workbook worksheets. The worksheets include:
A10: 1 | B10: Start Here
A11: 2 | B11: SC Requested Allocations by Account Number(s) --Note: Please complete this worksheet last
A12: 3 | B12: SC Staffing Summary
A13: 4 | B13: SC Budget Summary
A14: 5 | B14: GW S&T Staffing (GW Status and Trends)
A15: 6 | B15: GW S&T Budget
A16: 7 | B16: GW M&M Staffing
A17: 8 | B17: GW M&M Budget
A18: 9 | B18: NMSA Staffing (National Monitoring and Status Assessment)
A19: 10 | B19: NMSA Budget
A20: 11 | B20: NASQAN Staffing (National Stream Quality Accounting Network)
A21: 12 | B21: NASQAN Budget
... A42: 33 | B42: Other Component Budget
B51: NOTE: For all worksheets, the cells are black, gray, blue, or white:
B52: 1. Black cells – are "protected" and contain no information.
B53: 2. Grey cells – are “protected” cells to prevent deletion of algorithms or breakage of links from other worksheets, no input required.
B54: 3. White cells – enter information as appropriate.
B55: 4. Blue cells – are "protected" cells containing links or information on link sources, no input required.
B57: Prior to work plan and budget submittals, it is expected that the Coordinators (NMSA, NASQAN, NMN, & GW S&T) working with the Regional NAWQA Program Officers (RNPOs), the Principal Aquifer Leaders, MRB Lead Scientists, and SC contacts discuss the FY16 proposed work and reach agreement on the associated cost for that work. The goal is for the coordinators to work along with the SCs to ensure that expected work and costs for each component study are within their respective targets. By the time the SC budgets are submitted August 15, 2015, all work and budget issues should be resolved.
B58: Worksheet Instructions
B59: A. Start Here Worksheet
B60: Please enter the information as requested in rows 2-5, above. These entries are automatically linked to the appropriate worksheets. This should save time and ensure that the cells are populated with consistent information throughout the entire workbook.
B62: B. Requested Allocations to SC Worksheet
B63: The Requested Allocations to SC worksheet should be completed by the SC to provide Headquarters with the requested allocations by account number(s). After the total requested gross funds (cell I61) is calculated in the SC Budget Summary worksheet, the SC Allocations worksheet can be completed. Enter the requested allocation in column G. The FY13 account numbers established by each SC are listed; you may add or delete rows listing new account numbers as necessary. Just make sure the formula adding all the allocations for your SC is correct. Each SC total allocations will be compared to the total gross funds in the SC Budget Summary. The total of all the requested allocations, should equal the total gross funds calculated in the Budget Summary worksheet.
B65: C. SC Staffing Summary Worksheet
... B98: SCs are to include the cost of shipping, materials, supplies, and equipment associated with collecting and submitting samples in their SC budget.

Sheet Requested SC Allocations
A1: WSC | B1: FBMS Cost Center | C1: DH00G1D = GW Quality Assess. DH00G1E = SW Quality Assess. DH00G1F = Hydrologic Systems Project Number | D1: Task No. | E1: TASK TITLE | F1: FY16 Account Description | G1: (All new account numbers need to be created and attached to the task number stated in column D) FBMS Account No. | H1: (Basis+ Account TITLEs need to be created based on description included in column F) Basis+ Account Titles | I1: Requested Allocation by Acct No.
A2: AK | B2: GGWAWB0000 | C2: DH00G1E | D2: 101 | E2: NWQP AK NMSA | F2: AK WSC NFSM Network ($ SW QW data collection+ $ DOC-frac/extra samples + $ ref site temp monitoring) | I2: 0
A3: AL | B3: GGESML0000 | C3: DH00G1D | D3: 3 | E3: NWQP AL GWST (LOWER MISSISSIPPI GULF) | F3: AL QW Data Collection and water levels | I3: 0
A4: AL | B4: GGESML0000 | C4: DH00G1E | D4: 102 | E4: NWQP AL NMSA (LOWER MISSISSIPPI GULF) | F4: AL WSC NFSM Network ($ SW QW data collection + $ ref site temp monitoring) | I4: 0
A5: AL | B5: GGESML0000 | C5: DH00G1E | D5: 302 | E5: NWQP AL RSQA (LOWER MISSISSIPPI GULF) | F5: AL Regional Studies | I5: 0
A6: AR | B6: GGESML0000 | C6: DH00G1D | D6: 4 | E6: NWQP AR GWST (LOWER MISSISSIPPI GULF) | F6: AR QW Data Collection and water levels | I6: 0
A7: AR | B7: GGESML0000 | C7: DH00G1D | D7: 251 | E7: NWQP AR GW M&M (LOWER MISSISSIPPI GULF) | F7: M&M Miss. Embaymnet modeling | I7: 0
A8: AR | B8: GGESML0000 | C8: DH00G1E | D8: 103 | E8: NWQP AR NMSA (LOWER MISSISSIPPI GULF) | F8: AR WSC NFSM Network ($ SW QW data collection + $ eco data collection + $ DOC-frac/extra samples + $ ref site temp monitoring) | I8: 0
A9: AZ | B9: GGCMZF0000 | C9: DH00G1D | D9: 5 | E9: NWQP AZ GWST | F9: QW Data Collection and water levels | I9: 0
A10: AZ | B10: GGCMZF0000 | C10: DH00G1D | D10: 252 | E10: NWQP AZ GW M&M | I10: 0
A11: AZ | B11: GGCMZF0000 | C11: DH00G1E | D11: 104 | E11: NWQP AZ NMSA | F11: AZ WSC NFSM Network ($ SW QW data collection + $ eco data collection + $ ref site temp monitoring) | I11: 0
A12: AZ | B12: GGCMZF0000 | C12: DH00G1E | D12: 401 | E12: NWQP AZ SW Modeling | I12: 0
A13: CA | B13: GGWSZG0000 | C13: DH00G1D | D13: 6 | E13: NWQP CA GWST | F13: CA QW Data Collection and water levels | I13: 0
A14: CA | B14: GGWSZG0000 | C14: DH00G1D | D14: 6 | E14: NWQP CA GWST | F14: CA ETN Network data collection and management | I14: 0
A15: CA | B15: GGWSZG0000 | C15: DH00G1D | D15: 6 | E15: NWQP CA GWST | F15: CA GWST Team Salaries (Toccalino, Johnson, Jurgens, Burow, Kulongoski) | I15: 0
A16: CA | B16: GGWSZG0000 | C16: DH00G1D | D16: 253 | E16: NWQP CA GW M&M | F16: M&M Central Valley modeling | I16: 0
A17: CA | B17: GGWSZG0000 | C17: DH00G1D | D17: 253 | E17: NWQP CA GW M&M | F17: M&M Team Salaries (Gronberg, Jurgens) | I17: 0
A18: CA | B18: GGWSZG0000 | C18: DH00G1E | D18: 105 | E18: NWQP CA NMSA | F18: CA WSC NFSM Network ($ SW QW data collection) | I18: 0
A19: CA | B19: GGWSZG0000 | C19: DH00G1E | D19: 105 | E19: NWQP CA NMSA | F19: CA NFSM Continuous monitoring Pellerin | I19: 0
A20: CA | B20: GGWSZG0000 | C20: DH00G1E | D20: 105 | E20: NWQP CA NMSA | F20: CA Toccalino salary (0.5 FTE)/Norman salary (1.0 FTE); Note: other 50% FTE of Toccalino is in GW budget | I20: 0
A21: CA | B21: GGWSZG0000 | C21: DH00G1E | D21: 305 | E21: NWQP CA RSQA | F21: CA Nakagaki Reg Studies GIS Support | I21: 0
A22: CA | B22: GGWSZG0000 | C22: DH00G1E | D22: 305 | E22: NWQP CA RSQA | F22: CA Nowell Reg Studies QW Specialist | I22: 0
A23: CA | B23: GGWSZG0000 | C23: DH00G1E | D23: 305 | E23: NWQP CA RSQA | F23: CA Regional Flow Studies | I23: 0
A24: CA | B24: GGWSZG0000 | C24: DH00G1E | D24: 305 | E24: NWQP CA RSQA | F24: CA Regional Studies | I24: 0
A25: CA | B25: GGWSZG0000 | C25: DH00G1F | D25: 51 | E25: NWQP CA IWS | F25: CA Pellerin IWS SW Chemist | I25: 0
A26: CO | B26: GGCMRE0000 | C26: DH00G1D | D26: 7 | E26: NWQP CO GWST | F26: CO QW Data Collection and water levels | G26: GX16.RE00.CRKSP.00 | H26: F-QW Data Collect/Wtr Levels | I26: 0
A27: CO | B27: GGCMRE0000 | C27: DH00G1D | D27: 7 | E27: NWQP CO GWST | F27: CO GWST Team Salaries (McMahon) | G27: GX16.RE00.CRK10.00 | H27: F-GWST Team - McMahon | I27: 0
A28: CO | B28: GGCMRE0000 | C28: DH00G1E | D28: 106 | E28: NWQP CO NMSA | F28: CO Upper CO NFSM Network ($ SW QW data collection) | G28: GX16.RE00.CRMUC.00 | H28: F-Upper CO NFSM Network_ data | I28: 0
A29: CO | B29: GGCMRE0000 | C29: DH00G1E | D29: 106 | E29: NWQP CO NMSA | F29: CO WSC NFSM Network ($ ref site temp monitoring) | G29: GX16.RE00.CRMRB.00 | H29: F-NFSM Network/Temp Monitor | I29: 0
A30: CO | B30: GGCMRE0000 | C30: DH00G1E | D30: 106 | E30: NWQP CO NMSA | F30: S. Platte NFSM Network ($ SW QW data collection + $ eco data collection) | G30: GX16.RE00.CRMSW.00 | H30: F - S.Platte NFSM Network_Data | I30: 0
A31: CO | B31: GGCMRE0000 | C31: DH00G1E | D31: 306 | E31: NWQP CO RSQA | F31: CO Qi RSQA Data Mgmnt | G31: GX16.RE00.CRMSQ.00 | H31: F - QI RSQA Data Management | I31: 0
A32: CO | B32: GGCMRE0000 | C32: DH00G1E | D32: 306 | E32: NWQP CO RSQA | F32: CO Schmidt Reg Studies Eco Modeling | G32: GX16.RE00.CRMTS.00 | H32: F - Schmidt R. Studies Eco Mod | I32: 0
A33: CO | B33: GGCMRE0000 | C33: DH00G1E | D33: 451 | E33: NWQP CO SW Trends | F33: CO Zuellig SW Trends Eco Analyst | G33: GX16.RE00.CRMBZ.00 | H33: F - Zuellig SW Trends Eco Anyl | I33: 0
A34: CO | B34: GGCMRE0000 | C34: DH00G1E | D34: 451 | E34: NWQP CO SW Trends | F34: CO SW Trends Ivahnenko | G34: GX16.RE00.CRMCO.00 | H34: F - SW Trends Ivahnenko | I34: 0
A35: CO | B35: GGHWCG0000 | C35: DH00G1E | D35: 456 | E35: NWQP BRR, CR SW Trends | F35: CO NRP CR Stets SW Trends QW Analyst | I35: 0
A36: CT | B36: GGENLG1000 | C36: DH00G1D | D36: 8 | E36: NWQP CT GWST (NEW ENGLAND) | F36: CT QW Data Collection and water levels | G36: GX16LG10G1D0000 | H36: NWQP CT GWST | I36: 0
A37: CT | B37: GGENLG1000 | C37: DH00G1D | D37: 254 | E37: NWQP CT GW M&M | F37: M&M Team Salaries (Starn) | G37: GX16LG10G1D0100 | H37: NWQP M&M Starn | I37: 0
A38: CT | B38: GGENLG1000 | C38: DH00G1E | D38: 107 | E38: NWQP CT NMSA (NEW ENGLAND) | F38: CT WSC NFSM Network ($ SW QW data collection + $ eco data collection) | G38: GX16LG10G1E0000 | H38: NWQP CT NMSA | I38: 0
A39: CT | B39: GGENLG1000 | C39: DH00G1E | D39: 307 | E39: NWQP CT RSQA (NEW ENGLAND) | F39: CT Regional Studies | G39: GX16LG10G1E0100 | H39: NWQP CT RSQA | I39: 0
A40: FL | B40: GGESMC0000 | C40: DH00G1D | D40: 9 | E40: NWQP FL GWST | F40: FL QW Data Collection and water levels | I40: 0
...

Sheet SC Staffing Summary
A1: FY 2016
G2: Total Staffing Cost and Total Hours for GWST Sampling, Data Collection, Data Analyses, and Reports | I2: Total Staffing Cost and Total Hours for GW M&M | K2: Total Staffing Cost and Total Hours for SW National Fixed Site Network | M2: Total Staffing Cost and Total Hours for NMSA Sampling, Data Collection, Data Analyses, and Reports | O2: Total Staffing Cost and Total Hours for SW NASQAN Sampling and Data Collection | Q2: Total Staffing Cost and Total Hours for SW NMN Sampling and Data Collection | S2: Total Staffing Cost and Total Hours for SW HBN Sampling and Data Collection | U2: Total Staffing Cost and Total Hours for SW RSQA Sampling and Data Collection | W2: Total Staffing Cost and Total Hours for SW Trends | Y2: Total Staffing Cost and Total Hours for SW Modeling | AA2: Total Staffing Cost and Total Hours for NADP | AC2: Total Staffing Cost and Total Hours for NPSP | AE2: Total Staffing Cost and Total Hours for HST | AG2: Total Staffing Cost and Total Hours for IWS
A3: ='START HERE'!$C$3 -> XX
A4: ='START HERE'!C4 -> GGXXXX0000
G5: Hours for task automatically entered from GWST Staffing Column C | I5: Hours for task automatically entered from GW M&M Staffing Column C | K5: Cost = total of Col I, K, & M Hours = total of Col J, L, & N | M5: Hours for task automatically entered from SW M&SA Staffing Column C | O5: Hours for task automatically entered from SW NASQAN Staffing Column C | Q5: Hours for task automatically entered from SW NMN Staffing Column C | S5: Hours for task automatically entered from SW HBN Staffing Column C | U5: Hours for task automatically entered from SW RSQA Staffing Column C | W5: Hours for task automatically entered from SW Trends Staffing Column C | Y5: Hours for task automatically entered from SW Modeling Staffing Column C | AA5: Hours for task automatically entered from NADP Staffing Column C | AC5: Hours for task automatically entered from NPSP Staffing Column C | AE5: Hours for task automatically entered from HST Staffing Column C | AG5: Hours for task automatically entered from SW IWS Staffing Column C
A6: Name | B6: Position | C6: TOTAL HOURS (work+leave), max 2096 hr per FTE | D6: Grade | E6: Step | F6: Net salary per hr with benefits | G6: Task, net salary with benefits | H6: Hours for Task | K6: Task, net salary with benefits | L6: Hours for Task | M6: Task, net salary with benefits | N6: Hours for Task | O6: Task, net salary with benefits | P6: Hours for Task | Q6: Task, net salary with benefits | R6: Hours for Task | S6: Task, net salary with benefits | T6: Hours for Task | U6: Task, net salary with benefits | V6: Hours for Task | W6: Task, net salary with benefits | X6: Hours for Task | Y6: Task, net salary with benefits | Z6: Hours for Task | AA6: Task, net salary with benefits | AB6: Hours for Task | AC6: Task, net salary with benefits | AD6: Hours for Task | AE6: Task, net salary with benefits | AF6: Hours for Task | AG6: Task, net salary with benefits | AH6: Hours for Task
B7: TOTAL | C7: =SUM(C8:C42) -> 0 | F7: =SUM(G7,I7,K7,M7,O7,Q7,S7,U7,W7,Y7,AA7,AC7,AE7,AG7) -> 0 | G7: =SUM(G8:G42) -> 0 | H7: =SUM(H8:H42) -> 0 | I7: =SUM(I8:I42) -> 0 | J7: =SUM(J8:J42) -> 0 | K7: =SUM(K8:K42) -> 0 | L7: =SUM(L8:L42) -> 0 | M7: =SUM(M8:M42) -> 0 | N7: =SUM(N8:N42) -> 0 | ... AH7: =SUM(AH8:AH42) -> 0
B8: NAWQA-- SC Contact | C8: =SUM(H8,V8,Z8,X8,AF8,AH8,J8,L8) -> 0 | F8: 0 | G8: =H8*$F8 -> 0 | H8: ='GWST Staffing'!C8 -> 0 | I8: =J8*$F8 -> 0 | J8: ='GW M&M Staffing'!C8 -> 0 | K8: =SUM(M8,O8,Q8,S8) -> 0 | L8: 0 | M8: =N8*$F8 -> 0 | N8: ='NMSA Staffing'!C8 -> 0 | O8: =P8*$F8 -> 0 | P8: ='NASQAN Staffing'!C8 -> 0 | Q8: =R8*$F8 -> 0 | R8: ='NMN Staffing'!C8 -> 0 | S8: =T8*$F8 -> 0 | T8: ='HBN Staffing'!C8 -> 0 | U8: =V8*$F8 -> 0 | V8: ='SW RSQA Staffing'!C8 -> 0 | W8: =X8*$F8 -> 0 | X8: ='SW Trends Staffing'!C8 -> 0 | Y8: =Z8*$F8 -> 0 | Z8: ='SW Modeling Staffing'!C8 -> 0 | AA8: =AB8*$F8 -> 0 | AB8: ='NADP Staffing'!C8 -> 0 | AC8: =AD8*$F8 -> 0 | AD8: ='NPSP Staffing'!C8 -> 0 | AE8: =AF8*$F8 -> 0 | AF8: ='HST Staffing'!C8 -> 0 | AG8: =AH8*$F8 -> 0 | AH8: ='IWS Staffing'!C8 -> 0
B9: Specify | C9: =SUM(H9,V9,Z9,X9,AF9,AH9,J9,L9) -> 0 | F9: 0 | G9: =H9*$F9 -> 0 | H9: ='GWST Staffing'!C9 -> 0 | I9: =J9*$F9 -> 0 | J9: ='GW M&M Staffing'!C9 -> 0 | K9: =SUM(M9,O9,Q9,S9) -> 0 | L9: =SUM(N9,P9,R9,T9) -> 0 | M9: =N9*$F9 -> 0 | N9: ='NMSA Staffing'!C9 -> 0 | O9: =P9*$F9 -> 0 | P9: ='NASQAN Staffing'!C9 -> 0 | Q9: =R9*$F9 -> 0 | R9: ='NMN Staffing'!C9 -> 0 | S9: =T9*$F9 -> 0 | T9: ='HBN Staffing'!C9 -> 0 | U9: =V9*$F9 -> 0 | V9: ='SW RSQA Staffing'!C9 -> 0 | W9: =X9*$F9 -> 0 | X9: ='SW Trends Staffing'!C9 -> 0 | Y9: =Z9*$F9 -> 0 | Z9: ='SW Modeling Staffing'!C9 -> 0 | AA9: =AB9*$F9 -> 0 | AB9: ='NADP Staffing'!C9 -> 0 | AC9: =AD9*$F9 -> 0 | AD9: ='NPSP Staffing'!C9 -> 0 | AE9: =AF9*$F9 -> 0 | AF9: ='HST Staffing'!C9 -> 0 | AG9: =AH9*$F9 -> 0 | AH9: ='IWS Staffing'!C9 -> 0
B10: Specify | C10: =SUM(H10,V10,Z10,X10,AF10,AH10,J10,L10) -> 0 | F10: 0 | G10: =H10*$F10 -> 0 | H10: ='GWST Staffing'!C10 -> 0 | I10: =J10*$F10 -> 0 | J10: ='GW M&M Staffing'!C10 -> 0 | K10: =SUM(M10,O10,Q10,S10) -> 0 | L10: =SUM(N10,P10,R10,T10) -> 0 | M10: =N10*$F10 -> 0 | N10: ='NMSA Staffing'!C10 -> 0 | O10: =P10*$F10 -> 0 | P10: ='NASQAN Staffing'!C10 -> 0 | Q10: =R10*$F10 -> 0 | R10: ='NMN Staffing'!C10 -> 0 | S10: =T10*$F10 -> 0 | T10: ='HBN Staffing'!C10 -> 0 | U10: =V10*$F10 -> 0 | V10: ='SW RSQA Staffing'!C10 -> 0 | W10: =X10*$F10 -> 0 | X10: ='SW Trends Staffing'!C10 -> 0 | Y10: =Z10*$F10 -> 0 | Z10: ='SW Modeling Staffing'!C10 -> 0 | AA10: =AB10*$F10 -> 0 | AB10: ='NADP Staffing'!C10 -> 0 | AC10: =AD10*$F10 -> 0 | AD10: ='NPSP Staffing'!C10 -> 0 | AE10: =AF10*$F10 -> 0 | AF10: ='HST Staffing'!C10 -> 0 | AG10: =AH10*$F10 -> 0 | AH10: ='IWS Staffing'!C10 -> 0
B11: Specify | C11: =SUM(H11,V11,Z11,X11,AF11,AH11,J11,L11) -> 0 | F11: 0 | G11: =H11*$F11 -> 0 | H11: ='GWST Staffing'!C11 -> 0 | I11: =J11*$F11 -> 0 | J11: ='GW M&M Staffing'!C11 -> 0 | K11: =SUM(M11,O11,Q11,S11) -> 0 | L11: =SUM(N11,P11,R11,T11) -> 0 | M11: =N11*$F11 -> 0 | N11: ='NMSA Staffing'!C11 -> 0 | O11: =P11*$F11 -> 0 | P11: ='NASQAN Staffing'!C11 -> 0 | Q11: =R11*$F11 -> 0 | R11: ='NMN Staffing'!C11 -> 0 | S11: =T11*$F11 -> 0 | T11: ='HBN Staffing'!C11 -> 0 | U11: =V11*$F11 -> 0 | V11: ='SW RSQA Staffing'!C11 -> 0 | W11: =X11*$F11 -> 0 | X11: ='SW Trends Staffing'!C11 -> 0 | Y11: =Z11*$F11 -> 0 | Z11: ='SW Modeling Staffing'!C11 -> 0 | AA11: =AB11*$F11 -> 0 | AB11: ='NADP Staffing'!C11 -> 0 | AC11: =AD11*$F11 -> 0 | AD11: ='NPSP Staffing'!C11 -> 0 | AE11: =AF11*$F11 -> 0 | AF11: ='HST Staffing'!C11 -> 0 | AG11: =AH11*$F11 -> 0 | AH11: ='IWS Staffing'!C11 -> 0
B12: Specify | C12: =SUM(H12,V12,Z12,X12,AF12,AH12,J12,L12) -> 0 | F12: 0 | G12: =H12*$F12 -> 0 | H12: ='GWST Staffing'!C12 -> 0 | I12: =J12*$F12 -> 0 | J12: ='GW M&M Staffing'!C12 -> 0 | K12: =SUM(M12,O12,Q12,S12) -> 0 | L12: =SUM(N12,P12,R12,T12) -> 0 | M12: =N12*$F12 -> 0 | N12: ='NMSA Staffing'!C12 -> 0 | O12: =P12*$F12 -> 0 | P12: ='NASQAN Staffing'!C12 -> 0 | Q12: =R12*$F12 -> 0 | R12: ='NMN Staffing'!C12 -> 0 | S12: =T12*$F12 -> 0 | T12: ='HBN Staffing'!C12 -> 0 | U12: =V12*$F12 -> 0 | V12: ='SW RSQA Staffing'!C12 -> 0 | W12: =X12*$F12 -> 0 | X12: ='SW Trends Staffing'!C12 -> 0 | Y12: =Z12*$F12 -> 0 | Z12: ='SW Modeling Staffing'!C12 -> 0 | AA12: =AB12*$F12 -> 0 | AB12: ='NADP Staffing'!C12 -> 0 | AC12: =AD12*$F12 -> 0 | AD12: ='NPSP Staffing'!C12 -> 0 | AE12: =AF12*$F12 -> 0 | AF12: ='HST Staffing'!C12 -> 0 | AG12: =AH12*$F12 -> 0 | AH12: ='IWS Staffing'!C12 -> 0
B13: Specify | C13: =SUM(H13,V13,Z13,X13,AF13,AH13,J13,L13) -> 0 | F13: 0 | G13: =H13*$F13 -> 0 | H13: ='GWST Staffing'!C13 -> 0 | I13: =J13*$F13 -> 0 | J13: ='GW M&M Staffing'!C13 -> 0 | K13: =SUM(M13,O13,Q13,S13) -> 0 | L13: =SUM(N13,P13,R13,T13) -> 0 | M13: =N13*$F13 -> 0 | N13: ='NMSA Staffing'!C13 -> 0 | O13: =P13*$F13 -> 0 | P13: ='NASQAN Staffing'!C13 -> 0 | Q13: =R13*$F13 -> 0 | R13: ='NMN Staffing'!C13 -> 0 | S13: =T13*$F13 -> 0 | T13: ='HBN Staffing'!C13 -> 0 | U13: =V13*$F13 -> 0 | V13: ='SW RSQA Staffing'!C13 -> 0 | W13: =X13*$F13 -> 0 | X13: ='SW Trends Staffing'!C13 -> 0 | Y13: =Z13*$F13 -> 0 | Z13: ='SW Modeling Staffing'!C13 -> 0 | AA13: =AB13*$F13 -> 0 | AB13: ='NADP Staffing'!C13 -> 0 | AC13: =AD13*$F13 -> 0 | AD13: ='NPSP Staffing'!C13 -> 0 | AE13: =AF13*$F13 -> 0 | AF13: ='HST Staffing'!C13 -> 0 | AG13: =AH13*$F13 -> 0 | AH13: ='IWS Staffing'!C13 -> 0
B14: Specify | C14: =SUM(H14,V14,Z14,X14,AF14,AH14,J14,L14) -> 0 | F14: 0 | G14: =H14*$F14 -> 0 | H14: ='GWST Staffing'!C14 -> 0 | I14: =J14*$F14 -> 0 | J14: ='GW M&M Staffing'!C14 -> 0 | K14: =SUM(M14,O14,Q14,S14) -> 0 | L14: =SUM(N14,P14,R14,T14) -> 0 | M14: =N14*$F14 -> 0 | N14: ='NMSA Staffing'!C14 -> 0 | O14: =P14*$F14 -> 0 | P14: ='NASQAN Staffing'!C14 -> 0 | Q14: =R14*$F14 -> 0 | R14: ='NMN Staffing'!C14 -> 0 | S14: =T14*$F14 -> 0 | T14: ='HBN Staffing'!C14 -> 0 | U14: =V14*$F14 -> 0 | V14: ='SW RSQA Staffing'!C14 -> 0 | W14: =X14*$F14 -> 0 | X14: ='SW Trends Staffing'!C14 -> 0 | Y14: =Z14*$F14 -> 0 | Z14: ='SW Modeling Staffing'!C14 -> 0 | AA14: =AB14*$F14 -> 0 | AB14: ='NADP Staffing'!C14 -> 0 | AC14: =AD14*$F14 -> 0 | AD14: ='NPSP Staffing'!C14 -> 0 | AE14: =AF14*$F14 -> 0 | AF14: ='HST Staffing'!C14 -> 0 | AG14: =AH14*$F14 -> 0 | AH14: ='IWS Staffing'!C14 -> 0
B15: Specify | C15: =SUM(H15,V15,Z15,X15,AF15,AH15,J15,L15) -> 0 | F15: 0 | G15: =H15*$F15 -> 0 | H15: ='GWST Staffing'!C15 -> 0 | I15: =J15*$F15 -> 0 | J15: ='GW M&M Staffing'!C15 -> 0 | K15: =SUM(M15,O15,Q15,S15) -> 0 | L15: =SUM(N15,P15,R15,T15) -> 0 | M15: =N15*$F15 -> 0 | N15: ='NMSA Staffing'!C15 -> 0 | O15: =P15*$F15 -> 0 | P15: ='NASQAN Staffing'!C15 -> 0 | Q15: =R15*$F15 -> 0 | R15: ='NMN Staffing'!C15 -> 0 | S15: =T15*$F15 -> 0 | T15: ='HBN Staffing'!C15 -> 0 | U15: =V15*$F15 -> 0 | V15: ='SW RSQA Staffing'!C15 -> 0 | W15: =X15*$F15 -> 0 | X15: ='SW Trends Staffing'!C15 -> 0 | Y15: =Z15*$F15 -> 0 | Z15: ='SW Modeling Staffing'!C15 -> 0 | AA15: =AB15*$F15 -> 0 | AB15: ='NADP Staffing'!C15 -> 0 | AC15: =AD15*$F15 -> 0 | AD15: ='NPSP Staffing'!C15 -> 0 | AE15: =AF15*$F15 -> 0 | AF15: ='HST Staffing'!C15 -> 0 | AG15: =AH15*$F15 -> 0 | AH15: ='IWS Staffing'!C15 -> 0
B16: Specify | C16: =SUM(H16,V16,Z16,X16,AF16,AH16,J16,L16) -> 0 | F16: 0 | G16: =H16*$F16 -> 0 | H16: ='GWST Staffing'!C16 -> 0 | I16: =J16*$F16 -> 0 | J16: ='GW M&M Staffing'!C16 -> 0 | K16: =SUM(M16,O16,Q16,S16) -> 0 | L16: =SUM(N16,P16,R16,T16) -> 0 | M16: =N16*$F16 -> 0 | N16: ='NMSA Staffing'!C16 -> 0 | O16: =P16*$F16 -> 0 | P16: ='NASQAN Staffing'!C16 -> 0 | Q16: =R16*$F16 -> 0 | R16: ='NMN Staffing'!C16 -> 0 | S16: =T16*$F16 -> 0 | T16: ='HBN Staffing'!C16 -> 0 | U16: =V16*$F16 -> 0 | V16: ='SW RSQA Staffing'!C16 -> 0 | W16: =X16*$F16 -> 0 | X16: ='SW Trends Staffing'!C16 -> 0 | Y16: =Z16*$F16 -> 0 | Z16: ='SW Modeling Staffing'!C16 -> 0 | AA16: =AB16*$F16 -> 0 | AB16: ='NADP Staffing'!C16 -> 0 | AC16: =AD16*$F16 -> 0 | AD16: ='NPSP Staffing'!C16 -> 0 | AE16: =AF16*$F16 -> 0 | AF16: ='HST Staffing'!C16 -> 0 | AG16: =AH16*$F16 -> 0 | AH16: ='IWS Staffing'!C16 -> 0
B17: Specify | C17: =SUM(H17,V17,Z17,X17,AF17,AH17,J17,L17) -> 0 | F17: 0 | G17: =H17*$F17 -> 0 | H17: ='GWST Staffing'!C17 -> 0 | I17: =J17*$F17 -> 0 | J17: ='GW M&M Staffing'!C17 -> 0 | K17: =SUM(M17,O17,Q17,S17) -> 0 | L17: =SUM(N17,P17,R17,T17) -> 0 | M17: =N17*$F17 -> 0 | N17: ='NMSA Staffing'!C17 -> 0 | O17: =P17*$F17 -> 0 | P17: ='NASQAN Staffing'!C17 -> 0 | Q17: =R17*$F17 -> 0 | R17: ='NMN Staffing'!C17 -> 0 | S17: =T17*$F17 -> 0 | T17: ='HBN Staffing'!C17 -> 0 | U17: =V17*$F17 -> 0 | V17: ='SW RSQA Staffing'!C17 -> 0 | W17: =X17*$F17 -> 0 | X17: ='SW Trends Staffing'!C17 -> 0 | Y17: =Z17*$F17 -> 0 | Z17: ='SW Modeling Staffing'!C17 -> 0 | AA17: =AB17*$F17 -> 0 | AB17: ='NADP Staffing'!C17 -> 0 | AC17: =AD17*$F17 -> 0 | AD17: ='NPSP Staffing'!C17 -> 0 | AE17: =AF17*$F17 -> 0 | AF17: ='HST Staffing'!C17 -> 0 | AG17: =AH17*$F17 -> 0 | AH17: ='IWS Staffing'!C17 -> 0
B18: Specify | C18: =SUM(H18,V18,Z18,X18,AF18,AH18,J18,L18) -> 0 | F18: 0 | G18: =H18*$F18 -> 0 | H18: ='GWST Staffing'!C18 -> 0 | I18: =J18*$F18 -> 0 | J18: ='GW M&M Staffing'!C18 -> 0 | K18: =SUM(M18,O18,Q18,S18) -> 0 | L18: =SUM(N18,P18,R18,T18) -> 0 | M18: =N18*$F18 -> 0 | N18: ='NMSA Staffing'!C18 -> 0 | O18: =P18*$F18 -> 0 | P18: ='NASQAN Staffing'!C18 -> 0 | Q18: =R18*$F18 -> 0 | R18: ='NMN Staffing'!C18 -> 0 | S18: =T18*$F18 -> 0 | T18: ='HBN Staffing'!C18 -> 0 | U18: =V18*$F18 -> 0 | V18: ='SW RSQA Staffing'!C18 -> 0 | W18: =X18*$F18 -> 0 | X18: ='SW Trends Staffing'!C18 -> 0 | Y18: =Z18*$F18 -> 0 | Z18: ='SW Modeling Staffing'!C18 -> 0 | AA18: =AB18*$F18 -> 0 | AB18: ='NADP Staffing'!C18 -> 0 | AC18: =AD18*$F18 -> 0 | AD18: ='NPSP Staffing'!C18 -> 0 | AE18: =AF18*$F18 -> 0 | AF18: ='HST Staffing'!C18 -> 0 | AG18: =AH18*$F18 -> 0 | AH18: ='IWS Staffing'!C18 -> 0
B19: Specify | C19: =SUM(H19,V19,Z19,X19,AF19,AH19,J19,L19) -> 0 | F19: 0 | G19: =H19*$F19 -> 0 | H19: ='GWST Staffing'!C19 -> 0 | I19: =J19*$F19 -> 0 | J19: ='GW M&M Staffing'!C19 -> 0 | K19: =SUM(M19,O19,Q19,S19) -> 0 | L19: =SUM(N19,P19,R19,T19) -> 0 | M19: =N19*$F19 -> 0 | N19: ='NMSA Staffing'!C19 -> 0 | O19: =P19*$F19 -> 0 | P19: ='NASQAN Staffing'!C19 -> 0 | Q19: =R19*$F19 -> 0 | R19: ='NMN Staffing'!C19 -> 0 | S19: =T19*$F19 -> 0 | T19: ='HBN Staffing'!C19 -> 0 | U19: =V19*$F19 -> 0 | V19: ='SW RSQA Staffing'!C19 -> 0 | W19: =X19*$F19 -> 0 | X19: ='SW Trends Staffing'!C19 -> 0 | Y19: =Z19*$F19 -> 0 | Z19: ='SW Modeling Staffing'!C19 -> 0 | AA19: =AB19*$F19 -> 0 | AB19: ='NADP Staffing'!C19 -> 0 | AC19: =AD19*$F19 -> 0 | AD19: ='NPSP Staffing'!C19 -> 0 | AE19: =AF19*$F19 -> 0 | AF19: ='HST Staffing'!C19 -> 0 | AG19: =AH19*$F19 -> 0 | AH19: ='IWS Staffing'!C19 -> 0
B20: Specify | C20: =SUM(H20,V20,Z20,X20,AF20,AH20,J20,L20) -> 0 | F20: 0 | G20: =H20*$F20 -> 0 | H20: ='GWST Staffing'!C20 -> 0 | I20: =J20*$F20 -> 0 | J20: ='GW M&M Staffing'!C20 -> 0 | K20: =SUM(M20,O20,Q20,S20) -> 0 | L20: =SUM(N20,P20,R20,T20) -> 0 | M20: =N20*$F20 -> 0 | N20: ='NMSA Staffing'!C20 -> 0 | O20: =P20*$F20 -> 0 | P20: ='NASQAN Staffing'!C20 -> 0 | Q20: =R20*$F20 -> 0 | R20: ='NMN Staffing'!C20 -> 0 | S20: =T20*$F20 -> 0 | T20: ='HBN Staffing'!C20 -> 0 | U20: =V20*$F20 -> 0 | V20: ='SW RSQA Staffing'!C20 -> 0 | W20: =X20*$F20 -> 0 | X20: ='SW Trends Staffing'!C20 -> 0 | Y20: =Z20*$F20 -> 0 | Z20: ='SW Modeling Staffing'!C20 -> 0 | AA20: =AB20*$F20 -> 0 | AB20: ='NADP Staffing'!C20 -> 0 | AC20: =AD20*$F20 -> 0 | AD20: ='NPSP Staffing'!C20 -> 0 | AE20: =AF20*$F20 -> 0 | AF20: ='HST Staffing'!C20 -> 0 | AG20: =AH20*$F20 -> 0 | AH20: ='IWS Staffing'!C20 -> 0
... B42: Specify | C42: =SUM(H42,V42,Z42,X42,AF42,AH42,J42,L42) -> 0 | F42: 0 | G42: =H42*$F42 -> 0 | H42: ='GWST Staffing'!C42 -> 0 | I42: =J42*$F42 -> 0 | J42: ='GW M&M Staffing'!C42 -> 0 | K42: =SUM(M42,O42,Q42,S42) -> 0 | L42: =SUM(N42,P42,R42,T42) -> 0 | M42: =N42*$F42 -> 0 | N42: ='NMSA Staffing'!C42 -> 0 | O42: =P42*$F42 -> 0 | P42: ='NASQAN Staffing'!C42 -> 0 | Q42: =R42*$F42 -> 0 | R42: ='NMN Staffing'!C42 -> 0 | S42: =T42*$F42 -> 0 | T42: ='HBN Staffing'!C42 -> 0 | U42: =V42*$F42 -> 0 | V42: ='SW RSQA Staffing'!C42 -> 0 | W42: =X42*$F42 -> 0 | X42: ='SW Trends Staffing'!C42 -> 0 | Y42: =Z42*$F42 -> 0 | Z42: ='SW Modeling Staffing'!C42 -> 0 | AA42: =AB42*$F42 -> 0 | AB42: ='NADP Staffing'!C42 -> 0 | AC42: =AD42*$F42 -> 0 | AD42: ='NPSP Staffing'!C42 -> 0 | AE42: =AF42*$F42 -> 0 | AF42: ='HST Staffing'!C42 -> 0 | AG42: =AH42*$F42 -> 0 | AH42: ='IWS Staffing'!C42 -> 0
A43: Reference Column / Row (ie., F36) | B43: Comments:
B44: 1
B45: 2
B46: 3
F47: Hours Check | G47: ='GWST Staffing'!F7 -> 0 | H47: ='GWST Staffing'!C7 -> 0 | I47: ='GW M&M Staffing'!H7 -> 0 | J47: ='GW M&M Staffing'!E7 -> 0 | K47: =SUM(M47,O47,Q47,S47) -> 0 | L47: =SUM(N47,P47,R47,T47) -> 0 | M47: ='NMSA Staffing'!F7 -> 0 | N47: ='NMSA Staffing'!C7 -> 0 | O47: ='NASQAN Staffing'!F7 -> 0 | P47: ='NASQAN Staffing'!C7 -> 0 | Q47: ='NMN Staffing'!F7 -> 0 | R47: ='NMN Staffing'!C7 -> 0 | S47: ='HBN Staffing'!F7 -> 0 | T47: ='HBN Staffing'!C7 -> 0 | U47: ='SW RSQA Staffing'!F7 -> 0 | V47: ='SW RSQA Staffing'!C7 -> 0 | W47: ='SW Trends Staffing'!F7 -> 0 | X47: ='SW Trends Staffing'!C7 -> 0 | Y47: ='SW Modeling Staffing'!F7 -> 0 | Z47: ='SW Modeling Staffing'!C7 -> 0 | AA47: ='NADP Staffing'!F7 -> 0 | AB47: ='NADP Staffing'!$C7 -> 0 | AC47: ='NPSP Staffing'!F7 -> 0 | AD47: ='NPSP Staffing'!$C7 -> 0 | AE47: ='HST Staffing'!F7 -> 0 | AF47: ='HST Staffing'!C7 -> 0 | AG47: ='IWS Staffing'!F7 -> 0 | AH47: ='IWS Staffing'!$C7 -> 0

Sheet SC Budget Summary
A1: FY 2016 | I1: FY 2015 SC TOTAL (Col J+N+O) | K1: SW and GW Monitoring and Assessment Totals
J2: Groundwater S&T TOTAL | K2: Groundwater M&M TOTAL | L2: SW Fixed Site Network Total | M2: National Monitoring & Status Assessment | N2: Surface Water NASQAN TOTAL | O2: Surface Water NMN TOTAL | P2: Surface Water HBN TOTAL | Q2: SW Regional Water Quality Assessment Study | R2: Surface Water Trends TOTAL | S2: Surface Water Modeling TOTAL | T2: National Atmospheric Deposition Program TOTAL | U2: National Park Service Partnership TOTAL | V2: HST TOTAL | W2: IWS TOTAL
A3: ='START HERE'!$C$3 -> XX
A4: ='START HERE'!$C$4 -> GGXXXX0000
A6: COST CENTER FULL ASSESSMENT RATE | I6: ='START HERE'!$C$2 -> 0 | J6: ='START HERE'!$C$2 -> 0 | K6: ='START HERE'!$C$2 -> 0 | L6: ='START HERE'!$C$2 -> 0 | M6: ='START HERE'!$C$2 -> 0 | N6: ='START HERE'!$C$2 -> 0 | O6: ='START HERE'!$C$2 -> 0 | P6: ='START HERE'!$C$2 -> 0 | ... W6: ='START HERE'!$C$2 -> 0
A9: COLA Rate | I9: =(0.045/26)*18 -> 0.031153846
A10: A. Gross Costs (inclusive of overhead or special rates):
B11: NWQL analytical services paid by NAWQA Headquarters
B12: Other Laboratory analytical services paid by NAWQA Headquarters
B13: Drilling | I13: =SUM(J13:L13,Q13:W13) -> 0 | J13: ='GWST Budget'!I13 -> 0 | K13: ='GW M&M Budget'!I13 -> 0 | L13: =SUM(M13:P13) -> 0 | M13: ='NMSA Budget'!$I13 -> 0 | N13: ='NASQAN Budget'!$I13 -> 0 | O13: ='NMN Budget'!$I13 -> 0 | P13: ='HBN Budget'!$I13 -> 0 | Q13: ='SW Trends Budget'!$I13 -> 0 | R13: ='SW Trends Budget'!$I13 -> 0 | S13: ='SW Modeling Budget'!$I13 -> 0 | T13: ='NADP Budget'!J13 -> 0 | U13: ='NPSP Budget'!K13 -> 0 | V13: ='HST Budget '!I13 -> 0 | W13: ='IWS Budget'!I13 -> 0
B14: Equipment | I14: =SUM(J14:L14,Q14:W14) -> 0 | J14: ='GWST Budget'!I14 -> 0 | K14: ='GW M&M Budget'!I14 -> 0 | L14: =SUM(M14:P14) -> 0 | M14: ='NMSA Budget'!I14 -> 0 | N14: ='NASQAN Budget'!$I14 -> 0 | O14: ='NMN Budget'!$I14 -> 0 | P14: ='HBN Budget'!$I14 -> 0 | Q14: ='SW RSQA Budget'!$I14 -> 0 | R14: ='SW Trends Budget'!$I14 -> 0 | S14: ='SW Modeling Budget'!$I14 -> 0 | T14: ='NADP Budget'!J14 -> 0 | U14: ='NPSP Budget'!K14 -> 0 | V14: ='HST Budget '!I14 -> 0 | W14: ='IWS Budget'!I14 -> 0
B15: SW Streamflow Gaging Operation & Maintenance | I15: =SUM(J15:L15,Q15:W15) -> 0 | J15: ='GWST Budget'!I15 -> 0 | K15: ='GW M&M Budget'!I15 -> 0 | L15: =SUM(M15:P15) -> 0 | M15: ='NMSA Budget'!I15 -> 0 | N15: ='NASQAN Budget'!$I15 -> 0 | O15: ='NMN Budget'!$I15 -> 0 | P15: ='HBN Budget'!$I15 -> 0 | Q15: ='SW RSQA Budget'!$I15 -> 0 | R15: ='SW Trends Budget'!$I15 -> 0 | S15: ='SW Modeling Budget'!$I15 -> 0 | T15: ='NADP Budget'!J15 -> 0 | U15: ='NPSP Budget'!K15 -> 0 | V15: ='HST Budget '!I15 -> 0 | W15: ='IWS Budget'!I15 -> 0
B16: Contracts - must specify | I16: =SUM(J16:L16,Q16:W16) -> 0 | J16: ='GWST Budget'!I16 -> 0 | K16: ='GW M&M Budget'!I16 -> 0 | L16: =SUM(M16:P16) -> 0 | M16: ='NMSA Budget'!I16 -> 0 | N16: ='NASQAN Budget'!$I16 -> 0 | O16: ='NMN Budget'!$I16 -> 0 | P16: ='HBN Budget'!$I16 -> 0 | Q16: ='SW RSQA Budget'!$I16 -> 0 | R16: ='SW Trends Budget'!$I16 -> 0 | S16: ='SW Modeling Budget'!$I16 -> 0 | T16: ='NADP Budget'!J16 -> 0 | U16: ='NPSP Budget'!K16 -> 0 | V16: ='HST Budget '!I16 -> 0 | W16: ='IWS Budget'!I16 -> 0
B17: Science Publishing Network (SPN) | I17: =SUM(J17:L17,Q17:W17) -> 0 | J17: ='GWST Budget'!I17 -> 0 | K17: ='GW M&M Budget'!I17 -> 0 | L17: =SUM(M17:P17) -> 0 | M17: ='NMSA Budget'!I17 -> 0 | N17: ='NASQAN Budget'!$I17 -> 0 | O17: ='NMN Budget'!$I17 -> 0 | P17: ='HBN Budget'!$I17 -> 0 | Q17: ='SW RSQA Budget'!$I17 -> 0 | R17: ='SW Trends Budget'!$I17 -> 0 | S17: ='SW Modeling Budget'!$I17 -> 0 | T17: ='NADP Budget'!J17 -> 0 | U17: ='NPSP Budget'!K17 -> 0 | V17: ='HST Budget '!I17 -> 0 | W17: ='IWS Budget'!I17 -> 0
B18: Other - must specify | I18: =SUM(J18:L18,Q18:W18) -> 0 | J18: ='GWST Budget'!I18 -> 0 | K18: ='GW M&M Budget'!I18 -> 0 | L18: =SUM(M18:P18) -> 0 | M18: ='NMSA Budget'!I18 -> 0 | N18: ='NASQAN Budget'!$I18 -> 0 | O18: ='NMN Budget'!$I18 -> 0 | P18: ='HBN Budget'!$I18 -> 0 | Q18: ='SW RSQA Budget'!$I18 -> 0 | R18: ='SW Trends Budget'!$I18 -> 0 | S18: ='SW Modeling Budget'!$I18 -> 0 | T18: ='NADP Budget'!J18 -> 0 | U18: ='NPSP Budget'!K18 -> 0 | V18: ='HST Budget '!I18 -> 0 | W18: ='IWS Budget'!I18 -> 0
B19: Other - must specify | I19: =SUM(J19:L19,Q19:W19) -> 0 | J19: ='GWST Budget'!I19 -> 0 | K19: ='GW M&M Budget'!I19 -> 0 | L19: =SUM(M19:P19) -> 0 | M19: ='NMSA Budget'!I19 -> 0 | N19: ='NASQAN Budget'!$I19 -> 0 | O19: ='NMN Budget'!$I19 -> 0 | P19: ='HBN Budget'!$I19 -> 0 | Q19: ='SW RSQA Budget'!$I19 -> 0 | R19: ='SW Trends Budget'!$I19 -> 0 | S19: ='SW Modeling Budget'!$I19 -> 0 | T19: ='NADP Budget'!J19 -> 0 | U19: ='NPSP Budget'!K19 -> 0 | V19: ='HST Budget '!I19 -> 0 | W19: ='IWS Budget'!I19 -> 0
B20: Other - must specify | I20: =SUM(J20:L20,Q20:W20) -> 0 | J20: ='GWST Budget'!I20 -> 0 | K20: ='GW M&M Budget'!I20 -> 0 | L20: =SUM(M20:P20) -> 0 | M20: ='NMSA Budget'!I20 -> 0 | N20: ='NASQAN Budget'!$I20 -> 0 | O20: ='NMN Budget'!$I20 -> 0 | P20: ='HBN Budget'!$I20 -> 0 | Q20: ='SW RSQA Budget'!$I20 -> 0 | R20: ='SW Trends Budget'!$I20 -> 0 | S20: ='SW Modeling Budget'!$I20 -> 0 | T20: ='NADP Budget'!J20 -> 0 | U20: ='NPSP Budget'!K20 -> 0 | V20: ='HST Budget '!I20 -> 0 | W20: ='IWS Budget'!I20 -> 0
B21: Other - must specify | I21: =SUM(J21:L21,Q21:W21) -> 0 | J21: ='GWST Budget'!I21 -> 0 | K21: ='GW M&M Budget'!I21 -> 0 | L21: =SUM(M21:O21) -> 0 | M21: ='NMSA Budget'!I21 -> 0 | N21: ='NASQAN Budget'!$I21 -> 0 | O21: ='NMN Budget'!$I21 -> 0 | P21: ='HBN Budget'!$I21 -> 0 | Q21: ='SW RSQA Budget'!$I21 -> 0 | R21: ='SW Trends Budget'!$I21 -> 0 | S21: ='SW Modeling Budget'!$I21 -> 0 | T21: ='NADP Budget'!J21 -> 0 | U21: ='NPSP Budget'!K21 -> 0 | V21: ='HST Budget '!I21 -> 0 | W21: ='IWS Budget'!I21 -> 0
A22: B. Net Costs (cost center overhead to be applied):
B23: Overtime | I23: =SUM(J23:L23,Q23:W23) -> 0 | J23: ='GWST Budget'!I23 -> 0 | K23: ='GW M&M Budget'!I23 -> 0 | L23: =SUM(M23:P23) -> 0 | M23: ='NMSA Budget'!I23 -> 0 | N23: ='NASQAN Budget'!$I23 -> 0 | O23: ='NMN Budget'!$I23 -> 0 | P23: ='HBN Budget'!$I23 -> 0 | Q23: ='SW RSQA Budget'!$I23 -> 0 | R23: ='SW Trends Budget'!$I23 -> 0 | S23: ='SW Modeling Budget'!$I23 -> 0 | T23: ='NADP Budget'!J23 -> 0 | U23: ='NPSP Budget'!K23 -> 0 | V23: ='HST Budget '!I23 -> 0 | W23: ='IWS Budget'!I23 -> 0
B24: Salary (linked to salary for task in "SC Staffing" worksheet) | I24: =SUM(K24,R24,L24,Q24,J24,S24,V24,W24) -> 0 | J24: ='GWST Budget'!I24 -> 0 | K24: ='GW M&M Budget'!I24 -> 0 | L24: =SUM(M24:P24) -> 0 | M24: ='NMSA Budget'!I24 -> 0 | N24: ='NASQAN Budget'!$I24 -> 0 | O24: ='NMN Budget'!$I24 -> 0 | P24: ='HBN Budget'!$I24 -> 0 | Q24: ='SW RSQA Budget'!$I24 -> 0 | R24: ='SW Trends Budget'!$I24 -> 0 | S24: ='SW Modeling Budget'!$I24 -> 0 | T24: ='NADP Budget'!$I24 -> 0 | U24: ='NPSP Budget'!$I24 -> 0 | V24: ='HST Budget '!I24 -> 0 | W24: ='IWS Budget'!$I24 -> 0
B25: Leave (no entry necessary, leave must be included in Salary Line 24)
B26: Awards | I26: =SUM(J26:L26,Q26:W26) -> 0 | J26: ='GWST Budget'!I26 -> 0 | K26: ='GW M&M Budget'!I26 -> 0 | L26: =SUM(M26:P26) -> 0 | M26: ='NMSA Budget'!I26 -> 0 | N26: ='NASQAN Budget'!$I26 -> 0 | O26: ='NMN Budget'!$I26 -> 0 | P26: ='HBN Budget'!$I26 -> 0 | Q26: ='SW RSQA Budget'!$I26 -> 0 | R26: ='SW Trends Budget'!$I26 -> 0 | S26: ='SW Modeling Budget'!$I26 -> 0 | T26: ='NADP Budget'!J26 -> 0 | U26: ='NPSP Budget'!K26 -> 0 | V26: ='HST Budget '!I26 -> 0 | W26: ='IWS Budget'!I26 -> 0
B27: Change of HQs | I27: =SUM(J27:L27,Q27:W27) -> 0 | J27: ='GWST Budget'!I27 -> 0 | K27: ='GW M&M Budget'!I27 -> 0 | L27: =SUM(M27:P27) -> 0 | M27: ='NMSA Budget'!I27 -> 0 | N27: ='NASQAN Budget'!$I27 -> 0 | O27: ='NMN Budget'!$I27 -> 0 | P27: ='HBN Budget'!$I27 -> 0 | Q27: ='SW RSQA Budget'!$I27 -> 0 | R27: ='SW Trends Budget'!$I27 -> 0 | S27: ='SW Modeling Budget'!$I27 -> 0 | T27: ='NADP Budget'!J27 -> 0 | U27: ='NPSP Budget'!K27 -> 0 | V27: ='HST Budget '!I27 -> 0 | W27: ='IWS Budget'!I27 -> 0
B28: Travel | I28: =SUM(J28:L28,Q28:W28) -> 0 | J28: ='GWST Budget'!I28 -> 0 | K28: ='GW M&M Budget'!I28 -> 0 | L28: =SUM(M28:P28) -> 0 | M28: ='NMSA Budget'!I28 -> 0 | N28: ='NASQAN Budget'!$I28 -> 0 | O28: ='NMN Budget'!$I28 -> 0 | P28: ='HBN Budget'!$I28 -> 0 | Q28: ='SW RSQA Budget'!$I28 -> 0 | R28: ='SW Trends Budget'!$I28 -> 0 | S28: ='SW Modeling Budget'!$I28 -> 0 | T28: ='NADP Budget'!J28 -> 0 | U28: ='NPSP Budget'!K28 -> 0 | V28: ='HST Budget '!I28 -> 0 | W28: ='IWS Budget'!I28 -> 0
B29: Postage & Shipping | I29: =SUM(J29:L29,Q29:W29) -> 0 | J29: ='GWST Budget'!I29 -> 0 | K29: ='GW M&M Budget'!I29 -> 0 | L29: =SUM(M29:P29) -> 0 | M29: ='NMSA Budget'!I29 -> 0 | N29: ='NASQAN Budget'!$I29 -> 0 | O29: ='NMN Budget'!$I29 -> 0 | P29: ='HBN Budget'!$I29 -> 0 | Q29: ='SW RSQA Budget'!$I29 -> 0 | R29: ='SW Trends Budget'!$I29 -> 0 | S29: ='SW Modeling Budget'!$I29 -> 0 | T29: ='NADP Budget'!J29 -> 0 | U29: ='NPSP Budget'!K29 -> 0 | V29: ='HST Budget '!I29 -> 0 | W29: ='IWS Budget'!I29 -> 0
B30: Vehicles | I30: =SUM(J30:L30,Q30:W30) -> 0 | J30: ='GWST Budget'!I30 -> 0 | K30: ='GW M&M Budget'!I30 -> 0 | L30: =SUM(M30:P30) -> 0 | M30: ='NMSA Budget'!I30 -> 0 | N30: ='NASQAN Budget'!$I30 -> 0 | O30: ='NMN Budget'!$I30 -> 0 | P30: ='HBN Budget'!$I30 -> 0 | Q30: ='SW RSQA Budget'!$I30 -> 0 | R30: ='SW Trends Budget'!$I30 -> 0 | S30: ='SW Modeling Budget'!$I30 -> 0 | T30: ='NADP Budget'!J30 -> 0 | U30: ='NPSP Budget'!K30 -> 0 | V30: ='HST Budget '!I30 -> 0 | W30: ='IWS Budget'!I30 -> 0
B31: Printing | I31: =SUM(J31:L31,Q31:W31) -> 0 | J31: ='GWST Budget'!I31 -> 0 | K31: ='GW M&M Budget'!I31 -> 0 | L31: =SUM(M31:P31) -> 0 | M31: ='NMSA Budget'!I31 -> 0 | N31: ='NASQAN Budget'!$I31 -> 0 | O31: ='NMN Budget'!$I31 -> 0 | P31: ='HBN Budget'!$I31 -> 0 | Q31: ='SW RSQA Budget'!$I31 -> 0 | R31: ='SW Trends Budget'!$I31 -> 0 | S31: ='SW Modeling Budget'!$I31 -> 0 | T31: ='NADP Budget'!J31 -> 0 | U31: ='NPSP Budget'!K31 -> 0 | V31: ='HST Budget '!I31 -> 0 | W31: ='IWS Budget'!I31 -> 0
B32: Reports processing (for SPN charges use row 17) | I32: =SUM(J32:L32,Q32:W32) -> 0 | J32: ='GWST Budget'!I32 -> 0 | K32: ='GW M&M Budget'!I32 -> 0 | L32: =SUM(M32:P32) -> 0 | M32: ='NMSA Budget'!I32 -> 0 | N32: ='NASQAN Budget'!$I32 -> 0 | O32: ='NMN Budget'!$I32 -> 0 | P32: ='HBN Budget'!$I32 -> 0 | Q32: ='SW RSQA Budget'!$I32 -> 0 | R32: ='SW Trends Budget'!$I32 -> 0 | S32: ='SW Modeling Budget'!$I32 -> 0 | T32: ='NADP Budget'!J32 -> 0 | U32: ='NPSP Budget'!K32 -> 0 | V32: ='HST Budget '!I32 -> 0 | W32: ='IWS Budget'!I32 -> 0
B33: Contracts - must specify | I33: =SUM(J33:L33,Q33:W33) -> 0 | J33: ='GWST Budget'!I33 -> 0 | K33: ='GW M&M Budget'!I33 -> 0 | L33: =SUM(M33:P33) -> 0 | M33: ='NMSA Budget'!I33 -> 0 | N33: ='NASQAN Budget'!$I33 -> 0 | O33: ='NMN Budget'!$I33 -> 0 | P33: ='HBN Budget'!$I33 -> 0 | Q33: ='SW RSQA Budget'!$I33 -> 0 | R33: ='SW Trends Budget'!$I33 -> 0 | S33: ='SW Modeling Budget'!$I33 -> 0 | T33: ='NADP Budget'!J33 -> 0 | U33: ='NPSP Budget'!K33 -> 0 | V33: ='HST Budget '!I33 -> 0 | W33: ='IWS Budget'!I33 -> 0
B34: Contracts - must specify | I34: =SUM(J34:L34,Q34:W34) -> 0 | J34: ='GWST Budget'!I34 -> 0 | K34: ='GW M&M Budget'!I34 -> 0 | L34: =SUM(M34:P34) -> 0 | M34: ='NMSA Budget'!I34 -> 0 | N34: ='NASQAN Budget'!$I34 -> 0 | O34: ='NMN Budget'!$I34 -> 0 | P34: ='HBN Budget'!$I34 -> 0 | Q34: ='SW RSQA Budget'!$I34 -> 0 | R34: ='SW Trends Budget'!$I34 -> 0 | S34: ='SW Modeling Budget'!$I34 -> 0 | T34: ='NADP Budget'!J34 -> 0 | U34: ='NPSP Budget'!K34 -> 0 | V34: ='HST Budget '!I34 -> 0 | W34: ='IWS Budget'!I34 -> 0
B35: Contracts - must specify | I35: =SUM(J35:L35,Q35:W35) -> 0 | J35: ='GWST Budget'!I35 -> 0 | K35: ='GW M&M Budget'!I35 -> 0 | L35: =SUM(M35:P35) -> 0 | M35: ='NMSA Budget'!I35 -> 0 | N35: ='NASQAN Budget'!$I35 -> 0 | O35: ='NMN Budget'!$I35 -> 0 | P35: ='HBN Budget'!$I35 -> 0 | Q35: ='SW RSQA Budget'!$I35 -> 0 | R35: ='SW Trends Budget'!$I35 -> 0 | S35: ='SW Modeling Budget'!$I35 -> 0 | T35: ='NADP Budget'!J35 -> 0 | U35: ='NPSP Budget'!K35 -> 0 | V35: ='HST Budget '!I35 -> 0 | W35: ='IWS Budget'!I35 -> 0
B36: Training - must specify in comment rows below | I36: =SUM(J36:L36,Q36:W36) -> 0 | J36: ='GWST Budget'!I36 -> 0 | K36: ='GW M&M Budget'!I36 -> 0 | L36: =SUM(M36:P36) -> 0 | M36: ='NMSA Budget'!I36 -> 0 | N36: ='NASQAN Budget'!$I36 -> 0 | O36: ='NMN Budget'!$I36 -> 0 | P36: ='HBN Budget'!$I36 -> 0 | Q36: ='SW RSQA Budget'!$I36 -> 0 | R36: ='SW Trends Budget'!$I36 -> 0 | S36: ='SW Modeling Budget'!$I36 -> 0 | T36: ='NADP Budget'!J36 -> 0 | U36: ='NPSP Budget'!K36 -> 0 | V36: ='HST Budget '!I36 -> 0 | W36: ='IWS Budget'!I36 -> 0
B37: Supplies | I37: =SUM(J37:L37,Q37:W37) -> 0 | J37: ='GWST Budget'!I37 -> 0 | K37: ='GW M&M Budget'!I37 -> 0 | L37: =SUM(M37:P37) -> 0 | M37: ='NMSA Budget'!I37 -> 0 | N37: ='NASQAN Budget'!$I37 -> 0 | O37: ='NMN Budget'!$I37 -> 0 | P37: ='HBN Budget'!$I37 -> 0 | Q37: ='SW RSQA Budget'!$I37 -> 0 | R37: ='SW Trends Budget'!$I37 -> 0 | S37: ='SW Modeling Budget'!$I37 -> 0 | T37: ='NADP Budget'!J37 -> 0 | U37: ='NPSP Budget'!K37 -> 0 | V37: ='HST Budget '!I37 -> 0 | W37: ='IWS Budget'!I37 -> 0
... B40: Miscellaneous [cell phones, etc.] | I40: =SUM(J40:L40,Q40:W40) -> 0 | J40: ='GWST Budget'!I40 -> 0 | K40: ='GW M&M Budget'!I40 -> 0 | L40: =SUM(M40:P40) -> 0 | M40: ='NMSA Budget'!I40 -> 0 | N40: ='NASQAN Budget'!$I40 -> 0 | O40: ='NMN Budget'!$I40 -> 0 | P40: ='HBN Budget'!$I40 -> 0 | Q40: ='SW RSQA Budget'!$I40 -> 0 | R40: ='SW Trends Budget'!$I40 -> 0 | S40: ='SW Modeling Budget'!$I40 -> 0 | T40: ='NADP Budget'!J40 -> 0 | U40: ='NPSP Budget'!K40 -> 0 | V40: ='HST Budget '!I40 -> 0 | W40: ='IWS Budget'!I40 -> 0
B41: NWQL analytical services
B42: Other Laboratory analytical services
B43: Water Science Center's Sediment Concentration Laboratory | I43: =SUM(J43:L43,Q43:W43) -> 0 | J43: ='GWST Budget'!I43 -> 0 | K43: ='GW M&M Budget'!I43 -> 0 | L43: =SUM(M43:P43) -> 0 | M43: ='NMSA Budget'!I43 -> 0 | N43: ='NASQAN Budget'!$I43 -> 0 | O43: ='NMN Budget'!$I43 -> 0 | P43: ='HBN Budget'!$I43 -> 0 | Q43: ='SW RSQA Budget'!$I43 -> 0 | R43: ='SW Trends Budget'!$I43 -> 0 | S43: ='SW Modeling Budget'!$I43 -> 0 | T43: ='NADP Budget'!J43 -> 0 | U43: ='NPSP Budget'!K43 -> 0 | V43: ='HST Budget '!I43 -> 0 | W43: ='IWS Budget'!I43 -> 0
I44: =SUM(J44:L44,Q44:W44) -> 0 | J44: ='GWST Budget'!I44 -> 0 | K44: ='GW M&M Budget'!I44 -> 0 | L44: =SUM(M44:P44) -> 0 | M44: ='NMSA Budget'!I44 -> 0 | N44: ='NASQAN Budget'!$I44 -> 0 | O44: ='NMN Budget'!$I44 -> 0 | P44: ='HBN Budget'!$I44 -> 0 | Q44: ='SW RSQA Budget'!$I44 -> 0 | R44: ='SW Trends Budget'!$I44 -> 0 | S44: ='SW Modeling Budget'!$I44 -> 0 | T44: ='NADP Budget'!J44 -> 0 | U44: ='NPSP Budget'!K44 -> 0 | V44: ='HST Budget '!I44 -> 0 | W44: ='IWS Budget'!I44 -> 0
B45: SW Streamflow Gaging Operation & Maintenance | I45: =SUM(J45:L45,Q45:W45) -> 0 | J45: ='GWST Budget'!I45 -> 0 | K45: ='GW M&M Budget'!I45 -> 0 | L45: =SUM(M45:P45) -> 0 | M45: ='NMSA Budget'!I45 -> 0 | N45: ='NASQAN Budget'!$I45 -> 0 | O45: ='NMN Budget'!$I45 -> 0 | P45: ='HBN Budget'!$I45 -> 0 | Q45: ='SW RSQA Budget'!$I45 -> 0 | R45: ='SW Trends Budget'!$I45 -> 0 | S45: ='SW Modeling Budget'!$I45 -> 0 | T45: ='NADP Budget'!J45 -> 0 | U45: ='NPSP Budget'!K45 -> 0 | V45: ='HST Budget '!I45 -> 0 | W45: ='IWS Budget'!I45 -> 0
...

Sheet GWST Staffing
A1: ='SC Staffing Summary'!A1:F2 -> FY 2016 | I1: Ground-Water Status & Trends
I2: GW Status & Trends Sampling & Data Collection | Y2: Ground-Water Status & Trends Data Analysis & Reports | AF2: From table 2 of the FY16 GWST Workplan.
A3: ='START HERE'!$C$3 -> XX | G3: GW Program Principal Aquifer Analysts | I3: GW Network #1 | K3: GW Network #2 | M3: GW Network #3 | O3: GW Network #4 | Q3: GW Network #5 | S3: GW Network #6 | U3: GW Network #7 | W3: GW Network #8 | Y3: GW Trends Report | AA3: GW Trends Report | AC3: GW Trends Report | AF3: Water Science Center | AG3: Network Sucode | AH3: Network Type | AI3: Network Type | AJ3: Work Planned | AK3: Sampling Season | AL3: Number of wells planned for FY16 sampling
A4: ='START HERE'!C4 -> GGXXXX0000 | I4: For each column pair, I-X, enter the network sucode related to the hours/cost. Sucodes are listed in col AG. | Y4: Insert Rept Code in Cell Y5 | AA4: Insert Rept Code in Cell AA5 | AC4: Insert Rept Code in Cell AC5 | AF4: AL | AG4: moblsus1 | AH4: SUS | AI4: SUS | AJ4: Synoptic waterlevels only | AK4: Summer | AL4: 30
I5: enter network sucode | K5: enter network sucode | M5: enter network sucode | O5: enter network sucode | Q5: enter network sucode | S5: enter network sucode | U5: enter network sucode | W5: enter network sucode | Y5: xxxx | AA5: xxxx# | AC5: xxxx# | AF5: AZ | AG5: cazbsus1a | AH5: SUS | AI5: SUS | AJ5: Synoptic waterlevels only | AK5: Spring | AL5: 25
A6: Name | B6: Position | C6: ='SC Staffing Summary'!C6 -> TOTAL HOURS (work+leave), max 2096 hr per FTE | D6: Grade | E6: Step | F6: Net salary per hr with benefits | G6: Task, net salary with benefits | H6: Hours for Task | I6: Task, net salary with benefits | J6: Hours for Task | K6: Task, net salary with benefits | L6: Hours for Task | M6: Task, net salary with benefits | N6: Hours for Task | O6: Task, net salary with benefits | P6: Hours for Task | Q6: Task, net salary with benefits | R6: Hours for Task | S6: Task, net salary with benefits | T6: Hours for Task | U6: Task, net salary with benefits | V6: Hours for Task | W6: Task, net salary with benefits | X6: Hours for Task | Y6: Task, net salary with benefits | Z6: Hours for Task | AA6: Task, net salary with benefits | AB6: Hours for Task | AC6: Task, net salary with benefits | AD6: Hours for Task | AF6: CA | AG6: cvaletn1 | AH6: ETN | AI6: ETN | AJ6: Sample network bimonthly | AK6: Varies | AL6: 3
B7: TOTAL | C7: =SUM(C8:C42) -> 0 | F7: =SUM(G7,I7,K7,M7,O7,Q7,S7,U7,W7,Y7,AA7,AC7) -> 0 | G7: =SUM(G8:G42) -> 0 | H7: =SUM(H8:H42) -> 0 | I7: =SUM(I8:I42) -> 0 | J7: =SUM(J8:J42) -> 0 | K7: =SUM(K8:K42) -> 0 | L7: =SUM(L8:L42) -> 0 | M7: =SUM(M8:M42) -> 0 | N7: =SUM(N8:N42) -> 0 | ... AD7: =SUM(AD8:AD42) -> 0 | AF7: CA | AG7: sacrsus4 | AH7: SUS | AI7: SUS | AJ7: Synoptic waterlevels only | AK7: Fall | AL7: 30
A8: ='SC Staffing Summary'!$A$8 -> 0 | B8: ='SC Staffing Summary'!B8 -> NAWQA-- SC Contact | C8: =SUM(H8,J8,L8,N8,P8,R8,T8,V8,X8,Z8,AB8,AD8) -> 0 | D8: ='SC Staffing Summary'!D8 -> 0 | E8: ='SC Staffing Summary'!E8 -> 0 | F8: ='SC Staffing Summary'!F8 -> 0 | G8: =$F$8*H8 -> 0 | I8: =$F$8*J8 -> 0 | J8: 0 | K8: =$F$8*L8 -> 0 | M8: =$F$8*N8 -> 0 | N8: 0 | O8: =$F$8*P8 -> 0 | P8: 0 | Q8: =$F$8*R8 -> 0 | R8: 0 | S8: =$F$8*T8 -> 0 | T8: 0 | U8: =$F$8*V8 -> 0 | V8: 0 | W8: =$F$8*X8 -> 0 | X8: 0 | Y8: =$F$8*Z8 -> 0 | Z8: 0 | AA8: =$F$8*AB8 -> 0 | AB8: 0 | AC8: =$F$8*AD8 -> 0 | AD8: 0 | AF8: CA | AG8: sanasus1 | AH8: SUS | AI8: SUS | AJ8: Synoptic waterlevels only | AK8: Spring | AL8: 23
A9: ='SC Staffing Summary'!$A$9 -> 0 | B9: ='SC Staffing Summary'!$B$9 -> Specify | C9: =SUM(H9,J9,L9,N9,P9,R9,T9,V9,X9,Z9,AB9,AD9) -> 0 | D9: ='SC Staffing Summary'!D9 -> 0 | E9: ='SC Staffing Summary'!E9 -> 0 | F9: ='SC Staffing Summary'!F9 -> 0 | G9: =$F$9*H9 -> 0 | H9: 0 | I9: =$F$9*J9 -> 0 | J9: 0 | K9: =$F$9*L9 -> 0 | L9: 0 | M9: =$F$9*N9 -> 0 | N9: 0 | O9: =$F$9*P9 -> 0 | P9: 0 | Q9: =$F$9*R9 -> 0 | R9: 0 | S9: =$F$9*T9 -> 0 | T9: 0 | U9: =$F$9*V9 -> 0 | V9: 0 | W9: =$F$9*X9 -> 0 | X9: 0 | Y9: =$F$9*Z9 -> 0 | Z9: 0 | AA9: =$F$9*AB9 -> 0 | AB9: 0 | AC9: =$F$9*AD9 -> 0 | AD9: 0 | AF9: CA | AG9: sanasus2 | AH9: SUS | AI9: SUS | AJ9: Synoptic waterlevels only | AK9: Spring | AL9: 22
A10: ='SC Staffing Summary'!$A$10 -> 0 | B10: ='SC Staffing Summary'!$B$10 -> Specify | C10: =SUM(H10,J10,L10,N10,P10,R10,T10,V10,X10,Z10,AB10,AD10) -> 0 | D10: ='SC Staffing Summary'!D10 -> 0 | E10: ='SC Staffing Summary'!E10 -> 0 | F10: ='SC Staffing Summary'!F10 -> 0 | G10: =$F$10*H10 -> 0 | H10: 0 | I10: =$F$10*J10 -> 0 | J10: 0 | K10: =$F$10*L10 -> 0 | L10: 0 | M10: =$F$10*N10 -> 0 | N10: 0 | O10: =$F$10*P10 -> 0 | P10: 0 | Q10: =$F$10*R10 -> 0 | R10: 0 | S10: =$F$10*T10 -> 0 | T10: 0 | U10: =$F$10*V10 -> 0 | V10: 0 | W10: =$F$10*X10 -> 0 | X10: 0 | Y10: =$F$10*Z10 -> 0 | Z10: 0 | AA10: =$F$10*AB10 -> 0 | AB10: 0 | AC10: =$F$10*AD10 -> 0 | AD10: 0 | AF10: CA | AG10: sanjlusor2a | AH10: LUS | AI10: LUS | AJ10: Synoptic waterlevels only | AK10: Summer | AL10: 25
A11: ='SC Staffing Summary'!$A$11 -> 0 | B11: ='SC Staffing Summary'!$B$11 -> Specify | C11: =SUM(H11,J11,L11,N11,P11,R11,T11,V11,X11,Z11,AB11,AD11) -> 0 | D11: ='SC Staffing Summary'!D11 -> 0 | E11: ='SC Staffing Summary'!E11 -> 0 | F11: ='SC Staffing Summary'!F11 -> 0 | G11: =$F$11*H11 -> 0 | H11: 0 | I11: =$F$11*J11 -> 0 | J11: 0 | K11: =$F$11*L11 -> 0 | L11: 0 | M11: =$F$11*N11 -> 0 | N11: 0 | O11: =$F$11*P11 -> 0 | P11: 0 | Q11: =$F$11*R11 -> 0 | R11: 0 | S11: =$F$11*T11 -> 0 | T11: 0 | U11: =$F$11*V11 -> 0 | V11: 0 | W11: =$F$11*X11 -> 0 | X11: 0 | Y11: =$F$11*Z11 -> 0 | Z11: 0 | AA11: =$F$11*AB11 -> 0 | AB11: 0 | AC11: =$F$11*AD11 -> 0 | AD11: 0 | AF11: FL | AG11: biscpas1 | AH11: PAS | AI11: PAS | AJ11: Sample new network | AK11: TBD | AL11: 40
A12: ='SC Staffing Summary'!$A$12 -> 0 | B12: ='SC Staffing Summary'!$B$12 -> Specify | C12: =SUM(H12,J12,L12,N12,P12,R12,T12,V12,X12,Z12,AB12,AD12) -> 0 | D12: ='SC Staffing Summary'!D12 -> 0 | E12: ='SC Staffing Summary'!E12 -> 0 | F12: ='SC Staffing Summary'!F12 -> 0 | G12: =$F$12*H12 -> 0 | H12: 0 | I12: =$F$12*J12 -> 0 | J12: 0 | K12: =$F$12*L12 -> 0 | L12: 0 | M12: =$F$12*N12 -> 0 | N12: 0 | O12: =$F$12*P12 -> 0 | P12: 0 | Q12: =$F$12*R12 -> 0 | R12: 0 | S12: =$F$12*T12 -> 0 | T12: 0 | U12: =$F$12*V12 -> 0 | V12: 0 | W12: =$F$12*X12 -> 0 | X12: 0 | Y12: =$F$12*Z12 -> 0 | Z12: 0 | AA12: =$F$12*AB12 -> 0 | AB12: 0 | AC12: =$F$12*AD12 -> 0 | AD12: 0 | AF12: FL | AG12: gafllusrc1a + gafllusrc1b | AH12: LUS | AI12: LUS | AJ12: Synoptic waterlevels only | AK12: Summer | AL12: 30
A13: ='SC Staffing Summary'!$A$13 -> 0 | B13: ='SC Staffing Summary'!$B$13 -> Specify | C13: =SUM(H13,J13,L13,N13,P13,R13,T13,V13,X13,Z13,AB13,AD13) -> 0 | D13: ='SC Staffing Summary'!D13 -> 0 | E13: ='SC Staffing Summary'!E13 -> 0 | F13: ='SC Staffing Summary'!F13 -> 0 | G13: =$F$13*H13 -> 0 | H13: 0 | I13: =$F$13*J13 -> 0 | J13: 0 | K13: =$F$13*L13 -> 0 | L13: 0 | M13: =$F$13*N13 -> 0 | N13: 0 | O13: =$F$13*P13 -> 0 | P13: 0 | Q13: =$F$13*R13 -> 0 | R13: 0 | S13: =$F$13*T13 -> 0 | T13: 0 | U13: =$F$13*V13 -> 0 | V13: 0 | W13: =$F$13*X13 -> 0 | X13: 0 | Y13: =$F$13*Z13 -> 0 | Z13: 0 | AA13: =$F$13*AB13 -> 0 | AB13: 0 | AC13: =$F$13*AD13 -> 0 | AD13: 0 | AF13: FL | AG13: sofllusrc1a | AH13: LUS | AI13: LUS | AJ13: Synoptic waterlevels only | AK13: Spring | AL13: 27
A14: ='SC Staffing Summary'!$A$14 -> 0 | B14: ='SC Staffing Summary'!$B$14 -> Specify | C14: =SUM(H14,J14,L14,N14,P14,R14,T14,V14,X14,Z14,AB14,AD14) -> 0 | D14: ='SC Staffing Summary'!D14 -> 0 | E14: ='SC Staffing Summary'!E14 -> 0 | F14: ='SC Staffing Summary'!F14 -> 0 | G14: =$F$14*H14 -> 0 | H14: 0 | I14: =$F$14*J14 -> 0 | J14: 0 | K14: =$F$14*L14 -> 0 | L14: 0 | M14: =$F$14*N14 -> 0 | N14: 0 | O14: =$F$14*P14 -> 0 | P14: 0 | Q14: =$F$14*R14 -> 0 | R14: 0 | S14: =$F$14*T14 -> 0 | T14: 0 | U14: =$F$14*V14 -> 0 | V14: 0 | W14: =$F$14*X14 -> 0 | X14: 0 | Y14: =$F$14*Z14 -> 0 | Z14: 0 | AA14: =$F$14*AB14 -> 0 | AB14: 0 | AC14: =$F$14*AD14 -> 0 | AD14: 0 | AF14: ID | AG14: usnkluscr2 | AH14: LUS | AI14: LUS | AJ14: Resample full network & waterlevels | AK14: Summer | AL14: 30
A15: ='SC Staffing Summary'!$A$15 -> 0 | B15: ='SC Staffing Summary'!$B$15 -> Specify | C15: =SUM(H15,J15,L15,N15,P15,R15,T15,V15,X15,Z15,AB15,AD15) -> 0 | D15: ='SC Staffing Summary'!D15 -> 0 | E15: ='SC Staffing Summary'!E15 -> 0 | F15: ='SC Staffing Summary'!F15 -> 0 | G15: =$F$15*H15 -> 0 | H15: 0 | I15: =$F$15*J15 -> 0 | J15: 0 | K15: =$F$15*L15 -> 0 | L15: 0 | M15: =$F$15*N15 -> 0 | N15: 0 | O15: =$F$15*P15 -> 0 | P15: 0 | Q15: =$F$15*R15 -> 0 | R15: 0 | S15: =$F$15*T15 -> 0 | T15: 0 | U15: =$F$15*V15 -> 0 | V15: 0 | W15: =$F$15*X15 -> 0 | X15: 0 | Y15: =$F$15*Z15 -> 0 | Z15: 0 | AA15: =$F$15*AB15 -> 0 | AB15: 0 | AC15: =$F$15*AD15 -> 0 | AD15: 0 | AF15: IL | AG15: uirbsus3 | AH15: SUS | AI15: SUS | AJ15: Synoptic waterlevels only | AK15: Fall | AL15: 30
A16: ='SC Staffing Summary'!$A$16 -> 0 | B16: ='SC Staffing Summary'!$B$16 -> Specify | C16: =SUM(H16,J16,L16,N16,P16,R16,T16,V16,X16,Z16,AB16,AD16) -> 0 | D16: ='SC Staffing Summary'!D16 -> 0 | E16: ='SC Staffing Summary'!E16 -> 0 | F16: ='SC Staffing Summary'!F16 -> 0 | G16: =$F$16*H16 -> 0 | H16: 0 | I16: =$F$16*J16 -> 0 | J16: 0 | K16: =$F$16*L16 -> 0 | L16: 0 | M16: =$F$16*N16 -> 0 | N16: 0 | O16: =$F$16*P16 -> 0 | P16: 0 | Q16: =$F$16*R16 -> 0 | R16: 0 | S16: =$F$16*T16 -> 0 | T16: 0 | U16: =$F$16*V16 -> 0 | V16: 0 | W16: =$F$16*X16 -> 0 | X16: 0 | Y16: =$F$16*Z16 -> 0 | Z16: 0 | AA16: =$F$16*AB16 -> 0 | AB16: 0 | AC16: =$F$16*AD16 -> 0 | AD16: 0 | AF16: IN | AG16: whitluscr1 | AH16: LUS | AI16: LUS | AJ16: Synoptic waterlevels only | AK16: Fall | AL16: 23
A17: ='SC Staffing Summary'!$A$17 -> 0 | B17: ='SC Staffing Summary'!$B$17 -> Specify | C17: =SUM(H17,J17,L17,N17,P17,R17,T17,V17,X17,Z17,AB17,AD17) -> 0 | D17: ='SC Staffing Summary'!D17 -> 0 | E17: ='SC Staffing Summary'!E17 -> 0 | F17: ='SC Staffing Summary'!F17 -> 0 | G17: =$F$17*H17 -> 0 | H17: 0 | I17: =$F$17*J17 -> 0 | J17: 0 | K17: =$F$17*L17 -> 0 | L17: 0 | M17: =$F$17*N17 -> 0 | N17: 0 | O17: =$F$17*P17 -> 0 | P17: 0 | Q17: =$F$17*R17 -> 0 | R17: 0 | S17: =$F$17*T17 -> 0 | T17: 0 | U17: =$F$17*V17 -> 0 | V17: 0 | W17: =$F$17*X17 -> 0 | X17: 0 | Y17: =$F$17*Z17 -> 0 | Z17: 0 | AA17: =$F$17*AB17 -> 0 | AB17: 0 | AC17: =$F$17*AD17 -> 0 | AD17: 0 | AF17: LA | AG17: acadlusrc1 | AH17: LUS | AI17: LUS | AJ17: Synoptic waterlevels only | AK17: Spring | AL17: 25
A18: ='SC Staffing Summary'!$A$18 -> 0 | B18: ='SC Staffing Summary'!$B$18 -> Specify | C18: =SUM(H18,J18,L18,N18,P18,R18,T18,V18,X18,Z18,AB18,AD18) -> 0 | D18: ='SC Staffing Summary'!D18 -> 0 | E18: ='SC Staffing Summary'!E18 -> 0 | F18: ='SC Staffing Summary'!F18 -> 0 | G18: =$F$18*H18 -> 0 | H18: 0 | I18: =$F$18*J18 -> 0 | J18: 0 | K18: =$F$18*L18 -> 0 | L18: 0 | M18: =$F$18*N18 -> 0 | N18: 0 | O18: =$F$18*P18 -> 0 | P18: 0 | Q18: =$F$18*R18 -> 0 | R18: 0 | S18: =$F$18*T18 -> 0 | T18: 0 | U18: =$F$18*V18 -> 0 | V18: 0 | W18: =$F$18*X18 -> 0 | X18: 0 | Y18: =$F$18*Z18 -> 0 | Z18: 0 | AA18: =$F$18*AB18 -> 0 | AB18: 0 | AC18: =$F$18*AD18 -> 0 | AD18: 0 | AF18: LA | AG18: acadsus1 | AH18: SUS | AI18: SUS | AJ18: Synoptic waterlevels only | AK18: Summer | AL18: 18
A19: ='SC Staffing Summary'!$A$19 -> 0 | B19: ='SC Staffing Summary'!$B$19 -> Specify | C19: =SUM(H19,J19,L19,N19,P19,R19,T19,V19,X19,Z19,AB19,AD19) -> 0 | D19: ='SC Staffing Summary'!D19 -> 0 | E19: ='SC Staffing Summary'!E19 -> 0 | F19: ='SC Staffing Summary'!F19 -> 0 | G19: =$F$19*H19 -> 0 | H19: 0 | I19: =$F$19*J19 -> 0 | J19: 0 | K19: =$F$19*L19 -> 0 | L19: 0 | M19: =$F$19*N19 -> 0 | N19: 0 | O19: =$F$19*P19 -> 0 | P19: 0 | Q19: =$F$19*R19 -> 0 | R19: 0 | S19: =$F$19*T19 -> 0 | T19: 0 | U19: =$F$19*V19 -> 0 | V19: 0 | W19: =$F$19*X19 -> 0 | X19: 0 | Y19: =$F$19*Z19 -> 0 | Z19: 0 | AA19: =$F$19*AB19 -> 0 | AB19: 0 | AC19: =$F$19*AD19 -> 0 | AD19: 0 | AF19: MD, NY | AG19: nacpmss1 | AH19: MSS | AI19: MSS | AJ19: Sample new network | AK19: TBD | AL19: 50
A20: ='SC Staffing Summary'!$A$20 -> 0 | B20: ='SC Staffing Summary'!$B$20 -> Specify | C20: =SUM(H20,J20,L20,N20,P20,R20,T20,V20,X20,Z20,AB20,AD20) -> 0 | D20: ='SC Staffing Summary'!D20 -> 0 | E20: ='SC Staffing Summary'!E20 -> 0 | F20: ='SC Staffing Summary'!F20 -> 0 | G20: =$F$20*H20 -> 0 | H20: 0 | I20: =$F$20*J20 -> 0 | J20: 0 | K20: =$F$20*L20 -> 0 | L20: 0 | M20: =$F$20*N20 -> 0 | N20: 0 | O20: =$F$20*P20 -> 0 | P20: 0 | Q20: =$F$20*R20 -> 0 | R20: 0 | S20: =$F$20*T20 -> 0 | T20: 0 | U20: =$F$20*V20 -> 0 | V20: 0 | W20: =$F$20*X20 -> 0 | X20: 0 | Y20: =$F$20*Z20 -> 0 | Z20: 0 | AA20: =$F$20*AB20 -> 0 | AB20: 0 | AC20: =$F$20*AD20 -> 0 | AD20: 0 | AF20: MD/DE/DC | AG20: nacpetn1 | AH20: ETN | AI20: ETN | AJ20: Sample network Yearly | AK20: Varies | AL20: 3
A21: ='SC Staffing Summary'!$A$21 -> 0 | B21: ='SC Staffing Summary'!$B$21 -> Specify | C21: =SUM(H21,J21,L21,N21,P21,R21,T21,V21,X21,Z21,AB21,AD21) -> 0 | D21: ='SC Staffing Summary'!D21 -> 0 | E21: ='SC Staffing Summary'!E21 -> 0 | F21: ='SC Staffing Summary'!F21 -> 0 | G21: =$F$21*H21 -> 0 | H21: 0 | I21: =$F$21*J21 -> 0 | J21: 0 | K21: =$F$21*L21 -> 0 | L21: 0 | M21: =$F$21*N21 -> 0 | N21: 0 | O21: =$F$21*P21 -> 0 | P21: 0 | Q21: =$F$21*R21 -> 0 | R21: 0 | S21: =$F$21*T21 -> 0 | T21: 0 | U21: =$F$21*V21 -> 0 | V21: 0 | W21: =$F$21*X21 -> 0 | X21: 0 | Y21: =$F$21*Z21 -> 0 | Z21: 0 | AA21: =$F$21*AB21 -> 0 | AB21: 0 | AC21: =$F$21*AD21 -> 0 | AD21: 0 | AF21: MD/DE/DC | AG21: dlmvluscr1 | AH21: LUS | AI21: LUS | AJ21: Synoptic waterlevels only | AK21: Summer | AL21: 25
A22: ='SC Staffing Summary'!$A$22 -> 0 | B22: ='SC Staffing Summary'!$B$22 -> Specify | C22: =SUM(H22,J22,L22,N22,P22,R22,T22,V22,X22,Z22,AB22,AD22) -> 0 | D22: ='SC Staffing Summary'!D22 -> 0 | E22: ='SC Staffing Summary'!E22 -> 0 | F22: ='SC Staffing Summary'!F22 -> 0 | G22: =$F$22*H22 -> 0 | H22: 0 | I22: =$F$22*J22 -> 0 | J22: 0 | K22: =$F$22*L22 -> 0 | L22: 0 | M22: =$F$22*N22 -> 0 | N22: 0 | O22: =$F$22*P22 -> 0 | P22: 0 | Q22: =$F$22*R22 -> 0 | R22: 0 | S22: =$F$22*T22 -> 0 | T22: 0 | U22: =$F$22*V22 -> 0 | V22: 0 | W22: =$F$22*X22 -> 0 | X22: 0 | Y22: =$F$22*Z22 -> 0 | Z22: 0 | AA22: =$F$22*AB22 -> 0 | AB22: 0 | AC22: =$F$22*AD22 -> 0 | AD22: 0 | AF22: MD/DE/DC | AG22: potolusag1 | AH22: LUS | AI22: LUS | AJ22: Synoptic waterlevels only | AK22: Summer | AL22: 27
A23: ='SC Staffing Summary'!$A$23 -> 0 | B23: ='SC Staffing Summary'!$B$23 -> Specify | C23: =SUM(H23,J23,L23,N23,P23,R23,T23,V23,X23,Z23,AB23,AD23) -> 0 | D23: ='SC Staffing Summary'!D23 -> 0 | E23: ='SC Staffing Summary'!E23 -> 0 | F23: ='SC Staffing Summary'!F23 -> 0 | G23: =$F$23*H23 -> 0 | H23: 0 | I23: =$F$23*J23 -> 0 | J23: 0 | K23: =$F$23*L23 -> 0 | L23: 0 | M23: =$F$23*N23 -> 0 | N23: 0 | O23: =$F$23*P23 -> 0 | P23: 0 | Q23: =$F$23*R23 -> 0 | R23: 0 | S23: =$F$23*T23 -> 0 | T23: 0 | U23: =$F$23*V23 -> 0 | V23: 0 | W23: =$F$23*X23 -> 0 | X23: 0 | Y23: =$F$23*Z23 -> 0 | Z23: 0 | AA23: =$F$23*AB23 -> 0 | AB23: 0 | AC23: =$F$23*AD23 -> 0 | AD23: 0 | AF23: MD/DE/DC | AG23: potosus1 | AH23: SUS | AI23: SUS | AJ23: Synoptic waterlevels only | AK23: Summer | AL23: 25
A24: ='SC Staffing Summary'!$A$24 -> 0 | B24: ='SC Staffing Summary'!$B$24 -> Specify | C24: =SUM(H24,J24,L24,N24,P24,R24,T24,V24,X24,Z24,AB24,AD24) -> 0 | D24: ='SC Staffing Summary'!D24 -> 0 | E24: ='SC Staffing Summary'!E24 -> 0 | F24: ='SC Staffing Summary'!F24 -> 0 | G24: =$F$24*H24 -> 0 | H24: 0 | I24: =$F$24*J24 -> 0 | J24: 0 | K24: =$F$24*L24 -> 0 | L24: 0 | M24: =$F$24*N24 -> 0 | N24: 0 | O24: =$F$24*P24 -> 0 | P24: 0 | Q24: =$F$24*R24 -> 0 | R24: 0 | S24: =$F$24*T24 -> 0 | T24: 0 | U24: =$F$24*V24 -> 0 | V24: 0 | W24: =$F$24*X24 -> 0 | X24: 0 | Y24: =$F$24*Z24 -> 0 | Z24: 0 | AA24: =$F$24*AB24 -> 0 | AB24: 0 | AC24: =$F$24*AD24 -> 0 | AD24: 0 | AF24: MI | AG24: lerilusrc1 | AH24: LUS | AI24: LUS | AJ24: Resample full network & waterlevels | AK24: Fall | AL24: 29
A25: ='SC Staffing Summary'!$A$25 -> 0 | B25: ='SC Staffing Summary'!$B$25 -> Specify | C25: =SUM(H25,J25,L25,N25,P25,R25,T25,V25,X25,Z25,AB25,AD25) -> 0 | D25: ='SC Staffing Summary'!D25 -> 0 | E25: ='SC Staffing Summary'!E25 -> 0 | F25: ='SC Staffing Summary'!F25 -> 0 | G25: =$F$25*H25 -> 0 | H25: 0 | I25: =$F$25*J25 -> 0 | J25: 0 | K25: =$F$25*L25 -> 0 | L25: 0 | M25: =$F$25*N25 -> 0 | N25: 0 | O25: =$F$25*P25 -> 0 | P25: 0 | Q25: =$F$25*R25 -> 0 | R25: 0 | S25: =$F$25*T25 -> 0 | T25: 0 | U25: =$F$25*V25 -> 0 | V25: 0 | W25: =$F$25*X25 -> 0 | X25: 0 | Y25: =$F$25*Z25 -> 0 | Z25: 0 | AA25: =$F$25*AB25 -> 0 | AB25: 0 | AC25: =$F$25*AD25 -> 0 | AD25: 0 | AF25: MI | AG25: lerisus1 | AH25: SUS | AI25: SUS | AJ25: Resample full network & waterlevels | AK25: Fall | AL25: 29
