Workbook

Sheet WY2015 NFSN Chem Sampling
A1: Last update | B1: Science Center (SC) Collecting Samples | C1: Water Year | D1: 41914 | F1: Cycle 2 Site Type | G1: Cycle 3 Site Type | H1: Cycle 3 Program | I1: Cycle 3 Network Code | J1: Daily Streamflow | K1: Continuous QW monitoring | N1: Suspended Sediment (conc. + sand/fine) | R1: Major Ions (schedules 998/1201) | X1: Nutrients (schedules 2430/2431/2432) | AB1: Nutrient blanks (Inorganic analytes)* | AD1: Nutrient blanks (Organic analytes)* | AF1: Pesticides (schedule 2437) | AN1: Glyphosate (Kansas Lab) | AT1: Isotope samples (Ty Coplen) | AV1: DOC fractionation samples (George Aiken) | AX1: Mercury Samples (George Aiken) | AZ1: Tritium (Megan Young) | BB1: DNA samples (Byron Crump) | BD1: Comments | BE1: Sampling Comments
D2: Primary STAID | E2: Site name | J2: Gage? | K2: Parameters | L2: Type | M2: Annual NAWQA cost | N2: Planned | O2: Collected | P2: Planned reps | Q2: Collected reps | R2: Planned (plus alkalinity) | S2: Collected (plus alkalinity) | T2: Planned reps | U2: Collected reps | V2: Planned blanks (IBW) | W2: Collected blanks | X2: Planned | Y2: Collected | Z2: Planned reps | AA2: Collected reps | AB2: Planned blanks | AC2: Collected blanks | AD2: Planned blanks | AE2: Collected blanks | AF2: Planned | AG2: Collected | AH2: Planned blanks | AI2: Collected blanks | AJ2: Planned reps | AK2: Collected reps | AL2: Planned spikes | AM2: Collected spikes | AN2: Planned | AO2: Collected | AP2: Planned blanks | AQ2: Collected blanks | AR2: Planned reps | AS2: Collected reps | AT2: Planned | AU2: Collected | AV2: Planned | AW2: Collected | AX2: Planned | AY2: Collected | AZ2: Planned | BA2: Collected | BB2: Planned | BC2: Collected | BD2: Comments | BE2: Comments
B5: AL | C5: 2015 | D5: 02470500 | E5: Mobile River at Mt. Vernon, AL | F5: NASQAN | G5: Coastal River | H5: NASQAN | I5: nfsncoast | J5: yes | N5: 14 | P5: 1 | R5: 14 | T5: 1 | V5: 1 | X5: 14 | Z5: 1 | AB5: 1 | AD5: 1 | AF5: 14 | AH5: 1 | AJ5: 1 | AL5: 1 | AN5: 14 | AP5: 1 | AR5: 1 | AT5: 14 | AV5: 14 | AX5: 14 | BB5: 14
B6: AL | C6: 2015 | D6: 02469762 | E6: Tombigbee River near Coffeeville, AL | F6: rotate4 | G6: Large Inland River | H6: NAWQA | I6: nfsnlir | J6: yes | N6: 18 | P6: 1 | R6: 18 | T6: 1 | V6: 1 | X6: 18 | Z6: 1 | AB6: 1 | AD6: 1 | AF6: 18 | AH6: 1 | AJ6: 1 | AL6: 1 | AN6: 18 | AP6: 1 | AR6: 1
B7: AL | E7: WSC sum | N7: =SUM(N5:N6) -> 32 | O7: =SUM(O5:O6) -> 0 | P7: =SUM(P5:P6) -> 2 | Q7: =SUM(Q5:Q6) -> 0 | R7: =SUM(R5:R6) -> 32 | S7: =SUM(S5:S6) -> 0 | T7: =SUM(T5:T6) -> 2 | U7: =SUM(U5:U6) -> 0 | ... AX7: =SUM(AX5:AX6) -> 14 | AZ7: =SUM(AZ5:AZ6) -> 0 | BA7: =SUM(BA5:BA6) -> 0 | BB7: =SUM(BB5:BB6) -> 14 | BC7: =SUM(BC5:BC6) -> 0
B9: AK | C9: 2015 | D9: 15565447 | E9: Yukon River at Pilot Station, AK | F9: NASQAN | G9: Coastal River | H9: NASQAN | I9: nfsncoast | J9: yes | N9: 7 | P9: 1 | R9: 7 | T9: 1 | V9: 0 | X9: 7 | Z9: 1 | AB9: 0 | AD9: 0 | AF9: 3 | AH9: 1 | AN9: 3 | AP9: 1 | AT9: 7 | AV9: 7 | AX9: 7 | BB9: 7
B10: AK | E10: WSC sum | N10: =SUM(N8:N9) -> 7 | O10: =SUM(O8:O9) -> 0 | P10: =SUM(P8:P9) -> 1 | Q10: =SUM(Q8:Q9) -> 0 | R10: =SUM(R8:R9) -> 7 | S10: =SUM(S8:S9) -> 0 | T10: =SUM(T8:T9) -> 1 | U10: =SUM(U8:U9) -> 0 | ... AX10: =SUM(AX8:AX9) -> 7 | AZ10: =SUM(AZ8:AZ9) -> 0 | BA10: =SUM(BA8:BA9) -> 0 | BB10: =SUM(BB8:BB9) -> 7 | BC10: =SUM(BC8:BC9) -> 0
B12: AZ | C12: 2015 | D12: 09380000 | E12: Colorado River at Lees Ferry, AZ | F12: N/A | G12: Large Inland River | H12: NAWQA | I12: nfsnlir | J12: yes | K12: YES-COOP | N12: 14 | P12: 1 | R12: 14 | T12: 1 | V12: 1 | X12: 14 | Z12: 1 | AB12: 1 | AD12: 1 | AF12: 14 | AH12: 1 | AJ12: 1 | AL12: 1 | AN12: 14 | AP12: 1 | AR12: 1 | AT12: 14 | BD12: not required but Ty Coplen willing to get isotope samples
B13: AZ | C13: 2015 | D13: 09522000 | E13: Colorado River at NIB | F13: NASQAN | G13: Coastal River | H13: NASQAN | I13: nfsncoast | J13: yes | N13: 12 | P13: 1 | R13: 12 | T13: 1 | V13: 1 | X13: 12 | Z13: 1 | AB13: 1 | AD13: 1 | AF13: 12 | AH13: 1 | AJ13: 1 | AL13: 1 | AN13: 12 | AP13: 1 | AR13: 1 | AT13: 12 | AV13: 12 | AX13: 12 | BB13: 12
B14: AZ | C14: 2015 | D14: 09471000 | E14: San Pedro River at Charleston, AZ | F14: rotate4 | G14: Reference | H14: NAWQA | I14: nfsnref | J14: yes | N14: 6 | P14: 1 | R14: 6 | T14: 0 | V14: 1 | X14: 6 | Z14: 0 | AB14: 1 | AD14: 1 | AF14: 0 | AN14: 0
B15: AZ | C15: 2015 | D15: 09505800 | E15: West Clear Creek near Camp Verde, AZ | F15: rotate4 | G15: Reference | H15: NAWQA | I15: nfsnref | J15: yes | N15: 6 | P15: 1 | R15: 6 | T15: 1 | V15: 0 | X15: 6 | Z15: 1 | AB15: 0 | AD15: 0 | AF15: 0 | AN15: 0
B16: AZ | E16: WSC sum | N16: =SUM(N12:N15) -> 38 | O16: =SUM(O12:O15) -> 0 | P16: =SUM(P12:P15) -> 4 | Q16: =SUM(Q12:Q15) -> 0 | R16: =SUM(R12:R15) -> 38 | S16: =SUM(S12:S15) -> 0 | T16: =SUM(T12:T15) -> 3 | U16: =SUM(U12:U15) -> 0 | ... AX16: =SUM(AX12:AX15) -> 12 | AZ16: =SUM(AZ12:AZ15) -> 0 | BA16: =SUM(BA12:BA15) -> 0 | BB16: =SUM(BB12:BB15) -> 12 | BC16: =SUM(BC12:BC15) -> 0
B18: AR | C18: 2015 | D18: 07263620 | E18: Arkansas River at Terry L&D below Little Rock, AR | F18: NASQAN | G18: Large Inland River | H18: NASQAN | I18: nfsnlir | J18: yes | N18: 14 | P18: 1 | R18: 14 | T18: 1 | V18: 1 | X18: 14 | Z18: 1 | AB18: 1 | AD18: 1 | AF18: 14 | AH18: 1 | AJ18: 1 | AL18: 1 | AN18: 14 | AP18: 1 | AR18: 1 | AT18: 14 | AV18: 14
B19: AR | C19: 2015 | D19: 07055646 | E19: Buffalo River near Boxley, AR | F19: rotate4 | G19: Reference | H19: NAWQA | I19: nfsnref | J19: yes | N19: 6 | P19: 1 | R19: 6 | T19: 0 | V19: 1 | X19: 6 | Z19: 0 | AB19: 1 | AD19: 1 | AF19: 0 | AN19: 0
B20: AR | C20: 2015 | D20: 07060710 | E20: North Sylamore Creek near Fifty Six, AR | F20: rotate4/HBN | G20: Reference | H20: NAWQA | I20: nfsnref | J20: yes | N20: 6 | P20: 1 | R20: 6 | T20: 1 | V20: 0 | X20: 6 | Z20: 1 | AB20: 0 | AD20: 0 | AF20: 0 | AN20: 0
B21: AR | E21: WSC sum | N21: =SUM(N18:N20) -> 26 | O21: =SUM(O18:O20) -> 0 | P21: =SUM(P18:P20) -> 3 | Q21: =SUM(Q18:Q20) -> 0 | R21: =SUM(R18:R20) -> 26 | S21: =SUM(S18:S20) -> 0 | T21: =SUM(T18:T20) -> 2 | U21: =SUM(U18:U20) -> 0 | ... AX21: =SUM(AX18:AX20) -> 0 | AZ21: =SUM(AZ18:AZ20) -> 0 | BA21: =SUM(BA18:BA20) -> 0 | BB21: =SUM(BB18:BB20) -> 0 | BC21: =SUM(BC18:BC20) -> 0
B23: CA | C23: 2015 | D23: 11335000 | E23: Cosumnes River at Michigan Bar, CA | F23: eco_only | G23: Reference | H23: NAWQA | I23: nfsnref | J23: yes | N23: 6 | P23: 1 | R23: 6 | T23: 1 | V23: 1 | X23: 6 | Z23: 1 | AB23: 1 | AD23: 1 | AF23: 0 | AN23: 0
B24: CA | C24: 2015 | D24: 11274538 | E24: Orestimba Creek near Crows Landing, CA | F24: rotate4 | G24: Agriculture | H24: NAWQA | I24: nfsnag | J24: yes | K24: YES-COOP | N24: 0 | P24: 0 | R24: 0 | T24: 0 | V24: 0 | X24: 0 | Z24: 0 | AB24: 0 | AD24: 0 | AF24: 0 | AH24: 0 | AJ24: 0 | AL24: 0 | AN24: 0 | AP24: 0 | AR24: 0 | BD24: if flows warrant, we will try (but can't guarantee) to provide funding for additional samples
B25: CA | C25: 2015 | D25: 11447650 | E25: Sacramento River a Freeport, CA | F25: rotate4/NASQAN | G25: Coastal River | H25: NAWQA | I25: nfsncoast | J25: yes | K25: YES-COOP | L25: nitrate | N25: 14 | P25: 1 | R25: 14 | T25: 1 | V25: 1 | X25: 14 | Z25: 1 | AB25: 1 | AD25: 1 | AF25: 14 | AH25: 1 | AJ25: 1 | AL25: 1 | AN25: 14 | AP25: 1 | AR25: 1 | AT25: 14 | AV25: 14 | AX25: 14 | BB25: 14
B26: CA | C26: 2015 | D26: 11303500 | E26: San Joaquin River near Vernalis, CA | F26: agcore | G26: Coastal River | H26: NAWQA | I26: nfsncoast | J26: yes | N26: 18 | P26: 1 | R26: 18 | T26: 1 | V26: 1 | X26: 18 | Z26: 1 | AB26: 1 | AD26: 1 | AF26: 18 | AH26: 1 | AJ26: 1 | AL26: 1 | AN26: 18 | AP26: 1 | AR26: 1 | AT26: 18 | AV26: 18 | AX26: 18 | BB26: 18
B27: CA | C27: 2015 | D27: 11264500 | E27: Merced River at Happy Isles Bridge nr Yosemite, CA | G27: Reference | H27: NAWQA | I27: nfsnref | J27: yes | K27: Yes | L27: temperature | N27: 6 | P27: 1 | R27: 6 | T27: 0 | V27: 1 | X27: 6 | Z27: 0 | AB27: 1 | AD27: 1 | AF27: 0 | AN27: 0
B28: CA | C28: 2015 | D28: 11049400 | E28: Santa Ana River above Seven Oaks Dam, CA | F28: eco_only | G28: Reference-dropped 2013 | H28: NAWQA | I28: nfsnref | J28: no | N28: 0 | R28: 0 | X28: 0 | AF28: 0 | AN28: 0 | BD28: CA reference site switched to Merced R nr Yosemite beginning FY14
B29: CA | C29: 2015 | D29: 11074000 | E29: Santa Ana River below Prado Dam, CA | F29: urbcore | G29: Coastal River | H29: NAWQA | I29: nfsncoast | J29: yes | N29: 18 | P29: 1 | R29: 18 | T29: 1 | V29: 1 | X29: 18 | Z29: 1 | AB29: 1 | AD29: 1 | AF29: 18 | AH29: 1 | AJ29: 1 | AL29: 1 | AN29: 18 | AP29: 1 | AR29: 1
B30: CA | E30: WSC sum | N30: =SUM(N23:N29) -> 62 | O30: =SUM(O23:O29) -> 0 | P30: =SUM(P23:P29) -> 5 | Q30: =SUM(Q23:Q29) -> 0 | R30: =SUM(R23:R29) -> 62 | S30: =SUM(S23:S29) -> 0 | T30: =SUM(T23:T29) -> 4 | U30: =SUM(U23:U29) -> 0 | ... AX30: =SUM(AX23:AX29) -> 32 | AZ30: =SUM(AZ23:AZ29) -> 0 | BA30: =SUM(BA23:BA29) -> 0 | BB30: =SUM(BB23:BB29) -> 32 | BC30: =SUM(BC23:BC29) -> 0
B32: CO | C32: 2015 | D32: 06713500 | E32: Cherry Creek at Denver, CO | F32: rotate2 | G32: Urban | H32: NAWQA | I32: nfsnurb | J32: yes | N32: 24 | P32: 1 | R32: 24 | T32: 1 | V32: 1 | X32: 24 | Z32: 2 | AB32: 2 | AD32: 2 | AF32: 24 | AH32: 1 | AJ32: 1 | AL32: 1 | AN32: 24 | AP32: 1 | AR32: 1
B33: CO | C33: 2015 | D33: 09163500 | E33: Colorado River near Colorado-Utah state line | F33: rotate4 | G33: Large Inland River | H33: NAWQA | I33: nfsnlir | J33: yes | K33: YES-COOP | N33: 18 | P33: 1 | R33: 18 | T33: 1 | V33: 1 | X33: 18 | Z33: 1 | AB33: 1 | AD33: 1 | AF33: 18 | AH33: 1 | AJ33: 1 | AL33: 1 | AN33: 18 | AP33: 1 | AR33: 1
B34: CO | C34: 2015 | D34: 06754000 | E34: South Platte River near Kersey, CO | F34: rotate4 | G34: Large Inland River | H34: NAWQA | I34: nfsnlir | J34: yes | N34: 18 | P34: 1 | R34: 18 | T34: 1 | V34: 1 | X34: 18 | Z34: 1 | AB34: 1 | AD34: 1 | AF34: 18 | AH34: 1 | AJ34: 1 | AL34: 1 | AN34: 18 | AP34: 1 | AR34: 1
B35: CO | E35: WSC sum | N35: =SUM(N32:N34) -> 60 | O35: =SUM(O32:O34) -> 0 | P35: =SUM(P32:P34) -> 3 | Q35: =SUM(Q32:Q34) -> 0 | R35: =SUM(R32:R34) -> 60 | S35: =SUM(S32:S34) -> 0 | T35: =SUM(T32:T34) -> 3 | U35: =SUM(U32:U34) -> 0 | ... AX35: =SUM(AX32:AX34) -> 0 | AZ35: =SUM(AZ32:AZ34) -> 0 | BA35: =SUM(BA32:BA34) -> 0 | BB35: =SUM(BB32:BB34) -> 0 | BC35: =SUM(BC32:BC34) -> 0
B37: CT | C37: 2015 | D37: 01184000 | E37: Connecticut River at Thompsonville, CT | F37: rotate4 | G37: Coastal River | H37: NAWQA | I37: nfsncoast | J37: yes | N37: 18 | P37: 1 | R37: 18 | T37: 1 | V37: 1 | X37: 18 | Z37: 1 | AB37: 1 | AD37: 1 | AF37: 18 | AH37: 1 | AJ37: 1 | AL37: 1 | AN37: 18 | AP37: 1 | AR37: 1
B38: CT | C38: 2015 | D38: 01170100 | E38: Green River near Colrain, MA | F38: rotate4 | G38: Reference | H38: NAWQA | I38: nfsnref | J38: yes | N38: 6 | P38: 1 | R38: 6 | T38: 1 | V38: 0 | X38: 6 | Z38: 1 | AB38: 0 | AD38: 0 | AF38: 0 | AN38: 0
B39: CT | C39: 2015 | D39: 01209710 | E39: Norwalk River at Winnipauk,CT | F39: rotate4 | G39: Urban | H39: NAWQA | I39: nfsnurb | J39: yes | N39: 24 | P39: 1 | R39: 24 | T39: 1 | V39: 1 | X39: 24 | Z39: 2 | AB39: 2 | AD39: 2 | AF39: 24 | AH39: 1 | AJ39: 1 | AL39: 1 | AN39: 24 | AP39: 1 | AR39: 1
B40: CT | E40: WSC sum | N40: =SUM(N37:N39) -> 48 | O40: =SUM(O37:O39) -> 0 | P40: =SUM(P37:P39) -> 3 | Q40: =SUM(Q37:Q39) -> 0 | R40: =SUM(R37:R39) -> 48 | S40: =SUM(S37:S39) -> 0 | T40: =SUM(T37:T39) -> 3 | U40: =SUM(U37:U39) -> 0 | ... AX40: =SUM(AX37:AX39) -> 0 | AZ40: =SUM(AZ37:AZ39) -> 0 | BA40: =SUM(BA37:BA39) -> 0 | BB40: =SUM(BB37:BB39) -> 0 | BC40: =SUM(BC37:BC39) -> 0
B42: FL | C42: 2015 | D42: 02359170 | E42: Apalachicola River near Sumatra, FL | F42: NMN | G42: Coastal River | H42: NMN | I42: nfsncoast | J42: yes | N42: 14 | P42: 1 | R42: 14 | T42: 1 | V42: 1 | X42: 14 | Z42: 1 | AB42: 1 | AD42: 1 | AF42: 14 | AH42: 1 | AJ42: 1 | AL42: 1 | AN42: 14 | AP42: 1 | AR42: 1 | AT42: 14 | AV42: 14 | BB42: 14
B43: FL | E43: WSC sum | N43: =SUM(N42) -> 14 | O43: =SUM(O41:O42) -> 0 | P43: =SUM(P41:P42) -> 1 | Q43: =SUM(Q41:Q42) -> 0 | R43: =SUM(R41:R42) -> 14 | S43: =SUM(S41:S42) -> 0 | T43: =SUM(T41:T42) -> 1 | U43: =SUM(U41:U42) -> 0 | V43: =SUM(V41:V42) -> 1 | ... AX43: =SUM(AX41:AX42) -> 0 | AZ43: =SUM(AZ41:AZ42) -> 0 | BA43: =SUM(BA41:BA42) -> 0 | BB43: =SUM(BB41:BB42) -> 14 | BC43: =SUM(BC41:BC42) -> 0
B45: GA | C45: 2015 | D45: 02226160 | E45: Altamaha River at Everett City, GA | F45: NASQAN | G45: Coastal River | H45: NASQAN | I45: nfsncoast | J45: yes | N45: 14 | P45: 1 | R45: 14 | T45: 1 | V45: 1 | X45: 14 | Z45: 1 | AB45: 1 | AD45: 1 | AF45: 14 | AH45: 1 | AJ45: 1 | AL45: 1 | AN45: 14 | AP45: 1 | AR45: 1 | AT45: 14 | AV45: 14 | AX45: 14 | BB45: 14
B46: GA | C46: 2015 | D46: 02338523 | E46: Hillibahatchee Creek near Franklin, GA | F46: rotate4 | G46: Reference | H46: NAWQA | I46: nfsnref | J46: yes | N46: 6 | P46: 1 | R46: 6 | T46: 0 | V46: 1 | X46: 6 | Z46: 0 | AB46: 1 | AD46: 1 | AF46: 0 | AN46: 0
B47: GA | C47: 2015 | D47: 02335870 | E47: Sope Creek near Marietta, GA | F47: rotate2 | G47: Urban | H47: NAWQA | I47: nfsnurb | J47: yes | N47: 24 | P47: 1 | R47: 24 | T47: 1 | V47: 1 | X47: 24 | Z47: 2 | AB47: 2 | AD47: 2 | AF47: 24 | AH47: 1 | AJ47: 1 | AL47: 1 | AN47: 24 | AP47: 1 | AR47: 1
B48: GA | C48: 2015 | D48: 02338000 | E48: Chattahoochee River near Whitesburg, GA | F48: urbcore | G48: Urban | H48: NAWQA | N48: 18 | P48: 1 | R48: 18 | T48: 1 | V48: 1 | X48: 18 | Z48: 1 | AB48: 1 | AD48: 1 | AF48: 18 | AH48: 1 | AJ48: 1 | AL48: 1 | AN48: 18 | AP48: 1 | AR48: 1
B49: GA | E49: WSC sum | N49: =SUM(N45:N48) -> 62 | O49: =SUM(O45:O47) -> 0 | P49: =SUM(P45:P48) -> 4 | Q49: =SUM(Q45:Q47) -> 0 | R49: =SUM(R45:R48) -> 62 | S49: =SUM(S45:S47) -> 0 | T49: =SUM(T45:T48) -> 3 | U49: =SUM(U45:U47) -> 0 | V49: =SUM(V45:V48) -> 4 | W49: =SUM(W45:W47) -> 0 | X49: =SUM(X45:X48) -> 62 | Y49: =SUM(Y45:Y47) -> 0 | Z49: =SUM(Z45:Z48) -> 4 | AA49: =SUM(AA45:AA47) -> 0 | AB49: =SUM(AB45:AB48) -> 5 | AC49: =SUM(AC45:AC47) -> 0 | AD49: =SUM(AD45:AD48) -> 5 | AE49: =SUM(AE45:AE47) -> 0 | AF49: =SUM(AF45:AF48) -> 56 | AG49: =SUM(AG45:AG47) -> 0 | AH49: =SUM(AH45:AH48) -> 3 | AI49: =SUM(AI45:AI47) -> 0 | AJ49: =SUM(AJ45:AJ48) -> 3 | AK49: =SUM(AK45:AK47) -> 0 | AL49: =SUM(AL45:AL48) -> 3 | AM49: =SUM(AM45:AM47) -> 0 | AN49: =SUM(AN45:AN48) -> 56 | AO49: =SUM(AO45:AO47) -> 0 | AP49: =SUM(AP45:AP48) -> 3 | AQ49: =SUM(AQ45:AQ47) -> 0 | AR49: =SUM(AR45:AR48) -> 3 | AS49: =SUM(AS45:AS47) -> 0 | AT49: =SUM(AT45:AT48) -> 14 | AU49: =SUM(AU45:AU47) -> 0 | AV49: =SUM(AV45:AV47) -> 14 | AW49: =SUM(AW45:AW47) -> 0 | AX49: =SUM(AX45:AX47) -> 14 | AZ49: =SUM(AZ45:AZ47) -> 0 | BA49: =SUM(BA45:BA47) -> 0 | BB49: =SUM(BB45:BB47) -> 14 | BC49: =SUM(BC45:BC47) -> 0
B51: ID | C51: 2015 | D51: 13092747 | E51: Rock Creek at Twin Falls, ID | F51: rotate4 | G51: Agriculture | H51: NAWQA | I51: nfsnag | J51: yes | N51: 24 | P51: 1 | R51: 24 | T51: 1 | V51: 1 | X51: 24 | Z51: 2 | AB51: 2 | AD51: 2 | AF51: 24 | AH51: 1 | AJ51: 1 | AL51: 1 | AN51: 24 | AP51: 1 | AR51: 1
...

Sheet WY2015 NFSN Eco Sampling
A1: Last Update | B1: SC | C1: 41703 | G1: Ecological STAID | H1: Ecological Site name | I1: Cycle 2 Site Type | J1: Cycle 3 Site Type | K1: Eco- region | L1: Fiscal year | M1: Reach Sampled (Primary Reach) | N1: Inv / Algae RTH (Riffle or Snag) | O1: Index Period for Inverts and Algae | Q1: Inverts - RTH | S1: Outside IP | T1: Inverts - QMH | V1: Outside IP | W1: Algae - RTH | Y1: Outside IP | Z1: Algae - Chl a / Biomass | AB1: Outside IP | AC1: Fish | AH1: Outside IP | AI1: Habitat | AM1: Outside IP | AN1: IP Check | AO1: SU Annual Comments: Unusual Sampling Circumstances
C2: Primary STAID | D2: Site name | E2: WSC Ecology contact | F2: Fish QA Plan | Q2: No. of Samples Planned | R2: Date Com-pleted (MM/DD/YY) | T2: No. of Samples Planned | U2: Date Com-pleted (MM/DD/YY) | W2: No. of Samples Planned | X2: Date Com-pleted (MM/DD/YY) | Z2: No. of Samples Planned | AA2: Date Com-pleted (MM/DD/YY) | AC2: Index Period | AE2: QA Plan Submitted (Yes/No) | AF2: No. of Samples Planned | AG2: Date Com-pleted (MM/DD/YY) | AI2: Index Period | AK2: No. of Samples Planned | AL2: Date Com-pleted (MM/DD/YY)
O3: Start Date | P3: End Date | R3: Reach A | U3: Reach A | X3: Reach A | AA3: Reach A | AC3: Start Date | AD3: End Date | AI3: Start Date | AJ3: End Date
B5: AZ | C5: 09471000 | D5: San Pedro River at Charleston, AZ | E5: Nick Paretti | F5: Yes | I5: rotate4 | J5: Reference | K5: 79 | L5: 2014 | M5: A | N5: Riffle | O5: 41944 | P5: 41988 | Q5: 1 | S5: =IF(Q5>0,IF(R5<($O5-7),"EARLY",IF(R5>N($P5+7),"LATE","")),"") -> EARLY | T5: 0 | V5: =IF(T5>0,IF(U5<($O5-7),"EARLY",IF(U5>N($P5+7),"LATE","")),"") | W5: 1 | Y5: =IF(W5>0,IF(X5<($O5-7),"EARLY",IF(X5>N($P5+7),"LATE","")),"") -> EARLY | Z5: 1 | AB5: =IF(Z5>0,IF(AA5<($O5-7),"EARLY",IF(AA5>N($P5+7),"LATE","")),"") -> EARLY | AC5: 41944 | AD5: 41988 | AF5: 1 | AH5: =IF(AF5>0,IF(AG5<($AC5-7),"EARLY",IF(AG5>N($AD5+7),"LATE","")),"") -> EARLY | AI5: 41944 | AJ5: 41988 | AK5: 1 | AM5: =IF(AK5>0,IF(AL5<($AI5-7),"EARLY",IF(AL5>N($AJ5+7),"LATE","")),"") -> EARLY | AN5: =IF(OR(S5<>"",V5<>"",Y5<>"",AB5<>"",AH5<>"",AM5<>""),"CHECK","") -> CHECK
B6: AZ | C6: 09505800 | D6: West Clear Creek near Camp Verde, AZ | F6: Yes | I6: rotate4 | J6: Reference | K6: 23 | L6: 2014 | M6: A | N6: Riffle | O6: 42292 | P6: 42338 | Q6: 1 | S6: =IF(Q6>0,IF(R6<($O6-7),"EARLY",IF(R6>N($P6+7),"LATE","")),"") -> EARLY | T6: 0 | V6: =IF(T6>0,IF(U6<($O6-7),"EARLY",IF(U6>N($P6+7),"LATE","")),"") | W6: 1 | Y6: =IF(W6>0,IF(X6<($O6-7),"EARLY",IF(X6>N($P6+7),"LATE","")),"") -> EARLY | Z6: 1 | AB6: =IF(Z6>0,IF(AA6<($O6-7),"EARLY",IF(AA6>N($P6+7),"LATE","")),"") -> EARLY | AC6: 42292 | AD6: 42338 | AF6: 1 | AH6: =IF(AF6>0,IF(AG6<($AC6-7),"EARLY",IF(AG6>N($AD6+7),"LATE","")),"") -> EARLY | AI6: 42292 | AJ6: 42338 | AK6: 1 | AM6: =IF(AK6>0,IF(AL6<($AI6-7),"EARLY",IF(AL6>N($AJ6+7),"LATE","")),"") -> EARLY | AN6: =IF(OR(S6<>"",V6<>"",Y6<>"",AB6<>"",AH6<>"",AM6<>""),"CHECK","") -> CHECK | AO6: Sampling plan shown for the Fiscal Years in which samples are collected (i.e., Fall 2012 = FY2013)
B7: AR | C7: 07055646 | D7: Buffalo River near Boxley, AR | E7: Billy Justus | F7: Yes | I7: rotate4 | J7: Reference | K7: 38 | L7: 2014 | M7: A | N7: Riffle | O7: 42231 | P7: 42277 | Q7: 1 | S7: =IF(Q7>0,IF(R7<($O7-7),"EARLY",IF(R7>N($P7+7),"LATE","")),"") -> EARLY | T7: 0 | V7: =IF(T7>0,IF(U7<($O7-7),"EARLY",IF(U7>N($P7+7),"LATE","")),"") | W7: 1 | Y7: =IF(W7>0,IF(X7<($O7-7),"EARLY",IF(X7>N($P7+7),"LATE","")),"") -> EARLY | Z7: 1 | AB7: =IF(Z7>0,IF(AA7<($O7-7),"EARLY",IF(AA7>N($P7+7),"LATE","")),"") -> EARLY | AC7: 42200 | AD7: 42247 | AF7: 1 | AH7: =IF(AF7>0,IF(AG7<($AC7-7),"EARLY",IF(AG7>N($AD7+7),"LATE","")),"") -> EARLY | AI7: 42200 | AJ7: 42247 | AK7: 1 | AM7: =IF(AK7>0,IF(AL7<($AI7-7),"EARLY",IF(AL7>N($AJ7+7),"LATE","")),"") -> EARLY | AN7: =IF(OR(S7<>"",V7<>"",Y7<>"",AB7<>"",AH7<>"",AM7<>""),"CHECK","") -> CHECK
B8: AR | C8: 07060710 | D8: North Sylamore Creek near Fifty Six, AR | F8: Yes | I8: rotate4 | J8: Reference | K8: 39 | L8: 2014 | M8: C | N8: Riffle | O8: 42231 | P8: 42277 | Q8: 1 | S8: =IF(Q8>0,IF(R8<($O8-7),"EARLY",IF(R8>N($P8+7),"LATE","")),"") -> EARLY | T8: 0 | V8: =IF(T8>0,IF(U8<($O8-7),"EARLY",IF(U8>N($P8+7),"LATE","")),"") | W8: 1 | Y8: =IF(W8>0,IF(X8<($O8-7),"EARLY",IF(X8>N($P8+7),"LATE","")),"") -> EARLY | Z8: 1 | AB8: =IF(Z8>0,IF(AA8<($O8-7),"EARLY",IF(AA8>N($P8+7),"LATE","")),"") -> EARLY | AC8: 42200 | AD8: 42247 | AF8: 1 | AH8: =IF(AF8>0,IF(AG8<($AC8-7),"EARLY",IF(AG8>N($AD8+7),"LATE","")),"") -> EARLY | AI8: 42200 | AJ8: 42247 | AK8: 1 | AM8: =IF(AK8>0,IF(AL8<($AI8-7),"EARLY",IF(AL8>N($AJ8+7),"LATE","")),"") -> EARLY | AN8: =IF(OR(S8<>"",V8<>"",Y8<>"",AB8<>"",AH8<>"",AM8<>""),"CHECK","") -> CHECK
B9: CA | C9: 11274538 | D9: Orestimba Creek near Crows Landing, CA | E9: Jason May | F9: Yes | I9: rotate4 | J9: Agricultural | K9: 5 | L9: 2014 | M9: A | N9: Snag | O9: 42231 | P9: 42277 | Q9: 0 | S9: =IF(Q9>0,IF(R9<($O9-7),"EARLY",IF(R9>N($P9+7),"LATE","")),"") | T9: 0 | V9: =IF(T9>0,IF(U9<($O9-7),"EARLY",IF(U9>N($P9+7),"LATE","")),"") | W9: 0 | Y9: =IF(W9>0,IF(X9<($O9-7),"EARLY",IF(X9>N($P9+7),"LATE","")),"") | Z9: 0 | AB9: =IF(Z9>0,IF(AA9<($O9-7),"EARLY",IF(AA9>N($P9+7),"LATE","")),"") | AC9: 42231 | AD9: 42277 | AF9: 0 | AH9: =IF(AF9>0,IF(AG9<($AC9-7),"EARLY",IF(AG9>N($AD9+7),"LATE","")),"") | AI9: 42231 | AJ9: 42277 | AK9: 0 | AM9: =IF(AK9>0,IF(AL9<($AI9-7),"EARLY",IF(AL9>N($AJ9+7),"LATE","")),"") | AN9: =IF(OR(S9<>"",V9<>"",Y9<>"",AB9<>"",AH9<>"",AM9<>""),"CHECK","")
B10: CA | C10: 11335000 | D10: Cosumnes River at Michigan Bar, CA | F10: Yes | I10: eco_only | J10: Reference | K10: 7 | L10: 2014 | M10: C | N10: Riffle | O10: 42231 | P10: 42277 | Q10: 1 | S10: =IF(Q10>0,IF(R10<($O10-7),"EARLY",IF(R10>N($P10+7),"LATE","")),"") -> EARLY | T10: 0 | V10: =IF(T10>0,IF(U10<($O10-7),"EARLY",IF(U10>N($P10+7),"LATE","")),"") | W10: 1 | Y10: =IF(W10>0,IF(X10<($O10-7),"EARLY",IF(X10>N($P10+7),"LATE","")),"") -> EARLY | Z10: 1 | AB10: =IF(Z10>0,IF(AA10<($O10-7),"EARLY",IF(AA10>N($P10+7),"LATE","")),"") -> EARLY | AC10: 42231 | AD10: 42277 | AF10: 1 | AH10: =IF(AF10>0,IF(AG10<($AC10-7),"EARLY",IF(AG10>N($AD10+7),"LATE","")),"") -> EARLY | AI10: 42231 | AJ10: 42277 | AK10: 1 | AM10: =IF(AK10>0,IF(AL10<($AI10-7),"EARLY",IF(AL10>N($AJ10+7),"LATE","")),"") -> EARLY | AN10: =IF(OR(S10<>"",V10<>"",Y10<>"",AB10<>"",AH10<>"",AM10<>""),"CHECK","") -> CHECK
B11: CA | C11: 11264500 | D11: Merced River at Happy Isles Bridge nr Yosemite, CA | F11: Yes | I11: eco_only | J11: Reference | L11: 2014 | M11: A | N11: Riffle | O11: 42231 | P11: 42277 | Q11: 1 | S11: =IF(Q11>0,IF(R11<($O11-7),"EARLY",IF(R11>N($P11+7),"LATE","")),"") -> EARLY | T11: 0 | V11: =IF(T11>0,IF(U11<($O11-7),"EARLY",IF(U11>N($P11+7),"LATE","")),"") | W11: 1 | Y11: =IF(W11>0,IF(X11<($O11-7),"EARLY",IF(X11>N($P11+7),"LATE","")),"") -> EARLY | Z11: 1 | AB11: =IF(Z11>0,IF(AA11<($O11-7),"EARLY",IF(AA11>N($P11+7),"LATE","")),"") -> EARLY | AC11: 42193 | AD11: 42238 | AF11: 1 | AH11: =IF(AF11>0,IF(AG11<($AC11-7),"EARLY",IF(AG11>N($AD11+7),"LATE","")),"") -> EARLY | AI11: 42193 | AJ11: 42238 | AK11: 1 | AM11: =IF(AK11>0,IF(AL11<($AI11-7),"EARLY",IF(AL11>N($AJ11+7),"LATE","")),"") -> EARLY | AN11: =IF(OR(S11<>"",V11<>"",Y11<>"",AB11<>"",AH11<>"",AM11<>""),"CHECK","") -> CHECK
B12: CO | C12: 06713500 | D12: Cherry Creek at Denver, CO | E12: Bob Zuellig | F12: Yes | I12: rotate2 | J12: Urban | K12: 25 | L12: 2014 | M12: B | N12: Riffle | O12: 42200 | P12: 42247 | Q12: 1 | S12: =IF(Q12>0,IF(R12<($O12-7),"EARLY",IF(R12>N($P12+7),"LATE","")),"") -> EARLY | T12: 0 | V12: =IF(T12>0,IF(U12<($O12-7),"EARLY",IF(U12>N($P12+7),"LATE","")),"") | W12: 1 | Y12: =IF(W12>0,IF(X12<($O12-7),"EARLY",IF(X12>N($P12+7),"LATE","")),"") -> EARLY | Z12: 1 | AB12: =IF(Z12>0,IF(AA12<($O12-7),"EARLY",IF(AA12>N($P12+7),"LATE","")),"") -> EARLY | AC12: 42200 | AD12: 42247 | AF12: 1 | AH12: =IF(AF12>0,IF(AG12<($AC12-7),"EARLY",IF(AG12>N($AD12+7),"LATE","")),"") -> EARLY | AI12: 42200 | AJ12: 42247 | AK12: 1 | AM12: =IF(AK12>0,IF(AL12<($AI12-7),"EARLY",IF(AL12>N($AJ12+7),"LATE","")),"") -> EARLY | AN12: =IF(OR(S12<>"",V12<>"",Y12<>"",AB12<>"",AH12<>"",AM12<>""),"CHECK","") -> CHECK
B13: CT | C13: 01170100 | D13: Green River near Colrain, MA | E13: Karen Beaulieu | F13: Yes | G13: 01170095 | H13: Green River at Stewartville, MA | I13: rotate4 | J13: Reference | K13: 58 | L13: 2014 | M13: A | N13: Riffle | O13: 42217 | P13: 42262 | Q13: 1 | S13: =IF(Q13>0,IF(R13<($O13-7),"EARLY",IF(R13>N($P13+7),"LATE","")),"") -> EARLY | T13: 0 | V13: =IF(T13>0,IF(U13<($O13-7),"EARLY",IF(U13>N($P13+7),"LATE","")),"") | W13: 1 | Y13: =IF(W13>0,IF(X13<($O13-7),"EARLY",IF(X13>N($P13+7),"LATE","")),"") -> EARLY | Z13: 1 | AB13: =IF(Z13>0,IF(AA13<($O13-7),"EARLY",IF(AA13>N($P13+7),"LATE","")),"") -> EARLY | AC13: 42217 | AD13: 42262 | AF13: 1 | AH13: =IF(AF13>0,IF(AG13<($AC13-7),"EARLY",IF(AG13>N($AD13+7),"LATE","")),"") -> EARLY | AI13: 42217 | AJ13: 42262 | AK13: 1 | AM13: =IF(AK13>0,IF(AL13<($AI13-7),"EARLY",IF(AL13>N($AJ13+7),"LATE","")),"") -> EARLY | AN13: =IF(OR(S13<>"",V13<>"",Y13<>"",AB13<>"",AH13<>"",AM13<>""),"CHECK","") -> CHECK
B14: CT | C14: 01209710 | D14: Norwalk River at Winnipauk,CT | F14: Yes | I14: rotate4 | J14: Urban | K14: 59 | L14: 2014 | M14: A | N14: Riffle | O14: 42217 | P14: 42262 | Q14: 1 | S14: =IF(Q14>0,IF(R14<($O14-7),"EARLY",IF(R14>N($P14+7),"LATE","")),"") -> EARLY | T14: 0 | V14: =IF(T14>0,IF(U14<($O14-7),"EARLY",IF(U14>N($P14+7),"LATE","")),"") | W14: 1 | Y14: =IF(W14>0,IF(X14<($O14-7),"EARLY",IF(X14>N($P14+7),"LATE","")),"") -> EARLY | Z14: 1 | AB14: =IF(Z14>0,IF(AA14<($O14-7),"EARLY",IF(AA14>N($P14+7),"LATE","")),"") -> EARLY | AC14: 42217 | AD14: 42262 | AF14: 1 | AH14: =IF(AF14>0,IF(AG14<($AC14-7),"EARLY",IF(AG14>N($AD14+7),"LATE","")),"") -> EARLY | AI14: 42217 | AJ14: 42262 | AK14: 1 | AM14: =IF(AK14>0,IF(AL14<($AI14-7),"EARLY",IF(AL14>N($AJ14+7),"LATE","")),"") -> EARLY | AN14: =IF(OR(S14<>"",V14<>"",Y14<>"",AB14<>"",AH14<>"",AM14<>""),"CHECK","") -> CHECK
B15: GA | C15: 2338523 | D15: Hillibahatchee Creek near Franklin, GA | E15: Jeff Riley | F15: Yes | I15: rotate4 | J15: Reference | K15: 45 | L15: 2014 | M15: B | N15: Riffle | O15: 42139 | P15: 42185 | Q15: 1 | S15: =IF(Q15>0,IF(R15<($O15-7),"EARLY",IF(R15>N($P15+7),"LATE","")),"") -> EARLY | T15: 0 | V15: =IF(T15>0,IF(U15<($O15-7),"EARLY",IF(U15>N($P15+7),"LATE","")),"") | W15: 1 | Y15: =IF(W15>0,IF(X15<($O15-7),"EARLY",IF(X15>N($P15+7),"LATE","")),"") -> EARLY | Z15: 1 | AB15: =IF(Z15>0,IF(AA15<($O15-7),"EARLY",IF(AA15>N($P15+7),"LATE","")),"") -> EARLY | AC15: 42248 | AD15: 42292 | AF15: 1 | AH15: =IF(AF15>0,IF(AG15<($AC15-7),"EARLY",IF(AG15>N($AD15+7),"LATE","")),"") -> EARLY | AI15: 42248 | AJ15: 42292 | AK15: 1 | AM15: =IF(AK15>0,IF(AL15<($AI15-7),"EARLY",IF(AL15>N($AJ15+7),"LATE","")),"") -> EARLY | AN15: =IF(OR(S15<>"",V15<>"",Y15<>"",AB15<>"",AH15<>"",AM15<>""),"CHECK","") -> CHECK
B16: GA | C16: 02335870 | D16: Sope Creek near Marietta, GA | F16: Yes | I16: rotate2 | J16: Urban | K16: 45 | L16: 2014 | M16: A | N16: Riffle | O16: 42139 | P16: 42185 | Q16: 1 | S16: =IF(Q16>0,IF(R16<($O16-7),"EARLY",IF(R16>N($P16+7),"LATE","")),"") -> EARLY | T16: 0 | V16: =IF(T16>0,IF(U16<($O16-7),"EARLY",IF(U16>N($P16+7),"LATE","")),"") | W16: 1 | Y16: =IF(W16>0,IF(X16<($O16-7),"EARLY",IF(X16>N($P16+7),"LATE","")),"") -> EARLY | Z16: 1 | AB16: =IF(Z16>0,IF(AA16<($O16-7),"EARLY",IF(AA16>N($P16+7),"LATE","")),"") -> EARLY | AC16: 42248 | AD16: 42292 | AF16: 1 | AH16: =IF(AF16>0,IF(AG16<($AC16-7),"EARLY",IF(AG16>N($AD16+7),"LATE","")),"") -> EARLY | AI16: 42248 | AJ16: 42292 | AK16: 1 | AM16: =IF(AK16>0,IF(AL16<($AI16-7),"EARLY",IF(AL16>N($AJ16+7),"LATE","")),"") -> EARLY | AN16: =IF(OR(S16<>"",V16<>"",Y16<>"",AB16<>"",AH16<>"",AM16<>""),"CHECK","") -> CHECK
B17: ID | C17: 13092747 | D17: Rock Creek at Twin Falls, ID | E17: Dorene MacCoy | F17: Yes | I17: rotate4 | J17: Agricultural | K17: 12 | L17: 2014 | M17: A | N17: Riffle | O17: 42186 | P17: 42231 | Q17: 1 | S17: =IF(Q17>0,IF(R17<($O17-7),"EARLY",IF(R17>N($P17+7),"LATE","")),"") -> EARLY | T17: 0 | V17: =IF(T17>0,IF(U17<($O17-7),"EARLY",IF(U17>N($P17+7),"LATE","")),"") | W17: 1 | Y17: =IF(W17>0,IF(X17<($O17-7),"EARLY",IF(X17>N($P17+7),"LATE","")),"") -> EARLY | Z17: 1 | AB17: =IF(Z17>0,IF(AA17<($O17-7),"EARLY",IF(AA17>N($P17+7),"LATE","")),"") -> EARLY | AC17: 42186 | AD17: 42231 | AF17: 1 | AH17: =IF(AF17>0,IF(AG17<($AC17-7),"EARLY",IF(AG17>N($AD17+7),"LATE","")),"") -> EARLY | AI17: 42186 | AJ17: 42231 | AK17: 1 | AM17: =IF(AK17>0,IF(AL17<($AI17-7),"EARLY",IF(AL17>N($AJ17+7),"LATE","")),"") -> EARLY | AN17: =IF(OR(S17<>"",V17<>"",Y17<>"",AB17<>"",AH17<>"",AM17<>""),"CHECK","") -> CHECK
B18: IN | C18: 394340085524601 | D18: Sugar Creek at New Palestine, IN | E18: Edward Dobrowolski | F18: Yes | I18: rotate2 | J18: Agricultural | K18: 55 | L18: 2014 | M18: A | N18: Riffle | O18: 42200 | P18: 42247 | Q18: 1 | S18: =IF(Q18>0,IF(R18<($O18-7),"EARLY",IF(R18>N($P18+7),"LATE","")),"") -> EARLY | T18: 0 | V18: =IF(T18>0,IF(U18<($O18-7),"EARLY",IF(U18>N($P18+7),"LATE","")),"") | W18: 1 | Y18: =IF(W18>0,IF(X18<($O18-7),"EARLY",IF(X18>N($P18+7),"LATE","")),"") -> EARLY | Z18: 1 | AB18: =IF(Z18>0,IF(AA18<($O18-7),"EARLY",IF(AA18>N($P18+7),"LATE","")),"") -> EARLY | AC18: 42217 | AD18: 42262 | AF18: 1 | AH18: =IF(AF18>0,IF(AG18<($AC18-7),"EARLY",IF(AG18>N($AD18+7),"LATE","")),"") -> EARLY | AI18: 42200 | AJ18: 42247 | AK18: 1 | AM18: =IF(AK18>0,IF(AL18<($AI18-7),"EARLY",IF(AL18>N($AJ18+7),"LATE","")),"") -> EARLY | AN18: =IF(OR(S18<>"",V18<>"",Y18<>"",AB18<>"",AH18<>"",AM18<>""),"CHECK","") -> CHECK
B19: IA | C19: 05451210 | D19: South Fork Iowa River near New Providence, IA | E19: Jason McVay | F19: Yes | I19: rotate2 | J19: Agricultural | K19: 47 | L19: 2014 | M19: A | N19: Snag | O19: 42217 | P19: 42262 | Q19: 1 | S19: =IF(Q19>0,IF(R19<($O19-7),"EARLY",IF(R19>N($P19+7),"LATE","")),"") -> EARLY | T19: 0 | V19: =IF(T19>0,IF(U19<($O19-7),"EARLY",IF(U19>N($P19+7),"LATE","")),"") | W19: 1 | Y19: =IF(W19>0,IF(X19<($O19-7),"EARLY",IF(X19>N($P19+7),"LATE","")),"") -> EARLY | Z19: 1 | AB19: =IF(Z19>0,IF(AA19<($O19-7),"EARLY",IF(AA19>N($P19+7),"LATE","")),"") -> EARLY | AC19: 42231 | AD19: 42277 | AF19: 1 | AH19: =IF(AF19>0,IF(AG19<($AC19-7),"EARLY",IF(AG19>N($AD19+7),"LATE","")),"") -> EARLY | AI19: 42217 | AJ19: 42262 | AK19: 1 | AM19: =IF(AK19>0,IF(AL19<($AI19-7),"EARLY",IF(AL19>N($AJ19+7),"LATE","")),"") -> EARLY | AN19: =IF(OR(S19<>"",V19<>"",Y19<>"",AB19<>"",AH19<>"",AM19<>""),"CHECK","") -> CHECK
B20: LA | C20: 08014500 | D20: Ouiska (Whisky) Chitto Creek near Oberlin, LA | E20: Scott Mize | F20: Yes | I20: rotate4 | J20: Reference | K20: 35 | L20: 2014 | M20: A | N20: Snag | O20: 42200 | P20: 42247 | Q20: 1 | S20: =IF(Q20>0,IF(R20<($O20-7),"EARLY",IF(R20>N($P20+7),"LATE","")),"") -> EARLY | T20: 0 | V20: =IF(T20>0,IF(U20<($O20-7),"EARLY",IF(U20>N($P20+7),"LATE","")),"") | W20: 1 | Y20: =IF(W20>0,IF(X20<($O20-7),"EARLY",IF(X20>N($P20+7),"LATE","")),"") -> EARLY | Z20: 1 | AB20: =IF(Z20>0,IF(AA20<($O20-7),"EARLY",IF(AA20>N($P20+7),"LATE","")),"") -> EARLY | AC20: 42200 | AD20: 42247 | AF20: 1 | AH20: =IF(AF20>0,IF(AG20<($AC20-7),"EARLY",IF(AG20>N($AD20+7),"LATE","")),"") -> EARLY | AI20: 42200 | AJ20: 42247 | AK20: 1 | AM20: =IF(AK20>0,IF(AL20<($AI20-7),"EARLY",IF(AL20>N($AJ20+7),"LATE","")),"") -> EARLY | AN20: =IF(OR(S20<>"",V20<>"",Y20<>"",AB20<>"",AH20<>"",AM20<>""),"CHECK","") -> CHECK
B21: MD | C21: 01610400 | D21: Waites Run near Wardensville, WV | E21: Robin Brightbill | F21: Yes | I21: rotate4 | J21: Reference | K21: 67 | L21: 2014 | M21: B | N21: Riffle | O21: 42186 | P21: 42231 | Q21: 1 | S21: =IF(Q21>0,IF(R21<($O21-7),"EARLY",IF(R21>N($P21+7),"LATE","")),"") -> EARLY | T21: 0 | V21: =IF(T21>0,IF(U21<($O21-7),"EARLY",IF(U21>N($P21+7),"LATE","")),"") | W21: 1 | Y21: =IF(W21>0,IF(X21<($O21-7),"EARLY",IF(X21>N($P21+7),"LATE","")),"") -> EARLY | Z21: 1 | AB21: =IF(Z21>0,IF(AA21<($O21-7),"EARLY",IF(AA21>N($P21+7),"LATE","")),"") -> EARLY | AC21: 42186 | AD21: 42231 | AF21: 1 | AH21: =IF(AF21>0,IF(AG21<($AC21-7),"EARLY",IF(AG21>N($AD21+7),"LATE","")),"") -> EARLY | AI21: 42186 | AJ21: 42231 | AK21: 1 | AM21: =IF(AK21>0,IF(AL21<($AI21-7),"EARLY",IF(AL21>N($AJ21+7),"LATE","")),"") -> EARLY | AN21: =IF(OR(S21<>"",V21<>"",Y21<>"",AB21<>"",AH21<>"",AM21<>""),"CHECK","") -> CHECK
B22: MD | C22: 01654000 | D22: Accotink Creek near Annandale, VA | F22: Yes | I22: rotate2 | J22: Urban | K22: 45 | L22: 2014 | M22: A | N22: Riffle | O22: 42156 | P22: 42200 | Q22: 1 | S22: =IF(Q22>0,IF(R22<($O22-7),"EARLY",IF(R22>N($P22+7),"LATE","")),"") -> EARLY | T22: 0 | V22: =IF(T22>0,IF(U22<($O22-7),"EARLY",IF(U22>N($P22+7),"LATE","")),"") | W22: 1 | Y22: =IF(W22>0,IF(X22<($O22-7),"EARLY",IF(X22>N($P22+7),"LATE","")),"") -> EARLY | Z22: 1 | AB22: =IF(Z22>0,IF(AA22<($O22-7),"EARLY",IF(AA22>N($P22+7),"LATE","")),"") -> EARLY | AC22: 42217 | AD22: 42262 | AF22: 1 | AH22: =IF(AF22>0,IF(AG22<($AC22-7),"EARLY",IF(AG22>N($AD22+7),"LATE","")),"") -> EARLY | AI22: 42217 | AJ22: 42262 | AK22: 1 | AM22: =IF(AK22>0,IF(AL22<($AI22-7),"EARLY",IF(AL22>N($AJ22+7),"LATE","")),"") -> EARLY | AN22: =IF(OR(S22<>"",V22<>"",Y22<>"",AB22<>"",AH22<>"",AM22<>""),"CHECK","") -> CHECK
B23: MN | C23: 05288705 | D23: Shingle Creek at Minneapolis, MN | E23: Kathy Lee | F23: Yes | I23: rotate2 | J23: Urban | K23: 51 | L23: 2014 | M23: B | N23: Riffle | O23: 42186 | P23: 42231 | Q23: 1 | S23: =IF(Q23>0,IF(R23<($O23-7),"EARLY",IF(R23>N($P23+7),"LATE","")),"") -> EARLY | T23: 0 | V23: =IF(T23>0,IF(U23<($O23-7),"EARLY",IF(U23>N($P23+7),"LATE","")),"") | W23: 1 | Y23: =IF(W23>0,IF(X23<($O23-7),"EARLY",IF(X23>N($P23+7),"LATE","")),"") -> EARLY | Z23: 1 | AB23: =IF(Z23>0,IF(AA23<($O23-7),"EARLY",IF(AA23>N($P23+7),"LATE","")),"") -> EARLY | AC23: 42186 | AD23: 42231 | AF23: 1 | AH23: =IF(AF23>0,IF(AG23<($AC23-7),"EARLY",IF(AG23>N($AD23+7),"LATE","")),"") -> EARLY | AI23: 42186 | AJ23: 42231 | AK23: 1 | AM23: =IF(AK23>0,IF(AL23<($AI23-7),"EARLY",IF(AL23>N($AJ23+7),"LATE","")),"") -> EARLY | AN23: =IF(OR(S23<>"",V23<>"",Y23<>"",AB23<>"",AH23<>"",AM23<>""),"CHECK","") -> CHECK
B24: MS | C24: 07288650 | D24: Bogue Phalia near Leland, MS | E24: Jeannie Barlow | F24: Yes | I24: dropped08 | J24: Agricultural | K24: 73 | L24: 2014 | M24: A | N24: Snag | O24: 42217 | P24: 42262 | Q24: 1 | S24: =IF(Q24>0,IF(R24<($O24-7),"EARLY",IF(R24>N($P24+7),"LATE","")),"") -> EARLY | T24: 0 | V24: =IF(T24>0,IF(U24<($O24-7),"EARLY",IF(U24>N($P24+7),"LATE","")),"") | W24: 1 | Y24: =IF(W24>0,IF(X24<($O24-7),"EARLY",IF(X24>N($P24+7),"LATE","")),"") -> EARLY | Z24: 1 | AB24: =IF(Z24>0,IF(AA24<($O24-7),"EARLY",IF(AA24>N($P24+7),"LATE","")),"") -> EARLY | AC24: 42200 | AD24: 42247 | AF24: 1 | AH24: =IF(AF24>0,IF(AG24<($AC24-7),"EARLY",IF(AG24>N($AD24+7),"LATE","")),"") -> EARLY | AI24: 42200 | AJ24: 42247 | AK24: 1 | AM24: =IF(AK24>0,IF(AL24<($AI24-7),"EARLY",IF(AL24>N($AJ24+7),"LATE","")),"") -> EARLY | AN24: =IF(OR(S24<>"",V24<>"",Y24<>"",AB24<>"",AH24<>"",AM24<>""),"CHECK","") -> CHECK
B25: NE | C25: 06775900 | D25: Dismal River near Thedford, NE | E25: Jason Alexander | F25: Yes | I25: eco_only | J25: Reference | K25: 44 | L25: 2014 | M25: C | N25: Snag | O25: 42217 | P25: 42262 | Q25: 1 | S25: =IF(Q25>0,IF(R25<($O25-7),"EARLY",IF(R25>N($P25+7),"LATE","")),"") -> EARLY | T25: 0 | V25: =IF(T25>0,IF(U25<($O25-7),"EARLY",IF(U25>N($P25+7),"LATE","")),"") | W25: 1 | Y25: =IF(W25>0,IF(X25<($O25-7),"EARLY",IF(X25>N($P25+7),"LATE","")),"") -> EARLY | Z25: 1 | AB25: =IF(Z25>0,IF(AA25<($O25-7),"EARLY",IF(AA25>N($P25+7),"LATE","")),"") -> EARLY | AC25: 42217 | AD25: 42262 | AF25: 1 | AH25: =IF(AF25>0,IF(AG25<($AC25-7),"EARLY",IF(AG25>N($AD25+7),"LATE","")),"") -> EARLY | AI25: 42217 | AJ25: 42262 | AK25: 1 | AM25: =IF(AK25>0,IF(AL25<($AI25-7),"EARLY",IF(AL25>N($AJ25+7),"LATE","")),"") -> EARLY | AN25: =IF(OR(S25<>"",V25<>"",Y25<>"",AB25<>"",AH25<>"",AM25<>""),"CHECK","") -> CHECK
B26: NE | C26: 06800000 | D26: Maple Creek near Nickerson, NE | F26: Yes | I26: rotate2 | J26: Agricultural | K26: 47 | L26: 2014 | M26: C | N26: Snag | O26: 42217 | P26: 42262 | Q26: 1 | S26: =IF(Q26>0,IF(R26<($O26-7),"EARLY",IF(R26>N($P26+7),"LATE","")),"") -> EARLY | T26: 0 | V26: =IF(T26>0,IF(U26<($O26-7),"EARLY",IF(U26>N($P26+7),"LATE","")),"") | W26: 1 | Y26: =IF(W26>0,IF(X26<($O26-7),"EARLY",IF(X26>N($P26+7),"LATE","")),"") -> EARLY | Z26: 1 | AB26: =IF(Z26>0,IF(AA26<($O26-7),"EARLY",IF(AA26>N($P26+7),"LATE","")),"") -> EARLY | AC26: 42217 | AD26: 42262 | AF26: 1 | AH26: =IF(AF26>0,IF(AG26<($AC26-7),"EARLY",IF(AG26>N($AD26+7),"LATE","")),"") -> EARLY | AI26: 42217 | AJ26: 42262 | AK26: 1 | AM26: =IF(AK26>0,IF(AL26<($AI26-7),"EARLY",IF(AL26>N($AJ26+7),"LATE","")),"") -> EARLY | AN26: =IF(OR(S26<>"",V26<>"",Y26<>"",AB26<>"",AH26<>"",AM26<>""),"CHECK","") -> CHECK
B27: NM | C27: 08227000 | D27: Saguache Creek near Saguache, CO | E27: Dianna Crilley | F27: Yes | I27: eco_only | J27: Reference | K27: 21 | L27: 2014 | M27: A | N27: Riffle | O27: 42200 | P27: 42247 | Q27: 1 | S27: =IF(Q27>0,IF(R27<($O27-7),"EARLY",IF(R27>N($P27+7),"LATE","")),"") -> EARLY | T27: 0 | V27: =IF(T27>0,IF(U27<($O27-7),"EARLY",IF(U27>N($P27+7),"LATE","")),"") | W27: 1 | Y27: =IF(W27>0,IF(X27<($O27-7),"EARLY",IF(X27>N($P27+7),"LATE","")),"") -> EARLY | Z27: 1 | AB27: =IF(Z27>0,IF(AA27<($O27-7),"EARLY",IF(AA27>N($P27+7),"LATE","")),"") -> EARLY | AC27: 42200 | AD27: 42247 | AF27: 1 | AH27: =IF(AF27>0,IF(AG27<($AC27-7),"EARLY",IF(AG27>N($AD27+7),"LATE","")),"") -> EARLY | AI27: 42200 | AJ27: 42247 | AK27: 1 | AM27: =IF(AK27>0,IF(AL27<($AI27-7),"EARLY",IF(AL27>N($AJ27+7),"LATE","")),"") -> EARLY | AN27: =IF(OR(S27<>"",V27<>"",Y27<>"",AB27<>"",AH27<>"",AM27<>""),"CHECK","") -> CHECK
B28: NY | C28: 01349150 | D28: Canajoharie Creek near Canajoharie, NY | E28: Karen Murray | F28: Yes | I28: rotate4 | J28: Agricultural | K28: 83 | L28: 2014 | M28: A | N28: Riffle | O28: 42200 | P28: 42247 | Q28: 1 | S28: =IF(Q28>0,IF(R28<($O28-7),"EARLY",IF(R28>N($P28+7),"LATE","")),"") -> EARLY | T28: 0 | V28: =IF(T28>0,IF(U28<($O28-7),"EARLY",IF(U28>N($P28+7),"LATE","")),"") | W28: 1 | Y28: =IF(W28>0,IF(X28<($O28-7),"EARLY",IF(X28>N($P28+7),"LATE","")),"") -> EARLY | Z28: 1 | AB28: =IF(Z28>0,IF(AA28<($O28-7),"EARLY",IF(AA28>N($P28+7),"LATE","")),"") -> EARLY | AC28: 42217 | AD28: 42262 | AF28: 1 | AH28: =IF(AF28>0,IF(AG28<($AC28-7),"EARLY",IF(AG28>N($AD28+7),"LATE","")),"") -> EARLY | AI28: 42217 | AJ28: 42262 | AK28: 1 | AM28: =IF(AK28>0,IF(AL28<($AI28-7),"EARLY",IF(AL28>N($AJ28+7),"LATE","")),"") -> EARLY | AN28: =IF(OR(S28<>"",V28<>"",Y28<>"",AB28<>"",AH28<>"",AM28<>""),"CHECK","") -> CHECK
B29: NC | C29: 02091500 | D29: Contentnea Creek at Hookerton, NC | E29: Michelle Moorman | F29: Yes | I29: rotate4 | J29: Agricultural | K29: 65 | L29: 2014 | M29: A | N29: Snag | O29: 42139 | P29: 42185 | Q29: 1 | S29: =IF(Q29>0,IF(R29<($O29-7),"EARLY",IF(R29>N($P29+7),"LATE","")),"") -> EARLY | T29: 0 | V29: =IF(T29>0,IF(U29<($O29-7),"EARLY",IF(U29>N($P29+7),"LATE","")),"") | W29: 1 | Y29: =IF(W29>0,IF(X29<($O29-7),"EARLY",IF(X29>N($P29+7),"LATE","")),"") -> EARLY | Z29: 1 | AB29: =IF(Z29>0,IF(AA29<($O29-7),"EARLY",IF(AA29>N($P29+7),"LATE","")),"") -> EARLY | AC29: 42248 | AD29: 42292 | AF29: 1 | AH29: =IF(AF29>0,IF(AG29<($AC29-7),"EARLY",IF(AG29>N($AD29+7),"LATE","")),"") -> EARLY | AI29: 42248 | AJ29: 42292 | AK29: 1 | AM29: =IF(AK29>0,IF(AL29<($AI29-7),"EARLY",IF(AL29>N($AJ29+7),"LATE","")),"") -> EARLY | AN29: =IF(OR(S29<>"",V29<>"",Y29<>"",AB29<>"",AH29<>"",AM29<>""),"CHECK","") -> CHECK
B30: NC | C30: 2087580 | D30: Swift Creek near Apex, NC | F30: Yes | I30: rotate2 | J30: Urban | K30: 65 | L30: 2014 | M30: C | N30: Riffle | O30: 42139 | P30: 42185 | Q30: 1 | S30: =IF(Q30>0,IF(R30<($O30-7),"EARLY",IF(R30>N($P30+7),"LATE","")),"") -> EARLY | T30: 0 | V30: =IF(T30>0,IF(U30<($O30-7),"EARLY",IF(U30>N($P30+7),"LATE","")),"") | W30: 1 | Y30: =IF(W30>0,IF(X30<($O30-7),"EARLY",IF(X30>N($P30+7),"LATE","")),"") -> EARLY | Z30: 1 | AB30: =IF(Z30>0,IF(AA30<($O30-7),"EARLY",IF(AA30>N($P30+7),"LATE","")),"") -> EARLY | AC30: 42248 | AD30: 42292 | AF30: 1 | AH30: =IF(AF30>0,IF(AG30<($AC30-7),"EARLY",IF(AG30>N($AD30+7),"LATE","")),"") -> EARLY | AI30: 42248 | AJ30: 42292 | AK30: 1 | AM30: =IF(AK30>0,IF(AL30<($AI30-7),"EARLY",IF(AL30>N($AJ30+7),"LATE","")),"") -> EARLY | AN30: =IF(OR(S30<>"",V30<>"",Y30<>"",AB30<>"",AH30<>"",AM30<>""),"CHECK","") -> CHECK
B31: OH | C31: 04161820 | D31: Clinton River at Sterling Heights, MI | E31: Stephanie Janosy | F31: Yes | I31: rotate4 | J31: Urban | K31: 56 | L31: 2014 | M31: A | N31: Riffle | O31: 42217 | P31: 42262 | Q31: 1 | S31: =IF(Q31>0,IF(R31<($O31-7),"EARLY",IF(R31>N($P31+7),"LATE","")),"") -> EARLY | T31: 0 | V31: =IF(T31>0,IF(U31<($O31-7),"EARLY",IF(U31>N($P31+7),"LATE","")),"") | W31: 1 | Y31: =IF(W31>0,IF(X31<($O31-7),"EARLY",IF(X31>N($P31+7),"LATE","")),"") -> EARLY | Z31: 1 | AB31: =IF(Z31>0,IF(AA31<($O31-7),"EARLY",IF(AA31>N($P31+7),"LATE","")),"") -> EARLY | AC31: 42217 | AD31: 42262 | AF31: 1 | AH31: =IF(AF31>0,IF(AG31<($AC31-7),"EARLY",IF(AG31>N($AD31+7),"LATE","")),"") -> EARLY | AI31: 42217 | AJ31: 42262 | AK31: 1 | AM31: =IF(AK31>0,IF(AL31<($AI31-7),"EARLY",IF(AL31>N($AJ31+7),"LATE","")),"") -> EARLY | AN31: =IF(OR(S31<>"",V31<>"",Y31<>"",AB31<>"",AH31<>"",AM31<>""),"CHECK","") -> CHECK
B32: OR | C32: 14201300 | D32: Zollner Creek near Mt. Angel, OR | E32: Jennifer Moarce | F32: NO | I32: rotate4 | J32: Agricultural | K32: 3 | L32: 2014 | M32: A | N32: Snag | O32: 42231 | P32: 42277 | Q32: 1 | S32: =IF(Q32>0,IF(R32<($O32-7),"EARLY",IF(R32>N($P32+7),"LATE","")),"") -> EARLY | T32: 0 | V32: =IF(T32>0,IF(U32<($O32-7),"EARLY",IF(U32>N($P32+7),"LATE","")),"") | W32: 1 | Y32: =IF(W32>0,IF(X32<($O32-7),"EARLY",IF(X32>N($P32+7),"LATE","")),"") -> EARLY | Z32: 1 | AB32: =IF(Z32>0,IF(AA32<($O32-7),"EARLY",IF(AA32>N($P32+7),"LATE","")),"") -> EARLY | AC32: 42231 | AD32: 42277 | AF32: 1 | AH32: =IF(AF32>0,IF(AG32<($AC32-7),"EARLY",IF(AG32>N($AD32+7),"LATE","")),"") -> EARLY | AI32: 42231 | AJ32: 42277 | AK32: 1 | AM32: =IF(AK32>0,IF(AL32<($AI32-7),"EARLY",IF(AL32>N($AJ32+7),"LATE","")),"") -> EARLY | AN32: =IF(OR(S32<>"",V32<>"",Y32<>"",AB32<>"",AH32<>"",AM32<>""),"CHECK","") -> CHECK
B33: OR | C33: 14206950 | D33: Fanno Creek at Durham, OR | F33: NO | I33: rotate2 | J33: Urban | K33: 3 | L33: 2014 | M33: A | N33: Riffle | O33: 42231 | P33: 42277 | Q33: 1 | S33: =IF(Q33>0,IF(R33<($O33-7),"EARLY",IF(R33>N($P33+7),"LATE","")),"") -> EARLY | T33: 0 | V33: =IF(T33>0,IF(U33<($O33-7),"EARLY",IF(U33>N($P33+7),"LATE","")),"") | W33: 1 | Y33: =IF(W33>0,IF(X33<($O33-7),"EARLY",IF(X33>N($P33+7),"LATE","")),"") -> EARLY | Z33: 1 | AB33: =IF(Z33>0,IF(AA33<($O33-7),"EARLY",IF(AA33>N($P33+7),"LATE","")),"") -> EARLY | AC33: 42231 | AD33: 42277 | AF33: 1 | AH33: =IF(AF33>0,IF(AG33<($AC33-7),"EARLY",IF(AG33>N($AD33+7),"LATE","")),"") -> EARLY | AI33: 42231 | AJ33: 42277 | AK33: 1 | AM33: =IF(AK33>0,IF(AL33<($AI33-7),"EARLY",IF(AL33>N($AJ33+7),"LATE","")),"") -> EARLY | AN33: =IF(OR(S33<>"",V33<>"",Y33<>"",AB33<>"",AH33<>"",AM33<>""),"CHECK","") -> CHECK
B34: OR | C34: 14205400 | D34: E Fork Dairy Creek near Meachan Corner, OR | F34: NO | I34: rotate4 | J34: Reference | K34: 3 | L34: 2014 | M34: A | N34: Riffle | O34: 42231 | P34: 42277 | Q34: 1 | S34: =IF(Q34>0,IF(R34<($O34-7),"EARLY",IF(R34>N($P34+7),"LATE","")),"") -> EARLY | T34: 0 | V34: =IF(T34>0,IF(U34<($O34-7),"EARLY",IF(U34>N($P34+7),"LATE","")),"") | W34: 1 | Y34: =IF(W34>0,IF(X34<($O34-7),"EARLY",IF(X34>N($P34+7),"LATE","")),"") -> EARLY | Z34: 1 | AB34: =IF(Z34>0,IF(AA34<($O34-7),"EARLY",IF(AA34>N($P34+7),"LATE","")),"") -> EARLY | AC34: 42231 | AD34: 42277 | AF34: 1 | AH34: =IF(AF34>0,IF(AG34<($AC34-7),"EARLY",IF(AG34>N($AD34+7),"LATE","")),"") -> EARLY | AI34: 42231 | AJ34: 42277 | AK34: 1 | AM34: =IF(AK34>0,IF(AL34<($AI34-7),"EARLY",IF(AL34>N($AJ34+7),"LATE","")),"") -> EARLY | AN34: =IF(OR(S34<>"",V34<>"",Y34<>"",AB34<>"",AH34<>"",AM34<>""),"CHECK","") -> CHECK
B35: SC | C35: 02172300 | D35: McTier Creek near Monetta, SC | E35: Jeff Riley | F35: Yes | I35: rotate4 | J35: Reference | K35: 65 | L35: 2014 | M35: A | N35: Snag | O35: 42139 | P35: 42185 | Q35: 1 | S35: =IF(Q35>0,IF(R35<($O35-7),"EARLY",IF(R35>N($P35+7),"LATE","")),"") -> EARLY | T35: 0 | V35: =IF(T35>0,IF(U35<($O35-7),"EARLY",IF(U35>N($P35+7),"LATE","")),"") | W35: 1 | Y35: =IF(W35>0,IF(X35<($O35-7),"EARLY",IF(X35>N($P35+7),"LATE","")),"") -> EARLY | Z35: 1 | AB35: =IF(Z35>0,IF(AA35<($O35-7),"EARLY",IF(AA35>N($P35+7),"LATE","")),"") -> EARLY | AC35: 42248 | AD35: 42292 | AF35: 1 | AH35: =IF(AF35>0,IF(AG35<($AC35-7),"EARLY",IF(AG35>N($AD35+7),"LATE","")),"") -> EARLY | AI35: 42139 | AJ35: 42185 | AK35: 1 | AM35: =IF(AK35>0,IF(AL35<($AI35-7),"EARLY",IF(AL35>N($AJ35+7),"LATE","")),"") -> EARLY | AN35: =IF(OR(S35<>"",V35<>"",Y35<>"",AB35<>"",AH35<>"",AM35<>""),"CHECK","") -> CHECK
B36: TX | C36: 08057200 | D36: White Rock Creek at Dallas, TX | E36: Bruce Moring | F36: Yes | I36: rotate2 | J36: Urban | K36: 32 | L36: 2014 | M36: A | N36: Riffle | O36: 42186 | P36: 42231 | Q36: 1 | S36: =IF(Q36>0,IF(R36<($O36-7),"EARLY",IF(R36>N($P36+7),"LATE","")),"") -> EARLY | T36: 0 | V36: =IF(T36>0,IF(U36<($O36-7),"EARLY",IF(U36>N($P36+7),"LATE","")),"") | W36: 1 | Y36: =IF(W36>0,IF(X36<($O36-7),"EARLY",IF(X36>N($P36+7),"LATE","")),"") -> EARLY | Z36: 1 | AB36: =IF(Z36>0,IF(AA36<($O36-7),"EARLY",IF(AA36>N($P36+7),"LATE","")),"") -> EARLY | AC36: 42186 | AD36: 42231 | AF36: 1 | AH36: =IF(AF36>0,IF(AG36<($AC36-7),"EARLY",IF(AG36>N($AD36+7),"LATE","")),"") -> EARLY | AI36: 42186 | AJ36: 42231 | AK36: 1 | AM36: =IF(AK36>0,IF(AL36<($AI36-7),"EARLY",IF(AL36>N($AJ36+7),"LATE","")),"") -> EARLY | AN36: =IF(OR(S36<>"",V36<>"",Y36<>"",AB36<>"",AH36<>"",AM36<>""),"CHECK","") -> CHECK
B37: TX | C37: 08195000 | D37: Frio River at Concan, TX | F37: Yes | I37: eco_only | J37: Reference | K37: 30 | L37: 2014 | M37: B | N37: Riffle | O37: 42186 | P37: 42231 | Q37: 1 | S37: =IF(Q37>0,IF(R37<($O37-7),"EARLY",IF(R37>N($P37+7),"LATE","")),"") -> EARLY | T37: 0 | V37: =IF(T37>0,IF(U37<($O37-7),"EARLY",IF(U37>N($P37+7),"LATE","")),"") | W37: 1 | Y37: =IF(W37>0,IF(X37<($O37-7),"EARLY",IF(X37>N($P37+7),"LATE","")),"") -> EARLY | Z37: 1 | AB37: =IF(Z37>0,IF(AA37<($O37-7),"EARLY",IF(AA37>N($P37+7),"LATE","")),"") -> EARLY | AC37: 42186 | AD37: 42231 | AF37: 1 | AH37: =IF(AF37>0,IF(AG37<($AC37-7),"EARLY",IF(AG37>N($AD37+7),"LATE","")),"") -> EARLY | AI37: 42186 | AJ37: 42231 | AK37: 1 | AM37: =IF(AK37>0,IF(AL37<($AI37-7),"EARLY",IF(AL37>N($AJ37+7),"LATE","")),"") -> EARLY | AN37: =IF(OR(S37<>"",V37<>"",Y37<>"",AB37<>"",AH37<>"",AM37<>""),"CHECK","") -> CHECK
B38: UT | C38: 10168000 | D38: Little Cottonwood Creek at Salt Lake City, UT | E38: Anne Brasher | F38: NO | I38: rotate2 | J38: Urban | K38: 19 | L38: 2014 | M38: A | N38: Depositional | O38: 42200 | P38: 42247 | Q38: 1 | S38: =IF(Q38>0,IF(R38<($O38-7),"EARLY",IF(R38>N($P38+7),"LATE","")),"") -> EARLY | T38: 0 | V38: =IF(T38>0,IF(U38<($O38-7),"EARLY",IF(U38>N($P38+7),"LATE","")),"") | W38: 1 | Y38: =IF(W38>0,IF(X38<($O38-7),"EARLY",IF(X38>N($P38+7),"LATE","")),"") -> EARLY | Z38: 1 | AB38: =IF(Z38>0,IF(AA38<($O38-7),"EARLY",IF(AA38>N($P38+7),"LATE","")),"") -> EARLY | AC38: 42200 | AD38: 42247 | AF38: 1 | AH38: =IF(AF38>0,IF(AG38<($AC38-7),"EARLY",IF(AG38>N($AD38+7),"LATE","")),"") -> EARLY | AI38: 42200 | AJ38: 42247 | AK38: 1 | AM38: =IF(AK38>0,IF(AL38<($AI38-7),"EARLY",IF(AL38>N($AJ38+7),"LATE","")),"") -> EARLY | AN38: =IF(OR(S38<>"",V38<>"",Y38<>"",AB38<>"",AH38<>"",AM38<>""),"CHECK","") -> CHECK
B39: UT | C39: 10172200 | D39: Red Butte Creek at Ft Douglas, UT | F39: NO | I39: rotate4 | J39: Reference | K39: 19 | L39: 2014 | M39: A | N39: Riffle | O39: 42200 | P39: 42247 | Q39: 1 | S39: =IF(Q39>0,IF(R39<($O39-7),"EARLY",IF(R39>N($P39+7),"LATE","")),"") -> EARLY | T39: 0 | V39: =IF(T39>0,IF(U39<($O39-7),"EARLY",IF(U39>N($P39+7),"LATE","")),"") | W39: 1 | Y39: =IF(W39>0,IF(X39<($O39-7),"EARLY",IF(X39>N($P39+7),"LATE","")),"") -> EARLY | Z39: 1 | AB39: =IF(Z39>0,IF(AA39<($O39-7),"EARLY",IF(AA39>N($P39+7),"LATE","")),"") -> EARLY | AF39: 0 | AH39: =IF(AF39>0,IF(AG39<($AC39-7),"EARLY",IF(AG39>N($AD39+7),"LATE","")),"") | AI39: 42200 | AJ39: 42247 | AK39: 1 | AM39: =IF(AK39>0,IF(AL39<($AI39-7),"EARLY",IF(AL39>N($AJ39+7),"LATE","")),"") -> EARLY | AN39: =IF(OR(S39<>"",V39<>"",Y39<>"",AB39<>"",AH39<>"",AM39<>""),"CHECK","") -> CHECK | AO39: No fish collected at this site (only fish present are those stocked by the State).
B40: WA | C40: 12505450 | D40: Granger Drain at Granger, WA | E40: Bob Black | F40: Yes | I40: rotate4 | J40: Agricultural | K40: 10 | L40: 2014 | M40: A | N40: Riffle | O40: 42217 | P40: 42262 | Q40: 1 | S40: =IF(Q40>0,IF(R40<($O40-7),"EARLY",IF(R40>N($P40+7),"LATE","")),"") -> EARLY | T40: 0 | V40: =IF(T40>0,IF(U40<($O40-7),"EARLY",IF(U40>N($P40+7),"LATE","")),"") | W40: 1 | Y40: =IF(W40>0,IF(X40<($O40-7),"EARLY",IF(X40>N($P40+7),"LATE","")),"") -> EARLY | Z40: 1 | AB40: =IF(Z40>0,IF(AA40<($O40-7),"EARLY",IF(AA40>N($P40+7),"LATE","")),"") -> EARLY | AC40: 42217 | AD40: 42262 | AF40: 1 | AH40: =IF(AF40>0,IF(AG40<($AC40-7),"EARLY",IF(AG40>N($AD40+7),"LATE","")),"") -> EARLY | AI40: 42217 | AJ40: 42262 | AK40: 1 | AM40: =IF(AK40>0,IF(AL40<($AI40-7),"EARLY",IF(AL40>N($AJ40+7),"LATE","")),"") -> EARLY | AN40: =IF(OR(S40<>"",V40<>"",Y40<>"",AB40<>"",AH40<>"",AM40<>""),"CHECK","") -> CHECK
B41: WA | C41: 12056500 | D41: North Fork Skokomish River near Hoodsport, WA | F41: Yes | I41: eco_only | J41: Reference | K41: 1 | L41: 2014 | M41: A | N41: Riffle | O41: 42231 | P41: 42277 | Q41: 1 | S41: =IF(Q41>0,IF(R41<($O41-7),"EARLY",IF(R41>N($P41+7),"LATE","")),"") -> EARLY | T41: 0 | V41: =IF(T41>0,IF(U41<($O41-7),"EARLY",IF(U41>N($P41+7),"LATE","")),"") | W41: 1 | Y41: =IF(W41>0,IF(X41<($O41-7),"EARLY",IF(X41>N($P41+7),"LATE","")),"") -> EARLY | Z41: 1 | AB41: =IF(Z41>0,IF(AA41<($O41-7),"EARLY",IF(AA41>N($P41+7),"LATE","")),"") -> EARLY | AF41: 0 | AH41: =IF(AF41>0,IF(AG41<($AC41-7),"EARLY",IF(AG41>N($AD41+7),"LATE","")),"") | AI41: 42231 | AJ41: 42277 | AK41: 1 | AM41: =IF(AK41>0,IF(AL41<($AI41-7),"EARLY",IF(AL41>N($AJ41+7),"LATE","")),"") -> EARLY | AN41: =IF(OR(S41<>"",V41<>"",Y41<>"",AB41<>"",AH41<>"",AM41<>""),"CHECK","") -> CHECK | AO41: No fish collected at this site
...

Sheet Sample counts
A1: SC Collecting Samples | B1: Suspended Sediment Samples | C1: SH 998/1201 Major Ion Samples | D1: SH 998/1201 Major Ions Blanks | E1: SH 2430/31/32 Nutrients Samples | F1: Nutrient Blanks | G1: SH2437 Pesticide Samples | H1: SH2437 Pesticide Blanks | I1: LC 2172 Inverts RTH | J1: LC 2176 Inverts QMH | K1: Algae RTH | L1: SH 1632 Chl a
A2: AL | B2: ='WY2015 NFSN Chem Sampling'!$N$7+'WY2015 NFSN Chem Sampling'!$P$7 -> 34 | C2: ='WY2015 NFSN Chem Sampling'!$R$7+'WY2015 NFSN Chem Sampling'!$T$7 -> 34 | D2: ='WY2015 NFSN Chem Sampling'!$V$7 -> 2 | E2: ='WY2015 NFSN Chem Sampling'!$X$7+'WY2015 NFSN Chem Sampling'!$Z$7 -> 34 | F2: ='WY2015 NFSN Chem Sampling'!$AB$7 -> 2 | G2: ='WY2015 NFSN Chem Sampling'!AF7+'WY2015 NFSN Chem Sampling'!AJ7+'WY2015 NFSN Chem Sampling'!AL7 -> 36 | H2: ='WY2015 NFSN Chem Sampling'!$AH$7 -> 2 | I2: 0 | J2: 0 | K2: 0 | L2: 0
A3: AK | B3: ='WY2015 NFSN Chem Sampling'!$N$10+'WY2015 NFSN Chem Sampling'!$P$10 -> 8 | C3: ='WY2015 NFSN Chem Sampling'!$R$10+'WY2015 NFSN Chem Sampling'!$T$10 -> 8 | D3: ='WY2015 NFSN Chem Sampling'!$V$10 -> 0 | E3: ='WY2015 NFSN Chem Sampling'!$X$10+'WY2015 NFSN Chem Sampling'!$Z$10 -> 8 | F3: ='WY2015 NFSN Chem Sampling'!$AB$10 -> 0 | G3: ='WY2015 NFSN Chem Sampling'!AF10+'WY2015 NFSN Chem Sampling'!AJ10+'WY2015 NFSN Chem Sampling'!AL10 -> 3 | H3: ='WY2015 NFSN Chem Sampling'!$AH$10 -> 1 | I3: 0 | J3: 0 | K3: 0 | L3: 0
A4: AZ | B4: ='WY2015 NFSN Chem Sampling'!$N$16+'WY2015 NFSN Chem Sampling'!$P$16 -> 42 | C4: ='WY2015 NFSN Chem Sampling'!$R$16+'WY2015 NFSN Chem Sampling'!$T$16 -> 41 | D4: ='WY2015 NFSN Chem Sampling'!$V$16 -> 3 | E4: ='WY2015 NFSN Chem Sampling'!$X$16+'WY2015 NFSN Chem Sampling'!$Z$16 -> 41 | F4: ='WY2015 NFSN Chem Sampling'!$AB$16 -> 3 | G4: ='WY2015 NFSN Chem Sampling'!AF16+'WY2015 NFSN Chem Sampling'!AJ16+'WY2015 NFSN Chem Sampling'!AL16 -> 30 | H4: ='WY2015 NFSN Chem Sampling'!$AH$16 -> 2 | I4: ='WY2015 NFSN Eco Sampling'!$Q$5+'WY2015 NFSN Eco Sampling'!$Q$6 -> 2 | J4: ='WY2015 NFSN Eco Sampling'!$T$5+'WY2015 NFSN Eco Sampling'!$T$6 -> 0 | K4: ='WY2015 NFSN Eco Sampling'!$W$5+'WY2015 NFSN Eco Sampling'!$W$6 -> 2 | L4: ='WY2015 NFSN Eco Sampling'!$Z$5+'WY2015 NFSN Eco Sampling'!$Z$6 -> 2
A5: AR | B5: ='WY2015 NFSN Chem Sampling'!$N$21+'WY2015 NFSN Chem Sampling'!$P$21 -> 29 | C5: ='WY2015 NFSN Chem Sampling'!$R$21+'WY2015 NFSN Chem Sampling'!$T$21 -> 28 | D5: ='WY2015 NFSN Chem Sampling'!$V$21 -> 2 | E5: ='WY2015 NFSN Chem Sampling'!$X$21+'WY2015 NFSN Chem Sampling'!$Z$21 -> 28 | F5: ='WY2015 NFSN Chem Sampling'!$AB$21 -> 2 | G5: ='WY2015 NFSN Chem Sampling'!AF21+'WY2015 NFSN Chem Sampling'!AJ21+'WY2015 NFSN Chem Sampling'!AL21 -> 16 | H5: ='WY2015 NFSN Chem Sampling'!$AH$21 -> 1 | I5: ='WY2015 NFSN Eco Sampling'!$Q$7+'WY2015 NFSN Eco Sampling'!$Q$8 -> 2 | J5: ='WY2015 NFSN Eco Sampling'!$T$7+'WY2015 NFSN Eco Sampling'!$T$8 -> 0 | K5: ='WY2015 NFSN Eco Sampling'!$W$7+'WY2015 NFSN Eco Sampling'!$W$8 -> 2 | L5: ='WY2015 NFSN Eco Sampling'!$Z$7+'WY2015 NFSN Eco Sampling'!$Z$8 -> 2
A6: CA | B6: ='WY2015 NFSN Chem Sampling'!$N$30+'WY2015 NFSN Chem Sampling'!$P$30 -> 67 | C6: ='WY2015 NFSN Chem Sampling'!$R$30+'WY2015 NFSN Chem Sampling'!$T$30 -> 66 | D6: ='WY2015 NFSN Chem Sampling'!$V$30 -> 5 | E6: ='WY2015 NFSN Chem Sampling'!$X$30+'WY2015 NFSN Chem Sampling'!$Z$30 -> 66 | F6: ='WY2015 NFSN Chem Sampling'!$AB$30 -> 5 | G6: ='WY2015 NFSN Chem Sampling'!AF30+'WY2015 NFSN Chem Sampling'!AJ30+'WY2015 NFSN Chem Sampling'!AL30 -> 56 | H6: ='WY2015 NFSN Chem Sampling'!$AH$30 -> 3 | I6: 2 | J6: ='WY2015 NFSN Eco Sampling'!$T$9+'WY2015 NFSN Eco Sampling'!$T$10+'WY2015 NFSN Eco Sampling'!$T$11 -> 0 | K6: ='WY2015 NFSN Eco Sampling'!$W$9+'WY2015 NFSN Eco Sampling'!$W$10+'WY2015 NFSN Eco Sampling'!$W$11 -> 2 | L6: ='WY2015 NFSN Eco Sampling'!$Z$9+'WY2015 NFSN Eco Sampling'!$Z$10+'WY2015 NFSN Eco Sampling'!$Z$11 -> 2
A7: CO | B7: ='WY2015 NFSN Chem Sampling'!$N$35+'WY2015 NFSN Chem Sampling'!$P$35 -> 63 | C7: ='WY2015 NFSN Chem Sampling'!$R$35+'WY2015 NFSN Chem Sampling'!$T$35 -> 63 | D7: ='WY2015 NFSN Chem Sampling'!$V$35 -> 3 | E7: ='WY2015 NFSN Chem Sampling'!$X$35+'WY2015 NFSN Chem Sampling'!$Z$35 -> 64 | F7: ='WY2015 NFSN Chem Sampling'!$AB$35 -> 4 | G7: ='WY2015 NFSN Chem Sampling'!AF35+'WY2015 NFSN Chem Sampling'!AJ35+'WY2015 NFSN Chem Sampling'!AL35 -> 66 | H7: ='WY2015 NFSN Chem Sampling'!$AH$35 -> 3 | I7: ='WY2015 NFSN Eco Sampling'!$Q$12 -> 1 | J7: ='WY2015 NFSN Eco Sampling'!$T$12 -> 0 | K7: ='WY2015 NFSN Eco Sampling'!$W$12 -> 1 | L7: ='WY2015 NFSN Eco Sampling'!$Z$12 -> 1
A8: CT | B8: ='WY2015 NFSN Chem Sampling'!$N$40+'WY2015 NFSN Chem Sampling'!$P$40 -> 51 | C8: ='WY2015 NFSN Chem Sampling'!$R$40+'WY2015 NFSN Chem Sampling'!$T$40 -> 51 | D8: ='WY2015 NFSN Chem Sampling'!$V$40 -> 2 | E8: ='WY2015 NFSN Chem Sampling'!$X$40+'WY2015 NFSN Chem Sampling'!$Z$40 -> 52 | F8: ='WY2015 NFSN Chem Sampling'!$AB$40 -> 3 | G8: ='WY2015 NFSN Chem Sampling'!AF40+'WY2015 NFSN Chem Sampling'!AJ40+'WY2015 NFSN Chem Sampling'!AL40 -> 46 | H8: ='WY2015 NFSN Chem Sampling'!$AH$40 -> 2 | I8: ='WY2015 NFSN Eco Sampling'!$Q$13+'WY2015 NFSN Eco Sampling'!$Q$14 -> 2 | J8: ='WY2015 NFSN Eco Sampling'!$T$13+'WY2015 NFSN Eco Sampling'!$T$14 -> 0 | K8: ='WY2015 NFSN Eco Sampling'!$W$13+'WY2015 NFSN Eco Sampling'!$W$14 -> 2 | L8: ='WY2015 NFSN Eco Sampling'!$Z$13+'WY2015 NFSN Eco Sampling'!$Z$14 -> 2
A9: FL | B9: ='WY2015 NFSN Chem Sampling'!$N$43+'WY2015 NFSN Chem Sampling'!$P$43 -> 15 | C9: ='WY2015 NFSN Chem Sampling'!$R$43+'WY2015 NFSN Chem Sampling'!$T$43 -> 15 | D9: ='WY2015 NFSN Chem Sampling'!$V$43 -> 1 | E9: ='WY2015 NFSN Chem Sampling'!$X$43+'WY2015 NFSN Chem Sampling'!$Z$43 -> 15 | F9: ='WY2015 NFSN Chem Sampling'!$AB$43 -> 1 | G9: ='WY2015 NFSN Chem Sampling'!AF43+'WY2015 NFSN Chem Sampling'!AJ43+'WY2015 NFSN Chem Sampling'!AL43 -> 16 | H9: ='WY2015 NFSN Chem Sampling'!$AH$43 -> 1 | I9: 0 | J9: 0 | K9: 0 | L9: 0
A10: GA | B10: ='WY2015 NFSN Chem Sampling'!$N$49+'WY2015 NFSN Chem Sampling'!$P$49 -> 66 | C10: ='WY2015 NFSN Chem Sampling'!$R$49+'WY2015 NFSN Chem Sampling'!$T$49 -> 65 | D10: ='WY2015 NFSN Chem Sampling'!$V$49 -> 4 | E10: ='WY2015 NFSN Chem Sampling'!$X$49+'WY2015 NFSN Chem Sampling'!$Z$49 -> 66 | F10: ='WY2015 NFSN Chem Sampling'!$AB$49 -> 5 | G10: ='WY2015 NFSN Chem Sampling'!AF49+'WY2015 NFSN Chem Sampling'!AJ49+'WY2015 NFSN Chem Sampling'!AL49 -> 62 | H10: ='WY2015 NFSN Chem Sampling'!$AH$49 -> 3 | I10: ='WY2015 NFSN Eco Sampling'!$Q$15+'WY2015 NFSN Eco Sampling'!$Q$16 -> 2 | J10: ='WY2015 NFSN Eco Sampling'!$T$15+'WY2015 NFSN Eco Sampling'!$T$16 -> 0 | K10: ='WY2015 NFSN Eco Sampling'!$W$15+'WY2015 NFSN Eco Sampling'!$W$16 -> 2 | L10: ='WY2015 NFSN Eco Sampling'!$Z$15+'WY2015 NFSN Eco Sampling'!$Z$16 -> 2
A11: ID | B11: ='WY2015 NFSN Chem Sampling'!$N$54+'WY2015 NFSN Chem Sampling'!$P$54 -> 59 | C11: ='WY2015 NFSN Chem Sampling'!$R$54+'WY2015 NFSN Chem Sampling'!$T$54 -> 59 | D11: ='WY2015 NFSN Chem Sampling'!$V$54 -> 3 | E11: ='WY2015 NFSN Chem Sampling'!$X$54+'WY2015 NFSN Chem Sampling'!$Z$54 -> 60 | F11: ='WY2015 NFSN Chem Sampling'!$AB$54 -> 4 | G11: ='WY2015 NFSN Chem Sampling'!AF54+'WY2015 NFSN Chem Sampling'!AJ54+'WY2015 NFSN Chem Sampling'!AL54 -> 62 | H11: ='WY2015 NFSN Chem Sampling'!$AH$54 -> 3 | I11: ='WY2015 NFSN Eco Sampling'!$Q$17 -> 1 | J11: ='WY2015 NFSN Eco Sampling'!$T$17 -> 0 | K11: ='WY2015 NFSN Eco Sampling'!$W$17 -> 1 | L11: ='WY2015 NFSN Eco Sampling'!$Z$17 -> 1
A12: IL | B12: ='WY2015 NFSN Chem Sampling'!$N$57+'WY2015 NFSN Chem Sampling'!$P$57 -> 15 | C12: ='WY2015 NFSN Chem Sampling'!$R$57+'WY2015 NFSN Chem Sampling'!$T$57 -> 15 | D12: ='WY2015 NFSN Chem Sampling'!$V$57 -> 1 | E12: ='WY2015 NFSN Chem Sampling'!$X$57+'WY2015 NFSN Chem Sampling'!$Z$57 -> 15 | F12: ='WY2015 NFSN Chem Sampling'!$AB$57 -> 1 | G12: ='WY2015 NFSN Chem Sampling'!AF57+'WY2015 NFSN Chem Sampling'!AJ57+'WY2015 NFSN Chem Sampling'!AL57 -> 16 | H12: ='WY2015 NFSN Chem Sampling'!$AH$57 -> 1 | I12: 0 | J12: 0 | K12: 0 | L12: 0
A13: IN | B13: ='WY2015 NFSN Chem Sampling'!$N$61+'WY2015 NFSN Chem Sampling'!$P$61 -> 44 | C13: ='WY2015 NFSN Chem Sampling'!$R$61+'WY2015 NFSN Chem Sampling'!$T$61 -> 44 | D13: ='WY2015 NFSN Chem Sampling'!$V$61 -> 2 | E13: ='WY2015 NFSN Chem Sampling'!$X$61+'WY2015 NFSN Chem Sampling'!$Z$61 -> 45 | F13: ='WY2015 NFSN Chem Sampling'!$AB$61 -> 3 | G13: ='WY2015 NFSN Chem Sampling'!AF61+'WY2015 NFSN Chem Sampling'!AJ61+'WY2015 NFSN Chem Sampling'!AL61 -> 46 | H13: ='WY2015 NFSN Chem Sampling'!$AH$61 -> 2 | I13: ='WY2015 NFSN Eco Sampling'!$Q$18 -> 1 | J13: ='WY2015 NFSN Eco Sampling'!$T$18 -> 0 | K13: ='WY2015 NFSN Eco Sampling'!$W$18 -> 1 | L13: ='WY2015 NFSN Eco Sampling'!$Z$18 -> 1
A14: IA | B14: ='WY2015 NFSN Chem Sampling'!$N$68+'WY2015 NFSN Chem Sampling'!$P$68 -> 85 | C14: ='WY2015 NFSN Chem Sampling'!$R$68+'WY2015 NFSN Chem Sampling'!$T$68 -> 85 | D14: ='WY2015 NFSN Chem Sampling'!$V$68 -> 5 | E14: ='WY2015 NFSN Chem Sampling'!$X$68+'WY2015 NFSN Chem Sampling'!$Z$68 -> 86 | F14: ='WY2015 NFSN Chem Sampling'!$AB$68 -> 6 | G14: ='WY2015 NFSN Chem Sampling'!AF68+'WY2015 NFSN Chem Sampling'!AJ68+'WY2015 NFSN Chem Sampling'!AL68 -> 90 | H14: ='WY2015 NFSN Chem Sampling'!$AH$68 -> 5 | I14: ='WY2015 NFSN Eco Sampling'!$Q$19 -> 1 | J14: ='WY2015 NFSN Eco Sampling'!$T$19 -> 0 | K14: ='WY2015 NFSN Eco Sampling'!$W$19 -> 1 | L14: ='WY2015 NFSN Eco Sampling'!$Z$19 -> 1
A15: KS | B15: ='WY2015 NFSN Chem Sampling'!$N$72+'WY2015 NFSN Chem Sampling'!$P$72 -> 34 | C15: ='WY2015 NFSN Chem Sampling'!$R$72+'WY2015 NFSN Chem Sampling'!$T$72 -> 34 | D15: ='WY2015 NFSN Chem Sampling'!$V$72 -> 2 | E15: ='WY2015 NFSN Chem Sampling'!$X$72+'WY2015 NFSN Chem Sampling'!$Z$72 -> 34 | F15: ='WY2015 NFSN Chem Sampling'!$AB$72 -> 2 | G15: ='WY2015 NFSN Chem Sampling'!AF72+'WY2015 NFSN Chem Sampling'!AJ72+'WY2015 NFSN Chem Sampling'!AL72 -> 36 | H15: ='WY2015 NFSN Chem Sampling'!$AH$72 -> 2 | I15: 0 | J15: 0 | K15: 0 | L15: 0
A16: KY | B16: ='WY2015 NFSN Chem Sampling'!$N$78+'WY2015 NFSN Chem Sampling'!$P$78 -> 60 | C16: ='WY2015 NFSN Chem Sampling'!$R$78+'WY2015 NFSN Chem Sampling'!$T$78 -> 60 | D16: ='WY2015 NFSN Chem Sampling'!$V$78 -> 4 | E16: ='WY2015 NFSN Chem Sampling'!$X$78+'WY2015 NFSN Chem Sampling'!$Z$78 -> 60 | F16: ='WY2015 NFSN Chem Sampling'!$AB$78 -> 4 | G16: ='WY2015 NFSN Chem Sampling'!AF78+'WY2015 NFSN Chem Sampling'!AJ78+'WY2015 NFSN Chem Sampling'!AL78 -> 64 | H16: ='WY2015 NFSN Chem Sampling'!$AH$78 -> 4 | I16: 0 | J16: 0 | K16: 0 | L16: 0
