Workbook

Sheet WY2014 NFSN Chem Sampling
A1: Last update | B1: Science Center (SC) Collecting Samples | C1: Water Year | D1: 41499 | F1: Cycle 2 Site Type | G1: Cycle 3 Site Type | H1: Cycle 3 Program | I1: Cycle 3 Network Code | J1: Daily Streamflow | L1: Continuous QW monitoring | O1: Suspended Sediment (conc. + sand/fine) | S1: Major Ions (schedules 998/1201) | Y1: Nutrients (schedules 2430/2431/2432) | AC1: Nutrient blanks (Inorganic analytes)* | AE1: Nutrient blanks (Organic analytes)* | AG1: Pesticides (schedule 2437) | AO1: Isotope samples (Ty Coplen) | AQ1: DOC fractionation samples (George Aiken) | AS1: Mercury Samples (George Aiken) | AU1: Tritium (Megan Young) | AW1: DNA samples (Byron Crump) | AY1: Comments | AZ1: Sampling Comments
D2: Primary STAID | E2: Site name | J2: Gage? | K2: Gross annual NAWQA cost | L2: Parameters | M2: Type | N2: Annual NAWQA cost | O2: Planned | P2: Collected | Q2: Planned reps | R2: Collected reps | S2: Planned (plus alkalinity) | T2: Collected (plus alkalinity) | U2: Planned reps | V2: Collected reps | W2: Planned blanks (IBW) | X2: Collected blanks | Y2: Planned | Z2: Collected | AA2: Planned reps | AB2: Collected reps | AC2: Planned blanks | AD2: Collected blanks | AE2: Planned blanks | AF2: Collected blanks | AG2: Planned | AH2: Collected | AI2: Planned blanks | AJ2: Collected blanks | AK2: Planned reps | AL2: Collected reps | AM2: Planned spikes | AN2: Collected spikes | AO2: Planned | AP2: Collected | AQ2: Planned | AR2: Collected | AS2: Planned | AT2: Collected | AU2: Planned | AV2: Collected | AW2: Planned | AX2: Collected | AY2: Comments | AZ2: Comments
B5: AL | C5: 2014 | D5: 02470500 | E5: Mobile River at Mt. Vernon, AL | F5: NASQAN | G5: Coastal River | H5: NASQAN | I5: nfsncoast | J5: yes | O5: 14 | Q5: 1 | S5: 14 | U5: 1 | W5: 1 | Y5: 14 | AA5: 1 | AC5: 1 | AE5: 1 | AG5: 14 | AI5: 1 | AK5: 1 | AM5: 1 | AO5: 14 | AQ5: 14 | AS5: 14 | AW5: 14
B6: AL | C6: 2014 | D6: 02469762 | E6: Tombigbee River near Coffeeville, AL | F6: rotate4 | G6: Large Inland River | H6: NAWQA | I6: nfsnlir | J6: yes | O6: 18 | Q6: 1 | S6: 18 | U6: 1 | W6: 1 | Y6: 18 | AA6: 1 | AC6: 1 | AE6: 1 | AG6: 18 | AI6: 1 | AK6: 1 | AM6: 1
B7: AL | E7: WSC sum | O7: =SUM(O5:O6) -> 32 | P7: =SUM(P5:P6) -> 0 | Q7: =SUM(Q5:Q6) -> 2 | R7: =SUM(R5:R6) -> 0 | S7: =SUM(S5:S6) -> 32 | T7: =SUM(T5:T6) -> 0 | U7: =SUM(U5:U6) -> 2 | V7: =SUM(V5:V6) -> 0 | ... AR7: =SUM(AR5:AR6) -> 0 | AU7: =SUM(AU5:AU6) -> 0 | AV7: =SUM(AV5:AV6) -> 0 | AW7: =SUM(AW5:AW6) -> 14 | AX7: =SUM(AX5:AX6) -> 0
B9: AK | C9: 2014 | D9: 15565447 | E9: Yukon River at Pilot Station, AK | F9: NASQAN | G9: Coastal River | H9: NASQAN | I9: nfsncoast | J9: yes | O9: 7 | Q9: 1 | S9: 7 | U9: 0 | W9: 1 | Y9: 7 | AA9: 0 | AC9: 1 | AE9: 1 | AG9: 3 | AI9: 1 | AO9: 7 | AQ9: 7 | AS9: 7 | AW9: 7
B10: AK | E10: WSC sum | O10: =SUM(O8:O9) -> 7 | P10: =SUM(P8:P9) -> 0 | Q10: =SUM(Q8:Q9) -> 1 | R10: =SUM(R8:R9) -> 0 | S10: =SUM(S8:S9) -> 7 | T10: =SUM(T8:T9) -> 0 | U10: =SUM(U8:U9) -> 0 | V10: =SUM(V8:V9) -> 0 | ... AR10: =SUM(AR8:AR9) -> 0 | AU10: =SUM(AU8:AU9) -> 0 | AV10: =SUM(AV8:AV9) -> 0 | AW10: =SUM(AW8:AW9) -> 7 | AX10: =SUM(AX8:AX9) -> 0
B12: AZ | C12: 2014 | D12: 09380000 | E12: Colorado River at Lees Ferry, AZ | F12: N/A | G12: Large Inland River | H12: NAWQA | I12: nfsnlir | J12: yes | L12: YES-COOP | O12: 14 | Q12: 1 | S12: 14 | U12: 1 | W12: 1 | Y12: 14 | AA12: 1 | AC12: 1 | AE12: 1 | AG12: 14 | AI12: 1 | AK12: 1 | AM12: 1
B13: AZ | C13: 2014 | D13: 09522000 | E13: Colorado River at NIB | F13: NASQAN | G13: Coastal River | H13: NASQAN | I13: nfsncoast | J13: yes | O13: 12 | Q13: 1 | S13: 12 | U13: 1 | W13: 1 | Y13: 12 | AA13: 1 | AC13: 1 | AE13: 1 | AG13: 12 | AI13: 1 | AK13: 1 | AM13: 1 | AO13: 12 | AQ13: 12 | AS13: 12 | AW13: 12
B14: AZ | C14: 2014 | D14: 09471000 | E14: San Pedro River at Charleston, AZ | F14: rotate4 | G14: Reference | H14: NAWQA | I14: nfsnref | J14: yes | O14: 6 | Q14: 1 | S14: 6 | U14: 1 | W14: 0 | Y14: 6 | AA14: 1 | AC14: 0 | AE14: 0 | AG14: 0
B15: AZ | C15: 2014 | D15: 09505800 | E15: West Clear Creek near Camp Verde, AZ | F15: rotate4 | G15: Reference | H15: NAWQA | I15: nfsnref | J15: yes | O15: 6 | Q15: 1 | S15: 6 | U15: 0 | W15: 1 | Y15: 6 | AA15: 0 | AC15: 1 | AE15: 1 | AG15: 0
B16: AZ | E16: WSC sum | O16: =SUM(O12:O15) -> 38 | P16: =SUM(P12:P15) -> 0 | Q16: =SUM(Q12:Q15) -> 4 | R16: =SUM(R12:R15) -> 0 | S16: =SUM(S12:S15) -> 38 | T16: =SUM(T12:T15) -> 0 | U16: =SUM(U12:U15) -> 3 | V16: =SUM(V12:V15) -> 0 | ... AR16: =SUM(AR12:AR15) -> 0 | AU16: =SUM(AU12:AU15) -> 0 | AV16: =SUM(AV12:AV15) -> 0 | AW16: =SUM(AW12:AW15) -> 12 | AX16: =SUM(AX12:AX15) -> 0
B18: AR | C18: 2014 | D18: 07263620 | E18: Arkansas River at Terry L&D below Little Rock, AR | F18: NASQAN | G18: Large Inland River | H18: NASQAN | I18: nfsnlir | J18: yes | K18: 5510 | O18: 14 | Q18: 1 | S18: 14 | U18: 1 | W18: 1 | Y18: 14 | AA18: 1 | AC18: 1 | AE18: 1 | AG18: 14 | AI18: 1 | AK18: 1 | AM18: 1 | AO18: 14 | AQ18: 14 | AW18: 14
B19: AR | C19: 2014 | D19: 07055646 | E19: Buffalo River near Boxley, AR | F19: rotate4 | G19: Reference | H19: NAWQA | I19: nfsnref | J19: yes | O19: 6 | Q19: 1 | S19: 6 | U19: 1 | W19: 0 | Y19: 6 | AA19: 1 | AC19: 0 | AE19: 0 | AG19: 0
B20: AR | C20: 2014 | D20: 07060710 | E20: North Sylamore Creek near Fifty Six, AR | F20: rotate4/HBN | G20: Reference | H20: NAWQA | I20: nfsnref | J20: yes | O20: 6 | Q20: 1 | S20: 6 | U20: 0 | W20: 1 | Y20: 6 | AA20: 0 | AC20: 1 | AE20: 1 | AG20: 0
B21: AR | E21: WSC sum | O21: =SUM(O18:O20) -> 26 | P21: =SUM(P18:P20) -> 0 | Q21: =SUM(Q18:Q20) -> 3 | R21: =SUM(R18:R20) -> 0 | S21: =SUM(S18:S20) -> 26 | T21: =SUM(T18:T20) -> 0 | U21: =SUM(U18:U20) -> 2 | V21: =SUM(V18:V20) -> 0 | ... AR21: =SUM(AR18:AR20) -> 0 | AU21: =SUM(AU18:AU20) -> 0 | AV21: =SUM(AV18:AV20) -> 0 | AW21: =SUM(AW18:AW20) -> 14 | AX21: =SUM(AX18:AX20) -> 0
B23: CA | C23: 2014 | D23: 11335000 | E23: Cosumnes River at Michigan Bar, CA | F23: eco_only | G23: Reference | H23: NAWQA | I23: nfsnref | J23: yes | O23: 6 | Q23: 1 | S23: 6 | U23: 1 | W23: 1 | Y23: 6 | AA23: 1 | AC23: 1 | AE23: 1 | AG23: 0
B24: CA | C24: 2014 | D24: 11274538 | E24: Orestimba Creek near Crows Landing, CA | F24: rotate4 | G24: Agriculture | H24: NAWQA | I24: nfsnag | J24: yes | K24: 22600 | L24: YES-COOP | O24: 16 | Q24: 1 | S24: 16 | U24: 1 | W24: 1 | Y24: 16 | AA24: 1 | AC24: 1 | AE24: 1 | AG24: 16 | AI24: 1 | AK24: 1 | AM24: 1 | AY24: if flows warrant, we will try (but can't guarantee) to provide funding for additional samples
B25: CA | C25: 2014 | D25: 11447650 | E25: Sacramento River a Freeport, CA | F25: rotate4/NASQAN | G25: Coastal River | H25: NAWQA | I25: nfsncoast | J25: yes | L25: YES-COOP | O25: 14 | Q25: 1 | S25: 14 | U25: 1 | W25: 1 | Y25: 14 | AA25: 1 | AC25: 1 | AE25: 1 | AG25: 14 | AI25: 1 | AK25: 1 | AM25: 1 | AO25: 14 | AQ25: 14 | AS25: 14 | AW25: 14
B26: CA | C26: 2014 | D26: 11303500 | E26: San Joaquin River near Vernalis, CA | F26: agcore | G26: Coastal River | H26: NAWQA | I26: nfsncoast | J26: yes | O26: 18 | Q26: 1 | S26: 18 | U26: 1 | W26: 1 | Y26: 18 | AA26: 1 | AC26: 1 | AE26: 1 | AG26: 18 | AI26: 1 | AK26: 1 | AM26: 1 | AO26: 18 | AQ26: 18 | AS26: 18 | AW26: 18
B27: CA | C27: 2014 | D27: 11264500 | E27: Merced River at Happy Isles Bridge nr Yosemite, CA | G27: Reference | H27: NAWQA | I27: nfsnref | J27: yes | O27: 6 | Q27: 1 | S27: 6 | U27: 1 | W27: 0 | Y27: 6 | AA27: 1 | AC27: 0 | AE27: 0 | AG27: 0
B28: CA | C28: 2014 | D28: 11049400 | E28: Santa Ana River above Seven Oaks Dam, CA | F28: eco_only | G28: Reference | H28: NAWQA | I28: nfsnref | J28: no | O28: 0 | S28: 0 | Y28: 0 | AG28: 0 | AY28: CA reference site switched to Merced R nr Yosemite beginning FY14
B29: CA | C29: 2014 | D29: 11074000 | E29: Santa Ana River below Prado Dam, CA | F29: urbcore | G29: Coastal River | H29: NAWQA | I29: nfsncoast | J29: yes | O29: 18 | Q29: 1 | S29: 18 | U29: 1 | W29: 1 | Y29: 18 | AA29: 1 | AC29: 1 | AE29: 1 | AG29: 18 | AI29: 1 | AK29: 1 | AM29: 1
B30: CA | E30: WSC sum | O30: =SUM(O23:O29) -> 78 | P30: =SUM(P23:P29) -> 0 | Q30: =SUM(Q23:Q29) -> 6 | R30: =SUM(R23:R29) -> 0 | S30: =SUM(S23:S29) -> 78 | T30: =SUM(T23:T29) -> 0 | U30: =SUM(U23:U29) -> 6 | V30: =SUM(V23:V29) -> 0 | ... AR30: =SUM(AR23:AR29) -> 0 | AU30: =SUM(AU23:AU29) -> 0 | AV30: =SUM(AV23:AV29) -> 0 | AW30: =SUM(AW23:AW29) -> 32 | AX30: =SUM(AX23:AX29) -> 0
B32: CO | C32: 2014 | D32: 06713500 | E32: Cherry Creek at Denver, CO | F32: rotate2 | G32: Urban | H32: NAWQA | I32: nfsnurb | J32: yes | O32: 24 | Q32: 1 | S32: 24 | U32: 1 | W32: 1 | Y32: 24 | AA32: 2 | AC32: 2 | AE32: 2 | AG32: 24 | AI32: 1 | AK32: 1 | AM32: 1
B33: CO | C33: 2014 | D33: 09163500 | E33: Colorado River near Colorado-Utah state line | F33: rotate4 | G33: Large Inland River | H33: NAWQA | I33: nfsnlir | J33: yes | L33: YES-COOP | O33: 18 | Q33: 1 | S33: 18 | U33: 1 | W33: 1 | Y33: 18 | AA33: 1 | AC33: 1 | AE33: 1 | AG33: 18 | AI33: 1 | AK33: 1 | AM33: 1
B34: CO | C34: 2014 | D34: 06754000 | E34: South Platte River near Kersey, CO | F34: rotate4 | G34: Large Inland River | H34: NAWQA | I34: nfsnlir | J34: yes | O34: 18 | Q34: 1 | S34: 18 | U34: 1 | W34: 1 | Y34: 18 | AA34: 1 | AC34: 1 | AE34: 1 | AG34: 18 | AI34: 1 | AK34: 1 | AM34: 1
B35: CO | E35: WSC sum | O35: =SUM(O32:O34) -> 60 | P35: =SUM(P32:P34) -> 0 | Q35: =SUM(Q32:Q34) -> 3 | R35: =SUM(R32:R34) -> 0 | S35: =SUM(S32:S34) -> 60 | T35: =SUM(T32:T34) -> 0 | U35: =SUM(U32:U34) -> 3 | V35: =SUM(V32:V34) -> 0 | ... AR35: =SUM(AR32:AR34) -> 0 | AU35: =SUM(AU32:AU34) -> 0 | AV35: =SUM(AV32:AV34) -> 0 | AW35: =SUM(AW32:AW34) -> 0 | AX35: =SUM(AX32:AX34) -> 0
B37: CT | C37: 2014 | D37: 01184000 | E37: Connecticut River at Thompsonville, CT | F37: rotate4 | G37: Coastal River | H37: NAWQA | I37: nfsncoast | J37: yes | O37: 18 | Q37: 1 | S37: 18 | U37: 1 | W37: 1 | Y37: 18 | AA37: 1 | AC37: 1 | AE37: 1 | AG37: 18 | AI37: 1 | AK37: 1 | AM37: 1
B38: CT | C38: 2014 | D38: 01170100 | E38: Green River near Colrain, MA | F38: rotate4 | G38: Reference | H38: NAWQA | I38: nfsnref | J38: yes | O38: 6 | Q38: 1 | S38: 6 | U38: 0 | W38: 1 | Y38: 6 | AA38: 0 | AC38: 1 | AE38: 1 | AG38: 0
B39: CT | C39: 2014 | D39: 01209710 | E39: Norwalk River at Winnipauk,CT | F39: rotate4 | G39: Urban | H39: NAWQA | I39: nfsnurb | J39: yes | O39: 24 | Q39: 1 | S39: 24 | U39: 1 | W39: 1 | Y39: 24 | AA39: 2 | AC39: 2 | AE39: 2 | AG39: 24 | AI39: 1 | AK39: 1 | AM39: 1
B40: CT | E40: WSC sum | O40: =SUM(O37:O39) -> 48 | P40: =SUM(P37:P39) -> 0 | Q40: =SUM(Q37:Q39) -> 3 | R40: =SUM(R37:R39) -> 0 | S40: =SUM(S37:S39) -> 48 | T40: =SUM(T37:T39) -> 0 | U40: =SUM(U37:U39) -> 2 | V40: =SUM(V37:V39) -> 0 | ... AR40: =SUM(AR37:AR39) -> 0 | AU40: =SUM(AU37:AU39) -> 0 | AV40: =SUM(AV37:AV39) -> 0 | AW40: =SUM(AW37:AW39) -> 0 | AX40: =SUM(AX37:AX39) -> 0
B42: FL | C42: 2014 | D42: 02359170 | E42: Apalachicola River near Sumatra, FL | F42: NMN | G42: Coastal River | H42: NMN | I42: nfsncoast | J42: yes | O42: 14 | Q42: 1 | S42: 14 | U42: 1 | W42: 1 | Y42: 14 | AA42: 1 | AC42: 1 | AE42: 1 | AG42: 14 | AI42: 1 | AK42: 1 | AM42: 1 | AO42: 14 | AQ42: 14 | AW42: 14
B43: FL | E43: WSC sum | O43: =SUM(O42) -> 14 | P43: =SUM(P41:P42) -> 0 | Q43: =SUM(Q41:Q42) -> 1 | R43: =SUM(R41:R42) -> 0 | S43: =SUM(S41:S42) -> 14 | T43: =SUM(T41:T42) -> 0 | U43: =SUM(U41:U42) -> 1 | V43: =SUM(V41:V42) -> 0 | W43: =SUM(W41:W42) -> 1 | ... AR43: =SUM(AR41:AR42) -> 0 | AU43: =SUM(AU41:AU42) -> 0 | AV43: =SUM(AV41:AV42) -> 0 | AW43: =SUM(AW41:AW42) -> 14 | AX43: =SUM(AX41:AX42) -> 0
B45: GA | C45: 2014 | D45: 02226160 | E45: Altamaha River at Everett City, GA | F45: NASQAN | G45: Coastal River | H45: NASQAN | I45: nfsncoast | J45: yes | K45: 24250 | O45: 14 | Q45: 1 | S45: 14 | U45: 1 | W45: 1 | Y45: 14 | AA45: 1 | AC45: 1 | AE45: 1 | AG45: 14 | AI45: 1 | AK45: 1 | AM45: 1 | AO45: 14 | AQ45: 14 | AS45: 14 | AW45: 14
B46: GA | C46: 2014 | D46: 02338523 | E46: Hillibahatchee Creek near Franklin, GA | F46: rotate4 | G46: Reference | H46: NAWQA | I46: nfsnref | J46: yes | K46: 15315 | O46: 6 | Q46: 1 | S46: 6 | U46: 1 | W46: 0 | Y46: 6 | AA46: 1 | AC46: 0 | AE46: 0 | AG46: 0
B47: GA | C47: 2014 | D47: 02335870 | E47: Sope Creek near Marietta, GA | F47: rotate2 | G47: Urban | H47: NAWQA | I47: nfsnurb | J47: yes | O47: 24 | Q47: 1 | S47: 24 | U47: 1 | W47: 1 | Y47: 24 | AA47: 2 | AC47: 2 | AE47: 2 | AG47: 24 | AI47: 1 | AK47: 1 | AM47: 1
B48: GA | E48: WSC sum | O48: =SUM(O45:O47) -> 44 | P48: =SUM(P45:P47) -> 0 | Q48: =SUM(Q45:Q47) -> 3 | R48: =SUM(R45:R47) -> 0 | S48: =SUM(S45:S47) -> 44 | T48: =SUM(T45:T47) -> 0 | U48: =SUM(U45:U47) -> 3 | V48: =SUM(V45:V47) -> 0 | ... AR48: =SUM(AR45:AR47) -> 0 | AU48: =SUM(AU45:AU47) -> 0 | AV48: =SUM(AV45:AV47) -> 0 | AW48: =SUM(AW45:AW47) -> 14 | AX48: =SUM(AX45:AX47) -> 0
B50: ID | C50: 2014 | D50: 13092747 | E50: Rock Creek at Twin Falls, ID | F50: rotate4 | G50: Agriculture | H50: NAWQA | I50: nfsnag | J50: yes | K50: 16955 | O50: 24 | Q50: 1 | S50: 24 | U50: 1 | W50: 1 | Y50: 24 | AA50: 2 | AC50: 2 | AE50: 2 | AG50: 24 | AI50: 1 | AK50: 1 | AM50: 1
B51: ID | C51: 2014 | D51: 13154500 | E51: Snake River at King Hill, ID | F51: rotate4 | G51: Large Inland River | H51: NAWQA | I51: nfsnlir | J51: yes | K51: 16955 | O51: 14 | Q51: 1 | S51: 14 | U51: 1 | W51: 1 | Y51: 14 | AA51: 1 | AC51: 1 | AE51: 1 | AG51: 14 | AI51: 1 | AK51: 1 | AM51: 1
B52: ID | E52: WSC sum | O52: =SUM(O50:O51) -> 38 | P52: =SUM(P50:P51) -> 0 | Q52: =SUM(Q50:Q51) -> 2 | R52: =SUM(R50:R51) -> 0 | S52: =SUM(S50:S51) -> 38 | T52: =SUM(T50:T51) -> 0 | U52: =SUM(U50:U51) -> 2 | V52: =SUM(V50:V51) -> 0 | ... AR52: =SUM(AR50:AR51) -> 0 | AU52: =SUM(AU50:AU51) -> 0 | AV52: =SUM(AV50:AV51) -> 0 | AW52: =SUM(AW50:AW51) -> 0 | AX52: =SUM(AX50:AX51) -> 0
B54: IL | C54: 2014 | D54: 05586100 | E54: Illinois River at Valley City, IL | F54: rotate 4/NASQAN | G54: Large Inland River | H54: NAWQA | I54: nfsnlir | J54: yes | L54: YES-COOP | O54: 14 | Q54: 1 | S54: 14 | U54: 1 | W54: 1 | Y54: 14 | AA54: 1 | AC54: 1 | AE54: 1 | AG54: 14 | AI54: 1 | AK54: 1 | AM54: 1 | AO54: 14 | AQ54: 14 | AW54: 14
B55: IL | E55: WSC sum | O55: =SUM(O54) -> 14 | P55: =SUM(P54) -> 0 | Q55: =SUM(Q54) -> 1 | R55: =SUM(R54) -> 0 | S55: =SUM(S54) -> 14 | T55: =SUM(T54) -> 0 | U55: =SUM(U54) -> 1 | V55: =SUM(V54) -> 0 | ... AR55: =SUM(AR54) -> 0 | AU55: =SUM(AU54) -> 0 | AV55: =SUM(AV54) -> 0 | AW55: =SUM(AW54) -> 14 | AX55: =SUM(AX54) -> 0
B57: IN | C57: 2014 | D57: 394340085524601 | E57: Sugar Creek at New Palestine, IN | F57: rotate2 | G57: Agriculture | H57: NAWQA | I57: nfsnag | J57: yes | K57: 10272 | O57: 24 | Q57: 1 | S57: 24 | U57: 1 | W57: 1 | Y57: 24 | AA57: 2 | AC57: 2 | AE57: 2 | AG57: 24 | AI57: 1 | AK57: 1 | AM57: 1
B58: IN | C58: 2014 | D58: 03374100 | E58: White River at Hazleton, IN | F58: agcore/NASQAN | G58: Large Inland River | H58: NAWQA | I58: nfsnlir | J58: yes | L58: YES-COOP | O58: 18 | Q58: 1 | S58: 18 | U58: 1 | W58: 1 | Y58: 18 | AA58: 1 | AC58: 1 | AE58: 1 | AG58: 18 | AI58: 1 | AK58: 1 | AM58: 1 | AO58: 18 | AQ58: 18 | AW58: 18
B59: IN | E59: WSC sum | O59: =SUM(O57:O58) -> 42 | P59: =SUM(P57:P58) -> 0 | Q59: =SUM(Q57:Q58) -> 2 | R59: =SUM(R57:R58) -> 0 | S59: =SUM(S57:S58) -> 42 | T59: =SUM(T57:T58) -> 0 | U59: =SUM(U57:U58) -> 2 | V59: =SUM(V57:V58) -> 0 | ... AR59: =SUM(AR57:AR58) -> 0 | AU59: =SUM(AU57:AU58) -> 0 | AV59: =SUM(AV57:AV58) -> 0 | AW59: =SUM(AW57:AW58) -> 18 | AX59: =SUM(AX57:AX58) -> 0
B61: IA | C61: 2014 | D61: 05420500 | E61: Mississippi River at Clinton, IA | F61: NASQAN | G61: Large Inland River | H61: NASQAN | I61: nfsnlir | J61: yes | O61: 14 | Q61: 1 | S61: 14 | U61: 1 | W61: 1 | Y61: 14 | AA61: 1 | AC61: 1 | AE61: 1 | AG61: 14 | AI61: 1 | AK61: 1 | AM61: 1 | AO61: 14 | AQ61: 14 | AW61: 14
B62: IA | C62: 2014 | D62: 06610000 | E62: Missouri River at Omaha, NE | F62: NASQAN | G62: Large Inland River | H62: NASQAN | I62: nfsnlir | J62: yes | O62: 14 | Q62: 1 | S62: 14 | U62: 1 | W62: 1 | Y62: 14 | AA62: 1 | AC62: 1 | AE62: 1 | AG62: 14 | AI62: 1 | AK62: 1 | AM62: 1 | AO62: 14 | AQ62: 14 | AU62: 14 | AW62: 14
B63: IA | C63: 2014 | D63: 05490500 | E63: Des Moines River at Keosauqua, IA | F63: agcore | G63: Large Inland River | H63: NASQAN | I63: nfsnlir | J63: yes | O63: 14 | Q63: 1 | S63: 14 | U63: 1 | W63: 1 | Y63: 14 | AA63: 1 | AC63: 1 | AE63: 1 | AG63: 14 | AI63: 1 | AK63: 1 | AM63: 1 | AO63: 14 | AQ63: 14 | AW63: 14
B64: IA | C64: 2014 | D64: 05465500 | E64: Iowa River at Wapello, IA | F64: agcore | G64: Large Inland River | H64: NASQAN | I64: nfsnlir | J64: yes | O64: 14 | Q64: 1 | S64: 14 | U64: 1 | W64: 1 | Y64: 14 | AA64: 1 | AC64: 1 | AE64: 1 | AG64: 14 | AI64: 1 | AK64: 1 | AM64: 1 | AO64: 14 | AQ64: 14 | AW64: 14
B65: IA | C65: 2014 | D65: 05451210 | E65: South Fork Iowa River near New Providence, IA | F65: rotate2 | G65: Agriculture | H65: NAWQA | I65: nfsnag | J65: yes | K65: 15090 | L65: YES-COOP | O65: 24 | Q65: 1 | S65: 24 | U65: 1 | W65: 1 | Y65: 24 | AA65: 2 | AC65: 2 | AE65: 2 | AG65: 24 | AI65: 1 | AK65: 1 | AM65: 1
B66: IA | E66: WSC sum | O66: =SUM(O61:O65) -> 80 | P66: =SUM(P61:P65) -> 0 | Q66: =SUM(Q61:Q65) -> 5 | R66: =SUM(R61:R65) -> 0 | S66: =SUM(S61:S65) -> 80 | T66: =SUM(T61:T65) -> 0 | U66: =SUM(U61:U65) -> 5 | V66: =SUM(V61:V65) -> 0 | ... AR66: =SUM(AR61:AR65) -> 0 | AU66: =SUM(AU61:AU65) -> 14 | AV66: =SUM(AV61:AV65) -> 0 | AW66: =SUM(AW61:AW65) -> 56 | AX66: =SUM(AX61:AX65) -> 0
B68: KS | C68: 2014 | D68: 06892350 | E68: Kansas River at DeSoto, KS | F68: N/A | G68: Large Inland River | H68: NAWQA | I68: nfsnlir | J68: yes | L68: YES-COOP | O68: 14 | Q68: 1 | S68: 14 | U68: 1 | W68: 1 | Y68: 14 | AA68: 1 | AC68: 1 | AE68: 1 | AG68: 14 | AI68: 1 | AK68: 1 | AM68: 1
B69: KS | C69: 2014 | D69: 07144100 | E69: Lower Arkansas River near Sedgwick, KS | F69: N/A | G69: Large Inland River | H69: NAWQA | I69: nfsnlir | J69: yes | L69: YES-COOP | O69: 18 | Q69: 1 | S69: 18 | U69: 1 | W69: 1 | Y69: 18 | AA69: 1 | AC69: 1 | AE69: 1 | AG69: 18 | AI69: 1 | AK69: 1 | AM69: 1
B70: KS | E70: WSC sum | O70: =SUM(O68:O69) -> 32 | P70: =SUM(P68:P69) -> 0 | Q70: =SUM(Q68:Q69) -> 2 | R70: =SUM(R68:R69) -> 0 | S70: =SUM(S68:S69) -> 32 | T70: =SUM(T68:T69) -> 0 | U70: =SUM(U68:U69) -> 2 | V70: =SUM(V68:V69) -> 0 | ... AR70: =SUM(AR68:AR69) -> 0 | AU70: =SUM(AU68:AU69) -> 0 | AV70: =SUM(AV68:AV69) -> 0 | AW70: =SUM(AW68:AW69) -> 0 | AX70: =SUM(AX68:AX69) -> 0
B72: KY | C72: 2014 | D72: 03303280 | E72: Ohio River at Cannelton Dam at Cannelton, IN | F72: NASQAN | G72: Large Inland River | H72: NASQAN | I72: nfsnlir | J72: yes | K72: 13500 | O72: 14 | Q72: 1 | S72: 14 | U72: 1 | W72: 1 | Y72: 14 | AA72: 1 | AC72: 1 | AE72: 1 | AG72: 14 | AI72: 1 | AK72: 1 | AM72: 1 | AO72: 14 | AQ72: 14 | AU72: 14 | AW72: 14
B73: KY | C73: 2014 | D73: 03378500 | E73: Wabash River at New Harmony, IN | F73: NASQAN | G73: Large Inland River | H73: NASQAN | I73: nfsnlir | J73: yes | O73: 14 | Q73: 1 | S73: 14 | U73: 1 | W73: 1 | Y73: 14 | AA73: 1 | AC73: 1 | AE73: 1 | AG73: 14 | AI73: 1 | AK73: 1 | AM73: 1 | AO73: 14 | AQ73: 14 | AW73: 14
B74: KY | C74: 2014 | D74: 03609750 | E74: Tennessee River at Highway 60 near Paducah, KY | F74: NASQAN | G74: Large Inland River | H74: NASQAN | I74: nfsnlir | J74: yes | K74: 13500 | O74: 14 | Q74: 1 | S74: 14 | U74: 1 | W74: 1 | Y74: 14 | AA74: 1 | AC74: 1 | AE74: 1 | AG74: 14 | AI74: 1 | AK74: 1 | AM74: 1 | AO74: 14 | AQ74: 14 | AW74: 14
B75: KY | C75: 2014 | D75: 03612500 | E75: Ohio River at Dam 53 near Grand Chain, IL | F75: NASQAN | G75: Large Inland River | H75: NASQAN | I75: nfsnlir | J75: yes | L75: YES | O75: 14 | Q75: 1 | S75: 14 | U75: 1 | W75: 1 | Y75: 14 | AA75: 1 | AC75: 1 | AE75: 1 | AG75: 14 | AI75: 1 | AK75: 1 | AM75: 1 | AO75: 14 | AQ75: 14 | AW75: 14
B76: KY | E76: WSC sum | O76: =SUM(O72:O75) -> 56 | P76: =SUM(P72:P75) -> 0 | Q76: =SUM(Q72:Q75) -> 4 | R76: =SUM(R72:R75) -> 0 | S76: =SUM(S72:S75) -> 56 | T76: =SUM(T72:T75) -> 0 | U76: =SUM(U72:U75) -> 4 | V76: =SUM(V72:V75) -> 0 | ... AR76: =SUM(AR72:AR75) -> 0 | AU76: =SUM(AU72:AU75) -> 14 | AV76: =SUM(AV72:AV75) -> 0 | AW76: =SUM(AW72:AW75) -> 56 | AX76: =SUM(AX72:AX75) -> 0
B78: LA | C78: 2014 | D78: 07373420 | E78: Mississippi River near St. Francisville, LA | F78: NASQAN | G78: Large Inland River | H78: NASQAN | I78: nfsnlir | J78: yes | O78: 16 | Q78: 1 | S78: 16 | U78: 1 | W78: 1 | Y78: 16 | AA78: 1 | AC78: 1 | AE78: 1 | AG78: 16 | AI78: 1 | AK78: 1 | AM78: 1 | AO78: 14 | AQ78: 14 | AW78: 14
B79: LA | C79: 2014 | D79: 07374000 | E79: Mississippi River at Baton Rouge, LA | F79: NASQAN | G79: Large Inland River | H79: NASQAN | I79: nfsnlir | J79: yes | L79: YES | O79: 14 | Q79: 1 | S79: 14 | U79: 1 | W79: 1 | Y79: 14 | AA79: 1 | AC79: 1 | AE79: 1 | AG79: 14 | AI79: 1 | AK79: 1 | AM79: 1 | AO79: 14 | AQ79: 14 | AW79: 14
B80: LA | C80: 2014 | D80: 07374525 | E80: Mississippi River at Belle Chasse, LA | F80: NASQAN | G80: Coastal River | H80: NASQAN | I80: nfsncoast | J80: yes | O80: 14 | Q80: 1 | S80: 14 | U80: 1 | W80: 1 | Y80: 14 | AA80: 1 | AC80: 1 | AE80: 1 | AG80: 14 | AI80: 1 | AK80: 1 | AM80: 1 | AO80: 14 | AQ80: 14 | AS80: 14 | AW80: 14
B81: LA | C81: 2014 | D81: 07381495 | E81: Atchafalaya River at Melville, LA | F81: NASQAN | G81: Large Inland River | H81: NASQAN | I81: nfsnlir | J81: yes | O81: 16 | Q81: 1 | S81: 16 | U81: 1 | W81: 1 | Y81: 16 | AA81: 1 | AC81: 1 | AE81: 1 | AG81: 16 | AI81: 1 | AK81: 1 | AM81: 1 | AO81: 14 | AQ81: 14 | AS81: 14 | AW81: 14
B82: LA | C82: 2014 | D82: 07381590 | E82: Wax Lake Outlet at Calumet, LA | F82: NASQAN | G82: Large Inland River | H82: NASQAN | I82: nfsnlir | J82: yes | O82: 14 | Q82: 1 | S82: 14 | U82: 1 | W82: 1 | Y82: 14 | AA82: 1 | AC82: 1 | AE82: 1 | AG82: 14 | AI82: 1 | AK82: 1 | AM82: 1 | AO82: 14 | AQ82: 14 | AW82: 14
B83: LA | C83: 2014 | D83: 07381600 | E83: Lower Atchafalaya River at Morgan City, LA | F83: NASQAN | G83: Coastal River | H83: NASQAN | I83: nfsncoast | J83: yes | O83: 14 | Q83: 1 | S83: 14 | U83: 1 | W83: 1 | Y83: 14 | AA83: 1 | AC83: 1 | AE83: 1 | AG83: 14 | AI83: 1 | AK83: 1 | AM83: 1 | AO83: 14 | AQ83: 14 | AW83: 14
B84: LA | C84: 2014 | D84: 08014500 | E84: Ouiska (Whiskey) Chitto Creek near Oberlin, LA | F84: rotate4 | G84: Reference | H84: NAWQA | I84: nfsnref | J84: yes | O84: 6 | Q84: 1 | S84: 6 | U84: 0 | W84: 1 | Y84: 6 | AA84: 0 | AC84: 1 | AE84: 1 | AG84: 0
B85: LA | E85: WSC sum | O85: =SUM(O78:O84) -> 94 | P85: =SUM(P78:P84) -> 0 | Q85: =SUM(Q78:Q84) -> 7 | R85: =SUM(R78:R84) -> 0 | S85: =SUM(S78:S84) -> 94 | T85: =SUM(T78:T84) -> 0 | U85: =SUM(U78:U84) -> 6 | V85: =SUM(V78:V84) -> 0 | ... AR85: =SUM(AR78:AR84) -> 0 | AU85: =SUM(AU78:AU84) -> 0 | AV85: =SUM(AV78:AV84) -> 0 | AW85: =SUM(AW78:AW84) -> 84 | AX85: =SUM(AX78:AX84) -> 0
B87: MD | C87: 2014 | D87: 01578310 | E87: Susquehanna River at Conowingo, MD | F87: NASQAN | G87: Coastal River | H87: NASQAN | I87: nfsncoast | J87: yes | O87: 14 | Q87: 1 | S87: 14 | U87: 1 | W87: 1 | Y87: 14 | AA87: 1 | AC87: 1 | AE87: 1 | AG87: 14 | AI87: 1 | AK87: 1 | AM87: 1 | AO87: 14 | AQ87: 14 | AW87: 14
B88: MD | C88: 2014 | D88: 01654000 | E88: Accotink Creek near Annandale, VA | F88: rotate2 | G88: Urban | H88: NAWQA | I88: nfsnurb | J88: yes | O88: 24 | Q88: 1 | S88: 24 | U88: 1 | W88: 1 | Y88: 24 | AA88: 2 | AC88: 2 | AE88: 2 | AG88: 24 | AI88: 1 | AK88: 1 | AM88: 1
B89: MD | C89: 2014 | D89: 01646580 | E89: Potomac River at Washington, DC | F89: agcore/NASQAN | G89: Coastal River | H89: NAWQA | I89: nfsncoast | J89: yes | L89: YES | O89: 18 | Q89: 1 | S89: 18 | U89: 1 | W89: 1 | Y89: 18 | AA89: 1 | AC89: 1 | AE89: 1 | AG89: 18 | AI89: 1 | AK89: 1 | AM89: 1 | AO89: 14 | AQ89: 14 | AS89: 14 | AW89: 14
B90: MD | C90: 2014 | D90: 01610400 | E90: Waites Run near Wardensville, WV | F90: rotate4 | G90: Reference | H90: NAWQA | I90: nfsnref | J90: yes | K90: 15300 | O90: 6 | Q90: 1 | S90: 6 | U90: 1 | W90: 0 | Y90: 6 | AA90: 1 | AC90: 0 | AE90: 0 | AG90: 0
B91: MD | E91: WSC sum | O91: =SUM(O87:O90) -> 62 | P91: =SUM(P87:P90) -> 0 | Q91: =SUM(Q87:Q90) -> 4 | R91: =SUM(R87:R90) -> 0 | S91: =SUM(S87:S90) -> 62 | T91: =SUM(T87:T90) -> 0 | U91: =SUM(U87:U90) -> 4 | V91: =SUM(V87:V90) -> 0 | ... AR91: =SUM(AR87:AR90) -> 0 | AU91: =SUM(AU87:AU90) -> 0 | AV91: =SUM(AV87:AV90) -> 0 | AW91: =SUM(AW87:AW90) -> 28 | AX91: =SUM(AX87:AX90) -> 0
B93: MI | C93: 2014 | D93: 04161820 | E93: Clinton River at Sterling Heights, MI | F93: rotate4 | G93: Urban | H93: NAWQA | I93: nfsnurb | J93: yes | K93: 16000 | O93: 24 | Q93: 1 | S93: 24 | U93: 1 | W93: 1 | Y93: 24 | AA93: 2 | AC93: 2 | AE93: 2 | AG93: 24 | AI93: 1 | AK93: 1 | AM93: 1
B94: MI | E94: WSC sum | O94: =SUM(O93:O93) -> 24 | P94: =SUM(P93:P93) -> 0 | Q94: =SUM(Q93:Q93) -> 1 | R94: =SUM(R93:R93) -> 0 | S94: =SUM(S93:S93) -> 24 | T94: =SUM(T93:T93) -> 0 | U94: =SUM(U93:U93) -> 1 | V94: =SUM(V93:V93) -> 0 | ... AR94: =SUM(AR93:AR93) -> 0 | AU94: =SUM(AU93:AU93) -> 0 | AV94: =SUM(AV93:AV93) -> 0 | AW94: =SUM(AW93:AW93) -> 0 | AX94: =SUM(AX93:AX93) -> 0
B96: MN | C96: 2014 | D96: 05288705 | E96: Shingle Creek at Minneapolis, MN | F96: rotate2 | G96: Urban | H96: NAWQA | I96: nfsnurb | J96: yes | K96: 10200 | O96: 24 | Q96: 1 | S96: 24 | U96: 1 | W96: 1 | Y96: 24 | AA96: 2 | AC96: 2 | AE96: 2 | AG96: 24 | AI96: 1 | AK96: 1 | AM96: 1
B97: MN | C97: 2014 | D97: 05331580 | E97: Mississippi River at Hastings, MN | F97: rotate4 | G97: Large Inland River | H97: NAWQA | I97: nfsnlir | J97: yes | K97: 3900 | O97: 14 | Q97: 1 | S97: 14 | U97: 1 | W97: 1 | Y97: 14 | AA97: 1 | AC97: 1 | AE97: 1 | AG97: 14 | AI97: 1 | AK97: 1 | AM97: 1
B98: MN | E98: WSC sum | O98: =SUM(O96:O97) -> 38 | P98: =SUM(P96:P97) -> 0 | Q98: =SUM(Q96:Q97) -> 2 | R98: =SUM(R96:R97) -> 0 | S98: =SUM(S96:S97) -> 38 | T98: =SUM(T96:T97) -> 0 | U98: =SUM(U96:U97) -> 2 | V98: =SUM(V96:V97) -> 0 | ... AR98: =SUM(AR96:AR97) -> 0 | AU98: =SUM(AU96:AU97) -> 0 | AV98: =SUM(AV96:AV97) -> 0 | AW98: =SUM(AW96:AW97) -> 0 | AX98: =SUM(AX96:AX97) -> 0
B100: MS | C100: 2014 | D100: 322023090544500 | E100: Mississippi River above Vicksburg, MS | F100: NMN | G100: Large Inland River | H100: NMN | I100: nfsnlir | J100: yes | K100: 3150 | O100: 14 | Q100: 1 | S100: 14 | U100: 1 | W100: 1 | Y100: 14 | AA100: 1 | AC100: 1 | AE100: 1 | AG100: 14 | AI100: 1 | AK100: 1 | AM100: 1 | AO100: 14 | AQ100: 14 | AU100: 14 | AW100: 14
B101: MS | C101: 2014 | D101: 07288650 | E101: Bogue Phalia near Leland, MS | F101: ACT site | G101: Agriculture | H101: NAWQA | I101: nfsnag | J101: yes | O101: 24 | Q101: 1 | S101: 24 | U101: 1 | W101: 1 | Y101: 24 | AA101: 2 | AC101: 2 | AE101: 2 | AG101: 24 | AI101: 1 | AK101: 1 | AM101: 1
B102: MS | C102: 2014 | D102: 07288955 | E102: Yazoo River near Long Lake, MS | F102: agcore/NASQAN | G102: Large Inland River | H102: NAWQA | I102: nfsnlir | J102: yes | O102: 18 | Q102: 1 | S102: 18 | U102: 1 | W102: 1 | Y102: 18 | AA102: 1 | AC102: 1 | AE102: 1 | AG102: 18 | AI102: 1 | AK102: 1 | AM102: 1 | AQ102: 18 | AW102: 18
B103: MS | E103: WSC sum | O103: =SUM(O100:O102) -> 56 | P103: =SUM(P100:P102) -> 0 | Q103: =SUM(Q100:Q102) -> 3 | R103: =SUM(R100:R102) -> 0 | S103: =SUM(S100:S102) -> 56 | T103: =SUM(T100:T102) -> 0 | U103: =SUM(U100:U102) -> 3 | V103: =SUM(V100:V102) -> 0 | ... AR103: =SUM(AR100:AR102) -> 0 | AU103: =SUM(AU100:AU102) -> 14 | AV103: =SUM(AV100:AV102) -> 0 | AW103: =SUM(AW100:AW102) -> 32 | AX103: =SUM(AX100:AX102) -> 0
B105: MO | C105: 2014 | D105: 07022000 | E105: Mississippi River at Thebes, IL | F105: NASQAN | G105: Large Inland River | H105: NASQAN | I105: nfsnlir | J105: yes | O105: 14 | Q105: 1 | S105: 14 | U105: 1 | W105: 1 | Y105: 14 | AA105: 1 | AC105: 1 | AE105: 1 | AG105: 14 | AI105: 1 | AK105: 1 | AM105: 1 | AO105: 14 | AQ105: 14 | AW105: 14
B106: MO | C106: 2014 | D106: 05587455 | E106: Mississippi River Below Grafton, IL | F106: NASQAN | G106: Large Inland River | H106: NASQAN | I106: nfsnlir | J106: yes | O106: 14 | Q106: 1 | S106: 14 | U106: 1 | W106: 1 | Y106: 14 | AA106: 1 | AC106: 1 | AE106: 1 | AG106: 14 | AI106: 1 | AK106: 1 | AM106: 1 | AO106: 14 | AQ106: 14 | AW106: 14 | AY106: co-op site; will use S86, S1630, and S1904 in place of S2431
B107: MO | C107: 2014 | D107: 06934500 | E107: Missouri River at Hermann, MO | F107: NASQAN | G107: Large Inland River | H107: NASQAN | I107: nfsnlir | J107: yes | L107: YES | O107: 14 | Q107: 1 | S107: 14 | U107: 1 | W107: 1 | Y107: 14 | AA107: 1 | AC107: 1 | AE107: 1 | AG107: 14 | AI107: 1 | AK107: 1 | AM107: 1 | AO107: 14 | AQ107: 14 | AW107: 14
B108: MO | E108: WSC sum | O108: =SUM(O105:O107) -> 42 | P108: =SUM(P105:P107) -> 0 | Q108: =SUM(Q105:Q107) -> 3 | R108: =SUM(R105:R107) -> 0 | S108: =SUM(S105:S107) -> 42 | T108: =SUM(T107) -> 0 | U108: =SUM(U105:U107) -> 3 | V108: =SUM(V107) -> 0 | W108: =SUM(W105:W107) -> 3 | X108: =SUM(X107) -> 0 | Y108: =SUM(Y105:Y107) -> 42 | Z108: =SUM(Z107) -> 0 | AA108: =SUM(AA105:AA107) -> 3 | AB108: =SUM(AB107) -> 0 | AC108: =SUM(AC105:AC107) -> 3 | AD108: =SUM(AD107) -> 0 | AE108: =SUM(AE105:AE107) -> 3 | AF108: =SUM(AF107) -> 0 | AG108: =SUM(AG105:AG107) -> 42 | AH108: =SUM(AH105:AH107) -> 0 | AI108: =SUM(AI105:AI107) -> 3 | AJ108: =SUM(AJ105:AJ107) -> 0 | AK108: =SUM(AK105:AK107) -> 3 | AL108: =SUM(AL105:AL107) -> 0 | AM108: =SUM(AM105:AM107) -> 3 | AN108: =SUM(AN107) -> 0 | AO108: =SUM(AO105:AO107) -> 42 | AP108: =SUM(AP105:AP107) -> 0 | AQ108: =SUM(AQ105:AQ107) -> 42 | AR108: =SUM(AR105:AR107) -> 0 | AU108: =SUM(AU105:AU107) -> 0 | AV108: =SUM(AV105:AV107) -> 0 | AW108: =SUM(AW105:AW107) -> 42 | AX108: =SUM(AX105:AX107) -> 0
B110: NE | C110: 2014 | D110: 06775900 | E110: Dismal River near Thedford, NE | F110: eco_only | G110: Reference | H110: NAWQA | I110: nfsnref | J110: yes | O110: 6 | Q110: 1 | S110: 6 | U110: 0 | W110: 1 | Y110: 6 | AA110: 0 | AC110: 1 | AE110: 1 | AG110: 0 | AM110: 0
B111: NE | C111: 2014 | D111: 06800500 | E111: Elkhorn River at Waterloo, NE | F111: rotate4 | G111: Large Inland River | H111: NAWQA | I111: nfsnlir | J111: yes | L111: YES-COOP | O111: 18 | Q111: 1 | S111: 18 | U111: 1 | W111: 1 | Y111: 18 | AA111: 1 | AC111: 1 | AE111: 1 | AG111: 18 | AI111: 1 | AK111: 1 | AM111: 1
B112: NE | C112: 2014 | D112: 06800000 | E112: Maple Creek near Nickerson, NE | F112: rotate2 | G112: Agriculture | H112: NAWQA | I112: nfsnag | J112: yes | O112: 24 | Q112: 1 | S112: 24 | U112: 1 | W112: 1 | Y112: 24 | AA112: 2 | AC112: 2 | AE112: 2 | AG112: 24 | AI112: 1 | AK112: 1 | AM112: 1
B113: NE | C113: 2014 | D113: 06805500 | E113: Platte River at Louisville, NE | F113: agcore/NASQAN | G113: Large Inland River | H113: NAWQA | I113: nfsnlir | J113: yes | K113: 12950 | L113: YES-COOP | O113: 14 | Q113: 1 | S113: 14 | U113: 1 | W113: 1 | Y113: 14 | AA113: 1 | AC113: 1 | AE113: 1 | AG113: 14 | AI113: 1 | AK113: 1 | AM113: 1 | AO113: 14 | AQ113: 14 | AW113: 14
B114: NE | E114: WSC sum | O114: =SUM(O110:O113) -> 62 | P114: =SUM(P110:P113) -> 0 | Q114: =SUM(Q110:Q113) -> 4 | R114: =SUM(R110:R113) -> 0 | S114: =SUM(S110:S113) -> 62 | T114: =SUM(T110:T113) -> 0 | U114: =SUM(U110:U113) -> 3 | V114: =SUM(V110:V113) -> 0 | ... AR114: =SUM(AR110:AR113) -> 0 | AU114: =SUM(AU110:AU113) -> 0 | AV114: =SUM(AV110:AV113) -> 0 | AW114: =SUM(AW110:AW113) -> 14 | AX114: =SUM(AX110:AX113) -> 0
B116: NV | C116: 2014 | D116: 10350340 | E116: Truckee River near Tracy, NV | F116: rotate4 | G116: Large Inland River | H116: NAWQA | I116: nfsnlir | J116: yes | O116: 18 | Q116: 1 | S116: 18 | U116: 1 | W116: 1 | Y116: 18 | AA116: 1 | AC116: 1 | AE116: 1 | AG116: 18 | AI116: 1 | AK116: 1 | AM116: 1
B117: NV | E117: WSC sum | O117: =SUM(O116:O116) -> 18 | P117: =SUM(P116:P116) -> 0 | Q117: =SUM(Q116:Q116) -> 1 | R117: =SUM(R116:R116) -> 0 | S117: =SUM(S116:S116) -> 18 | T117: =SUM(T116:T116) -> 0 | U117: =SUM(U116:U116) -> 1 | V117: =SUM(V116:V116) -> 0 | ... AR117: =SUM(AR116:AR116) -> 0 | AU117: =SUM(AU116:AU116) -> 0 | AV117: =SUM(AV116:AV116) -> 0 | AW117: =SUM(AW116:AW116) -> 0 | AX117: =SUM(AX116:AX116) -> 0
B119: NJ | C119: 2014 | D119: 01463500 | E119: Delaware River at Trenton, NJ | F119: NMN/ rotate4 | G119: Coastal River | H119: NAWQA | I119: nfsncoast | J119: yes | L119: YES-COOP | O119: 14 | Q119: 1 | S119: 14 | U119: 1 | W119: 1 | Y119: 14 | AA119: 1 | AC119: 1 | AE119: 1 | AG119: 14 | AI119: 1 | AK119: 1 | AM119: 1 | AO119: 14 | AQ119: 14 | AW119: 14
B120: NJ | E120: WSC sum | O120: =SUM(O119:O119) -> 14 | P120: =SUM(P119:P119) -> 0 | Q120: =SUM(Q119:Q119) -> 1 | R120: =SUM(R119:R119) -> 0 | S120: =SUM(S119:S119) -> 14 | T120: =SUM(T119:T119) -> 0 | U120: =SUM(U119:U119) -> 1 | V120: =SUM(V119:V119) -> 0 | ... AR120: =SUM(AR119:AR119) -> 0 | AU120: =SUM(AU119:AU119) -> 0 | AV120: =SUM(AV119:AV119) -> 0 | AW120: =SUM(AW119:AW119) -> 14 | AX120: =SUM(AX119:AX119) -> 0
B122: NM | C122: 2014 | D122: 08227000 | E122: Saguache Creek near Saguache, CO | F122: eco_only | G122: Reference | H122: NAWQA | I122: nfsnref | J122: yes-COOP | O122: 6 | Q122: 1 | S122: 6 | U122: 1 | W122: 0 | Y122: 6 | AA122: 1 | AC122: 0 | AE122: 0 | AG122: 0 | AY122: streamgage run by CO Div. of Water Resources (gurtz email 6/8/12)
B123: NM | C123: 2014 | D123: 08364000 | E123: Rio Grande at El Paso, TX | F123: agcore/NAWQA | G123: Large Inland River | H123: NAWQA | I123: nfsnlir | J123: yes | L123: YES-COOP | O123: 14 | Q123: 1 | S123: 14 | U123: 1 | W123: 1 | Y123: 14 | AA123: 1 | AC123: 1 | AE123: 1 | AG123: 14 | AI123: 1 | AK123: 1 | AM123: 1
B124: NM | E124: WSC sum | O124: =SUM(O122:O123) -> 20 | P124: =SUM(P122:P123) -> 0 | Q124: =SUM(Q122:Q123) -> 2 | R124: =SUM(R122:R123) -> 0 | S124: =SUM(S122:S123) -> 20 | T124: =SUM(T122:T123) -> 0 | U124: =SUM(U122:U123) -> 2 | V124: =SUM(V122:V123) -> 0 | ... AR124: =SUM(AR122:AR123) -> 0 | AU124: =SUM(AU122:AU123) -> 0 | AV124: =SUM(AV122:AV123) -> 0 | AW124: =SUM(AW122:AW123) -> 0 | AX124: =SUM(AX122:AX123) -> 0
B126: NY | C126: 2014 | D126: 4264331 | E126: St. Lawrence River at Cornwall, Ontario | F126: NASQAN | G126: Large Inland River | H126: NASQAN | I126: nfsnlir | J126: yes | O126: 14 | Q126: 1 | S126: 14 | U126: 1 | W126: 1 | Y126: 14 | AA126: 1 | AC126: 1 | AE126: 1 | AG126: 14 | AI126: 1 | AK126: 1 | AM126: 1 | AO126: 14 | AQ126: 14 | AS126: 14 | AW126: 14
B127: NY | C127: 2014 | D127: 01349150 | E127: Canajoharie Creek near Canajoharie, NY | F127: rotate4 | G127: Agriculture | H127: NAWQA | I127: nfsnag | J127: yes | K127: 15496 | O127: 24 | Q127: 1 | S127: 24 | U127: 1 | W127: 1 | Y127: 24 | AA127: 2 | AC127: 2 | AE127: 2 | AG127: 24 | AI127: 1 | AK127: 1 | AM127: 1
...

Sheet WY2014 NFSN Eco Sampling
A1: Last Update | B1: SC | C1: 41497 | G1: Ecological STAID | H1: Ecological Site name | I1: Cycle 2 Site Type | J1: Cycle 3 Site Type | K1: Eco- region | L1: Fiscal year | M1: Reach Sampled (Primary Reach) | N1: Inv / Algae RTH (Riffle or Snag) | O1: Index Period for Inverts and Algae | Q1: Inverts - RTH | S1: Outside IP | T1: Inverts - QMH | V1: Outside IP | W1: Algae - RTH | Y1: Outside IP | Z1: Algae - Chl a / Biomass | AB1: Outside IP | AC1: Fish | AH1: Outside IP | AI1: Habitat | AM1: Outside IP | AN1: IP Check | AO1: SU Annual Comments: Unusual Sampling Circumstances
C2: Primary STAID | D2: Site name | E2: WSC Ecology contact | F2: Fish QA Plan | Q2: No. of Samples Planned | R2: Date Com-pleted (MM/DD/YY) | T2: No. of Samples Planned | U2: Date Com-pleted (MM/DD/YY) | W2: No. of Samples Planned | X2: Date Com-pleted (MM/DD/YY) | Z2: No. of Samples Planned | AA2: Date Com-pleted (MM/DD/YY) | AC2: Index Period | AE2: QA Plan Submitted (Yes/No) | AF2: No. of Samples Planned | AG2: Date Com-pleted (MM/DD/YY) | AI2: Index Period | AK2: No. of Samples Planned | AL2: Date Com-pleted (MM/DD/YY)
O3: Start Date | P3: End Date | R3: Reach A | U3: Reach A | X3: Reach A | AA3: Reach A | AC3: Start Date | AD3: End Date | AI3: Start Date | AJ3: End Date
B5: AZ | C5: 09471000 | D5: San Pedro River at Charleston, AZ | E5: Nick Paretti | F5: Yes | I5: rotate4 | J5: Reference | K5: 79 | L5: 2014 | M5: A | N5: Riffle | O5: 41944 | P5: 41988 | Q5: 1 | S5: =IF(Q5>0,IF(R5<($O5-7),"EARLY",IF(R5>N($P5+7),"LATE","")),"") -> EARLY | T5: 0 | V5: =IF(T5>0,IF(U5<($O5-7),"EARLY",IF(U5>N($P5+7),"LATE","")),"") | W5: 1 | Y5: =IF(W5>0,IF(X5<($O5-7),"EARLY",IF(X5>N($P5+7),"LATE","")),"") -> EARLY | Z5: 1 | AB5: =IF(Z5>0,IF(AA5<($O5-7),"EARLY",IF(AA5>N($P5+7),"LATE","")),"") -> EARLY | AC5: 41944 | AD5: 41988 | AF5: 1 | AH5: =IF(AF5>0,IF(AG5<($AC5-7),"EARLY",IF(AG5>N($AD5+7),"LATE","")),"") -> EARLY | AI5: 41944 | AJ5: 41988 | AK5: 1 | AM5: =IF(AK5>0,IF(AL5<($AI5-7),"EARLY",IF(AL5>N($AJ5+7),"LATE","")),"") -> EARLY | AN5: =IF(OR(S5<>"",V5<>"",Y5<>"",AB5<>"",AH5<>"",AM5<>""),"CHECK","") -> CHECK
B6: AZ | C6: 09505800 | D6: West Clear Creek near Camp Verde, AZ | F6: Yes | I6: rotate4 | J6: Reference | K6: 23 | L6: 2014 | M6: A | N6: Riffle | O6: 41927 | P6: 41973 | Q6: 1 | S6: =IF(Q6>0,IF(R6<($O6-7),"EARLY",IF(R6>N($P6+7),"LATE","")),"") -> EARLY | T6: 0 | V6: =IF(T6>0,IF(U6<($O6-7),"EARLY",IF(U6>N($P6+7),"LATE","")),"") | W6: 1 | Y6: =IF(W6>0,IF(X6<($O6-7),"EARLY",IF(X6>N($P6+7),"LATE","")),"") -> EARLY | Z6: 1 | AB6: =IF(Z6>0,IF(AA6<($O6-7),"EARLY",IF(AA6>N($P6+7),"LATE","")),"") -> EARLY | AC6: 41927 | AD6: 41973 | AF6: 1 | AH6: =IF(AF6>0,IF(AG6<($AC6-7),"EARLY",IF(AG6>N($AD6+7),"LATE","")),"") -> EARLY | AI6: 41927 | AJ6: 41973 | AK6: 1 | AM6: =IF(AK6>0,IF(AL6<($AI6-7),"EARLY",IF(AL6>N($AJ6+7),"LATE","")),"") -> EARLY | AN6: =IF(OR(S6<>"",V6<>"",Y6<>"",AB6<>"",AH6<>"",AM6<>""),"CHECK","") -> CHECK | AO6: Sampling plan shown for the Fiscal Years in which samples are collected (i.e., Fall 2012 = FY2013)
B7: AR | C7: 07055646 | D7: Buffalo River near Boxley, AR | E7: Billy Justus | F7: Yes | I7: rotate4 | J7: Reference | K7: 38 | L7: 2014 | M7: A | N7: Riffle | O7: 41866 | P7: 41912 | Q7: 1 | S7: =IF(Q7>0,IF(R7<($O7-7),"EARLY",IF(R7>N($P7+7),"LATE","")),"") -> EARLY | T7: 0 | V7: =IF(T7>0,IF(U7<($O7-7),"EARLY",IF(U7>N($P7+7),"LATE","")),"") | W7: 1 | Y7: =IF(W7>0,IF(X7<($O7-7),"EARLY",IF(X7>N($P7+7),"LATE","")),"") -> EARLY | Z7: 1 | AB7: =IF(Z7>0,IF(AA7<($O7-7),"EARLY",IF(AA7>N($P7+7),"LATE","")),"") -> EARLY | AC7: 41835 | AD7: 41882 | AF7: 1 | AH7: =IF(AF7>0,IF(AG7<($AC7-7),"EARLY",IF(AG7>N($AD7+7),"LATE","")),"") -> EARLY | AI7: 41835 | AJ7: 41882 | AK7: 1 | AM7: =IF(AK7>0,IF(AL7<($AI7-7),"EARLY",IF(AL7>N($AJ7+7),"LATE","")),"") -> EARLY | AN7: =IF(OR(S7<>"",V7<>"",Y7<>"",AB7<>"",AH7<>"",AM7<>""),"CHECK","") -> CHECK
B8: AR | C8: 07060710 | D8: North Sylamore Creek near Fifty Six, AR | F8: Yes | I8: rotate4 | J8: Reference | K8: 39 | L8: 2014 | M8: C | N8: Riffle | O8: 41866 | P8: 41912 | Q8: 1 | S8: =IF(Q8>0,IF(R8<($O8-7),"EARLY",IF(R8>N($P8+7),"LATE","")),"") -> EARLY | T8: 0 | V8: =IF(T8>0,IF(U8<($O8-7),"EARLY",IF(U8>N($P8+7),"LATE","")),"") | W8: 1 | Y8: =IF(W8>0,IF(X8<($O8-7),"EARLY",IF(X8>N($P8+7),"LATE","")),"") -> EARLY | Z8: 1 | AB8: =IF(Z8>0,IF(AA8<($O8-7),"EARLY",IF(AA8>N($P8+7),"LATE","")),"") -> EARLY | AC8: 41835 | AD8: 41882 | AF8: 1 | AH8: =IF(AF8>0,IF(AG8<($AC8-7),"EARLY",IF(AG8>N($AD8+7),"LATE","")),"") -> EARLY | AI8: 41835 | AJ8: 41882 | AK8: 1 | AM8: =IF(AK8>0,IF(AL8<($AI8-7),"EARLY",IF(AL8>N($AJ8+7),"LATE","")),"") -> EARLY | AN8: =IF(OR(S8<>"",V8<>"",Y8<>"",AB8<>"",AH8<>"",AM8<>""),"CHECK","") -> CHECK
B9: CA | C9: 11274538 | D9: Orestimba Creek near Crows Landing, CA | E9: Jason May | F9: Yes | I9: rotate4 | J9: Agricultural | K9: 5 | L9: 2014 | M9: A | N9: Snag | O9: 41866 | P9: 41912 | Q9: 1 | S9: =IF(Q9>0,IF(R9<($O9-7),"EARLY",IF(R9>N($P9+7),"LATE","")),"") -> EARLY | T9: 0 | V9: =IF(T9>0,IF(U9<($O9-7),"EARLY",IF(U9>N($P9+7),"LATE","")),"") | W9: 1 | Y9: =IF(W9>0,IF(X9<($O9-7),"EARLY",IF(X9>N($P9+7),"LATE","")),"") -> EARLY | Z9: 1 | AB9: =IF(Z9>0,IF(AA9<($O9-7),"EARLY",IF(AA9>N($P9+7),"LATE","")),"") -> EARLY | AC9: 41866 | AD9: 41912 | AF9: 1 | AH9: =IF(AF9>0,IF(AG9<($AC9-7),"EARLY",IF(AG9>N($AD9+7),"LATE","")),"") -> EARLY | AI9: 41866 | AJ9: 41912 | AK9: 1 | AM9: =IF(AK9>0,IF(AL9<($AI9-7),"EARLY",IF(AL9>N($AJ9+7),"LATE","")),"") -> EARLY | AN9: =IF(OR(S9<>"",V9<>"",Y9<>"",AB9<>"",AH9<>"",AM9<>""),"CHECK","") -> CHECK
B10: CA | C10: 11335000 | D10: Cosumnes River at Michigan Bar, CA | F10: Yes | I10: eco_only | J10: Reference | K10: 7 | L10: 2014 | M10: C | N10: Riffle | O10: 41866 | P10: 41912 | Q10: 1 | S10: =IF(Q10>0,IF(R10<($O10-7),"EARLY",IF(R10>N($P10+7),"LATE","")),"") -> EARLY | T10: 0 | V10: =IF(T10>0,IF(U10<($O10-7),"EARLY",IF(U10>N($P10+7),"LATE","")),"") | W10: 1 | Y10: =IF(W10>0,IF(X10<($O10-7),"EARLY",IF(X10>N($P10+7),"LATE","")),"") -> EARLY | Z10: 1 | AB10: =IF(Z10>0,IF(AA10<($O10-7),"EARLY",IF(AA10>N($P10+7),"LATE","")),"") -> EARLY | AC10: 41866 | AD10: 41912 | AF10: 1 | AH10: =IF(AF10>0,IF(AG10<($AC10-7),"EARLY",IF(AG10>N($AD10+7),"LATE","")),"") -> EARLY | AI10: 41866 | AJ10: 41912 | AK10: 1 | AM10: =IF(AK10>0,IF(AL10<($AI10-7),"EARLY",IF(AL10>N($AJ10+7),"LATE","")),"") -> EARLY | AN10: =IF(OR(S10<>"",V10<>"",Y10<>"",AB10<>"",AH10<>"",AM10<>""),"CHECK","") -> CHECK
B11: CA | C11: 11264500 | D11: Merced River at Happy Isles Bridge nr Yosemite, CA | F11: Yes | I11: eco_only | J11: Reference | L11: 2014 | M11: A | N11: Riffle | O11: 41866 | P11: 41912 | Q11: 1 | S11: =IF(Q11>0,IF(R11<($O11-7),"EARLY",IF(R11>N($P11+7),"LATE","")),"") -> EARLY | T11: 0 | V11: =IF(T11>0,IF(U11<($O11-7),"EARLY",IF(U11>N($P11+7),"LATE","")),"") | W11: 1 | Y11: =IF(W11>0,IF(X11<($O11-7),"EARLY",IF(X11>N($P11+7),"LATE","")),"") -> EARLY | Z11: 1 | AB11: =IF(Z11>0,IF(AA11<($O11-7),"EARLY",IF(AA11>N($P11+7),"LATE","")),"") -> EARLY | AC11: 41828 | AD11: 41873 | AF11: 1 | AH11: =IF(AF11>0,IF(AG11<($AC11-7),"EARLY",IF(AG11>N($AD11+7),"LATE","")),"") -> EARLY | AI11: 41828 | AJ11: 41873 | AK11: 1 | AM11: =IF(AK11>0,IF(AL11<($AI11-7),"EARLY",IF(AL11>N($AJ11+7),"LATE","")),"") -> EARLY | AN11: =IF(OR(S11<>"",V11<>"",Y11<>"",AB11<>"",AH11<>"",AM11<>""),"CHECK","") -> CHECK
B12: CO | C12: 06713500 | D12: Cherry Creek at Denver, CO | E12: Bob Zuellig | F12: Yes | I12: rotate2 | J12: Urban | K12: 25 | L12: 2014 | M12: B | N12: Riffle | O12: 41835 | P12: 41882 | Q12: 1 | S12: =IF(Q12>0,IF(R12<($O12-7),"EARLY",IF(R12>N($P12+7),"LATE","")),"") -> EARLY | T12: 0 | V12: =IF(T12>0,IF(U12<($O12-7),"EARLY",IF(U12>N($P12+7),"LATE","")),"") | W12: 1 | Y12: =IF(W12>0,IF(X12<($O12-7),"EARLY",IF(X12>N($P12+7),"LATE","")),"") -> EARLY | Z12: 1 | AB12: =IF(Z12>0,IF(AA12<($O12-7),"EARLY",IF(AA12>N($P12+7),"LATE","")),"") -> EARLY | AC12: 41835 | AD12: 41882 | AF12: 1 | AH12: =IF(AF12>0,IF(AG12<($AC12-7),"EARLY",IF(AG12>N($AD12+7),"LATE","")),"") -> EARLY | AI12: 41835 | AJ12: 41882 | AK12: 1 | AM12: =IF(AK12>0,IF(AL12<($AI12-7),"EARLY",IF(AL12>N($AJ12+7),"LATE","")),"") -> EARLY | AN12: =IF(OR(S12<>"",V12<>"",Y12<>"",AB12<>"",AH12<>"",AM12<>""),"CHECK","") -> CHECK
B13: CT | C13: 01170100 | D13: Green River near Colrain, MA | E13: Karen Beaulieu | F13: Yes | G13: 01170095 | H13: Green River at Stewartville, MA | I13: rotate4 | J13: Reference | K13: 58 | L13: 2014 | M13: A | N13: Riffle | O13: 41852 | P13: 41897 | Q13: 1 | S13: =IF(Q13>0,IF(R13<($O13-7),"EARLY",IF(R13>N($P13+7),"LATE","")),"") -> EARLY | T13: 0 | V13: =IF(T13>0,IF(U13<($O13-7),"EARLY",IF(U13>N($P13+7),"LATE","")),"") | W13: 1 | Y13: =IF(W13>0,IF(X13<($O13-7),"EARLY",IF(X13>N($P13+7),"LATE","")),"") -> EARLY | Z13: 1 | AB13: =IF(Z13>0,IF(AA13<($O13-7),"EARLY",IF(AA13>N($P13+7),"LATE","")),"") -> EARLY | AC13: 41852 | AD13: 41897 | AF13: 1 | AH13: =IF(AF13>0,IF(AG13<($AC13-7),"EARLY",IF(AG13>N($AD13+7),"LATE","")),"") -> EARLY | AI13: 41852 | AJ13: 41897 | AK13: 1 | AM13: =IF(AK13>0,IF(AL13<($AI13-7),"EARLY",IF(AL13>N($AJ13+7),"LATE","")),"") -> EARLY | AN13: =IF(OR(S13<>"",V13<>"",Y13<>"",AB13<>"",AH13<>"",AM13<>""),"CHECK","") -> CHECK
B14: CT | C14: 01209710 | D14: Norwalk River at Winnipauk,CT | F14: Yes | I14: rotate4 | J14: Urban | K14: 59 | L14: 2014 | M14: A | N14: Riffle | O14: 41852 | P14: 41897 | Q14: 1 | S14: =IF(Q14>0,IF(R14<($O14-7),"EARLY",IF(R14>N($P14+7),"LATE","")),"") -> EARLY | T14: 0 | V14: =IF(T14>0,IF(U14<($O14-7),"EARLY",IF(U14>N($P14+7),"LATE","")),"") | W14: 1 | Y14: =IF(W14>0,IF(X14<($O14-7),"EARLY",IF(X14>N($P14+7),"LATE","")),"") -> EARLY | Z14: 1 | AB14: =IF(Z14>0,IF(AA14<($O14-7),"EARLY",IF(AA14>N($P14+7),"LATE","")),"") -> EARLY | AC14: 41852 | AD14: 41897 | AF14: 1 | AH14: =IF(AF14>0,IF(AG14<($AC14-7),"EARLY",IF(AG14>N($AD14+7),"LATE","")),"") -> EARLY | AI14: 41852 | AJ14: 41897 | AK14: 1 | AM14: =IF(AK14>0,IF(AL14<($AI14-7),"EARLY",IF(AL14>N($AJ14+7),"LATE","")),"") -> EARLY | AN14: =IF(OR(S14<>"",V14<>"",Y14<>"",AB14<>"",AH14<>"",AM14<>""),"CHECK","") -> CHECK
B15: GA | C15: 2338523 | D15: Hillibahatchee Creek near Franklin, GA | E15: Jeff Riley | F15: Yes | I15: rotate4 | J15: Reference | K15: 45 | L15: 2014 | M15: B | N15: Riffle | O15: 41774 | P15: 41820 | Q15: 1 | S15: =IF(Q15>0,IF(R15<($O15-7),"EARLY",IF(R15>N($P15+7),"LATE","")),"") -> EARLY | T15: 0 | V15: =IF(T15>0,IF(U15<($O15-7),"EARLY",IF(U15>N($P15+7),"LATE","")),"") | W15: 1 | Y15: =IF(W15>0,IF(X15<($O15-7),"EARLY",IF(X15>N($P15+7),"LATE","")),"") -> EARLY | Z15: 1 | AB15: =IF(Z15>0,IF(AA15<($O15-7),"EARLY",IF(AA15>N($P15+7),"LATE","")),"") -> EARLY | AC15: 41883 | AD15: 41927 | AF15: 1 | AH15: =IF(AF15>0,IF(AG15<($AC15-7),"EARLY",IF(AG15>N($AD15+7),"LATE","")),"") -> EARLY | AI15: 41883 | AJ15: 41927 | AK15: 1 | AM15: =IF(AK15>0,IF(AL15<($AI15-7),"EARLY",IF(AL15>N($AJ15+7),"LATE","")),"") -> EARLY | AN15: =IF(OR(S15<>"",V15<>"",Y15<>"",AB15<>"",AH15<>"",AM15<>""),"CHECK","") -> CHECK
B16: GA | C16: 02335870 | D16: Sope Creek near Marietta, GA | F16: Yes | I16: rotate2 | J16: Urban | K16: 45 | L16: 2014 | M16: A | N16: Riffle | O16: 41774 | P16: 41820 | Q16: 1 | S16: =IF(Q16>0,IF(R16<($O16-7),"EARLY",IF(R16>N($P16+7),"LATE","")),"") -> EARLY | T16: 0 | V16: =IF(T16>0,IF(U16<($O16-7),"EARLY",IF(U16>N($P16+7),"LATE","")),"") | W16: 1 | Y16: =IF(W16>0,IF(X16<($O16-7),"EARLY",IF(X16>N($P16+7),"LATE","")),"") -> EARLY | Z16: 1 | AB16: =IF(Z16>0,IF(AA16<($O16-7),"EARLY",IF(AA16>N($P16+7),"LATE","")),"") -> EARLY | AC16: 41883 | AD16: 41927 | AF16: 1 | AH16: =IF(AF16>0,IF(AG16<($AC16-7),"EARLY",IF(AG16>N($AD16+7),"LATE","")),"") -> EARLY | AI16: 41883 | AJ16: 41927 | AK16: 1 | AM16: =IF(AK16>0,IF(AL16<($AI16-7),"EARLY",IF(AL16>N($AJ16+7),"LATE","")),"") -> EARLY | AN16: =IF(OR(S16<>"",V16<>"",Y16<>"",AB16<>"",AH16<>"",AM16<>""),"CHECK","") -> CHECK
B17: ID | C17: 13092747 | D17: Rock Creek at Twin Falls, ID | E17: Dorene MacCoy | F17: Yes | I17: rotate4 | J17: Agricultural | K17: 12 | L17: 2014 | M17: A | N17: Riffle | O17: 41821 | P17: 41866 | Q17: 1 | S17: =IF(Q17>0,IF(R17<($O17-7),"EARLY",IF(R17>N($P17+7),"LATE","")),"") -> EARLY | T17: 0 | V17: =IF(T17>0,IF(U17<($O17-7),"EARLY",IF(U17>N($P17+7),"LATE","")),"") | W17: 1 | Y17: =IF(W17>0,IF(X17<($O17-7),"EARLY",IF(X17>N($P17+7),"LATE","")),"") -> EARLY | Z17: 1 | AB17: =IF(Z17>0,IF(AA17<($O17-7),"EARLY",IF(AA17>N($P17+7),"LATE","")),"") -> EARLY | AC17: 41821 | AD17: 41866 | AF17: 1 | AH17: =IF(AF17>0,IF(AG17<($AC17-7),"EARLY",IF(AG17>N($AD17+7),"LATE","")),"") -> EARLY | AI17: 41821 | AJ17: 41866 | AK17: 1 | AM17: =IF(AK17>0,IF(AL17<($AI17-7),"EARLY",IF(AL17>N($AJ17+7),"LATE","")),"") -> EARLY | AN17: =IF(OR(S17<>"",V17<>"",Y17<>"",AB17<>"",AH17<>"",AM17<>""),"CHECK","") -> CHECK
B18: IN | C18: 394340085524601 | D18: Sugar Creek at New Palestine, IN | E18: Edward Dobrowolski | F18: Yes | I18: rotate2 | J18: Agricultural | K18: 55 | L18: 2014 | M18: A | N18: Riffle | O18: 41835 | P18: 41882 | Q18: 1 | S18: =IF(Q18>0,IF(R18<($O18-7),"EARLY",IF(R18>N($P18+7),"LATE","")),"") -> EARLY | T18: 0 | V18: =IF(T18>0,IF(U18<($O18-7),"EARLY",IF(U18>N($P18+7),"LATE","")),"") | W18: 1 | Y18: =IF(W18>0,IF(X18<($O18-7),"EARLY",IF(X18>N($P18+7),"LATE","")),"") -> EARLY | Z18: 1 | AB18: =IF(Z18>0,IF(AA18<($O18-7),"EARLY",IF(AA18>N($P18+7),"LATE","")),"") -> EARLY | AC18: 41852 | AD18: 41897 | AF18: 1 | AH18: =IF(AF18>0,IF(AG18<($AC18-7),"EARLY",IF(AG18>N($AD18+7),"LATE","")),"") -> EARLY | AI18: 41835 | AJ18: 41882 | AK18: 1 | AM18: =IF(AK18>0,IF(AL18<($AI18-7),"EARLY",IF(AL18>N($AJ18+7),"LATE","")),"") -> EARLY | AN18: =IF(OR(S18<>"",V18<>"",Y18<>"",AB18<>"",AH18<>"",AM18<>""),"CHECK","") -> CHECK
B19: IA | C19: 05451210 | D19: South Fork Iowa River near New Providence, IA | E19: Jason McVay | F19: Yes | I19: rotate2 | J19: Agricultural | K19: 47 | L19: 2014 | M19: A | N19: Snag | O19: 41852 | P19: 41897 | Q19: 1 | S19: =IF(Q19>0,IF(R19<($O19-7),"EARLY",IF(R19>N($P19+7),"LATE","")),"") -> EARLY | T19: 0 | V19: =IF(T19>0,IF(U19<($O19-7),"EARLY",IF(U19>N($P19+7),"LATE","")),"") | W19: 1 | Y19: =IF(W19>0,IF(X19<($O19-7),"EARLY",IF(X19>N($P19+7),"LATE","")),"") -> EARLY | Z19: 1 | AB19: =IF(Z19>0,IF(AA19<($O19-7),"EARLY",IF(AA19>N($P19+7),"LATE","")),"") -> EARLY | AC19: 41866 | AD19: 41912 | AF19: 1 | AH19: =IF(AF19>0,IF(AG19<($AC19-7),"EARLY",IF(AG19>N($AD19+7),"LATE","")),"") -> EARLY | AI19: 41852 | AJ19: 41897 | AK19: 1 | AM19: =IF(AK19>0,IF(AL19<($AI19-7),"EARLY",IF(AL19>N($AJ19+7),"LATE","")),"") -> EARLY | AN19: =IF(OR(S19<>"",V19<>"",Y19<>"",AB19<>"",AH19<>"",AM19<>""),"CHECK","") -> CHECK
B20: LA | C20: 08014500 | D20: Ouiska (Whisky) Chitto Creek near Oberlin, LA | E20: Scott Mize | F20: Yes | I20: rotate4 | J20: Reference | K20: 35 | L20: 2014 | M20: A | N20: Snag | O20: 41835 | P20: 41882 | Q20: 1 | S20: =IF(Q20>0,IF(R20<($O20-7),"EARLY",IF(R20>N($P20+7),"LATE","")),"") -> EARLY | T20: 0 | V20: =IF(T20>0,IF(U20<($O20-7),"EARLY",IF(U20>N($P20+7),"LATE","")),"") | W20: 1 | Y20: =IF(W20>0,IF(X20<($O20-7),"EARLY",IF(X20>N($P20+7),"LATE","")),"") -> EARLY | Z20: 1 | AB20: =IF(Z20>0,IF(AA20<($O20-7),"EARLY",IF(AA20>N($P20+7),"LATE","")),"") -> EARLY | AC20: 41835 | AD20: 41882 | AF20: 1 | AH20: =IF(AF20>0,IF(AG20<($AC20-7),"EARLY",IF(AG20>N($AD20+7),"LATE","")),"") -> EARLY | AI20: 41835 | AJ20: 41882 | AK20: 1 | AM20: =IF(AK20>0,IF(AL20<($AI20-7),"EARLY",IF(AL20>N($AJ20+7),"LATE","")),"") -> EARLY | AN20: =IF(OR(S20<>"",V20<>"",Y20<>"",AB20<>"",AH20<>"",AM20<>""),"CHECK","") -> CHECK
B21: MD | C21: 01610400 | D21: Waites Run near Wardensville, WV | E21: Robin Brightbill | F21: Yes | I21: rotate4 | J21: Reference | K21: 67 | L21: 2014 | M21: B | N21: Riffle | O21: 41821 | P21: 41866 | Q21: 1 | S21: =IF(Q21>0,IF(R21<($O21-7),"EARLY",IF(R21>N($P21+7),"LATE","")),"") -> EARLY | T21: 0 | V21: =IF(T21>0,IF(U21<($O21-7),"EARLY",IF(U21>N($P21+7),"LATE","")),"") | W21: 1 | Y21: =IF(W21>0,IF(X21<($O21-7),"EARLY",IF(X21>N($P21+7),"LATE","")),"") -> EARLY | Z21: 1 | AB21: =IF(Z21>0,IF(AA21<($O21-7),"EARLY",IF(AA21>N($P21+7),"LATE","")),"") -> EARLY | AC21: 41821 | AD21: 41866 | AF21: 1 | AH21: =IF(AF21>0,IF(AG21<($AC21-7),"EARLY",IF(AG21>N($AD21+7),"LATE","")),"") -> EARLY | AI21: 41821 | AJ21: 41866 | AK21: 1 | AM21: =IF(AK21>0,IF(AL21<($AI21-7),"EARLY",IF(AL21>N($AJ21+7),"LATE","")),"") -> EARLY | AN21: =IF(OR(S21<>"",V21<>"",Y21<>"",AB21<>"",AH21<>"",AM21<>""),"CHECK","") -> CHECK
B22: MD | C22: 01654000 | D22: Accotink Creek near Annandale, VA | F22: Yes | I22: rotate2 | J22: Urban | K22: 45 | L22: 2014 | M22: A | N22: Riffle | O22: 41791 | P22: 41835 | Q22: 1 | S22: =IF(Q22>0,IF(R22<($O22-7),"EARLY",IF(R22>N($P22+7),"LATE","")),"") -> EARLY | T22: 0 | V22: =IF(T22>0,IF(U22<($O22-7),"EARLY",IF(U22>N($P22+7),"LATE","")),"") | W22: 1 | Y22: =IF(W22>0,IF(X22<($O22-7),"EARLY",IF(X22>N($P22+7),"LATE","")),"") -> EARLY | Z22: 1 | AB22: =IF(Z22>0,IF(AA22<($O22-7),"EARLY",IF(AA22>N($P22+7),"LATE","")),"") -> EARLY | AC22: 41852 | AD22: 41897 | AF22: 1 | AH22: =IF(AF22>0,IF(AG22<($AC22-7),"EARLY",IF(AG22>N($AD22+7),"LATE","")),"") -> EARLY | AI22: 41852 | AJ22: 41897 | AK22: 1 | AM22: =IF(AK22>0,IF(AL22<($AI22-7),"EARLY",IF(AL22>N($AJ22+7),"LATE","")),"") -> EARLY | AN22: =IF(OR(S22<>"",V22<>"",Y22<>"",AB22<>"",AH22<>"",AM22<>""),"CHECK","") -> CHECK
B23: MN | C23: 05288705 | D23: Shingle Creek at Minneapolis, MN | E23: Kathy Lee | F23: Yes | I23: rotate2 | J23: Urban | K23: 51 | L23: 2014 | M23: B | N23: Riffle | O23: 41821 | P23: 41866 | Q23: 1 | S23: =IF(Q23>0,IF(R23<($O23-7),"EARLY",IF(R23>N($P23+7),"LATE","")),"") -> EARLY | T23: 0 | V23: =IF(T23>0,IF(U23<($O23-7),"EARLY",IF(U23>N($P23+7),"LATE","")),"") | W23: 1 | Y23: =IF(W23>0,IF(X23<($O23-7),"EARLY",IF(X23>N($P23+7),"LATE","")),"") -> EARLY | Z23: 1 | AB23: =IF(Z23>0,IF(AA23<($O23-7),"EARLY",IF(AA23>N($P23+7),"LATE","")),"") -> EARLY | AC23: 41821 | AD23: 41866 | AF23: 1 | AH23: =IF(AF23>0,IF(AG23<($AC23-7),"EARLY",IF(AG23>N($AD23+7),"LATE","")),"") -> EARLY | AI23: 41821 | AJ23: 41866 | AK23: 1 | AM23: =IF(AK23>0,IF(AL23<($AI23-7),"EARLY",IF(AL23>N($AJ23+7),"LATE","")),"") -> EARLY | AN23: =IF(OR(S23<>"",V23<>"",Y23<>"",AB23<>"",AH23<>"",AM23<>""),"CHECK","") -> CHECK
B24: MS | C24: 07288650 | D24: Bogue Phalia near Leland, MS | E24: Jeannie Barlow | F24: Yes | I24: dropped08 | J24: Agricultural | K24: 73 | L24: 2014 | M24: A | N24: Snag | O24: 41852 | P24: 41897 | Q24: 1 | S24: =IF(Q24>0,IF(R24<($O24-7),"EARLY",IF(R24>N($P24+7),"LATE","")),"") -> EARLY | T24: 0 | V24: =IF(T24>0,IF(U24<($O24-7),"EARLY",IF(U24>N($P24+7),"LATE","")),"") | W24: 1 | Y24: =IF(W24>0,IF(X24<($O24-7),"EARLY",IF(X24>N($P24+7),"LATE","")),"") -> EARLY | Z24: 1 | AB24: =IF(Z24>0,IF(AA24<($O24-7),"EARLY",IF(AA24>N($P24+7),"LATE","")),"") -> EARLY | AC24: 41835 | AD24: 41882 | AF24: 1 | AH24: =IF(AF24>0,IF(AG24<($AC24-7),"EARLY",IF(AG24>N($AD24+7),"LATE","")),"") -> EARLY | AI24: 41835 | AJ24: 41882 | AK24: 1 | AM24: =IF(AK24>0,IF(AL24<($AI24-7),"EARLY",IF(AL24>N($AJ24+7),"LATE","")),"") -> EARLY | AN24: =IF(OR(S24<>"",V24<>"",Y24<>"",AB24<>"",AH24<>"",AM24<>""),"CHECK","") -> CHECK
B25: NE | C25: 06775900 | D25: Dismal River near Thedford, NE | E25: Jason Alexander | F25: Yes | I25: eco_only | J25: Reference | K25: 44 | L25: 2014 | M25: C | N25: Snag | O25: 41852 | P25: 41897 | Q25: 1 | S25: =IF(Q25>0,IF(R25<($O25-7),"EARLY",IF(R25>N($P25+7),"LATE","")),"") -> EARLY | T25: 0 | V25: =IF(T25>0,IF(U25<($O25-7),"EARLY",IF(U25>N($P25+7),"LATE","")),"") | W25: 1 | Y25: =IF(W25>0,IF(X25<($O25-7),"EARLY",IF(X25>N($P25+7),"LATE","")),"") -> EARLY | Z25: 1 | AB25: =IF(Z25>0,IF(AA25<($O25-7),"EARLY",IF(AA25>N($P25+7),"LATE","")),"") -> EARLY | AC25: 41852 | AD25: 41897 | AF25: 1 | AH25: =IF(AF25>0,IF(AG25<($AC25-7),"EARLY",IF(AG25>N($AD25+7),"LATE","")),"") -> EARLY | AI25: 41852 | AJ25: 41897 | AK25: 1 | AM25: =IF(AK25>0,IF(AL25<($AI25-7),"EARLY",IF(AL25>N($AJ25+7),"LATE","")),"") -> EARLY | AN25: =IF(OR(S25<>"",V25<>"",Y25<>"",AB25<>"",AH25<>"",AM25<>""),"CHECK","") -> CHECK
B26: NE | C26: 06800000 | D26: Maple Creek near Nickerson, NE | F26: Yes | I26: rotate2 | J26: Agricultural | K26: 47 | L26: 2014 | M26: C | N26: Snag | O26: 41852 | P26: 41897 | Q26: 1 | S26: =IF(Q26>0,IF(R26<($O26-7),"EARLY",IF(R26>N($P26+7),"LATE","")),"") -> EARLY | T26: 0 | V26: =IF(T26>0,IF(U26<($O26-7),"EARLY",IF(U26>N($P26+7),"LATE","")),"") | W26: 1 | Y26: =IF(W26>0,IF(X26<($O26-7),"EARLY",IF(X26>N($P26+7),"LATE","")),"") -> EARLY | Z26: 1 | AB26: =IF(Z26>0,IF(AA26<($O26-7),"EARLY",IF(AA26>N($P26+7),"LATE","")),"") -> EARLY | AC26: 41852 | AD26: 41897 | AF26: 1 | AH26: =IF(AF26>0,IF(AG26<($AC26-7),"EARLY",IF(AG26>N($AD26+7),"LATE","")),"") -> EARLY | AI26: 41852 | AJ26: 41897 | AK26: 1 | AM26: =IF(AK26>0,IF(AL26<($AI26-7),"EARLY",IF(AL26>N($AJ26+7),"LATE","")),"") -> EARLY | AN26: =IF(OR(S26<>"",V26<>"",Y26<>"",AB26<>"",AH26<>"",AM26<>""),"CHECK","") -> CHECK
B27: NM | C27: 08227000 | D27: Saguache Creek near Saguache, CO | E27: Dianna Crilley | F27: Yes | I27: eco_only | J27: Reference | K27: 21 | L27: 2014 | M27: A | N27: Riffle | O27: 41835 | P27: 41882 | Q27: 1 | S27: =IF(Q27>0,IF(R27<($O27-7),"EARLY",IF(R27>N($P27+7),"LATE","")),"") -> EARLY | T27: 0 | V27: =IF(T27>0,IF(U27<($O27-7),"EARLY",IF(U27>N($P27+7),"LATE","")),"") | W27: 1 | Y27: =IF(W27>0,IF(X27<($O27-7),"EARLY",IF(X27>N($P27+7),"LATE","")),"") -> EARLY | Z27: 1 | AB27: =IF(Z27>0,IF(AA27<($O27-7),"EARLY",IF(AA27>N($P27+7),"LATE","")),"") -> EARLY | AC27: 41835 | AD27: 41882 | AF27: 1 | AH27: =IF(AF27>0,IF(AG27<($AC27-7),"EARLY",IF(AG27>N($AD27+7),"LATE","")),"") -> EARLY | AI27: 41835 | AJ27: 41882 | AK27: 1 | AM27: =IF(AK27>0,IF(AL27<($AI27-7),"EARLY",IF(AL27>N($AJ27+7),"LATE","")),"") -> EARLY | AN27: =IF(OR(S27<>"",V27<>"",Y27<>"",AB27<>"",AH27<>"",AM27<>""),"CHECK","") -> CHECK
B28: NY | C28: 01349150 | D28: Canajoharie Creek near Canajoharie, NY | E28: Karen Murray | F28: Yes | I28: rotate4 | J28: Agricultural | K28: 83 | L28: 2014 | M28: A | N28: Riffle | O28: 41835 | P28: 41882 | Q28: 1 | S28: =IF(Q28>0,IF(R28<($O28-7),"EARLY",IF(R28>N($P28+7),"LATE","")),"") -> EARLY | T28: 0 | V28: =IF(T28>0,IF(U28<($O28-7),"EARLY",IF(U28>N($P28+7),"LATE","")),"") | W28: 1 | Y28: =IF(W28>0,IF(X28<($O28-7),"EARLY",IF(X28>N($P28+7),"LATE","")),"") -> EARLY | Z28: 1 | AB28: =IF(Z28>0,IF(AA28<($O28-7),"EARLY",IF(AA28>N($P28+7),"LATE","")),"") -> EARLY | AC28: 41852 | AD28: 41897 | AF28: 1 | AH28: =IF(AF28>0,IF(AG28<($AC28-7),"EARLY",IF(AG28>N($AD28+7),"LATE","")),"") -> EARLY | AI28: 41852 | AJ28: 41897 | AK28: 1 | AM28: =IF(AK28>0,IF(AL28<($AI28-7),"EARLY",IF(AL28>N($AJ28+7),"LATE","")),"") -> EARLY | AN28: =IF(OR(S28<>"",V28<>"",Y28<>"",AB28<>"",AH28<>"",AM28<>""),"CHECK","") -> CHECK
B29: NC | C29: 02091500 | D29: Contentnea Creek at Hookerton, NC | E29: Michelle Moorman | F29: Yes | I29: rotate4 | J29: Agricultural | K29: 65 | L29: 2014 | M29: A | N29: Snag | O29: 41774 | P29: 41820 | Q29: 1 | S29: =IF(Q29>0,IF(R29<($O29-7),"EARLY",IF(R29>N($P29+7),"LATE","")),"") -> EARLY | T29: 0 | V29: =IF(T29>0,IF(U29<($O29-7),"EARLY",IF(U29>N($P29+7),"LATE","")),"") | W29: 1 | Y29: =IF(W29>0,IF(X29<($O29-7),"EARLY",IF(X29>N($P29+7),"LATE","")),"") -> EARLY | Z29: 1 | AB29: =IF(Z29>0,IF(AA29<($O29-7),"EARLY",IF(AA29>N($P29+7),"LATE","")),"") -> EARLY | AC29: 41883 | AD29: 41927 | AF29: 1 | AH29: =IF(AF29>0,IF(AG29<($AC29-7),"EARLY",IF(AG29>N($AD29+7),"LATE","")),"") -> EARLY | AI29: 41883 | AJ29: 41927 | AK29: 1 | AM29: =IF(AK29>0,IF(AL29<($AI29-7),"EARLY",IF(AL29>N($AJ29+7),"LATE","")),"") -> EARLY | AN29: =IF(OR(S29<>"",V29<>"",Y29<>"",AB29<>"",AH29<>"",AM29<>""),"CHECK","") -> CHECK
B30: NC | C30: 2087580 | D30: Swift Creek near Apex, NC | F30: Yes | I30: rotate2 | J30: Urban | K30: 65 | L30: 2014 | M30: C | N30: Riffle | O30: 41774 | P30: 41820 | Q30: 1 | S30: =IF(Q30>0,IF(R30<($O30-7),"EARLY",IF(R30>N($P30+7),"LATE","")),"") -> EARLY | T30: 0 | V30: =IF(T30>0,IF(U30<($O30-7),"EARLY",IF(U30>N($P30+7),"LATE","")),"") | W30: 1 | Y30: =IF(W30>0,IF(X30<($O30-7),"EARLY",IF(X30>N($P30+7),"LATE","")),"") -> EARLY | Z30: 1 | AB30: =IF(Z30>0,IF(AA30<($O30-7),"EARLY",IF(AA30>N($P30+7),"LATE","")),"") -> EARLY | AC30: 41883 | AD30: 41927 | AF30: 1 | AH30: =IF(AF30>0,IF(AG30<($AC30-7),"EARLY",IF(AG30>N($AD30+7),"LATE","")),"") -> EARLY | AI30: 41883 | AJ30: 41927 | AK30: 1 | AM30: =IF(AK30>0,IF(AL30<($AI30-7),"EARLY",IF(AL30>N($AJ30+7),"LATE","")),"") -> EARLY | AN30: =IF(OR(S30<>"",V30<>"",Y30<>"",AB30<>"",AH30<>"",AM30<>""),"CHECK","") -> CHECK
B31: OH | C31: 04161820 | D31: Clinton River at Sterling Heights, MI | E31: Stephanie Janosy | F31: Yes | I31: rotate4 | J31: Urban | K31: 56 | L31: 2014 | M31: A | N31: Riffle | O31: 41852 | P31: 41897 | Q31: 1 | S31: =IF(Q31>0,IF(R31<($O31-7),"EARLY",IF(R31>N($P31+7),"LATE","")),"") -> EARLY | T31: 0 | V31: =IF(T31>0,IF(U31<($O31-7),"EARLY",IF(U31>N($P31+7),"LATE","")),"") | W31: 1 | Y31: =IF(W31>0,IF(X31<($O31-7),"EARLY",IF(X31>N($P31+7),"LATE","")),"") -> EARLY | Z31: 1 | AB31: =IF(Z31>0,IF(AA31<($O31-7),"EARLY",IF(AA31>N($P31+7),"LATE","")),"") -> EARLY | AC31: 41852 | AD31: 41897 | AF31: 1 | AH31: =IF(AF31>0,IF(AG31<($AC31-7),"EARLY",IF(AG31>N($AD31+7),"LATE","")),"") -> EARLY | AI31: 41852 | AJ31: 41897 | AK31: 1 | AM31: =IF(AK31>0,IF(AL31<($AI31-7),"EARLY",IF(AL31>N($AJ31+7),"LATE","")),"") -> EARLY | AN31: =IF(OR(S31<>"",V31<>"",Y31<>"",AB31<>"",AH31<>"",AM31<>""),"CHECK","") -> CHECK
B32: OR | C32: 14201300 | D32: Zollner Creek near Mt. Angel, OR | E32: Jennifer Moarce | F32: NO | I32: rotate4 | J32: Agricultural | K32: 3 | L32: 2014 | M32: A | N32: Snag | O32: 41866 | P32: 41912 | Q32: 1 | S32: =IF(Q32>0,IF(R32<($O32-7),"EARLY",IF(R32>N($P32+7),"LATE","")),"") -> EARLY | T32: 0 | V32: =IF(T32>0,IF(U32<($O32-7),"EARLY",IF(U32>N($P32+7),"LATE","")),"") | W32: 1 | Y32: =IF(W32>0,IF(X32<($O32-7),"EARLY",IF(X32>N($P32+7),"LATE","")),"") -> EARLY | Z32: 1 | AB32: =IF(Z32>0,IF(AA32<($O32-7),"EARLY",IF(AA32>N($P32+7),"LATE","")),"") -> EARLY | AC32: 41866 | AD32: 41912 | AF32: 1 | AH32: =IF(AF32>0,IF(AG32<($AC32-7),"EARLY",IF(AG32>N($AD32+7),"LATE","")),"") -> EARLY | AI32: 41866 | AJ32: 41912 | AK32: 1 | AM32: =IF(AK32>0,IF(AL32<($AI32-7),"EARLY",IF(AL32>N($AJ32+7),"LATE","")),"") -> EARLY | AN32: =IF(OR(S32<>"",V32<>"",Y32<>"",AB32<>"",AH32<>"",AM32<>""),"CHECK","") -> CHECK
B33: OR | C33: 14206950 | D33: Fanno Creek at Durham, OR | F33: NO | I33: rotate2 | J33: Urban | K33: 3 | L33: 2014 | M33: A | N33: Riffle | O33: 41866 | P33: 41912 | Q33: 1 | S33: =IF(Q33>0,IF(R33<($O33-7),"EARLY",IF(R33>N($P33+7),"LATE","")),"") -> EARLY | T33: 0 | V33: =IF(T33>0,IF(U33<($O33-7),"EARLY",IF(U33>N($P33+7),"LATE","")),"") | W33: 1 | Y33: =IF(W33>0,IF(X33<($O33-7),"EARLY",IF(X33>N($P33+7),"LATE","")),"") -> EARLY | Z33: 1 | AB33: =IF(Z33>0,IF(AA33<($O33-7),"EARLY",IF(AA33>N($P33+7),"LATE","")),"") -> EARLY | AC33: 41866 | AD33: 41912 | AF33: 1 | AH33: =IF(AF33>0,IF(AG33<($AC33-7),"EARLY",IF(AG33>N($AD33+7),"LATE","")),"") -> EARLY | AI33: 41866 | AJ33: 41912 | AK33: 1 | AM33: =IF(AK33>0,IF(AL33<($AI33-7),"EARLY",IF(AL33>N($AJ33+7),"LATE","")),"") -> EARLY | AN33: =IF(OR(S33<>"",V33<>"",Y33<>"",AB33<>"",AH33<>"",AM33<>""),"CHECK","") -> CHECK
B34: OR | C34: 14205400 | D34: E Fork Dairy Creek near Meachan Corner, OR | F34: NO | I34: rotate4 | J34: Reference | K34: 3 | L34: 2014 | M34: A | N34: Riffle | O34: 41866 | P34: 41912 | Q34: 1 | S34: =IF(Q34>0,IF(R34<($O34-7),"EARLY",IF(R34>N($P34+7),"LATE","")),"") -> EARLY | T34: 0 | V34: =IF(T34>0,IF(U34<($O34-7),"EARLY",IF(U34>N($P34+7),"LATE","")),"") | W34: 1 | Y34: =IF(W34>0,IF(X34<($O34-7),"EARLY",IF(X34>N($P34+7),"LATE","")),"") -> EARLY | Z34: 1 | AB34: =IF(Z34>0,IF(AA34<($O34-7),"EARLY",IF(AA34>N($P34+7),"LATE","")),"") -> EARLY | AC34: 41866 | AD34: 41912 | AF34: 1 | AH34: =IF(AF34>0,IF(AG34<($AC34-7),"EARLY",IF(AG34>N($AD34+7),"LATE","")),"") -> EARLY | AI34: 41866 | AJ34: 41912 | AK34: 1 | AM34: =IF(AK34>0,IF(AL34<($AI34-7),"EARLY",IF(AL34>N($AJ34+7),"LATE","")),"") -> EARLY | AN34: =IF(OR(S34<>"",V34<>"",Y34<>"",AB34<>"",AH34<>"",AM34<>""),"CHECK","") -> CHECK
B35: SC | C35: 02172300 | D35: McTier Creek near Monetta, SC | E35: Jeff Riley | F35: Yes | I35: rotate4 | J35: Reference | K35: 65 | L35: 2014 | M35: A | N35: Snag | O35: 41774 | P35: 41820 | Q35: 1 | S35: =IF(Q35>0,IF(R35<($O35-7),"EARLY",IF(R35>N($P35+7),"LATE","")),"") -> EARLY | T35: 0 | V35: =IF(T35>0,IF(U35<($O35-7),"EARLY",IF(U35>N($P35+7),"LATE","")),"") | W35: 1 | Y35: =IF(W35>0,IF(X35<($O35-7),"EARLY",IF(X35>N($P35+7),"LATE","")),"") -> EARLY | Z35: 1 | AB35: =IF(Z35>0,IF(AA35<($O35-7),"EARLY",IF(AA35>N($P35+7),"LATE","")),"") -> EARLY | AC35: 41883 | AD35: 41927 | AF35: 1 | AH35: =IF(AF35>0,IF(AG35<($AC35-7),"EARLY",IF(AG35>N($AD35+7),"LATE","")),"") -> EARLY | AI35: 41774 | AJ35: 41820 | AK35: 1 | AM35: =IF(AK35>0,IF(AL35<($AI35-7),"EARLY",IF(AL35>N($AJ35+7),"LATE","")),"") -> EARLY | AN35: =IF(OR(S35<>"",V35<>"",Y35<>"",AB35<>"",AH35<>"",AM35<>""),"CHECK","") -> CHECK
B36: TX | C36: 08057200 | D36: White Rock Creek at Dallas, TX | E36: Bruce Moring | F36: Yes | I36: rotate2 | J36: Urban | K36: 32 | L36: 2014 | M36: A | N36: Riffle | O36: 41821 | P36: 41866 | Q36: 1 | S36: =IF(Q36>0,IF(R36<($O36-7),"EARLY",IF(R36>N($P36+7),"LATE","")),"") -> EARLY | T36: 0 | V36: =IF(T36>0,IF(U36<($O36-7),"EARLY",IF(U36>N($P36+7),"LATE","")),"") | W36: 1 | Y36: =IF(W36>0,IF(X36<($O36-7),"EARLY",IF(X36>N($P36+7),"LATE","")),"") -> EARLY | Z36: 1 | AB36: =IF(Z36>0,IF(AA36<($O36-7),"EARLY",IF(AA36>N($P36+7),"LATE","")),"") -> EARLY | AC36: 41821 | AD36: 41866 | AF36: 1 | AH36: =IF(AF36>0,IF(AG36<($AC36-7),"EARLY",IF(AG36>N($AD36+7),"LATE","")),"") -> EARLY | AI36: 41821 | AJ36: 41866 | AK36: 1 | AM36: =IF(AK36>0,IF(AL36<($AI36-7),"EARLY",IF(AL36>N($AJ36+7),"LATE","")),"") -> EARLY | AN36: =IF(OR(S36<>"",V36<>"",Y36<>"",AB36<>"",AH36<>"",AM36<>""),"CHECK","") -> CHECK
B37: TX | C37: 08195000 | D37: Frio River at Concan, TX | F37: Yes | I37: eco_only | J37: Reference | K37: 30 | L37: 2014 | M37: B | N37: Riffle | O37: 41821 | P37: 41866 | Q37: 1 | S37: =IF(Q37>0,IF(R37<($O37-7),"EARLY",IF(R37>N($P37+7),"LATE","")),"") -> EARLY | T37: 0 | V37: =IF(T37>0,IF(U37<($O37-7),"EARLY",IF(U37>N($P37+7),"LATE","")),"") | W37: 1 | Y37: =IF(W37>0,IF(X37<($O37-7),"EARLY",IF(X37>N($P37+7),"LATE","")),"") -> EARLY | Z37: 1 | AB37: =IF(Z37>0,IF(AA37<($O37-7),"EARLY",IF(AA37>N($P37+7),"LATE","")),"") -> EARLY | AC37: 41821 | AD37: 41866 | AF37: 1 | AH37: =IF(AF37>0,IF(AG37<($AC37-7),"EARLY",IF(AG37>N($AD37+7),"LATE","")),"") -> EARLY | AI37: 41821 | AJ37: 41866 | AK37: 1 | AM37: =IF(AK37>0,IF(AL37<($AI37-7),"EARLY",IF(AL37>N($AJ37+7),"LATE","")),"") -> EARLY | AN37: =IF(OR(S37<>"",V37<>"",Y37<>"",AB37<>"",AH37<>"",AM37<>""),"CHECK","") -> CHECK
B38: UT | C38: 10168000 | D38: Little Cottonwood Creek at Salt Lake City, UT | E38: Anne Brasher | F38: NO | I38: rotate2 | J38: Urban | K38: 19 | L38: 2014 | M38: A | N38: Depositional | O38: 41835 | P38: 37864 | Q38: 1 | S38: =IF(Q38>0,IF(R38<($O38-7),"EARLY",IF(R38>N($P38+7),"LATE","")),"") -> EARLY | T38: 0 | V38: =IF(T38>0,IF(U38<($O38-7),"EARLY",IF(U38>N($P38+7),"LATE","")),"") | W38: 1 | Y38: =IF(W38>0,IF(X38<($O38-7),"EARLY",IF(X38>N($P38+7),"LATE","")),"") -> EARLY | Z38: 1 | AB38: =IF(Z38>0,IF(AA38<($O38-7),"EARLY",IF(AA38>N($P38+7),"LATE","")),"") -> EARLY | AC38: 41835 | AD38: 37864 | AF38: 1 | AH38: =IF(AF38>0,IF(AG38<($AC38-7),"EARLY",IF(AG38>N($AD38+7),"LATE","")),"") -> EARLY | AI38: 41835 | AJ38: 37864 | AK38: 1 | AM38: =IF(AK38>0,IF(AL38<($AI38-7),"EARLY",IF(AL38>N($AJ38+7),"LATE","")),"") -> EARLY | AN38: =IF(OR(S38<>"",V38<>"",Y38<>"",AB38<>"",AH38<>"",AM38<>""),"CHECK","") -> CHECK
B39: UT | C39: 10172200 | D39: Red Butte Creek at Ft Douglas, UT | F39: NO | I39: rotate4 | J39: Reference | K39: 19 | L39: 2014 | M39: A | N39: Riffle | O39: 41835 | P39: 37864 | Q39: 1 | S39: =IF(Q39>0,IF(R39<($O39-7),"EARLY",IF(R39>N($P39+7),"LATE","")),"") -> EARLY | T39: 0 | V39: =IF(T39>0,IF(U39<($O39-7),"EARLY",IF(U39>N($P39+7),"LATE","")),"") | W39: 1 | Y39: =IF(W39>0,IF(X39<($O39-7),"EARLY",IF(X39>N($P39+7),"LATE","")),"") -> EARLY | Z39: 1 | AB39: =IF(Z39>0,IF(AA39<($O39-7),"EARLY",IF(AA39>N($P39+7),"LATE","")),"") -> EARLY | AF39: 0 | AH39: =IF(AF39>0,IF(AG39<($AC39-7),"EARLY",IF(AG39>N($AD39+7),"LATE","")),"") | AI39: 41835 | AJ39: 37864 | AK39: 1 | AM39: =IF(AK39>0,IF(AL39<($AI39-7),"EARLY",IF(AL39>N($AJ39+7),"LATE","")),"") -> EARLY | AN39: =IF(OR(S39<>"",V39<>"",Y39<>"",AB39<>"",AH39<>"",AM39<>""),"CHECK","") -> CHECK | AO39: No fish collected at this site (only fish present are those stocked by the State).
B40: WA | C40: 12505450 | D40: Granger Drain at Granger, WA | E40: Bob Black | F40: Yes | I40: rotate4 | J40: Agricultural | K40: 10 | L40: 2014 | M40: A | N40: Riffle | O40: 41852 | P40: 41897 | Q40: 1 | S40: =IF(Q40>0,IF(R40<($O40-7),"EARLY",IF(R40>N($P40+7),"LATE","")),"") -> EARLY | T40: 0 | V40: =IF(T40>0,IF(U40<($O40-7),"EARLY",IF(U40>N($P40+7),"LATE","")),"") | W40: 1 | Y40: =IF(W40>0,IF(X40<($O40-7),"EARLY",IF(X40>N($P40+7),"LATE","")),"") -> EARLY | Z40: 1 | AB40: =IF(Z40>0,IF(AA40<($O40-7),"EARLY",IF(AA40>N($P40+7),"LATE","")),"") -> EARLY | AC40: 41852 | AD40: 41897 | AF40: 1 | AH40: =IF(AF40>0,IF(AG40<($AC40-7),"EARLY",IF(AG40>N($AD40+7),"LATE","")),"") -> EARLY | AI40: 41852 | AJ40: 41897 | AK40: 1 | AM40: =IF(AK40>0,IF(AL40<($AI40-7),"EARLY",IF(AL40>N($AJ40+7),"LATE","")),"") -> EARLY | AN40: =IF(OR(S40<>"",V40<>"",Y40<>"",AB40<>"",AH40<>"",AM40<>""),"CHECK","") -> CHECK
B41: WA | C41: 12056500 | D41: North Fork Skokomish River near Hdsprt, WA | F41: Yes | I41: eco_only | J41: Reference | K41: 1 | L41: 2014 | M41: A | N41: Riffle | O41: 41866 | P41: 41912 | Q41: 1 | S41: =IF(Q41>0,IF(R41<($O41-7),"EARLY",IF(R41>N($P41+7),"LATE","")),"") -> EARLY | T41: 0 | V41: =IF(T41>0,IF(U41<($O41-7),"EARLY",IF(U41>N($P41+7),"LATE","")),"") | W41: 1 | Y41: =IF(W41>0,IF(X41<($O41-7),"EARLY",IF(X41>N($P41+7),"LATE","")),"") -> EARLY | Z41: 1 | AB41: =IF(Z41>0,IF(AA41<($O41-7),"EARLY",IF(AA41>N($P41+7),"LATE","")),"") -> EARLY | AF41: 0 | AH41: =IF(AF41>0,IF(AG41<($AC41-7),"EARLY",IF(AG41>N($AD41+7),"LATE","")),"") | AI41: 41866 | AJ41: 41912 | AK41: 1 | AM41: =IF(AK41>0,IF(AL41<($AI41-7),"EARLY",IF(AL41>N($AJ41+7),"LATE","")),"") -> EARLY | AN41: =IF(OR(S41<>"",V41<>"",Y41<>"",AB41<>"",AH41<>"",AM41<>""),"CHECK","") -> CHECK | AO41: No fish collected at this site
B42: WI | C42: 04063700 | D42: Popple River near Fence, WI | E42: Barb Eikenberry | F42: Yes | I42: rotate4 | J42: Reference | K42: 50 | L42: 2014 | M42: A | N42: Riffle | O42: 41866 | P42: 41912 | Q42: 1 | S42: =IF(Q42>0,IF(R42<($O42-7),"EARLY",IF(R42>N($P42+7),"LATE","")),"") -> EARLY | T42: 0 | V42: =IF(T42>0,IF(U42<($O42-7),"EARLY",IF(U42>N($P42+7),"LATE","")),"") | W42: 1 | Y42: =IF(W42>0,IF(X42<($O42-7),"EARLY",IF(X42>N($P42+7),"LATE","")),"") -> EARLY | Z42: 1 | AB42: =IF(Z42>0,IF(AA42<($O42-7),"EARLY",IF(AA42>N($P42+7),"LATE","")),"") -> EARLY | AC42: 41852 | AD42: 41897 | AF42: 1 | AH42: =IF(AF42>0,IF(AG42<($AC42-7),"EARLY",IF(AG42>N($AD42+7),"LATE","")),"") -> EARLY | AI42: 41866 | AJ42: 41912 | AK42: 1 | AM42: =IF(AK42>0,IF(AL42<($AI42-7),"EARLY",IF(AL42>N($AJ42+7),"LATE","")),"") -> EARLY | AN42: =IF(OR(S42<>"",V42<>"",Y42<>"",AB42<>"",AH42<>"",AM42<>""),"CHECK","") -> CHECK
B43: WY | C43: 06324970 | D43: Little Powder River near Weston, WY | E43: Peter Wright | F43: Yes | I43: rotate4 | J43: Reference | K43: 43 | L43: 2014 | M43: A | N43: Riffle | O43: 41821 | P43: 41866 | Q43: 1 | S43: =IF(Q43>0,IF(R43<($O43-7),"EARLY",IF(R43>N($P43+7),"LATE","")),"") -> EARLY | T43: 0 | V43: =IF(T43>0,IF(U43<($O43-7),"EARLY",IF(U43>N($P43+7),"LATE","")),"") | W43: 1 | Y43: =IF(W43>0,IF(X43<($O43-7),"EARLY",IF(X43>N($P43+7),"LATE","")),"") -> EARLY | Z43: 1 | AB43: =IF(Z43>0,IF(AA43<($O43-7),"EARLY",IF(AA43>N($P43+7),"LATE","")),"") -> EARLY | AC43: 41821 | AD43: 41866 | AF43: 1 | AH43: =IF(AF43>0,IF(AG43<($AC43-7),"EARLY",IF(AG43>N($AD43+7),"LATE","")),"") -> EARLY | AI43: 41821 | AJ43: 41866 | AK43: 1 | AM43: =IF(AK43>0,IF(AL43<($AI43-7),"EARLY",IF(AL43>N($AJ43+7),"LATE","")),"") -> EARLY | AN43: =IF(OR(S43<>"",V43<>"",Y43<>"",AB43<>"",AH43<>"",AM43<>""),"CHECK","") -> CHECK
J45: total counts | Q45: =SUM(Q5:Q43) -> 39 | T45: =SUM(T5:T43) -> 0 | W45: =SUM(W5:W43) -> 39 | Z45: =SUM(Z5:Z43) -> 39 | AF45: =SUM(AF5:AF43) -> 37 | AK45: =SUM(AK5:AK43) -> 39

Sheet Sample counts
A1: SC Collecting Samples | B1: Suspended Sediment Samples | C1: SH 998/1201 Major Ion Samples | D1: SH 998/1201 Major Ions Blanks | E1: SH 2430/31/32 Nutrients Samples | F1: Nutrient Blanks | G1: SH2437 Pesticide Samples | H1: SH2437 Pesticide Blanks | I1: LC 2172 Inverts RTH | J1: LC 2176 Inverts QMH | K1: Algae RTH | L1: SH 1632 Chl a
A2: AL | B2: ='WY2014 NFSN Chem Sampling'!$O$7+'WY2014 NFSN Chem Sampling'!$Q$7 -> 34 | C2: ='WY2014 NFSN Chem Sampling'!$S$7+'WY2014 NFSN Chem Sampling'!$U$7 -> 34 | D2: ='WY2014 NFSN Chem Sampling'!$W$7 -> 2 | E2: ='WY2014 NFSN Chem Sampling'!$Y$7+'WY2014 NFSN Chem Sampling'!$AA$7 -> 34 | F2: ='WY2014 NFSN Chem Sampling'!$AC$7 -> 2 | G2: ='WY2014 NFSN Chem Sampling'!AG7+'WY2014 NFSN Chem Sampling'!AK7+'WY2014 NFSN Chem Sampling'!AM7 -> 36 | H2: ='WY2014 NFSN Chem Sampling'!$AI$7 -> 2 | I2: 0 | J2: 0 | K2: 0 | L2: 0
A3: AK | B3: ='WY2014 NFSN Chem Sampling'!$O$10+'WY2014 NFSN Chem Sampling'!$Q$10 -> 8 | C3: ='WY2014 NFSN Chem Sampling'!$S$10+'WY2014 NFSN Chem Sampling'!$U$10 -> 7 | D3: ='WY2014 NFSN Chem Sampling'!$W$10 -> 1 | E3: ='WY2014 NFSN Chem Sampling'!$Y$10+'WY2014 NFSN Chem Sampling'!$AA$10 -> 7 | F3: ='WY2014 NFSN Chem Sampling'!$AC$10 -> 1 | G3: ='WY2014 NFSN Chem Sampling'!AG10+'WY2014 NFSN Chem Sampling'!AK10+'WY2014 NFSN Chem Sampling'!AM10 -> 3 | H3: ='WY2014 NFSN Chem Sampling'!$AI$10 -> 1 | I3: 0 | J3: 0 | K3: 0 | L3: 0
A4: AZ | B4: ='WY2014 NFSN Chem Sampling'!$O$16+'WY2014 NFSN Chem Sampling'!$Q$16 -> 42 | C4: ='WY2014 NFSN Chem Sampling'!$S$16+'WY2014 NFSN Chem Sampling'!$U$16 -> 41 | D4: ='WY2014 NFSN Chem Sampling'!$W$16 -> 3 | E4: ='WY2014 NFSN Chem Sampling'!$Y$16+'WY2014 NFSN Chem Sampling'!$AA$16 -> 41 | F4: ='WY2014 NFSN Chem Sampling'!$AC$16 -> 3 | G4: ='WY2014 NFSN Chem Sampling'!AG16+'WY2014 NFSN Chem Sampling'!AK16+'WY2014 NFSN Chem Sampling'!AM16 -> 30 | H4: ='WY2014 NFSN Chem Sampling'!$AI$16 -> 2 | I4: ='WY2014 NFSN Eco Sampling'!$Q$5+'WY2014 NFSN Eco Sampling'!$Q$6 -> 2 | J4: ='WY2014 NFSN Eco Sampling'!$T$5+'WY2014 NFSN Eco Sampling'!$T$6 -> 0 | K4: ='WY2014 NFSN Eco Sampling'!$W$5+'WY2014 NFSN Eco Sampling'!$W$6 -> 2 | L4: ='WY2014 NFSN Eco Sampling'!$Z$5+'WY2014 NFSN Eco Sampling'!$Z$6 -> 2
A5: AR | B5: ='WY2014 NFSN Chem Sampling'!$O$21+'WY2014 NFSN Chem Sampling'!$Q$21 -> 29 | C5: ='WY2014 NFSN Chem Sampling'!$S$21+'WY2014 NFSN Chem Sampling'!$U$21 -> 28 | D5: ='WY2014 NFSN Chem Sampling'!$W$21 -> 2 | E5: ='WY2014 NFSN Chem Sampling'!$Y$21+'WY2014 NFSN Chem Sampling'!$AA$21 -> 28 | F5: ='WY2014 NFSN Chem Sampling'!$AC$21 -> 2 | G5: ='WY2014 NFSN Chem Sampling'!AG21+'WY2014 NFSN Chem Sampling'!AK21+'WY2014 NFSN Chem Sampling'!AM21 -> 16 | H5: ='WY2014 NFSN Chem Sampling'!$AI$21 -> 1 | I5: ='WY2014 NFSN Eco Sampling'!$Q$7+'WY2014 NFSN Eco Sampling'!$Q$8 -> 2 | J5: ='WY2014 NFSN Eco Sampling'!$T$7+'WY2014 NFSN Eco Sampling'!$T$8 -> 0 | K5: ='WY2014 NFSN Eco Sampling'!$W$7+'WY2014 NFSN Eco Sampling'!$W$8 -> 2 | L5: ='WY2014 NFSN Eco Sampling'!$Z$7+'WY2014 NFSN Eco Sampling'!$Z$8 -> 2
A6: CA | B6: ='WY2014 NFSN Chem Sampling'!$O$30+'WY2014 NFSN Chem Sampling'!$Q$30 -> 84 | C6: ='WY2014 NFSN Chem Sampling'!$S$30+'WY2014 NFSN Chem Sampling'!$U$30 -> 84 | D6: ='WY2014 NFSN Chem Sampling'!$W$30 -> 5 | E6: ='WY2014 NFSN Chem Sampling'!$Y$30+'WY2014 NFSN Chem Sampling'!$AA$30 -> 84 | F6: ='WY2014 NFSN Chem Sampling'!$AC$30 -> 5 | G6: ='WY2014 NFSN Chem Sampling'!AG30+'WY2014 NFSN Chem Sampling'!AK30+'WY2014 NFSN Chem Sampling'!AM30 -> 74 | H6: ='WY2014 NFSN Chem Sampling'!$AI$30 -> 4 | I6: ='WY2014 NFSN Eco Sampling'!$Q$9+'WY2014 NFSN Eco Sampling'!$Q$10+'WY2014 NFSN Eco Sampling'!$Q$11 -> 3 | J6: ='WY2014 NFSN Eco Sampling'!$T$9+'WY2014 NFSN Eco Sampling'!$T$10+'WY2014 NFSN Eco Sampling'!$T$11 -> 0 | K6: ='WY2014 NFSN Eco Sampling'!$W$9+'WY2014 NFSN Eco Sampling'!$W$10+'WY2014 NFSN Eco Sampling'!$W$11 -> 3 | L6: ='WY2014 NFSN Eco Sampling'!$Z$9+'WY2014 NFSN Eco Sampling'!$Z$10+'WY2014 NFSN Eco Sampling'!$Z$11 -> 3
A7: CO | B7: ='WY2014 NFSN Chem Sampling'!$O$35+'WY2014 NFSN Chem Sampling'!$Q$35 -> 63 | C7: ='WY2014 NFSN Chem Sampling'!$S$35+'WY2014 NFSN Chem Sampling'!$U$35 -> 63 | D7: ='WY2014 NFSN Chem Sampling'!$W$35 -> 3 | E7: ='WY2014 NFSN Chem Sampling'!$Y$35+'WY2014 NFSN Chem Sampling'!$AA$35 -> 64 | F7: ='WY2014 NFSN Chem Sampling'!$AC$35 -> 4 | G7: ='WY2014 NFSN Chem Sampling'!AG35+'WY2014 NFSN Chem Sampling'!AK35+'WY2014 NFSN Chem Sampling'!AM35 -> 66 | H7: ='WY2014 NFSN Chem Sampling'!$AI$35 -> 3 | I7: ='WY2014 NFSN Eco Sampling'!$Q$12 -> 1 | J7: ='WY2014 NFSN Eco Sampling'!$T$12 -> 0 | K7: ='WY2014 NFSN Eco Sampling'!$W$12 -> 1 | L7: ='WY2014 NFSN Eco Sampling'!$Z$12 -> 1
A8: CT | B8: ='WY2014 NFSN Chem Sampling'!$O$40+'WY2014 NFSN Chem Sampling'!$Q$40 -> 51 | C8: ='WY2014 NFSN Chem Sampling'!$S$40+'WY2014 NFSN Chem Sampling'!$U$40 -> 50 | D8: ='WY2014 NFSN Chem Sampling'!$W$40 -> 3 | E8: ='WY2014 NFSN Chem Sampling'!$Y$40+'WY2014 NFSN Chem Sampling'!$AA$40 -> 51 | F8: ='WY2014 NFSN Chem Sampling'!$AC$40 -> 4 | G8: ='WY2014 NFSN Chem Sampling'!AG40+'WY2014 NFSN Chem Sampling'!AK40+'WY2014 NFSN Chem Sampling'!AM40 -> 46 | H8: ='WY2014 NFSN Chem Sampling'!$AI$40 -> 2 | I8: ='WY2014 NFSN Eco Sampling'!$Q$13+'WY2014 NFSN Eco Sampling'!$Q$14 -> 2 | J8: ='WY2014 NFSN Eco Sampling'!$T$13+'WY2014 NFSN Eco Sampling'!$T$14 -> 0 | K8: ='WY2014 NFSN Eco Sampling'!$W$13+'WY2014 NFSN Eco Sampling'!$W$14 -> 2 | L8: ='WY2014 NFSN Eco Sampling'!$Z$13+'WY2014 NFSN Eco Sampling'!$Z$14 -> 2
A9: FL | B9: ='WY2014 NFSN Chem Sampling'!$O$43+'WY2014 NFSN Chem Sampling'!$Q$43 -> 15 | C9: ='WY2014 NFSN Chem Sampling'!$S$43+'WY2014 NFSN Chem Sampling'!$U$43 -> 15 | D9: ='WY2014 NFSN Chem Sampling'!$W$43 -> 1 | E9: ='WY2014 NFSN Chem Sampling'!$Y$43+'WY2014 NFSN Chem Sampling'!$AA$43 -> 15 | F9: ='WY2014 NFSN Chem Sampling'!$AC$43 -> 1 | G9: ='WY2014 NFSN Chem Sampling'!AG43+'WY2014 NFSN Chem Sampling'!AK43+'WY2014 NFSN Chem Sampling'!AM43 -> 16 | H9: ='WY2014 NFSN Chem Sampling'!$AI$43 -> 1 | I9: 0 | J9: 0 | K9: 0 | L9: 0
A10: GA | B10: ='WY2014 NFSN Chem Sampling'!$O$48+'WY2014 NFSN Chem Sampling'!$Q$48 -> 47 | C10: ='WY2014 NFSN Chem Sampling'!$S$48+'WY2014 NFSN Chem Sampling'!$U$48 -> 47 | D10: ='WY2014 NFSN Chem Sampling'!$W$48 -> 2 | E10: ='WY2014 NFSN Chem Sampling'!$Y$48+'WY2014 NFSN Chem Sampling'!$AA$48 -> 48 | F10: ='WY2014 NFSN Chem Sampling'!$AC$48 -> 3 | G10: ='WY2014 NFSN Chem Sampling'!AG48+'WY2014 NFSN Chem Sampling'!AK48+'WY2014 NFSN Chem Sampling'!AM48 -> 42 | H10: ='WY2014 NFSN Chem Sampling'!$AI$48 -> 2 | I10: ='WY2014 NFSN Eco Sampling'!$Q$15+'WY2014 NFSN Eco Sampling'!$Q$16 -> 2 | J10: ='WY2014 NFSN Eco Sampling'!$T$15+'WY2014 NFSN Eco Sampling'!$T$16 -> 0 | K10: ='WY2014 NFSN Eco Sampling'!$W$15+'WY2014 NFSN Eco Sampling'!$W$16 -> 2 | L10: ='WY2014 NFSN Eco Sampling'!$Z$15+'WY2014 NFSN Eco Sampling'!$Z$16 -> 2
A11: ID | B11: ='WY2014 NFSN Chem Sampling'!$O$52+'WY2014 NFSN Chem Sampling'!$Q$52 -> 40 | C11: ='WY2014 NFSN Chem Sampling'!$S$52+'WY2014 NFSN Chem Sampling'!$U$52 -> 40 | D11: ='WY2014 NFSN Chem Sampling'!$W$52 -> 2 | E11: ='WY2014 NFSN Chem Sampling'!$Y$52+'WY2014 NFSN Chem Sampling'!$AA$52 -> 41 | F11: ='WY2014 NFSN Chem Sampling'!$AC$52 -> 3 | G11: ='WY2014 NFSN Chem Sampling'!AG52+'WY2014 NFSN Chem Sampling'!AK52+'WY2014 NFSN Chem Sampling'!AM52 -> 42 | H11: ='WY2014 NFSN Chem Sampling'!$AI$52 -> 2 | I11: ='WY2014 NFSN Eco Sampling'!$Q$17 -> 1 | J11: ='WY2014 NFSN Eco Sampling'!$T$17 -> 0 | K11: ='WY2014 NFSN Eco Sampling'!$W$17 -> 1 | L11: ='WY2014 NFSN Eco Sampling'!$Z$17 -> 1
A12: IL | B12: ='WY2014 NFSN Chem Sampling'!$O$55+'WY2014 NFSN Chem Sampling'!$Q$55 -> 15 | C12: ='WY2014 NFSN Chem Sampling'!$S$55+'WY2014 NFSN Chem Sampling'!$U$55 -> 15 | D12: ='WY2014 NFSN Chem Sampling'!$W$55 -> 1 | E12: ='WY2014 NFSN Chem Sampling'!$Y$55+'WY2014 NFSN Chem Sampling'!$AA$55 -> 15 | F12: ='WY2014 NFSN Chem Sampling'!$AC$55 -> 1 | G12: ='WY2014 NFSN Chem Sampling'!AG55+'WY2014 NFSN Chem Sampling'!AK55+'WY2014 NFSN Chem Sampling'!AM55 -> 16 | H12: ='WY2014 NFSN Chem Sampling'!$AI$55 -> 1 | I12: 0 | J12: 0 | K12: 0 | L12: 0
A13: IN | B13: ='WY2014 NFSN Chem Sampling'!$O$59+'WY2014 NFSN Chem Sampling'!$Q$59 -> 44 | C13: ='WY2014 NFSN Chem Sampling'!$S$59+'WY2014 NFSN Chem Sampling'!$U$59 -> 44 | D13: ='WY2014 NFSN Chem Sampling'!$W$59 -> 2 | E13: ='WY2014 NFSN Chem Sampling'!$Y$59+'WY2014 NFSN Chem Sampling'!$AA$59 -> 45 | F13: ='WY2014 NFSN Chem Sampling'!$AC$59 -> 3 | G13: ='WY2014 NFSN Chem Sampling'!AG59+'WY2014 NFSN Chem Sampling'!AK59+'WY2014 NFSN Chem Sampling'!AM59 -> 46 | H13: ='WY2014 NFSN Chem Sampling'!$AI$59 -> 2 | I13: ='WY2014 NFSN Eco Sampling'!$Q$18 -> 1 | J13: ='WY2014 NFSN Eco Sampling'!$T$18 -> 0 | K13: ='WY2014 NFSN Eco Sampling'!$W$18 -> 1 | L13: ='WY2014 NFSN Eco Sampling'!$Z$18 -> 1
A14: IA | B14: ='WY2014 NFSN Chem Sampling'!$O$66+'WY2014 NFSN Chem Sampling'!$Q$66 -> 85 | C14: ='WY2014 NFSN Chem Sampling'!$S$66+'WY2014 NFSN Chem Sampling'!$U$66 -> 85 | D14: ='WY2014 NFSN Chem Sampling'!$W$66 -> 5 | E14: ='WY2014 NFSN Chem Sampling'!$Y$66+'WY2014 NFSN Chem Sampling'!$AA$66 -> 86 | F14: ='WY2014 NFSN Chem Sampling'!$AC$66 -> 6 | G14: ='WY2014 NFSN Chem Sampling'!AG66+'WY2014 NFSN Chem Sampling'!AK66+'WY2014 NFSN Chem Sampling'!AM66 -> 90 | H14: ='WY2014 NFSN Chem Sampling'!$AI$66 -> 5 | I14: ='WY2014 NFSN Eco Sampling'!$Q$19 -> 1 | J14: ='WY2014 NFSN Eco Sampling'!$T$19 -> 0 | K14: ='WY2014 NFSN Eco Sampling'!$W$19 -> 1 | L14: ='WY2014 NFSN Eco Sampling'!$Z$19 -> 1
A15: KS | B15: ='WY2014 NFSN Chem Sampling'!$O$70+'WY2014 NFSN Chem Sampling'!$Q$70 -> 34 | C15: ='WY2014 NFSN Chem Sampling'!$S$70+'WY2014 NFSN Chem Sampling'!$U$70 -> 34 | D15: ='WY2014 NFSN Chem Sampling'!$W$70 -> 2 | E15: ='WY2014 NFSN Chem Sampling'!$Y$70+'WY2014 NFSN Chem Sampling'!$AA$70 -> 34 | F15: ='WY2014 NFSN Chem Sampling'!$AC$70 -> 2 | G15: ='WY2014 NFSN Chem Sampling'!AG70+'WY2014 NFSN Chem Sampling'!AK70+'WY2014 NFSN Chem Sampling'!AM70 -> 36 | H15: ='WY2014 NFSN Chem Sampling'!$AI$70 -> 2 | I15: 0 | J15: 0 | K15: 0 | L15: 0
A16: KY | B16: ='WY2014 NFSN Chem Sampling'!$O$76+'WY2014 NFSN Chem Sampling'!$Q$76 -> 60 | C16: ='WY2014 NFSN Chem Sampling'!$S$76+'WY2014 NFSN Chem Sampling'!$U$76 -> 60 | D16: ='WY2014 NFSN Chem Sampling'!$W$76 -> 4 | E16: ='WY2014 NFSN Chem Sampling'!$Y$76+'WY2014 NFSN Chem Sampling'!$AA$76 -> 60 | F16: ='WY2014 NFSN Chem Sampling'!$AC$76 -> 4 | G16: ='WY2014 NFSN Chem Sampling'!AG76+'WY2014 NFSN Chem Sampling'!AK76+'WY2014 NFSN Chem Sampling'!AM76 -> 64 | H16: ='WY2014 NFSN Chem Sampling'!$AI$76 -> 4 | I16: 0 | J16: 0 | K16: 0 | L16: 0
A17: LA | B17: ='WY2014 NFSN Chem Sampling'!$O$85+'WY2014 NFSN Chem Sampling'!$Q$85 -> 101 | C17: ='WY2014 NFSN Chem Sampling'!$S$85+'WY2014 NFSN Chem Sampling'!$U$85 -> 100 | D17: ='WY2014 NFSN Chem Sampling'!$W$85 -> 7 | E17: ='WY2014 NFSN Chem Sampling'!$Y$85+'WY2014 NFSN Chem Sampling'!$AA$85 -> 100 | F17: ='WY2014 NFSN Chem Sampling'!$AC$85 -> 7 | G17: ='WY2014 NFSN Chem Sampling'!AG85+'WY2014 NFSN Chem Sampling'!AK85+'WY2014 NFSN Chem Sampling'!AM85 -> 100 | H17: ='WY2014 NFSN Chem Sampling'!$AI$85 -> 6 | I17: ='WY2014 NFSN Eco Sampling'!$Q$20 -> 1 | J17: ='WY2014 NFSN Eco Sampling'!$T$20 -> 0 | K17: ='WY2014 NFSN Eco Sampling'!$W$20 -> 1 | L17: ='WY2014 NFSN Eco Sampling'!$Z$20 -> 1
A18: MD | B18: ='WY2014 NFSN Chem Sampling'!$O$91+'WY2014 NFSN Chem Sampling'!$Q$91 -> 66 | C18: ='WY2014 NFSN Chem Sampling'!$S$91+'WY2014 NFSN Chem Sampling'!$U$91 -> 66 | D18: ='WY2014 NFSN Chem Sampling'!$W$91 -> 3 | E18: ='WY2014 NFSN Chem Sampling'!$Y$91+'WY2014 NFSN Chem Sampling'!$AA$91 -> 67 | F18: ='WY2014 NFSN Chem Sampling'!$AC$91 -> 4 | G18: ='WY2014 NFSN Chem Sampling'!AG91+'WY2014 NFSN Chem Sampling'!AK91+'WY2014 NFSN Chem Sampling'!AM91 -> 62 | H18: ='WY2014 NFSN Chem Sampling'!$AI$91 -> 3 | I18: ='WY2014 NFSN Eco Sampling'!$Q$21+'WY2014 NFSN Eco Sampling'!$Q$22 -> 2 | J18: ='WY2014 NFSN Eco Sampling'!$T$21+'WY2014 NFSN Eco Sampling'!$T$22 -> 0 | K18: ='WY2014 NFSN Eco Sampling'!$W$21+'WY2014 NFSN Eco Sampling'!$W$22 -> 2 | L18: ='WY2014 NFSN Eco Sampling'!$Z$21+'WY2014 NFSN Eco Sampling'!$Z$22 -> 2
A19: MI | B19: ='WY2014 NFSN Chem Sampling'!$O$94+'WY2014 NFSN Chem Sampling'!$Q$94 -> 25 | C19: ='WY2014 NFSN Chem Sampling'!$S$94+'WY2014 NFSN Chem Sampling'!$U$94 -> 25 | D19: ='WY2014 NFSN Chem Sampling'!$W$94 -> 1 | E19: ='WY2014 NFSN Chem Sampling'!$Y$94+'WY2014 NFSN Chem Sampling'!$AA$94 -> 26 | F19: ='WY2014 NFSN Chem Sampling'!$AC$94 -> 2 | G19: ='WY2014 NFSN Chem Sampling'!AG94+'WY2014 NFSN Chem Sampling'!AK94+'WY2014 NFSN Chem Sampling'!AM94 -> 26 | H19: ='WY2014 NFSN Chem Sampling'!$AI$94 -> 1 | I19: 0 | J19: 0 | K19: 0 | L19: 0
A20: MN | B20: ='WY2014 NFSN Chem Sampling'!$O$98+'WY2014 NFSN Chem Sampling'!$Q$98 -> 40 | C20: ='WY2014 NFSN Chem Sampling'!$S$98+'WY2014 NFSN Chem Sampling'!$U$98 -> 40 | D20: ='WY2014 NFSN Chem Sampling'!$W$98 -> 2 | E20: ='WY2014 NFSN Chem Sampling'!$Y$98+'WY2014 NFSN Chem Sampling'!$AA$98 -> 41 | F20: ='WY2014 NFSN Chem Sampling'!$AC$98 -> 3 | G20: ='WY2014 NFSN Chem Sampling'!AG98+'WY2014 NFSN Chem Sampling'!AK98+'WY2014 NFSN Chem Sampling'!AM98 -> 42 | H20: ='WY2014 NFSN Chem Sampling'!$AI$120 -> 1 | I20: ='WY2014 NFSN Eco Sampling'!$Q$23 -> 1 | J20: ='WY2014 NFSN Eco Sampling'!$T$23 -> 0 | K20: ='WY2014 NFSN Eco Sampling'!$W$23 -> 1 | L20: ='WY2014 NFSN Eco Sampling'!$Z$23 -> 1
A21: MS | B21: ='WY2014 NFSN Chem Sampling'!$O$103+'WY2014 NFSN Chem Sampling'!$Q$103 -> 59 | C21: ='WY2014 NFSN Chem Sampling'!$S$103+'WY2014 NFSN Chem Sampling'!$U$103 -> 59 | D21: ='WY2014 NFSN Chem Sampling'!$W$103 -> 3 | E21: ='WY2014 NFSN Chem Sampling'!$Y$103+'WY2014 NFSN Chem Sampling'!$AA$103 -> 60 | F21: ='WY2014 NFSN Chem Sampling'!$AC$103 -> 4 | G21: ='WY2014 NFSN Chem Sampling'!AG103+'WY2014 NFSN Chem Sampling'!AK103+'WY2014 NFSN Chem Sampling'!AM103 -> 62 | H21: ='WY2014 NFSN Chem Sampling'!$AI$103 -> 3 | I21: ='WY2014 NFSN Eco Sampling'!$Q$24 -> 1 | J21: ='WY2014 NFSN Eco Sampling'!$T$24 -> 0 | K21: ='WY2014 NFSN Eco Sampling'!$W$24 -> 1 | L21: ='WY2014 NFSN Eco Sampling'!$Z$24 -> 1
A22: MO | B22: ='WY2014 NFSN Chem Sampling'!$O$108+'WY2014 NFSN Chem Sampling'!$Q$108 -> 45 | C22: ='WY2014 NFSN Chem Sampling'!$S$108+'WY2014 NFSN Chem Sampling'!$U$108 -> 45 | D22: ='WY2014 NFSN Chem Sampling'!$W$108 -> 3 | E22: ='WY2014 NFSN Chem Sampling'!$Y$108+'WY2014 NFSN Chem Sampling'!$AA$108 -> 45 | F22: ='WY2014 NFSN Chem Sampling'!$AC$108 -> 3 | G22: ='WY2014 NFSN Chem Sampling'!AG108+'WY2014 NFSN Chem Sampling'!AK108+'WY2014 NFSN Chem Sampling'!AM108 -> 48 | H22: ='WY2014 NFSN Chem Sampling'!$AI$108 -> 3 | I22: 0 | J22: 0 | K22: 0 | L22: 0
A23: NE | B23: ='WY2014 NFSN Chem Sampling'!$O$114+'WY2014 NFSN Chem Sampling'!$Q$114 -> 66 | C23: ='WY2014 NFSN Chem Sampling'!$S$114+'WY2014 NFSN Chem Sampling'!$U$114 -> 65 | D23: ='WY2014 NFSN Chem Sampling'!$W$114 -> 4 | E23: ='WY2014 NFSN Chem Sampling'!$Y$114+'WY2014 NFSN Chem Sampling'!$AA$114 -> 66 | F23: ='WY2014 NFSN Chem Sampling'!$AC$114 -> 5 | G23: ='WY2014 NFSN Chem Sampling'!AG114+'WY2014 NFSN Chem Sampling'!AK114+'WY2014 NFSN Chem Sampling'!AM114 -> 62 | H23: ='WY2014 NFSN Chem Sampling'!$AI$114 -> 3 | I23: ='WY2014 NFSN Eco Sampling'!$Q$25+'WY2014 NFSN Eco Sampling'!$Q$26 -> 2 | J23: ='WY2014 NFSN Eco Sampling'!$T$25+'WY2014 NFSN Eco Sampling'!$T$26 -> 0 | K23: ='WY2014 NFSN Eco Sampling'!$W$25+'WY2014 NFSN Eco Sampling'!$W$26 -> 2 | L23: ='WY2014 NFSN Eco Sampling'!$Z$25+'WY2014 NFSN Eco Sampling'!$Z$26 -> 2
A24: NV | B24: ='WY2014 NFSN Chem Sampling'!$O$117+'WY2014 NFSN Chem Sampling'!$Q$117 -> 19 | C24: ='WY2014 NFSN Chem Sampling'!$S$117+'WY2014 NFSN Chem Sampling'!$U$117 -> 19 | D24: ='WY2014 NFSN Chem Sampling'!$W$117 -> 1 | E24: ='WY2014 NFSN Chem Sampling'!$Y$117+'WY2014 NFSN Chem Sampling'!$AA$117 -> 19 | F24: ='WY2014 NFSN Chem Sampling'!$AC$117 -> 1 | G24: ='WY2014 NFSN Chem Sampling'!AG117+'WY2014 NFSN Chem Sampling'!AK117+'WY2014 NFSN Chem Sampling'!AM117 -> 20 | H24: ='WY2014 NFSN Chem Sampling'!$AI$117 -> 1 | I24: 0 | J24: 0 | K24: 0 | L24: 0
A25: NJ | B25: ='WY2014 NFSN Chem Sampling'!$O$120+'WY2014 NFSN Chem Sampling'!$Q$120 -> 15 | C25: ='WY2014 NFSN Chem Sampling'!$S$120+'WY2014 NFSN Chem Sampling'!$U$120 -> 15 | D25: ='WY2014 NFSN Chem Sampling'!$W$120 -> 1 | E25: ='WY2014 NFSN Chem Sampling'!$Y$120+'WY2014 NFSN Chem Sampling'!$AA$120 -> 15 | F25: ='WY2014 NFSN Chem Sampling'!$AC$120 -> 1 | G25: ='WY2014 NFSN Chem Sampling'!AG120+'WY2014 NFSN Chem Sampling'!AK120+'WY2014 NFSN Chem Sampling'!AM120 -> 16 | H25: ='WY2014 NFSN Chem Sampling'!$AI$120 -> 1 | I25: 0 | J25: 0 | K25: 0 | L25: 0
A26: NM | B26: ='WY2014 NFSN Chem Sampling'!$O$124+'WY2014 NFSN Chem Sampling'!$Q$124 -> 22 | C26: ='WY2014 NFSN Chem Sampling'!$S$124+'WY2014 NFSN Chem Sampling'!$U$124 -> 22 | D26: ='WY2014 NFSN Chem Sampling'!$W$124 -> 1 | E26: ='WY2014 NFSN Chem Sampling'!$Y$124+'WY2014 NFSN Chem Sampling'!$AA$124 -> 22 | F26: ='WY2014 NFSN Chem Sampling'!$AC$124 -> 1 | G26: ='WY2014 NFSN Chem Sampling'!AG124+'WY2014 NFSN Chem Sampling'!AK124+'WY2014 NFSN Chem Sampling'!AM124 -> 16 | H26: ='WY2014 NFSN Chem Sampling'!$AI$140 -> 1 | I26: ='WY2014 NFSN Eco Sampling'!$Q$27 -> 1 | J26: ='WY2014 NFSN Eco Sampling'!$T$27 -> 0 | K26: ='WY2014 NFSN Eco Sampling'!$W$27 -> 1 | L26: ='WY2014 NFSN Eco Sampling'!$Z$27 -> 1
A27: NY | B27: ='WY2014 NFSN Chem Sampling'!$O$129+'WY2014 NFSN Chem Sampling'!$Q$129 -> 55 | C27: ='WY2014 NFSN Chem Sampling'!$S$129+'WY2014 NFSN Chem Sampling'!$U$129 -> 55 | D27: ='WY2014 NFSN Chem Sampling'!$W$129 -> 3 | E27: ='WY2014 NFSN Chem Sampling'!$Y$129+'WY2014 NFSN Chem Sampling'!$AA$129 -> 56 | F27: ='WY2014 NFSN Chem Sampling'!$AC$129 -> 4 | G27: ='WY2014 NFSN Chem Sampling'!AG129+'WY2014 NFSN Chem Sampling'!AK129+'WY2014 NFSN Chem Sampling'!AM129 -> 58 | H27: ='WY2014 NFSN Chem Sampling'!$AI$129 -> 3 | I27: ='WY2014 NFSN Eco Sampling'!$Q$28 -> 1 | J27: ='WY2014 NFSN Eco Sampling'!$T$28 -> 0 | K27: ='WY2014 NFSN Eco Sampling'!$W$28 -> 1 | L27: ='WY2014 NFSN Eco Sampling'!$Z$28 -> 1
A28: NC | B28: ='WY2014 NFSN Chem Sampling'!$O$134+'WY2014 NFSN Chem Sampling'!$Q$134 -> 69 | C28: ='WY2014 NFSN Chem Sampling'!$S$134+'WY2014 NFSN Chem Sampling'!$U$134 -> 69 | D28: ='WY2014 NFSN Chem Sampling'!$W$134 -> 3 | E28: ='WY2014 NFSN Chem Sampling'!$Y$134+'WY2014 NFSN Chem Sampling'!$AA$134 -> 71 | F28: ='WY2014 NFSN Chem Sampling'!$AC$134 -> 5 | G28: ='WY2014 NFSN Chem Sampling'!AG134+'WY2014 NFSN Chem Sampling'!AK134+'WY2014 NFSN Chem Sampling'!AM134 -> 72 | H28: ='WY2014 NFSN Chem Sampling'!$AI$134 -> 3 | I28: ='WY2014 NFSN Eco Sampling'!$Q$29+'WY2014 NFSN Eco Sampling'!$Q$30 -> 2 | J28: ='WY2014 NFSN Eco Sampling'!$T$29+'WY2014 NFSN Eco Sampling'!$T$30 -> 0 | K28: ='WY2014 NFSN Eco Sampling'!$W$29+'WY2014 NFSN Eco Sampling'!$W$30 -> 2 | L28: ='WY2014 NFSN Eco Sampling'!$Z$29+'WY2014 NFSN Eco Sampling'!$Z$30 -> 2
A29: ND | B29: ='WY2014 NFSN Chem Sampling'!$O$137+'WY2014 NFSN Chem Sampling'!$Q$137 -> 15 | C29: ='WY2014 NFSN Chem Sampling'!$S$137+'WY2014 NFSN Chem Sampling'!$U$137 -> 15 | D29: ='WY2014 NFSN Chem Sampling'!$W$137 -> 1 | E29: ='WY2014 NFSN Chem Sampling'!$Y$137+'WY2014 NFSN Chem Sampling'!$AA$137 -> 15 | F29: ='WY2014 NFSN Chem Sampling'!$AC$137 -> 1 | G29: ='WY2014 NFSN Chem Sampling'!AG137+'WY2014 NFSN Chem Sampling'!AK137+'WY2014 NFSN Chem Sampling'!AM137 -> 16 | H29: ='WY2014 NFSN Chem Sampling'!$AI$137 -> 1 | I29: 0 | J29: 0 | K29: 0 | L29: 0
A30: OH | B30: ='WY2014 NFSN Chem Sampling'!$O$140+'WY2014 NFSN Chem Sampling'!$Q$140 -> 19 | C30: ='WY2014 NFSN Chem Sampling'!$S$140+'WY2014 NFSN Chem Sampling'!$U$140 -> 19 | D30: ='WY2014 NFSN Chem Sampling'!$W$140 -> 1 | E30: ='WY2014 NFSN Chem Sampling'!$Y$140+'WY2014 NFSN Chem Sampling'!$AA$140 -> 19 | F30: ='WY2014 NFSN Chem Sampling'!$AC$140 -> 1 | G30: ='WY2014 NFSN Chem Sampling'!AG140+'WY2014 NFSN Chem Sampling'!AK140+'WY2014 NFSN Chem Sampling'!AM140 -> 20 | H30: ='WY2014 NFSN Chem Sampling'!$AI$140 -> 1 | I30: ='WY2014 NFSN Eco Sampling'!$Q$31 -> 1 | J30: ='WY2014 NFSN Eco Sampling'!$T$31 -> 0 | K30: ='WY2014 NFSN Eco Sampling'!$W$31 -> 1 | L30: ='WY2014 NFSN Eco Sampling'!$Z$31 -> 1
A31: OK | B31: ='WY2014 NFSN Chem Sampling'!$O$143+'WY2014 NFSN Chem Sampling'!$Q$143 -> 19 | C31: ='WY2014 NFSN Chem Sampling'!$S$143+'WY2014 NFSN Chem Sampling'!$U$143 -> 19 | D31: ='WY2014 NFSN Chem Sampling'!$W$143 -> 1 | E31: ='WY2014 NFSN Chem Sampling'!$Y$143+'WY2014 NFSN Chem Sampling'!$AA$143 -> 19 | F31: ='WY2014 NFSN Chem Sampling'!$AC$143 -> 1 | G31: ='WY2014 NFSN Chem Sampling'!AG143+'WY2014 NFSN Chem Sampling'!AK143+'WY2014 NFSN Chem Sampling'!AM143 -> 20 | H31: ='WY2014 NFSN Chem Sampling'!$AI$143 -> 1 | I31: 0 | J31: 0 | K31: 0 | L31: 0
A32: OR | B32: ='WY2014 NFSN Chem Sampling'!$O$150+'WY2014 NFSN Chem Sampling'!$Q$150 -> 89 | C32: ='WY2014 NFSN Chem Sampling'!$S$150+'WY2014 NFSN Chem Sampling'!$U$150 -> 88 | D32: ='WY2014 NFSN Chem Sampling'!$W$150 -> 5 | E32: ='WY2014 NFSN Chem Sampling'!$Y$150+'WY2014 NFSN Chem Sampling'!$AA$150 -> 90 | F32: ='WY2014 NFSN Chem Sampling'!$AC$150 -> 7 | G32: ='WY2014 NFSN Chem Sampling'!AG150+'WY2014 NFSN Chem Sampling'!AK150+'WY2014 NFSN Chem Sampling'!AM150 -> 86 | H32: ='WY2014 NFSN Chem Sampling'!$AI$150 -> 4 | I32: ='WY2014 NFSN Eco Sampling'!$Q$32+'WY2014 NFSN Eco Sampling'!$Q$33+'WY2014 NFSN Eco Sampling'!$Q$34 -> 3 | J32: ='WY2014 NFSN Eco Sampling'!$T$32+'WY2014 NFSN Eco Sampling'!$T$33+'WY2014 NFSN Eco Sampling'!$T$34 -> 0 | K32: ='WY2014 NFSN Eco Sampling'!$W$32+'WY2014 NFSN Eco Sampling'!$W$33+'WY2014 NFSN Eco Sampling'!$W$34 -> 3 | L32: ='WY2014 NFSN Eco Sampling'!$Z$32+'WY2014 NFSN Eco Sampling'!$Z$33+'WY2014 NFSN Eco Sampling'!$Z$34 -> 3
A33: SC | B33: ='WY2014 NFSN Chem Sampling'!$O$154+'WY2014 NFSN Chem Sampling'!$Q$154 -> 26 | C33: ='WY2014 NFSN Chem Sampling'!$S$154+'WY2014 NFSN Chem Sampling'!$U$154 -> 26 | D33: ='WY2014 NFSN Chem Sampling'!$W$154 -> 1 | E33: ='WY2014 NFSN Chem Sampling'!$Y$154+'WY2014 NFSN Chem Sampling'!$AA$154 -> 26 | F33: ='WY2014 NFSN Chem Sampling'!$AC$154 -> 1 | G33: ='WY2014 NFSN Chem Sampling'!AG154+'WY2014 NFSN Chem Sampling'!AK154+'WY2014 NFSN Chem Sampling'!AM154 -> 20 | H33: ='WY2014 NFSN Chem Sampling'!$AI$154 -> 1 | I33: ='WY2014 NFSN Eco Sampling'!$Q$35 -> 1 | J33: ='WY2014 NFSN Eco Sampling'!$T$35 -> 0 | K33: ='WY2014 NFSN Eco Sampling'!$W$35 -> 1 | L33: ='WY2014 NFSN Eco Sampling'!$Z$35 -> 1
A34: TX | B34: ='WY2014 NFSN Chem Sampling'!$O$161+'WY2014 NFSN Chem Sampling'!$Q$161 -> 79 | C34: ='WY2014 NFSN Chem Sampling'!$S$161+'WY2014 NFSN Chem Sampling'!$U$161 -> 78 | D34: ='WY2014 NFSN Chem Sampling'!$W$161 -> 5 | E34: ='WY2014 NFSN Chem Sampling'!$Y$161+'WY2014 NFSN Chem Sampling'!$AA$161 -> 79 | F34: ='WY2014 NFSN Chem Sampling'!$AC$161 -> 6 | G34: ='WY2014 NFSN Chem Sampling'!AG161+'WY2014 NFSN Chem Sampling'!AK161+'WY2014 NFSN Chem Sampling'!AM161 -> 76 | H34: ='WY2014 NFSN Chem Sampling'!$AI$161 -> 4 | I34: ='WY2014 NFSN Eco Sampling'!$Q$36+'WY2014 NFSN Eco Sampling'!$Q$37 -> 2 | J34: ='WY2014 NFSN Eco Sampling'!$T$36+'WY2014 NFSN Eco Sampling'!$T$37 -> 0 | K34: ='WY2014 NFSN Eco Sampling'!$W$36+'WY2014 NFSN Eco Sampling'!$W$37 -> 2 | L34: ='WY2014 NFSN Eco Sampling'!$Z$36+'WY2014 NFSN Eco Sampling'!$Z$37 -> 2
A35: UT | B35: ='WY2014 NFSN Chem Sampling'!$O$166+'WY2014 NFSN Chem Sampling'!$Q$166 -> 51 | C35: ='WY2014 NFSN Chem Sampling'!$S$166+'WY2014 NFSN Chem Sampling'!$U$166 -> 51 | D35: ='WY2014 NFSN Chem Sampling'!$W$166 -> 2 | E35: ='WY2014 NFSN Chem Sampling'!$Y$166+'WY2014 NFSN Chem Sampling'!$AA$166 -> 52 | F35: ='WY2014 NFSN Chem Sampling'!$AC$166 -> 3 | G35: ='WY2014 NFSN Chem Sampling'!AG166+'WY2014 NFSN Chem Sampling'!AK166+'WY2014 NFSN Chem Sampling'!AM166 -> 46 | H35: ='WY2014 NFSN Chem Sampling'!$AI$166 -> 2 | I35: ='WY2014 NFSN Eco Sampling'!$Q$38+'WY2014 NFSN Eco Sampling'!$Q$39 -> 2 | J35: ='WY2014 NFSN Eco Sampling'!$T$38+'WY2014 NFSN Eco Sampling'!$T$39 -> 0 | K35: ='WY2014 NFSN Eco Sampling'!$W$38+'WY2014 NFSN Eco Sampling'!$W$39 -> 2 | L35: ='WY2014 NFSN Eco Sampling'!$Z$38+'WY2014 NFSN Eco Sampling'!$Z$39 -> 2
A36: WA | B36: ='WY2014 NFSN Chem Sampling'!$O$171+'WY2014 NFSN Chem Sampling'!$Q$171 -> 51 | C36: ='WY2014 NFSN Chem Sampling'!$S$171+'WY2014 NFSN Chem Sampling'!$U$171 -> 50 | D36: ='WY2014 NFSN Chem Sampling'!$W$171 -> 3 | E36: ='WY2014 NFSN Chem Sampling'!$Y$171+'WY2014 NFSN Chem Sampling'!$AA$171 -> 51 | F36: ='WY2014 NFSN Chem Sampling'!$AC$171 -> 4 | G36: ='WY2014 NFSN Chem Sampling'!AG171+'WY2014 NFSN Chem Sampling'!AK171+'WY2014 NFSN Chem Sampling'!AM171 -> 46 | H36: ='WY2014 NFSN Chem Sampling'!$AI$171 -> 2 | I36: ='WY2014 NFSN Eco Sampling'!$Q$40+'WY2014 NFSN Eco Sampling'!$Q$41 -> 2 | J36: ='WY2014 NFSN Eco Sampling'!$T$40+'WY2014 NFSN Eco Sampling'!$T$41 -> 0 | K36: ='WY2014 NFSN Eco Sampling'!$W$40+'WY2014 NFSN Eco Sampling'!$W$41 -> 2 | L36: ='WY2014 NFSN Eco Sampling'!$Z$40+'WY2014 NFSN Eco Sampling'!$Z$41 -> 2
A37: WI | B37: ='WY2014 NFSN Chem Sampling'!$O$174+'WY2014 NFSN Chem Sampling'!$Q$174 -> 7 | C37: ='WY2014 NFSN Chem Sampling'!$S$174+'WY2014 NFSN Chem Sampling'!$U$174 -> 7 | D37: ='WY2014 NFSN Chem Sampling'!$W$174 -> 0 | E37: ='WY2014 NFSN Chem Sampling'!$Y$174+'WY2014 NFSN Chem Sampling'!$AA$174 -> 7 | F37: ='WY2014 NFSN Chem Sampling'!$AC$174 -> 0 | G37: ='WY2014 NFSN Chem Sampling'!AG174+'WY2014 NFSN Chem Sampling'!AK174+'WY2014 NFSN Chem Sampling'!AM174 -> 0 | H37: ='WY2014 NFSN Chem Sampling'!$AI$174 -> 0 | I37: ='WY2014 NFSN Eco Sampling'!$Q$42 -> 1 | J37: ='WY2014 NFSN Eco Sampling'!$T$42 -> 0 | K37: ='WY2014 NFSN Eco Sampling'!$W$42 -> 1 | L37: ='WY2014 NFSN Eco Sampling'!$Z$42 -> 1
A38: WY | B38: ='WY2014 NFSN Chem Sampling'!$O$178+'WY2014 NFSN Chem Sampling'!$Q$178 -> 22 | C38: ='WY2014 NFSN Chem Sampling'!$S$178+'WY2014 NFSN Chem Sampling'!$U$178 -> 21 | D38: ='WY2014 NFSN Chem Sampling'!$W$178 -> 2 | E38: ='WY2014 NFSN Chem Sampling'!$Y$178+'WY2014 NFSN Chem Sampling'!$AA$178 -> 21 | F38: ='WY2014 NFSN Chem Sampling'!$AC$178 -> 2 | G38: ='WY2014 NFSN Chem Sampling'!AG178+'WY2014 NFSN Chem Sampling'!AK178+'WY2014 NFSN Chem Sampling'!AM178 -> 16 | H38: ='WY2014 NFSN Chem Sampling'!$AI$178 -> 1 | I38: ='WY2014 NFSN Eco Sampling'!$Q$43 -> 1 | J38: ='WY2014 NFSN Eco Sampling'!$T$43 -> 0 | K38: ='WY2014 NFSN Eco Sampling'!$W$43 -> 1 | L38: ='WY2014 NFSN Eco Sampling'!$Z$43 -> 1
A39: TOTAL | B39: =SUM(B2:B38) -> 1611 | C39: =SUM(C2:C38) -> 1601 | D39: =SUM(D2:D38) -> 91 | E39: =SUM(E2:E38) -> 1620 | F39: =SUM(F2:F38) -> 110 | G39: =SUM(G2:G38) -> 1553 | H39: =SUM(H2:H38) -> 80 | I39: =SUM(I2:I38) -> 39 | ... L39: =SUM(L2:L38) -> 39 | M39: =SUM(C39:L39) -> 5172
M40: TOTAL
A41: FY14 prices | B41: 70 | C41: 235.99 | D41: 235.99 | E41: 352.97 | F41: 352.97 | G41: 773.72 | H41: 773.72 | I41: 1662.84 | J41: 1236.4 | K41: 973 | L41: 216.67
A42: Total cost | B42: =B39*B41 -> 112770 | C42: =C39*C41 -> 377819.99 | D42: =D39*D41 -> 21475.09 | E42: =E39*E41 -> 571811.4 | F42: =F39*F41 -> 38826.7 | G42: =G39*G41 -> 1201587.2 | H42: =H39*H41 -> 61897.6 | I42: =I39*I41 -> 64850.76 | ... L42: =L39*L41 -> 8450.13 | M42: =SUM(C42:L42) -> 2384665.8
O43: NWQL Chem Totals | P43: Susp. Sed. Totals | Q43: NWQL Chem + S.S. Totals | R43: Eco Totals | S43: Total NWQL | T43: All lab costs
A44: AL | B44: =B2*$B$41 -> 2380 | C44: =C2*$C$41 -> 8023.66 | D44: =D2*$D$41 -> 471.98 | E44: =E2*$E$41 -> 12000.98 | F44: =F2*$F$41 -> 705.94 | G44: =G2*$G$41 -> 27853.92 | H44: =H2*$H$41 -> 1547.44 | I44: =I2*$I$41 -> 0 | J44: =J2*$J$41 -> 0 | K44: =K2*$K$41 -> 0 | L44: =L2*$L$41 -> 0 | M44: =SUM(C44:L44) -> 50603.92 | N44: AL | O44: =SUM(C44:H44) -> 50603.92 | P44: =SUM(B44:B44) -> 2380 | Q44: =O44+P44 -> 52983.92 | R44: =SUM(I44:L44) -> 0 | S44: =O44+I44+J44+L44 -> 50603.92 | T44: =Q44+R44 -> 52983.92
A45: AK | B45: =B3*$B$41 -> 560 | C45: =C3*$C$41 -> 1651.93 | D45: =D3*$D$41 -> 235.99 | E45: =E3*$E$41 -> 2470.79 | F45: =F3*$F$41 -> 352.97 | G45: =G3*$G$41 -> 2321.16 | H45: =H3*$H$41 -> 773.72 | I45: =I3*$I$41 -> 0 | J45: =J3*$J$41 -> 0 | K45: =K3*$K$41 -> 0 | L45: =L3*$L$41 -> 0 | M45: =SUM(C45:L45) -> 7806.56 | N45: AK | O45: =SUM(C45:H45) -> 7806.56 | P45: =SUM(B45:B45) -> 560 | Q45: =O45+P45 -> 8366.56 | R45: =SUM(I45:L45) -> 0 | S45: =O45+I45+J45+L45 -> 7806.56 | T45: =Q45+R45 -> 8366.56
A46: AZ | B46: =B4*$B$41 -> 2940 | C46: =C4*$C$41 -> 9675.59 | D46: =D4*$D$41 -> 707.97 | E46: =E4*$E$41 -> 14471.77 | F46: =F4*$F$41 -> 1058.91 | G46: =G4*$G$41 -> 23211.6 | H46: =H4*$H$41 -> 1547.44 | I46: =I4*$I$41 -> 3325.68 | J46: =J4*$J$41 -> 0 | K46: =K4*$K$41 -> 1946 | L46: =L4*$L$41 -> 433.34 | M46: =SUM(C46:L46) -> 56378.3 | N46: AZ | O46: =SUM(C46:H46) -> 50673.28 | P46: =SUM(B46:B46) -> 2940 | Q46: =O46+P46 -> 53613.28 | R46: =SUM(I46:L46) -> 5705.02 | S46: =O46+I46+J46+L46 -> 54432.3 | T46: =Q46+R46 -> 59318.3
A47: AR | B47: =B5*$B$41 -> 2030 | C47: =C5*$C$41 -> 6607.72 | D47: =D5*$D$41 -> 471.98 | E47: =E5*$E$41 -> 9883.16 | F47: =F5*$F$41 -> 705.94 | G47: =G5*$G$41 -> 12379.52 | H47: =H5*$H$41 -> 773.72 | I47: =I5*$I$41 -> 3325.68 | J47: =J5*$J$41 -> 0 | K47: =K5*$K$41 -> 1946 | L47: =L5*$L$41 -> 433.34 | M47: =SUM(C47:L47) -> 36527.06 | N47: AR | O47: =SUM(C47:H47) -> 30822.04 | P47: =SUM(B47:B47) -> 2030 | Q47: =O47+P47 -> 32852.04 | R47: =SUM(I47:L47) -> 5705.02 | S47: =O47+I47+J47+L47 -> 34581.06 | T47: =Q47+R47 -> 38557.06
A48: CA | B48: =B6*$B$41 -> 5880 | C48: =C6*$C$41 -> 19823.16 | D48: =D6*$D$41 -> 1179.95 | E48: =E6*$E$41 -> 29649.48 | F48: =F6*$F$41 -> 1764.85 | G48: =G6*$G$41 -> 57255.28 | H48: =H6*$H$41 -> 3094.88 | I48: =I6*$I$41 -> 4988.52 | J48: =J6*$J$41 -> 0 | K48: =K6*$K$41 -> 2919 | L48: =L6*$L$41 -> 650.01 | M48: =SUM(C48:L48) -> 121325.13 | N48: CA | O48: =SUM(C48:H48) -> 112767.6 | P48: =SUM(B48:B48) -> 5880 | Q48: =O48+P48 -> 118647.6 | R48: =SUM(I48:L48) -> 8557.53 | S48: =O48+I48+J48+L48 -> 118406.13 | T48: =Q48+R48 -> 127205.13
A49: CO | B49: =B7*$B$41 -> 4410 | C49: =C7*$C$41 -> 14867.37 | D49: =D7*$D$41 -> 707.97 | E49: =E7*$E$41 -> 22590.08 | F49: =F7*$F$41 -> 1411.88 | G49: =G7*$G$41 -> 51065.52 | H49: =H7*$H$41 -> 2321.16 | I49: =I7*$I$41 -> 1662.84 | J49: =J7*$J$41 -> 0 | K49: =K7*$K$41 -> 973 | L49: =L7*$L$41 -> 216.67 | M49: =SUM(C49:L49) -> 95816.49 | N49: CO | O49: =SUM(C49:H49) -> 92963.98 | P49: =SUM(B49:B49) -> 4410 | Q49: =O49+P49 -> 97373.98 | R49: =SUM(I49:L49) -> 2852.51 | S49: =O49+I49+J49+L49 -> 94843.49 | T49: =Q49+R49 -> 100226.49
A50: CT | B50: =B8*$B$41 -> 3570 | C50: =C8*$C$41 -> 11799.5 | D50: =D8*$D$41 -> 707.97 | E50: =E8*$E$41 -> 18001.47 | F50: =F8*$F$41 -> 1411.88 | G50: =G8*$G$41 -> 35591.12 | H50: =H8*$H$41 -> 1547.44 | I50: =I8*$I$41 -> 3325.68 | J50: =J8*$J$41 -> 0 | K50: =K8*$K$41 -> 1946 | L50: =L8*$L$41 -> 433.34 | M50: =SUM(C50:L50) -> 74764.4 | N50: CT | O50: =SUM(C50:H50) -> 69059.38 | P50: =SUM(B50:B50) -> 3570 | Q50: =O50+P50 -> 72629.38 | R50: =SUM(I50:L50) -> 5705.02 | S50: =O50+I50+J50+L50 -> 72818.4 | T50: =Q50+R50 -> 78334.4
A51: FL | B51: =B9*$B$41 -> 1050 | C51: =C9*$C$41 -> 3539.85 | D51: =D9*$D$41 -> 235.99 | E51: =E9*$E$41 -> 5294.55 | F51: =F9*$F$41 -> 352.97 | G51: =G9*$G$41 -> 12379.52 | H51: =H9*$H$41 -> 773.72 | I51: =I9*$I$41 -> 0 | J51: =J9*$J$41 -> 0 | K51: =K9*$K$41 -> 0 | L51: =L9*$L$41 -> 0 | M51: =SUM(C51:L51) -> 22576.6 | N51: FL | O51: =SUM(C51:H51) -> 22576.6 | P51: =SUM(B51:B51) -> 1050 | Q51: =O51+P51 -> 23626.6 | R51: =SUM(I51:L51) -> 0 | S51: =O51+I51+J51+L51 -> 22576.6 | T51: =Q51+R51 -> 23626.6
A52: GA | B52: =B10*$B$41 -> 3290 | C52: =C10*$C$41 -> 11091.53 | D52: =D10*$D$41 -> 471.98 | E52: =E10*$E$41 -> 16942.56 | F52: =F10*$F$41 -> 1058.91 | G52: =G10*$G$41 -> 32496.24 | H52: =H10*$H$41 -> 1547.44 | I52: =I10*$I$41 -> 3325.68 | J52: =J10*$J$41 -> 0 | K52: =K10*$K$41 -> 1946 | L52: =L10*$L$41 -> 433.34 | M52: =SUM(C52:L52) -> 69313.68 | N52: GA | O52: =SUM(C52:H52) -> 63608.66 | P52: =SUM(B52:B52) -> 3290 | Q52: =O52+P52 -> 66898.66 | R52: =SUM(I52:L52) -> 5705.02 | S52: =O52+I52+J52+L52 -> 67367.68 | T52: =Q52+R52 -> 72603.68
A53: ID | B53: =B11*$B$41 -> 2800 | C53: =C11*$C$41 -> 9439.6 | D53: =D11*$D$41 -> 471.98 | E53: =E11*$E$41 -> 14471.77 | F53: =F11*$F$41 -> 1058.91 | G53: =G11*$G$41 -> 32496.24 | H53: =H11*$H$41 -> 1547.44 | I53: =I11*$I$41 -> 1662.84 | J53: =J11*$J$41 -> 0 | K53: =K11*$K$41 -> 973 | L53: =L11*$L$41 -> 216.67 | M53: =SUM(C53:L53) -> 62338.45 | N53: ID | O53: =SUM(C53:H53) -> 59485.94 | P53: =SUM(B53:B53) -> 2800 | Q53: =O53+P53 -> 62285.94 | R53: =SUM(I53:L53) -> 2852.51 | S53: =O53+I53+J53+L53 -> 61365.45 | T53: =Q53+R53 -> 65138.45
A54: IL | B54: =B12*$B$41 -> 1050 | C54: =C12*$C$41 -> 3539.85 | D54: =D12*$D$41 -> 235.99 | E54: =E12*$E$41 -> 5294.55 | F54: =F12*$F$41 -> 352.97 | G54: =G12*$G$41 -> 12379.52 | H54: =H12*$H$41 -> 773.72 | I54: =I12*$I$41 -> 0 | J54: =J12*$J$41 -> 0 | K54: =K12*$K$41 -> 0 | L54: =L12*$L$41 -> 0 | M54: =SUM(C54:L54) -> 22576.6 | N54: IL | O54: =SUM(C54:H54) -> 22576.6 | P54: =SUM(B54:B54) -> 1050 | Q54: =O54+P54 -> 23626.6 | R54: =SUM(I54:L54) -> 0 | S54: =O54+I54+J54+L54 -> 22576.6 | T54: =Q54+R54 -> 23626.6
A55: IN | B55: =B13*$B$41 -> 3080 | C55: =C13*$C$41 -> 10383.56 | D55: =D13*$D$41 -> 471.98 | E55: =E13*$E$41 -> 15883.65 | F55: =F13*$F$41 -> 1058.91 | G55: =G13*$G$41 -> 35591.12 | H55: =H13*$H$41 -> 1547.44 | I55: =I13*$I$41 -> 1662.84 | J55: =J13*$J$41 -> 0 | K55: =K13*$K$41 -> 973 | L55: =L13*$L$41 -> 216.67 | M55: =SUM(C55:L55) -> 67789.17 | N55: IN | O55: =SUM(C55:H55) -> 64936.66 | P55: =SUM(B55:B55) -> 3080 | Q55: =O55+P55 -> 68016.66 | R55: =SUM(I55:L55) -> 2852.51 | S55: =O55+I55+J55+L55 -> 66816.17 | T55: =Q55+R55 -> 70869.17
... A80: WY | B80: =B38*$B$41 -> 1540 | C80: =C38*$C$41 -> 4955.79 | D80: =D38*$D$41 -> 471.98 | E80: =E38*$E$41 -> 7412.37 | F80: =F38*$F$41 -> 705.94 | G80: =G38*$G$41 -> 12379.52 | H80: =H38*$H$41 -> 773.72 | I80: =I38*$I$41 -> 1662.84 | J80: =J38*$J$41 -> 0 | K80: =K38*$K$41 -> 973 | L80: =L38*$L$41 -> 216.67 | M80: =SUM(C80:L80) -> 29551.83 | N80: WY | O80: =SUM(C80:H80) -> 26699.32 | P80: =SUM(B80:B80) -> 1540 | Q80: =O80+P80 -> 28239.32 | R80: =SUM(I80:L80) -> 2852.51 | S80: =O80+I80+J80+L80 -> 28578.83 | T80: =Q80+R80 -> 31091.83
B82: =SUM(B44:B80) -> 112770 | C82: =SUM(C44:C80) -> 377819.99 | D82: =SUM(D44:D80) -> 21475.09 | E82: =SUM(E44:E80) -> 571811.4 | F82: =SUM(F44:F80) -> 38826.7 | G82: =SUM(G44:G80) -> 1201587.2 | H82: =SUM(H44:H80) -> 61897.6 | I82: =SUM(I44:I80) -> 64850.76 | ... M82: =SUM(M44:M80) -> 2384665.8 | O82: =SUM(O44:O80) -> 2273417.9 | P82: =SUM(P44:P80) -> 112770 | Q82: =SUM(Q44:Q80) -> 2386187.9 | R82: =SUM(R44:R80) -> 111247.89 | S82: =SUM(S44:S80) -> 2346718.8 | T82: =SUM(T44:T80) -> 2497435.8

Sheet Sample frequency
A1: STATION ID | B1: Station Name | F1: NUMBER OF SAMPLING TRIPS
C2: SC | D2: PROPOSED COST CENTER TO DO SAMPLING | E2: NUMBER OF SAMPLE TRIPS IN 2014 | F2: OCT | G2: NOV | H2: DEC | I2: JAN | J2: FEB | K2: MAR | L2: APR | M2: MAY | N2: JUN | O2: JUL | P2: AUG | Q2: SEP | R2: Comments
A3: 15565447 | B3: Yukon River at Pilot Station, AK | C3: AK | D3: Anchorage, AK | E3: =SUM(F3:Q3) -> 7 | I3: 1 | L3: 1 | M3: 1 | N3: 1 | O3: 1 | P3: 1 | Q3: 1 | R3: Pest samples only collected June, July, August
A4: 02469762 | B4: Tombigbee River near Coffeeville, AL | C4: AL | D4: Montgomery, AL | E4: =SUM(F4:Q4) -> 18 | F4: 1 | G4: 2 | H4: 1 | I4: 2 | J4: 1 | K4: 2 | L4: 1 | M4: 2 | N4: 1 | O4: 2 | P4: 1 | Q4: 2
A5: 02470500 | B5: Mobile River at Mt. Vernon, AL | C5: AL | D5: Montgomery, AL | E5: =SUM(F5:Q5) -> 14 | F5: 1 | H5: 1 | I5: 1 | J5: 2 | K5: 2 | L5: 2 | M5: 2 | N5: 1 | O5: 1 | P5: 1
A6: 07055646 | B6: Buffalo River near Boxley, AR | C6: AR | D6: Little Rock, AR | E6: =SUM(F6:Q6) -> 6 | F6: 1 | H6: 1 | J6: 1 | L6: 1 | N6: 1 | P6: 1 | R6: Pesticide samples not collected at reference sites
A7: 07060710 | B7: North Sylamore Creek near Fifty Six, AR | C7: AR | D7: Little Rock, AR | E7: =SUM(F7:Q7) -> 6 | G7: 1 | I7: 1 | K7: 1 | M7: 1 | O7: 1 | Q7: 1 | R7: Pesticide samples not collected at reference sites
A8: 07263620 | B8: Arkansas River at David D Terry Lock and Dam below Little Rock, AR | C8: AR | D8: Little Rock, AR | E8: =SUM(F8:Q8) -> 14 | F8: 1 | H8: 1 | I8: 1 | J8: 1 | K8: 2 | L8: 2 | M8: 2 | N8: 2 | O8: 1 | P8: 1
A9: 09380000 | B9: Colorado River at Lees Ferry, AZ | C9: AZ | D9: Flagstaff, AZ | E9: =SUM(F9:Q9) -> 14 | F9: 1 | G9: 1 | H9: 1 | I9: 1 | J9: 2 | K9: 2 | L9: 2 | M9: 1 | N9: 1 | O9: 1 | P9: 1
A10: 09471000 | B10: San Pedro River at Charleston, AZ | C10: AZ | D10: Tucson, AZ | E10: =SUM(F10:Q10) -> 6 | G10: 1 | I10: 1 | K10: 1 | M10: 1 | O10: 1 | Q10: 1 | R10: Pesticide samples not collected at reference sites
A11: 09505800 | B11: West Clear Creek near Camp Verde, AZ | C11: AZ | D11: Tucson, AZ | E11: =SUM(F11:Q11) -> 6 | F11: 1 | H11: 1 | J11: 1 | L11: 1 | N11: 1 | P11: 1 | R11: Pesticide samples not collected at reference sites
A12: 09522000 | B12: Colorado River at NIB, above Morelos Dam, AZ | C12: AZ | D12: Yuma, AZ | E12: =SUM(F12:Q12) -> 12 | F12: 1 | H12: 1 | I12: 2 | J12: 2 | K12: 2 | L12: 2 | N12: 1 | P12: 1
A13: 11264500 | B13: Merced River at Happy Isles Bridge nr Yosemite, CA | C13: CA | D13: Sacramento, CA | E13: =SUM(F13:Q13) -> 6 | F13: 1 | H13: 1 | J13: 1 | L13: 1 | N13: 1 | P13: 1 | R13: Pesticide samples not collected at reference sites
A14: 11074000 | B14: Santa Ana River below Prado Dam, CA | C14: CA | D14: San Diego, CA | E14: =SUM(F14:Q14) -> 18 | F14: 1 | G14: 1 | H14: 1 | I14: 2 | J14: 2 | K14: 2 | L14: 2 | M14: 2 | N14: 2 | O14: 1 | P14: 1 | Q14: 1
A15: 11274538 | B15: Orestimba Creek near Crows Landing, CA | C15: CA | D15: Sacramento, CA | E15: =SUM(F15:Q15) -> 16 | F15: 1 | G15: 1 | H15: 2 | I15: 1 | J15: 2 | K15: 1 | L15: 2 | M15: 1 | N15: 1 | O15: 1 | P15: 2 | Q15: 1
A16: 11303500 | B16: San Joaquin River near Vernalis, CA | C16: CA | D16: Sacramento, CA | E16: =SUM(F16:Q16) -> 18 | F16: 1 | G16: 1 | H16: 2 | I16: 2 | J16: 2 | K16: 1 | L16: 1 | M16: 2 | N16: 2 | O16: 2 | P16: 1 | Q16: 1
A17: 11335000 | B17: Cosumnes River at Michigan Bar, CA | C17: CA | D17: Sacramento, CA | E17: =SUM(F17:Q17) -> 6 | F17: 1 | H17: 1 | J17: 1 | L17: 1 | N17: 1 | P17: 1 | R17: Pesticide samples not collected at reference sites
A18: 11447650 | B18: Sacramento River at Freeport, CA | C18: CA | D18: Sacramento, CA | E18: =SUM(F18:Q18) -> 14 | F18: 1 | H18: 1 | I18: 2 | J18: 2 | K18: 1 | L18: 1 | M18: 2 | N18: 2 | O18: 1 | P18: 1
A19: 06713500 | B19: Cherry Creek at Denver, CO | C19: CO | D19: Lakewood, CO | E19: =SUM(F19:Q19) -> 24 | F19: 1 | G19: 1 | H19: 1 | I19: 1 | J19: 1 | K19: 1 | L19: 3 | M19: 3 | N19: 3 | O19: 3 | P19: 3 | Q19: 3
A20: 06754000 | B20: South Platte River near Kersey, CO | C20: CO | D20: Lakewood, CO | E20: =SUM(F20:Q20) -> 18 | F20: 1 | G20: 1 | H20: 1 | I20: 1 | J20: 1 | K20: 1 | L20: 2 | M20: 2 | N20: 2 | O20: 2 | P20: 2 | Q20: 2
A21: 09163500 | B21: Colorado River near Colorado-Utah state line | C21: CO | D21: Grand Junction, CO | E21: =SUM(F21:Q21) -> 18 | F21: 1 | G21: 1 | H21: 1 | I21: 1 | J21: 1 | K21: 2 | L21: 2 | M21: 2 | N21: 2 | O21: 2 | P21: 2 | Q21: 1
A22: 01170100 | B22: Green River near Colrain, MA | C22: CT | D22: East Hartford, CT | E22: =SUM(F22:Q22) -> 6 | F22: 1 | H22: 1 | J22: 1 | L22: 1 | N22: 1 | P22: 1 | R22: Pesticide samples not collected at reference sites
A23: 01184000 | B23: Connecticut River at Thompsonville, CT | C23: CT | D23: East Hartford, CT | E23: =SUM(F23:Q23) -> 18 | F23: 1 | G23: 1 | H23: 1 | I23: 1 | J23: 1 | K23: 2 | L23: 2 | M23: 2 | N23: 2 | O23: 2 | P23: 2 | Q23: 1
A24: 01209710 | B24: Norwalk River at Winnipauk,CT | C24: CT | D24: East Hartford, CT | E24: =SUM(F24:Q24) -> 24 | F24: 1 | G24: 1 | H24: 1 | I24: 1 | J24: 2 | K24: 2 | L24: 2 | M24: 3 | N24: 3 | O24: 3 | P24: 3 | Q24: 2
A25: 02359170 | B25: Apalachicola River near Sumatra, FL | C25: FL | D25: Tallahassee, FL | E25: =SUM(F25:Q25) -> 14 | F25: 1 | H25: 1 | I25: 1 | J25: 2 | K25: 2 | L25: 2 | M25: 2 | N25: 1 | O25: 1 | P25: 1
A26: 02226160 | B26: Altamaha River at Everett City, GA | C26: GA | D26: Atlanta, GA | E26: =SUM(F26:Q26) -> 14 | F26: 1 | H26: 1 | I26: 1 | J26: 2 | K26: 2 | L26: 2 | M26: 2 | N26: 1 | O26: 1 | P26: 1
A27: 02335870 | B27: Sope Creek near Marietta, GA | C27: GA | D27: Atlanta, GA | E27: =SUM(F27:Q27) -> 24 | F27: 2 | G27: 2 | H27: 2 | I27: 2 | J27: 2 | K27: 2 | L27: 2 | M27: 2 | N27: 2 | O27: 2 | P27: 2 | Q27: 2
A28: 02338523 | B28: Hillibahatchee Creek near Franklin, GA | C28: GA | D28: Atlanta, GA | E28: =SUM(F28:Q28) -> 6 | F28: 1 | H28: 1 | J28: 1 | L28: 1 | N28: 1 | P28: 1 | R28: Pesticide samples not collected at reference sites
A29: 05420500 | B29: Mississippi River at Clinton, IA | C29: IA | D29: Iowa City, IA | E29: =SUM(F29:Q29) -> 14 | F29: 1 | H29: 1 | J29: 1 | K29: 2 | L29: 2 | M29: 2 | N29: 2 | O29: 2 | P29: 1
A30: 05451210 | B30: South Fork Iowa River near New Providence, IA | C30: IA | D30: Iowa City, IA | E30: =SUM(F30:Q30) -> 24 | F30: 1 | G30: 1 | H30: 1 | I30: 1 | J30: 2 | K30: 2 | L30: 2 | M30: 3 | N30: 3 | O30: 3 | P30: 3 | Q30: 2
A31: 05465500 | B31: Iowa River at Wapello, IA | C31: IA | D31: Iowa City, IA | E31: =SUM(F31:Q31) -> 14 | F31: 1 | H31: 1 | J31: 1 | K31: 2 | L31: 2 | M31: 2 | N31: 2 | O31: 2 | P31: 1
A32: 05490500 | B32: Des Moines River at Keosauqua, IA | C32: IA | D32: Iowa City, IA | E32: =SUM(F32:Q32) -> 14 | F32: 1 | H32: 1 | J32: 1 | K32: 2 | L32: 2 | M32: 2 | N32: 2 | O32: 2 | P32: 1
A33: 05586100 | B33: Illinois River at Valley City, IL | C33: IL | D33: Urbana, IL | E33: =SUM(F33:Q33) -> 14 | F33: 1 | H33: 1 | J33: 1 | K33: 2 | L33: 2 | M33: 2 | N33: 2 | O33: 2 | P33: 1
A34: 06610000 | B34: Missouri River at Omaha, NE | C34: IA | D34: Council Bluffs, IA | E34: =SUM(F34:Q34) -> 14 | F34: 1 | H34: 1 | J34: 1 | K34: 2 | L34: 2 | M34: 2 | N34: 2 | O34: 2 | P34: 1
A35: 13092747 | B35: Rock Creek at Twin Falls, ID | C35: ID | D35: Boise, ID | E35: =SUM(F35:Q35) -> 24 | F35: 2 | G35: 2 | H35: 2 | I35: 2 | J35: 2 | K35: 2 | L35: 2 | M35: 2 | N35: 2 | O35: 2 | P35: 2 | Q35: 2
A36: 13154500 | B36: Snake River at King Hill, ID | C36: ID | D36: Boise, ID | E36: =SUM(F36:Q36) -> 14 | F36: 1 | H36: 1 | I36: 1 | J36: 1 | K36: 1 | L36: 2 | M36: 2 | N36: 2 | O36: 2 | P36: 1
A37: 03374100 | B37: White River at Hazleton, IN | C37: IN | D37: Indianapolis, IN | E37: =SUM(F37:Q37) -> 18 | F37: 1 | G37: 1 | H37: 1 | I37: 1 | J37: 1 | K37: 1 | L37: 1 | M37: 3 | N37: 3 | O37: 2 | P37: 2 | Q37: 1
A38: 394340085524601 | B38: Sugar Creek at New Palestine, IN | C38: IN | D38: Indianapolis, IN | E38: =SUM(F38:Q38) -> 24 | F38: 1 | G38: 1 | H38: 1 | I38: 1 | J38: 2 | K38: 2 | L38: 2 | M38: 3 | N38: 3 | O38: 3 | P38: 3 | Q38: 2
A39: 06892350 | B39: Kansas River at DeSoto, KS | C39: KS | D39: Lawrence, KS | E39: =SUM(F39:Q39) -> 14 | F39: 1 | H39: 1 | I39: 1 | J39: 1 | K39: 2 | L39: 2 | M39: 2 | N39: 2 | O39: 1 | P39: 1
A40: 07144100 | B40: Little Arkansas River near Sedgwick, KS | C40: KS | D40: Lawrence, KS | E40: =SUM(F40:Q40) -> 18 | F40: 1 | G40: 1 | H40: 1 | I40: 1 | J40: 1 | K40: 1 | L40: 1 | M40: 3 | N40: 3 | O40: 2 | P40: 2 | Q40: 1
A41: 03303280 | B41: Ohio River at Cannelton Dam at Cannelton, IN | C41: KY | D41: Murray, KY | E41: =SUM(F41:Q41) -> 14 | F41: 1 | H41: 1 | I41: 2 | J41: 2 | K41: 2 | L41: 2 | M41: 2 | N41: 1 | P41: 1
A42: 03378500 | B42: Wabash River at New Harmony, IN | C42: KY | D42: Murray, KY | E42: =SUM(F42:Q42) -> 14 | F42: 1 | H42: 1 | I42: 2 | J42: 2 | K42: 2 | L42: 2 | M42: 1 | N42: 1 | O42: 1 | P42: 1
A43: 03609750 | B43: Tennessee River at Highway 60 near Paducah, KY | C43: KY | D43: Murray, KY | E43: =SUM(F43:Q43) -> 14 | F43: 1 | H43: 1 | I43: 2 | J43: 2 | K43: 2 | L43: 2 | M43: 1 | N43: 1 | O43: 1 | P43: 1
A44: 03612500 | B44: Ohio River at Dam 53 near Grand Chain, IL | C44: KY | D44: Murray, KY | E44: =SUM(F44:Q44) -> 14 | F44: 1 | H44: 1 | I44: 2 | J44: 2 | K44: 2 | L44: 2 | M44: 1 | N44: 1 | O44: 1 | P44: 1
A45: 07373420 | B45: Mississippi River near St. Francisville, LA | C45: LA | D45: Baton Rouge, LA | E45: =SUM(F45:Q45) -> 16 | F45: 1 | H45: 1 | I45: 1 | J45: 2 | K45: 2 | L45: 2 | M45: 2 | N45: 2 | O45: 2 | P45: 1
A46: 07374000 | B46: Mississippi River at Baton Rouge, LA | C46: LA | D46: Baton Rouge, LA | E46: =SUM(F46:Q46) -> 14 | F46: 1 | H46: 1 | I46: 1 | J46: 1 | K46: 2 | L46: 2 | M46: 2 | N46: 2 | O46: 1 | P46: 1
A47: 07374525 | B47: Mississippi River at Belle Chasse, LA | C47: LA | D47: Baton Rouge, LA | E47: =SUM(F47:Q47) -> 14 | F47: 1 | H47: 1 | I47: 1 | J47: 1 | K47: 2 | L47: 2 | M47: 2 | N47: 2 | O47: 1 | P47: 1
A48: 07381495 | B48: Atchafalaya River at Melville, LA | C48: LA | D48: Baton Rouge, LA | E48: =SUM(F48:Q48) -> 16 | F48: 1 | H48: 1 | I48: 1 | J48: 2 | K48: 2 | L48: 2 | M48: 2 | N48: 2 | O48: 2 | P48: 1
A49: 07381590 | B49: Wax Lake Outlet at Calumet, LA | C49: LA | D49: Baton Rouge, LA | E49: =SUM(F49:Q49) -> 14 | F49: 1 | H49: 1 | I49: 1 | J49: 1 | K49: 1 | L49: 2 | M49: 2 | N49: 2 | O49: 2 | P49: 1
A50: 07381600 | B50: Southern Atchafalaya River at Morgan City, LA | C50: LA | D50: Baton Rouge, LA | E50: =SUM(F50:Q50) -> 14 | F50: 1 | H50: 1 | I50: 1 | J50: 1 | K50: 1 | L50: 2 | M50: 2 | N50: 2 | O50: 2 | P50: 1
A51: 08014500 | B51: Whisky Chitto Creek near Oberlin, LA | C51: LA | D51: Baton Rouge, LA | E51: =SUM(F51:Q51) -> 6 | G51: 1 | I51: 1 | K51: 1 | M51: 1 | O51: 1 | Q51: 1 | R51: Pesticide samples not collected at reference sites
A52: 01578310 | B52: Susquehanna River at Conowingo, MD | C52: MD | D52: Baltimore, MD | E52: =SUM(F52:Q52) -> 14 | F52: 1 | H52: 1 | I52: 2 | J52: 2 | K52: 2 | L52: 2 | M52: 2 | N52: 1 | P52: 1
A53: 01610400 | B53: Waites Run near Wardensville, WV | C53: MD | D53: Baltimore, MD | E53: =SUM(F53:Q53) -> 6 | F53: 1 | H53: 1 | J53: 1 | L53: 1 | N53: 1 | P53: 1 | R53: Pesticide samples not collected at reference sites
A54: 01646580 | B54: Potomac River at Chain Bridge at Washington, DC | C54: MD | D54: Baltimore, MD | E54: =SUM(F54:Q54) -> 18 | F54: 1 | G54: 1 | H54: 1 | I54: 1 | J54: 2 | K54: 2 | L54: 2 | M54: 2 | N54: 2 | O54: 2 | P54: 1 | Q54: 1
A55: 01654000 | B55: Accotink Creek near Annandale, VA | C55: MD | D55: Baltimore, MD | E55: =SUM(F55:Q55) -> 24 | F55: 1 | G55: 1 | H55: 1 | I55: 1 | J55: 2 | K55: 2 | L55: 2 | M55: 3 | N55: 3 | O55: 3 | P55: 3 | Q55: 2
A56: 04161820 | B56: Clinton River at Sterling Heights, MI | C56: MI | D56: Lansing, MI | E56: =SUM(F56:Q56) -> 24 | F56: 1 | G56: 1 | H56: 1 | I56: 1 | J56: 2 | K56: 2 | L56: 2 | M56: 3 | N56: 3 | O56: 3 | P56: 3 | Q56: 2
A57: 05288705 | B57: Shingle Creek at Minneapolis, MN | C57: MN | D57: Mounds View, MN | E57: =SUM(F57:Q57) -> 24 | F57: 1 | G57: 1 | H57: 1 | I57: 1 | J57: 2 | K57: 2 | L57: 2 | M57: 3 | N57: 3 | O57: 3 | P57: 3 | Q57: 2
A58: 05331580 | B58: Mississippi River at Hastings, MN | C58: MN | D58: Mounds View, MN | E58: =SUM(F58:Q58) -> 14 | F58: 1 | H58: 1 | I58: 1 | J58: 1 | K58: 1 | L58: 2 | M58: 2 | N58: 2 | O58: 2 | P58: 1
A59: 05587455 | B59: Mississippi River Below Grafton, IL | C59: MO | D59: Rolla, MO | E59: =SUM(F59:Q59) -> 14 | F59: 1 | G59: 1 | H59: 1 | I59: 1 | J59: 1 | K59: 1 | L59: 2 | M59: 2 | N59: 1 | O59: 1 | P59: 1 | Q59: 1
A60: 06934500 | B60: Missouri River at Hermann, MO | C60: MO | D60: Rolla, MO | E60: =SUM(F60:Q60) -> 14 | F60: 1 | H60: 1 | J60: 1 | K60: 2 | L60: 2 | M60: 2 | N60: 2 | O60: 2 | P60: 1
A61: 07022000 | B61: Mississippi River at Thebes, IL | C61: MO | D61: Rolla, MO | E61: =SUM(F61:Q61) -> 14 | F61: 1 | H61: 1 | J61: 1 | K61: 2 | L61: 2 | M61: 2 | N61: 2 | O61: 2 | P61: 1
A62: 07288650 | B62: Bogue Phalia near Leland, MS | C62: MS | D62: Jackson, MS | E62: =SUM(F62:Q62) -> 24 | F62: 2 | G62: 1 | H62: 1 | I62: 1 | J62: 1 | K62: 2 | L62: 2 | M62: 3 | N62: 3 | O62: 3 | P62: 3 | Q62: 2
A63: 07288955 | B63: Yazoo River below Steele Bayou near Long Lake, MS | C63: MS | D63: Jackson, MS | E63: =SUM(F63:Q63) -> 18 | F63: 1 | G63: 1 | H63: 1 | I63: 2 | J63: 2 | K63: 2 | L63: 2 | M63: 2 | N63: 2 | O63: 1 | P63: 1 | Q63: 1
A64: 322023090544500 | B64: Mississippi River above Vicksburg, MS | C64: MS | D64: Jackson, MS | E64: =SUM(F64:Q64) -> 14 | F64: 1 | H64: 1 | I64: 1 | J64: 1 | K64: 2 | L64: 2 | M64: 2 | N64: 2 | O64: 1 | P64: 1
A65: 02087580 | B65: Swift Creek near Apex, NC | C65: NC | D65: Raleigh, NC | E65: =SUM(F65:Q65) -> 24 | F65: 2 | G65: 2 | H65: 2 | I65: 2 | J65: 2 | K65: 2 | L65: 2 | M65: 2 | N65: 2 | O65: 2 | P65: 2 | Q65: 2
A66: 02089500 | B66: Neuse River at Kinston, NC | C66: NC | D66: Raleigh, NC | E66: =SUM(F66:Q66) -> 18 | F66: 1 | G66: 2 | H66: 1 | I66: 2 | J66: 1 | K66: 2 | L66: 1 | M66: 2 | N66: 1 | O66: 2 | P66: 1 | Q66: 2
A67: 02091500 | B67: Contentnea Creek at Hookerton, NC | C67: NC | D67: Raleigh, NC | E67: =SUM(F67:Q67) -> 24 | F67: 2 | G67: 2 | H67: 2 | I67: 2 | J67: 2 | K67: 2 | L67: 2 | M67: 2 | N67: 2 | O67: 2 | P67: 2 | Q67: 2
A68: 05082500 | B68: Red River of the North at Grand Forks, ND | C68: ND | D68: Grand Forks, ND | E68: =SUM(F68:Q68) -> 14 | F68: 1 | G68: 1 | H68: 1 | I68: 1 | J68: 1 | K68: 1 | L68: 2 | M68: 2 | N68: 1 | O68: 1 | P68: 1 | Q68: 1
A69: 06775900 | B69: Dismal River near Thedford, NE | C69: NE | D69: Lincoln, NE | E69: =SUM(F69:Q69) -> 6 | F69: 1 | H69: 1 | J69: 1 | L69: 1 | N69: 1 | P69: 1 | R69: Pesticide samples not collected at reference sites
A70: 06800000 | B70: Maple Creek near Nickerson, NE | C70: NE | D70: Lincoln, NE | E70: =SUM(F70:Q70) -> 24 | F70: 1 | G70: 1 | H70: 1 | I70: 1 | J70: 2 | K70: 2 | L70: 2 | M70: 3 | N70: 3 | O70: 3 | P70: 3 | Q70: 2
A71: 06800500 | B71: Elkhorn River at Waterloo, NE | C71: NE | D71: Lincoln, NE | E71: =SUM(F71:Q71) -> 18 | F71: 1 | G71: 1 | H71: 1 | I71: 1 | J71: 1 | K71: 2 | L71: 2 | M71: 2 | N71: 2 | O71: 2 | P71: 2 | Q71: 1
A72: 06805500 | B72: Platte River at Louisville, NE | C72: NE | D72: Lincoln, NE | E72: =SUM(F72:Q72) -> 14 | F72: 1 | H72: 1 | I72: 1 | J72: 1 | K72: 1 | L72: 1 | M72: 2 | N72: 2 | O72: 2 | P72: 2
A73: 01463500 | B73: Delaware River at Trenton, NJ | C73: NJ | D73: Trenton, NJ | E73: =SUM(F73:Q73) -> 14 | F73: 1 | H73: 1 | I73: 1 | J73: 2 | K73: 2 | L73: 2 | M73: 2 | N73: 1 | O73: 1 | P73: 1
A74: 08227000 | B74: Saguache Creek near Saguache, CO | C74: NM | D74: Albuquerque, NM | E74: =SUM(F74:Q74) -> 6 | F74: 1 | H74: 1 | J74: 1 | L74: 1 | N74: 1 | P74: 1 | R74: Pesticide samples not collected at reference sites
A75: 08364000 | B75: Rio Grande at El Paso, TX | C75: NM | D75: Albuquerque, NM | E75: =SUM(F75:Q75) -> 14 | F75: 1 | G75: 1 | H75: 1 | I75: 1 | J75: 1 | K75: 1 | L75: 1 | M75: 1 | N75: 1 | O75: 2 | P75: 2 | Q75: 1
A76: 10350340 | B76: Truckee River at Tracy, NV | C76: NV | D76: Carson City, NV | E76: =SUM(F76:Q76) -> 18 | F76: 1 | G76: 2 | H76: 2 | I76: 2 | J76: 2 | K76: 2 | L76: 2 | M76: 1 | N76: 1 | O76: 1 | P76: 1 | Q76: 1
A77: 01349150 | B77: Canajoharie Creek near Canajoharie, NY | C77: NY | D77: Troy, NY | E77: =SUM(F77:Q77) -> 24 | F77: 1 | G77: 1 | H77: 1 | I77: 1 | J77: 2 | K77: 2 | L77: 2 | M77: 3 | N77: 3 | O77: 3 | P77: 3 | Q77: 2
A78: 01372043 | B78: Hudson River near Poughkeepsie, NY | C78: NY | D78: Troy, NY | E78: =SUM(F78:Q78) -> 14 | F78: 1 | H78: 1 | I78: 1 | J78: 2 | K78: 2 | L78: 2 | M78: 2 | N78: 1 | O78: 1 | P78: 1
A79: 04264331 | B79: St. Lawrence River at Cornwall, Ontario, near Massena, NY | C79: NY | D79: Troy, NY | E79: =SUM(F79:Q79) -> 14 | F79: 1 | H79: 1 | I79: 1 | J79: 2 | K79: 2 | L79: 2 | M79: 2 | N79: 1 | O79: 1 | P79: 1
A80: 04193500 | B80: Maumee River at Waterville, OH | C80: OH | D80: Columbus, OH | E80: =SUM(F80:Q80) -> 18 | F80: 1 | G80: 1 | H80: 1 | I80: 1 | J80: 1 | K80: 1 | L80: 1 | M80: 3 | N80: 3 | O80: 2 | P80: 2 | Q80: 1
A81: 07241550 | B81: North Canadian River near Harrah, OK | C81: OK | D81: Oklahoma City, OK | E81: =SUM(F81:Q81) -> 18 | F81: 1 | G81: 1 | H81: 1 | I81: 1 | J81: 1 | K81: 1 | L81: 1 | M81: 3 | N81: 3 | O81: 2 | P81: 2 | Q81: 1
A82: 14201300 | B82: Zollner Creek near Mt. Angel, OR | C82: OR | D82: Portland, OR | E82: =SUM(F82:Q82) -> 24 | F82: 2 | G82: 2 | H82: 2 | I82: 2 | J82: 2 | K82: 2 | L82: 2 | M82: 2 | N82: 2 | O82: 2 | P82: 2 | Q82: 2
A83: 14205400 | B83: East Fork Dairy Creek near Meachan Corner, OR | C83: OR | D83: Portland, OR | E83: =SUM(F83:Q83) -> 6 | G83: 1 | I83: 1 | K83: 1 | M83: 1 | O83: 1 | Q83: 1 | R83: Pesticide samples not collected at reference sites
A84: 14206950 | B84: Fanno Creek at Durham, OR | C84: OR | D84: Portland, OR | E84: =SUM(F84:Q84) -> 24 | F84: 2 | G84: 2 | H84: 2 | I84: 2 | J84: 2 | K84: 2 | L84: 2 | M84: 2 | N84: 2 | O84: 2 | P84: 2 | Q84: 2
A85: 14211720 | B85: Willamette River at Portland, OR | C85: OR | D85: Portland, OR | E85: =SUM(F85:Q85) -> 18 | F85: 1 | G85: 2 | H85: 2 | I85: 2 | J85: 1 | K85: 2 | L85: 1 | M85: 2 | N85: 1 | O85: 2 | P85: 1 | Q85: 1
A86: 14246900 | B86: Columbia River near Beaver Army Terminal, OR | C86: OR | D86: Portland, OR | E86: =SUM(F86:Q86) -> 12 | F86: 1 | H86: 2 | I86: 2 | J86: 2 | K86: 1 | L86: 1 | M86: 1 | N86: 1 | P86: 1
A87: 02172300 | B87: McTier Creek near Monetta, SC | C87: SC | D87: Columbia, SC | E87: =SUM(F87:Q87) -> 6 | F87: 1 | H87: 1 | J87: 1 | L87: 1 | N87: 1 | P87: 1 | R87: Pesticide samples not collected at reference sites
A88: 02175000 | B88: Edisto River near Givhans, SC | C88: SC | D88: Columbia, SC | E88: =SUM(F88:Q88) -> 18 | F88: 1 | G88: 2 | H88: 1 | I88: 2 | J88: 1 | K88: 2 | L88: 1 | M88: 2 | N88: 1 | O88: 2 | P88: 1 | Q88: 2
A89: 08057200 | B89: White Rock Creek at Dallas, TX | C89: TX | D89: Austin, TX | E89: =SUM(F89:Q89) -> 24 | F89: 2 | G89: 2 | H89: 2 | I89: 2 | J89: 2 | K89: 2 | L89: 2 | M89: 2 | N89: 2 | O89: 2 | P89: 2 | Q89: 2
A90: 08057410 | B90: Trinity River below Dallas, TX | C90: TX | D90: Austin, TX | E90: =SUM(F90:Q90) -> 18 | F90: 1 | G90: 1 | H90: 1 | I90: 1 | J90: 1 | K90: 1 | L90: 2 | M90: 2 | N90: 2 | O90: 2 | P90: 2 | Q90: 2
A91: 08116650 | B91: Brazos River near Rosharon, TX | C91: TX | D91: The Woodlands, TX | E91: =SUM(F91:Q91) -> 14 | F91: 1 | H91: 1 | I91: 1 | J91: 1 | K91: 1 | L91: 2 | M91: 2 | N91: 2 | O91: 2 | P91: 1
A92: 08195000 | B92: Frio River at Concan, TX | C92: TX | D92: Austin, TX | E92: =SUM(F92:Q92) -> 6 | F92: 1 | H92: 1 | J92: 1 | L92: 1 | N92: 1 | P92: 1 | R92: Pesticide samples not collected at reference sites
A93: 08475000 | B93: Rio Grande near Brownsville, TX | C93: TX | D93: San Antonio, TX | E93: =SUM(F93:Q93) -> 12 | F93: 1 | G93: 1 | H93: 1 | J93: 1 | L93: 1 | N93: 1 | O93: 2 | P93: 2 | Q93: 2
A94: 10168000 | B94: Little Cottonwood Creek at Salt Lake City, UT | C94: UT | D94: West Valley City, UT | E94: =SUM(F94:Q94) -> 24 | F94: 2 | G94: 2 | H94: 2 | I94: 2 | J94: 2 | K94: 2 | L94: 2 | M94: 2 | N94: 2 | O94: 2 | P94: 2 | Q94: 2
A95: 10171000 | B95: Jordan River at Salt Lake City, UT | C95: UT | D95: West Valley City, UT | E95: =SUM(F95:Q95) -> 18 | F95: 1 | G95: 1 | H95: 1 | I95: 1 | J95: 1 | K95: 2 | L95: 2 | M95: 2 | N95: 2 | O95: 2 | P95: 2 | Q95: 1
A96: 10172200 | B96: Red Butte Creek at Fort Douglas, UT | C96: UT | D96: West Valley City, UT | E96: =SUM(F96:Q96) -> 6 | G96: 1 | I96: 1 | K96: 1 | M96: 1 | O96: 1 | Q96: 1 | R96: Pesticide samples not collected at reference sites
A97: 12056500 | B97: North Fork Skokomish River near Hdsprt, WA | C97: WA | D97: Tacoma, WA | E97: =SUM(F97:Q97) -> 6 | F97: 1 | H97: 1 | J97: 1 | L97: 1 | N97: 1 | P97: 1 | R97: Pesticide samples not collected at reference sites
A98: 12505450 | B98: Granger Drain at Granger, WA | C98: WA | D98: Kennewick, WA | E98: =SUM(F98:Q98) -> 24 | F98: 1 | G98: 1 | H98: 1 | I98: 1 | J98: 2 | K98: 2 | L98: 2 | M98: 3 | N98: 3 | O98: 3 | P98: 3 | Q98: 2
A99: 12510500 | B99: Yakima River at Kiona, WA | C99: WA | D99: Kennewick, WA | E99: =SUM(F99:Q99) -> 18 | F99: 1 | G99: 1 | H99: 1 | I99: 1 | J99: 1 | K99: 2 | L99: 2 | M99: 2 | N99: 2 | O99: 2 | P99: 2 | Q99: 1
A100: 04063700 | B100: Popple River near Fence, WI | C100: WI | D100: Rinelander, WI | E100: =SUM(F100:Q100) -> 6 | F100: 1 | H100: 1 | J100: 1 | L100: 1 | N100: 1 | P100: 1 | R100: Pesticide samples not collected at reference sites
...

Sheet Definitions
A1: Field Name | B1: Data type | C1: Restrictions | D1: Field Definition
A2: NSFN Chem Sampling
A3: Last update | B3: Date | C3: mm/dd/yy
A4: Primary STAID | B4: Text | C4: 8 or 15 digits, include leading 0 | D4: Primary NWIS station identification number for this site.
A5: Site name | B5: Text | D5: NAWQA site name (generally same as or similar to NWIS station name)
A6: Site group | B6: Text | D6: Redesigned Cycle II site category
A7: Network category | B7: Text | C7: Integrator, Agricultural, Urban, Reference, Drinking-water
A8: Fiscal year | B8: Number | D8: Water year for which annual sampling information applies
A9: Daily Streamflow - Gage? | B9: Text | C9: yes or no | D9: Continuous streamflow measured
A10: Daily Streamflow - Gross annual NAWQA cost | B10: $ | D10: NAWQA share of Gross cost for streamflow gage maintanance plus record compilation, review and publication
A11: QW monitor - Parameters | B11: Text | C11: T, SC, DO, &/or pH | D11: Continuous monitoring of Temperature, SC, DO, and/or pH?
A12: QW monitor - Type | B12: Text | D12: In-stream probe unit and (if used) on-shore data logger
A13: QW monitor - Annual NAWQA cost | B13: $ | D13: Gross NAWQA cost for 1 year of monitoring
A14: Constituents, by group: | B14: Suspended Sediment Major Ions Nutrients Pesticides (schedule 2437)
A15: Planned | B15: Number | C15: max 3 digits | D15: Planned number of environmental samples
A16: Collected | B16: Number | C16: max 3 digits | D16: Number of environmental samples collected as of last update (column A)
A17: Planned blanks | B17: Number | C17: max 3 digits | D17: Planned number of blank samples
A18: Collected blanks | B18: Number | C18: max 3 digits | D18: Number of blank samples collected as of last update (column A)
A20: Planned reps | B20: Number | C20: max 3 digits | D20: Planned number of duplicate samples
A21: Collected reps | B21: Number | C21: max 3 digits | D21: Number of duplicate samples collected as of last update (column A)
A22: Planned spikes | B22: Number | C22: max 3 digits | D22: Planned number of spike samples
A23: Collected spikes | B23: Number | C23: max 3 digits | D23: Actual number of spike samples collected as of last update (column A)
A24: SU Annual Comments: Unusual Sampling Circumstances | B24: Text | D24: Brief description of conditions that caused a deviation from the planned sampling for the year
A25: Nutrient blanks
C26: Use OBW for the following analytes:
C27: Lab code | D27: Analyte
C29: 2612 | D29: Dissolved Organic carbon (DOC)
C30: 2616 | D30: UV -254 nm (UAS)
C31: 2617 | D31: UV -280 nm (UAS)
C32: 8096 | D32: UV -412 nm (UAS)
C34: Use IBW for the following analytes
C35: Lab code | D35: Analyte
C37: 2608 | D37: Particulate inorganic carbon (TPCN)
C38: 2606 | D38: Total particulate carbon (TPCN)
C39: 2607 | D39: Total particulate nitrogen (TPCN)
C40: 2611 | D40: Particulate Organic carbon (TPCN)
C41: 8097 | D41: Dissolved Inorganic carbon (DIC)
C42: 1985 | D42: Dissolved nitrogen, ammonia + organic nitrogen (FCC)
C43: 1986 | D43: nitrogen, ammonia + organic nitrogen (WCA)
C44: 3116 | D44: Dissolved Nitrogen, ammonia as N (FCC)
C45: 3117 | D45: Dissolved nitrogen, nitrite (FCC)
C46: 3156 | D46: Dissolved nitrogen, nitrite + nitrate (FCC)
C47: 1983 | D47: Dissolved Phosphorus (FCC)
C48: 1984 | D48: Phosphorus (WCA)
... C50: 2754 | D50: Total nitrogen (NH3+NO2+NO3+Organic), filtered (FCC)
A53: NFSN Eco Sampling
A54: Last update | B54: Date | C54: mm/dd/yy
A55: SC | B55: Text | C55: 2 character Science Center
A56: Primary STAID | B56: Text | C56: 8 or 15 digits, include leading 0. | D56: Primary NWIS station identification number for this site.
A57: Site name | B57: Text | D57: NAWQA site name (generally same as or similar to NWIS station name)
A58: Ecological STAID | B58: Text | C58: 8 or 15 digits, include leading 0. | D58: NWIS station identification number for ecological sampling location.
A59: Site name | B59: Text | D59: NAWQA site name for ecological sampling location
A60: Cycle 2 Site Type | B60: Text | C60: rotate2, rotate4, or eco_only
A61: Cycle 3 Site Type | B61: Text | C61: Integrator, Agricultural, Urban, Reference
A62: Ecoregion | B62: Number | C62: 1 or 2 digits | D62: Omernik Level III ecoregion (1987, revised 2002)
A63: Fiscal year | B63: Number | D63: Fiscal/Water year for which annual sampling information applies
A64: Reach Sampled (Primary Reach) | B64: Text | C64: 1 character | D64: Letter designation of the primary sampling reach (typically, A, B, or C)
A65: Inv / Algae RTH (Riffle or Snag) | B65: Text | C65: Riffle, Snag, Depositional | D65: Targeted habitat (typically, Riffle or Snag) for collection of invertebrate and algae samples
A66: Components: | B66: Inverts and Algae -- Invertebrates - RTH Invertebrates - QMH Algae - RTH Algae - Chl a / Biomass Fish Habitat
A67: Index Period - Start Date | B67: Date | C67: DD-MMM | D67: Beginning date of 6-week period for sampling to be conducted each year
A68: Index Period - End Date | B68: Date | C68: DD-MMM | D68: Ending date of 6-week period for sampling to be conducted each year
A69: QA Plan Submitted (Fish) | B69: Text | C69: Yes or No | D69: 'Yes' means Fish QA Plan has been reviewed/updated for the current fiscal year and submitted to Ecological National Synthesis
A70: No. of Samples Planned | B70: Number | C70: Max 1 digit | D70: No. samples planned: normally = "No. of Eco Reaches Planned" or zero; blank if this sample type was not part of the overall design that year)
A71: Date Completed - (MM/DD/YY) | B71: Date | C71: MM/DD/YY | D71: Actual date that sample was collected
A72: SU Annual Comments: Unusual Sampling Circumstances | B72: Text | D72: Brief description of conditions (if any) that caused a deviation from the planned sampling for the year

Sheet WY2013 NFSN Eco Sampling
A1: Last Update | B1: SC | C1: 41497 | G1: Ecological STAID | H1: Ecological Site name | I1: Cycle 2 Site Type | J1: Cycle 3 Site Type | K1: Eco- region | L1: Fiscal year | M1: Reach Sampled (Primary Reach) | N1: Inv / Algae RTH (Riffle or Snag) | O1: Index Period for Inverts and Algae | Q1: Inverts - RTH | S1: Outside IP | T1: Inverts - QMH | V1: Outside IP | W1: Algae - RTH | Y1: Outside IP | Z1: Algae - Chl a / Biomass | AB1: Outside IP | AC1: Fish | AH1: Outside IP | AI1: Habitat | AM1: Outside IP | AN1: IP Check | AO1: SU Annual Comments: Unusual Sampling Circumstances
C2: Primary STAID | D2: Site name | E2: WSC Ecology contact | F2: Fish QA Plan | Q2: No. of Samples Planned | R2: Date Com-pleted (MM/DD/YY) | T2: No. of Samples Planned | U2: Date Com-pleted (MM/DD/YY) | W2: No. of Samples Planned | X2: Date Com-pleted (MM/DD/YY) | Z2: No. of Samples Planned | AA2: Date Com-pleted (MM/DD/YY) | AC2: Index Period | AE2: QA Plan Submitted (Yes/No) | AF2: No. of Samples Planned | AG2: Date Com-pleted (MM/DD/YY) | AI2: Index Period | AK2: No. of Samples Planned | AL2: Date Com-pleted (MM/DD/YY)
O3: Start Date | P3: End Date | R3: Reach A | U3: Reach A | X3: Reach A | AA3: Reach A | AC3: Start Date | AD3: End Date | AI3: Start Date | AJ3: End Date
B5: AZ | C5: 09471000 | D5: San Pedro River at Charleston, AZ | E5: Nick Paretti | F5: Yes | I5: rotate4 | J5: Reference | K5: 79 | L5: 2013 | M5: A | N5: Riffle | O5: 41944 | P5: 41988 | Q5: 1 | S5: =IF(Q5>0,IF(R5<($O5-7),"EARLY",IF(R5>N($P5+7),"LATE","")),"") -> EARLY | T5: 0 | V5: =IF(T5>0,IF(U5<($O5-7),"EARLY",IF(U5>N($P5+7),"LATE","")),"") | W5: 1 | Y5: =IF(W5>0,IF(X5<($O5-7),"EARLY",IF(X5>N($P5+7),"LATE","")),"") -> EARLY | Z5: 1 | AB5: =IF(Z5>0,IF(AA5<($O5-7),"EARLY",IF(AA5>N($P5+7),"LATE","")),"") -> EARLY | AC5: 41944 | AD5: 41988 | AE5: Yes | AF5: 1 | AH5: =IF(AF5>0,IF(AG5<($AC5-7),"EARLY",IF(AG5>N($AD5+7),"LATE","")),"") -> EARLY | AI5: 41944 | AJ5: 41988 | AK5: 1 | AM5: =IF(AK5>0,IF(AL5<($AI5-7),"EARLY",IF(AL5>N($AJ5+7),"LATE","")),"") -> EARLY | AN5: =IF(OR(S5<>"",V5<>"",Y5<>"",AB5<>"",AH5<>"",AM5<>""),"CHECK","") -> CHECK | AO5: Index pd shifted two weeks later than in Cycle 2 to reflect actual dates sampled. Sampling plan shown for the Fiscal Years in which samples are collected (i.e., Fall 2012 = FY2013)
B6: AZ | C6: 09505800 | D6: West Clear Creek near Camp Verde, AZ | F6: Yes | I6: rotate4 | J6: Reference | K6: 23 | L6: 2013 | M6: A | N6: Riffle | O6: 41927 | P6: 41973 | Q6: 1 | S6: =IF(Q6>0,IF(R6<($O6-7),"EARLY",IF(R6>N($P6+7),"LATE","")),"") -> EARLY | T6: 0 | V6: =IF(T6>0,IF(U6<($O6-7),"EARLY",IF(U6>N($P6+7),"LATE","")),"") | W6: 1 | Y6: =IF(W6>0,IF(X6<($O6-7),"EARLY",IF(X6>N($P6+7),"LATE","")),"") -> EARLY | Z6: 1 | AB6: =IF(Z6>0,IF(AA6<($O6-7),"EARLY",IF(AA6>N($P6+7),"LATE","")),"") -> EARLY | AC6: 41927 | AD6: 41973 | AE6: Yes | AF6: 1 | AH6: =IF(AF6>0,IF(AG6<($AC6-7),"EARLY",IF(AG6>N($AD6+7),"LATE","")),"") -> EARLY | AI6: 41927 | AJ6: 41973 | AK6: 1 | AM6: =IF(AK6>0,IF(AL6<($AI6-7),"EARLY",IF(AL6>N($AJ6+7),"LATE","")),"") -> EARLY | AN6: =IF(OR(S6<>"",V6<>"",Y6<>"",AB6<>"",AH6<>"",AM6<>""),"CHECK","") -> CHECK | AO6: Sampling plan shown for the Fiscal Years in which samples are collected (i.e., Fall 2012 = FY2013)
B7: AR | C7: 07055646 | D7: Buffalo River near Boxley, AR | E7: Billy Justus | F7: Yes | I7: rotate4 | J7: Reference | K7: 38 | L7: 2013 | M7: A | N7: Riffle | O7: 41866 | P7: 41912 | Q7: 1 | S7: =IF(Q7>0,IF(R7<($O7-7),"EARLY",IF(R7>N($P7+7),"LATE","")),"") -> EARLY | T7: 0 | V7: =IF(T7>0,IF(U7<($O7-7),"EARLY",IF(U7>N($P7+7),"LATE","")),"") | W7: 1 | Y7: =IF(W7>0,IF(X7<($O7-7),"EARLY",IF(X7>N($P7+7),"LATE","")),"") -> EARLY | Z7: 1 | AB7: =IF(Z7>0,IF(AA7<($O7-7),"EARLY",IF(AA7>N($P7+7),"LATE","")),"") -> EARLY | AC7: 41835 | AD7: 41882 | AE7: Yes | AF7: 1 | AH7: =IF(AF7>0,IF(AG7<($AC7-7),"EARLY",IF(AG7>N($AD7+7),"LATE","")),"") -> EARLY | AI7: 41835 | AJ7: 41882 | AK7: 1 | AM7: =IF(AK7>0,IF(AL7<($AI7-7),"EARLY",IF(AL7>N($AJ7+7),"LATE","")),"") -> EARLY | AN7: =IF(OR(S7<>"",V7<>"",Y7<>"",AB7<>"",AH7<>"",AM7<>""),"CHECK","") -> CHECK
B8: AR | C8: 07060710 | D8: North Sylamore Creek near Fifty Six, AR | F8: Yes | I8: rotate4 | J8: Reference | K8: 39 | L8: 2013 | M8: C | N8: Riffle | O8: 41866 | P8: 41912 | Q8: 1 | S8: =IF(Q8>0,IF(R8<($O8-7),"EARLY",IF(R8>N($P8+7),"LATE","")),"") -> EARLY | T8: 0 | V8: =IF(T8>0,IF(U8<($O8-7),"EARLY",IF(U8>N($P8+7),"LATE","")),"") | W8: 1 | Y8: =IF(W8>0,IF(X8<($O8-7),"EARLY",IF(X8>N($P8+7),"LATE","")),"") -> EARLY | Z8: 1 | AB8: =IF(Z8>0,IF(AA8<($O8-7),"EARLY",IF(AA8>N($P8+7),"LATE","")),"") -> EARLY | AC8: 41835 | AD8: 41882 | AE8: Yes | AF8: 1 | AH8: =IF(AF8>0,IF(AG8<($AC8-7),"EARLY",IF(AG8>N($AD8+7),"LATE","")),"") -> EARLY | AI8: 41835 | AJ8: 41882 | AK8: 1 | AM8: =IF(AK8>0,IF(AL8<($AI8-7),"EARLY",IF(AL8>N($AJ8+7),"LATE","")),"") -> EARLY | AN8: =IF(OR(S8<>"",V8<>"",Y8<>"",AB8<>"",AH8<>"",AM8<>""),"CHECK","") -> CHECK
B9: CA | C9: 11274538 | D9: Orestimba Creek near Crows Landing, CA | E9: Jason May | F9: Yes | I9: rotate4 | J9: Agricultural | K9: 5 | L9: 2013 | M9: A | N9: Snag | O9: 41866 | P9: 41912 | Q9: 1 | S9: =IF(Q9>0,IF(R9<($O9-7),"EARLY",IF(R9>N($P9+7),"LATE","")),"") -> EARLY | T9: 0 | V9: =IF(T9>0,IF(U9<($O9-7),"EARLY",IF(U9>N($P9+7),"LATE","")),"") | W9: 1 | Y9: =IF(W9>0,IF(X9<($O9-7),"EARLY",IF(X9>N($P9+7),"LATE","")),"") -> EARLY | Z9: 1 | AB9: =IF(Z9>0,IF(AA9<($O9-7),"EARLY",IF(AA9>N($P9+7),"LATE","")),"") -> EARLY | AC9: 41866 | AD9: 41912 | AE9: Yes | AF9: 1 | AH9: =IF(AF9>0,IF(AG9<($AC9-7),"EARLY",IF(AG9>N($AD9+7),"LATE","")),"") -> EARLY | AI9: 41866 | AJ9: 41912 | AK9: 1 | AM9: =IF(AK9>0,IF(AL9<($AI9-7),"EARLY",IF(AL9>N($AJ9+7),"LATE","")),"") -> EARLY | AN9: =IF(OR(S9<>"",V9<>"",Y9<>"",AB9<>"",AH9<>"",AM9<>""),"CHECK","") -> CHECK
B10: CA | C10: 11335000 | D10: Cosumnes River at Michigan Bar, CA | F10: Yes | I10: eco_only | J10: Reference | K10: 7 | L10: 2013 | M10: C | N10: Riffle | O10: 41866 | P10: 41912 | Q10: 1 | S10: =IF(Q10>0,IF(R10<($O10-7),"EARLY",IF(R10>N($P10+7),"LATE","")),"") -> EARLY | T10: 0 | V10: =IF(T10>0,IF(U10<($O10-7),"EARLY",IF(U10>N($P10+7),"LATE","")),"") | W10: 1 | Y10: =IF(W10>0,IF(X10<($O10-7),"EARLY",IF(X10>N($P10+7),"LATE","")),"") -> EARLY | Z10: 1 | AB10: =IF(Z10>0,IF(AA10<($O10-7),"EARLY",IF(AA10>N($P10+7),"LATE","")),"") -> EARLY | AC10: 41866 | AD10: 41912 | AE10: Yes | AF10: 1 | AH10: =IF(AF10>0,IF(AG10<($AC10-7),"EARLY",IF(AG10>N($AD10+7),"LATE","")),"") -> EARLY | AI10: 41866 | AJ10: 41912 | AK10: 1 | AM10: =IF(AK10>0,IF(AL10<($AI10-7),"EARLY",IF(AL10>N($AJ10+7),"LATE","")),"") -> EARLY | AN10: =IF(OR(S10<>"",V10<>"",Y10<>"",AB10<>"",AH10<>"",AM10<>""),"CHECK","") -> CHECK
B11: CA | C11: 11264500 | D11: Merced River at Happy Isles Bridge nr Yosemite, CA | F11: Yes | I11: eco_only | J11: Reference | L11: 2013 | M11: A | N11: Riffle | O11: 41866 | P11: 41912 | Q11: 1 | S11: =IF(Q11>0,IF(R11<($O11-7),"EARLY",IF(R11>N($P11+7),"LATE","")),"") -> EARLY | T11: 0 | V11: =IF(T11>0,IF(U11<($O11-7),"EARLY",IF(U11>N($P11+7),"LATE","")),"") | W11: 1 | Y11: =IF(W11>0,IF(X11<($O11-7),"EARLY",IF(X11>N($P11+7),"LATE","")),"") -> EARLY | Z11: 1 | AB11: =IF(Z11>0,IF(AA11<($O11-7),"EARLY",IF(AA11>N($P11+7),"LATE","")),"") -> EARLY | AC11: 41828 | AD11: 41873 | AE11: Yes | AF11: 1 | AH11: =IF(AF11>0,IF(AG11<($AC11-7),"EARLY",IF(AG11>N($AD11+7),"LATE","")),"") -> EARLY | AI11: 41828 | AJ11: 41873 | AK11: 1 | AM11: =IF(AK11>0,IF(AL11<($AI11-7),"EARLY",IF(AL11>N($AJ11+7),"LATE","")),"") -> EARLY | AN11: =IF(OR(S11<>"",V11<>"",Y11<>"",AB11<>"",AH11<>"",AM11<>""),"CHECK","") -> CHECK
B12: CO | C12: 06713500 | D12: Cherry Creek at Denver, CO | E12: Bob Zuellig | F12: Yes | I12: rotate2 | J12: Urban | K12: 25 | L12: 2013 | M12: B | N12: Riffle | O12: 41835 | P12: 41882 | Q12: 1 | S12: =IF(Q12>0,IF(R12<($O12-7),"EARLY",IF(R12>N($P12+7),"LATE","")),"") -> EARLY | T12: 0 | V12: =IF(T12>0,IF(U12<($O12-7),"EARLY",IF(U12>N($P12+7),"LATE","")),"") | W12: 1 | Y12: =IF(W12>0,IF(X12<($O12-7),"EARLY",IF(X12>N($P12+7),"LATE","")),"") -> EARLY | Z12: 1 | AB12: =IF(Z12>0,IF(AA12<($O12-7),"EARLY",IF(AA12>N($P12+7),"LATE","")),"") -> EARLY | AC12: 41835 | AD12: 41882 | AE12: Yes | AF12: 1 | AH12: =IF(AF12>0,IF(AG12<($AC12-7),"EARLY",IF(AG12>N($AD12+7),"LATE","")),"") -> EARLY | AI12: 41835 | AJ12: 41882 | AK12: 1 | AM12: =IF(AK12>0,IF(AL12<($AI12-7),"EARLY",IF(AL12>N($AJ12+7),"LATE","")),"") -> EARLY | AN12: =IF(OR(S12<>"",V12<>"",Y12<>"",AB12<>"",AH12<>"",AM12<>""),"CHECK","") -> CHECK
B13: CT | C13: 01170100 | D13: Green River near Colrain, MA | E13: Karen Beaulieu | F13: Yes | G13: 01170095 | H13: Green River at Stewartville, MA | I13: rotate4 | J13: Reference | K13: 58 | L13: 2013 | M13: A | N13: Riffle | O13: 41852 | P13: 41897 | Q13: 1 | S13: =IF(Q13>0,IF(R13<($O13-7),"EARLY",IF(R13>N($P13+7),"LATE","")),"") -> EARLY | T13: 0 | V13: =IF(T13>0,IF(U13<($O13-7),"EARLY",IF(U13>N($P13+7),"LATE","")),"") | W13: 1 | Y13: =IF(W13>0,IF(X13<($O13-7),"EARLY",IF(X13>N($P13+7),"LATE","")),"") -> EARLY | Z13: 1 | AB13: =IF(Z13>0,IF(AA13<($O13-7),"EARLY",IF(AA13>N($P13+7),"LATE","")),"") -> EARLY | AC13: 41852 | AD13: 41897 | AE13: Yes | AF13: 1 | AH13: =IF(AF13>0,IF(AG13<($AC13-7),"EARLY",IF(AG13>N($AD13+7),"LATE","")),"") -> EARLY | AI13: 41852 | AJ13: 41897 | AK13: 1 | AM13: =IF(AK13>0,IF(AL13<($AI13-7),"EARLY",IF(AL13>N($AJ13+7),"LATE","")),"") -> EARLY | AN13: =IF(OR(S13<>"",V13<>"",Y13<>"",AB13<>"",AH13<>"",AM13<>""),"CHECK","") -> CHECK
B14: CT | C14: 01209710 | D14: Norwalk River at Winnipauk,CT | F14: Yes | I14: rotate4 | J14: Urban | K14: 59 | L14: 2013 | M14: A | N14: Riffle | O14: 41852 | P14: 41897 | Q14: 1 | S14: =IF(Q14>0,IF(R14<($O14-7),"EARLY",IF(R14>N($P14+7),"LATE","")),"") -> EARLY | T14: 0 | V14: =IF(T14>0,IF(U14<($O14-7),"EARLY",IF(U14>N($P14+7),"LATE","")),"") | W14: 1 | Y14: =IF(W14>0,IF(X14<($O14-7),"EARLY",IF(X14>N($P14+7),"LATE","")),"") -> EARLY | Z14: 1 | AB14: =IF(Z14>0,IF(AA14<($O14-7),"EARLY",IF(AA14>N($P14+7),"LATE","")),"") -> EARLY | AC14: 41852 | AD14: 41897 | AE14: Yes | AF14: 1 | AH14: =IF(AF14>0,IF(AG14<($AC14-7),"EARLY",IF(AG14>N($AD14+7),"LATE","")),"") -> EARLY | AI14: 41852 | AJ14: 41897 | AK14: 1 | AM14: =IF(AK14>0,IF(AL14<($AI14-7),"EARLY",IF(AL14>N($AJ14+7),"LATE","")),"") -> EARLY | AN14: =IF(OR(S14<>"",V14<>"",Y14<>"",AB14<>"",AH14<>"",AM14<>""),"CHECK","") -> CHECK
B15: GA | C15: 2338523 | D15: Hillibahatchee Creek near Franklin, GA | E15: Jeff Riley | F15: Yes | I15: rotate4 | J15: Reference | K15: 45 | L15: 2013 | M15: B | N15: Riffle | O15: 41774 | P15: 41820 | Q15: 1 | S15: =IF(Q15>0,IF(R15<($O15-7),"EARLY",IF(R15>N($P15+7),"LATE","")),"") -> EARLY | T15: 0 | V15: =IF(T15>0,IF(U15<($O15-7),"EARLY",IF(U15>N($P15+7),"LATE","")),"") | W15: 1 | Y15: =IF(W15>0,IF(X15<($O15-7),"EARLY",IF(X15>N($P15+7),"LATE","")),"") -> EARLY | Z15: 1 | AB15: =IF(Z15>0,IF(AA15<($O15-7),"EARLY",IF(AA15>N($P15+7),"LATE","")),"") -> EARLY | AC15: 41883 | AD15: 41927 | AE15: Yes | AF15: 1 | AH15: =IF(AF15>0,IF(AG15<($AC15-7),"EARLY",IF(AG15>N($AD15+7),"LATE","")),"") -> EARLY | AI15: 41883 | AJ15: 41927 | AK15: 1 | AM15: =IF(AK15>0,IF(AL15<($AI15-7),"EARLY",IF(AL15>N($AJ15+7),"LATE","")),"") -> EARLY | AN15: =IF(OR(S15<>"",V15<>"",Y15<>"",AB15<>"",AH15<>"",AM15<>""),"CHECK","") -> CHECK
B16: GA | C16: 02335870 | D16: Sope Creek near Marietta, GA | F16: Yes | I16: rotate2 | J16: Urban | K16: 45 | L16: 2013 | M16: A | N16: Riffle | O16: 41774 | P16: 41820 | Q16: 1 | S16: =IF(Q16>0,IF(R16<($O16-7),"EARLY",IF(R16>N($P16+7),"LATE","")),"") -> EARLY | T16: 0 | V16: =IF(T16>0,IF(U16<($O16-7),"EARLY",IF(U16>N($P16+7),"LATE","")),"") | W16: 1 | Y16: =IF(W16>0,IF(X16<($O16-7),"EARLY",IF(X16>N($P16+7),"LATE","")),"") -> EARLY | Z16: 1 | AB16: =IF(Z16>0,IF(AA16<($O16-7),"EARLY",IF(AA16>N($P16+7),"LATE","")),"") -> EARLY | AC16: 41883 | AD16: 41927 | AE16: Yes | AF16: 1 | AH16: =IF(AF16>0,IF(AG16<($AC16-7),"EARLY",IF(AG16>N($AD16+7),"LATE","")),"") -> EARLY | AI16: 41883 | AJ16: 41927 | AK16: 1 | AM16: =IF(AK16>0,IF(AL16<($AI16-7),"EARLY",IF(AL16>N($AJ16+7),"LATE","")),"") -> EARLY | AN16: =IF(OR(S16<>"",V16<>"",Y16<>"",AB16<>"",AH16<>"",AM16<>""),"CHECK","") -> CHECK
B17: ID | C17: 13092747 | D17: Rock Creek at Twin Falls, ID | E17: Dorene MacCoy | F17: Yes | I17: rotate4 | J17: Agricultural | K17: 12 | L17: 2013 | M17: A | N17: Riffle | O17: 41821 | P17: 41866 | Q17: 1 | S17: =IF(Q17>0,IF(R17<($O17-7),"EARLY",IF(R17>N($P17+7),"LATE","")),"") -> EARLY | T17: 0 | V17: =IF(T17>0,IF(U17<($O17-7),"EARLY",IF(U17>N($P17+7),"LATE","")),"") | W17: 1 | Y17: =IF(W17>0,IF(X17<($O17-7),"EARLY",IF(X17>N($P17+7),"LATE","")),"") -> EARLY | Z17: 1 | AB17: =IF(Z17>0,IF(AA17<($O17-7),"EARLY",IF(AA17>N($P17+7),"LATE","")),"") -> EARLY | AC17: 41821 | AD17: 41866 | AE17: Yes | AF17: 1 | AH17: =IF(AF17>0,IF(AG17<($AC17-7),"EARLY",IF(AG17>N($AD17+7),"LATE","")),"") -> EARLY | AI17: 41821 | AJ17: 41866 | AK17: 1 | AM17: =IF(AK17>0,IF(AL17<($AI17-7),"EARLY",IF(AL17>N($AJ17+7),"LATE","")),"") -> EARLY | AN17: =IF(OR(S17<>"",V17<>"",Y17<>"",AB17<>"",AH17<>"",AM17<>""),"CHECK","") -> CHECK
B18: IN | C18: 394340085524601 | D18: Sugar Creek at New Palestine, IN | E18: Edward Dobrowolski | F18: Yes | I18: rotate2 | J18: Agricultural | K18: 55 | L18: 2013 | M18: A | N18: Riffle | O18: 41835 | P18: 41882 | Q18: 1 | S18: =IF(Q18>0,IF(R18<($O18-7),"EARLY",IF(R18>N($P18+7),"LATE","")),"") -> EARLY | T18: 0 | V18: =IF(T18>0,IF(U18<($O18-7),"EARLY",IF(U18>N($P18+7),"LATE","")),"") | W18: 1 | Y18: =IF(W18>0,IF(X18<($O18-7),"EARLY",IF(X18>N($P18+7),"LATE","")),"") -> EARLY | Z18: 1 | AB18: =IF(Z18>0,IF(AA18<($O18-7),"EARLY",IF(AA18>N($P18+7),"LATE","")),"") -> EARLY | AC18: 41852 | AD18: 41897 | AE18: Yes | AF18: 1 | AH18: =IF(AF18>0,IF(AG18<($AC18-7),"EARLY",IF(AG18>N($AD18+7),"LATE","")),"") -> EARLY | AI18: 41835 | AJ18: 41882 | AK18: 1 | AM18: =IF(AK18>0,IF(AL18<($AI18-7),"EARLY",IF(AL18>N($AJ18+7),"LATE","")),"") -> EARLY | AN18: =IF(OR(S18<>"",V18<>"",Y18<>"",AB18<>"",AH18<>"",AM18<>""),"CHECK","") -> CHECK
B19: IA | C19: 05451210 | D19: South Fork Iowa River near New Providence, IA | E19: Jason McVay | F19: Yes | I19: rotate2 | J19: Agricultural | K19: 47 | L19: 2013 | M19: A | N19: Snag | O19: 41852 | P19: 41897 | Q19: 1 | S19: =IF(Q19>0,IF(R19<($O19-7),"EARLY",IF(R19>N($P19+7),"LATE","")),"") -> EARLY | T19: 0 | V19: =IF(T19>0,IF(U19<($O19-7),"EARLY",IF(U19>N($P19+7),"LATE","")),"") | W19: 1 | Y19: =IF(W19>0,IF(X19<($O19-7),"EARLY",IF(X19>N($P19+7),"LATE","")),"") -> EARLY | Z19: 1 | AB19: =IF(Z19>0,IF(AA19<($O19-7),"EARLY",IF(AA19>N($P19+7),"LATE","")),"") -> EARLY | AC19: 41866 | AD19: 41912 | AE19: Yes | AF19: 1 | AH19: =IF(AF19>0,IF(AG19<($AC19-7),"EARLY",IF(AG19>N($AD19+7),"LATE","")),"") -> EARLY | AI19: 41852 | AJ19: 41897 | AK19: 1 | AM19: =IF(AK19>0,IF(AL19<($AI19-7),"EARLY",IF(AL19>N($AJ19+7),"LATE","")),"") -> EARLY | AN19: =IF(OR(S19<>"",V19<>"",Y19<>"",AB19<>"",AH19<>"",AM19<>""),"CHECK","") -> CHECK
B20: LA | C20: 08014500 | D20: Ouiska (Whisky) Chitto Creek near Oberlin, LA | E20: Scott Mize | F20: Yes | I20: rotate4 | J20: Reference | K20: 35 | L20: 2013 | M20: A | N20: Snag | O20: 41835 | P20: 41882 | Q20: 1 | S20: =IF(Q20>0,IF(R20<($O20-7),"EARLY",IF(R20>N($P20+7),"LATE","")),"") -> EARLY | T20: 0 | V20: =IF(T20>0,IF(U20<($O20-7),"EARLY",IF(U20>N($P20+7),"LATE","")),"") | W20: 1 | Y20: =IF(W20>0,IF(X20<($O20-7),"EARLY",IF(X20>N($P20+7),"LATE","")),"") -> EARLY | Z20: 1 | AB20: =IF(Z20>0,IF(AA20<($O20-7),"EARLY",IF(AA20>N($P20+7),"LATE","")),"") -> EARLY | AC20: 41835 | AD20: 41882 | AE20: Yes | AF20: 1 | AH20: =IF(AF20>0,IF(AG20<($AC20-7),"EARLY",IF(AG20>N($AD20+7),"LATE","")),"") -> EARLY | AI20: 41835 | AJ20: 41882 | AK20: 1 | AM20: =IF(AK20>0,IF(AL20<($AI20-7),"EARLY",IF(AL20>N($AJ20+7),"LATE","")),"") -> EARLY | AN20: =IF(OR(S20<>"",V20<>"",Y20<>"",AB20<>"",AH20<>"",AM20<>""),"CHECK","") -> CHECK
B21: MD | C21: 01610400 | D21: Waites Run near Wardensville, WV | E21: Robin Brightbill | F21: Yes | I21: rotate4 | J21: Reference | K21: 67 | L21: 2013 | M21: B | N21: Riffle | O21: 41821 | P21: 41866 | Q21: 1 | S21: =IF(Q21>0,IF(R21<($O21-7),"EARLY",IF(R21>N($P21+7),"LATE","")),"") -> EARLY | T21: 0 | V21: =IF(T21>0,IF(U21<($O21-7),"EARLY",IF(U21>N($P21+7),"LATE","")),"") | W21: 1 | Y21: =IF(W21>0,IF(X21<($O21-7),"EARLY",IF(X21>N($P21+7),"LATE","")),"") -> EARLY | Z21: 1 | AB21: =IF(Z21>0,IF(AA21<($O21-7),"EARLY",IF(AA21>N($P21+7),"LATE","")),"") -> EARLY | AC21: 41821 | AD21: 41866 | AE21: Yes | AF21: 1 | AH21: =IF(AF21>0,IF(AG21<($AC21-7),"EARLY",IF(AG21>N($AD21+7),"LATE","")),"") -> EARLY | AI21: 41821 | AJ21: 41866 | AK21: 1 | AM21: =IF(AK21>0,IF(AL21<($AI21-7),"EARLY",IF(AL21>N($AJ21+7),"LATE","")),"") -> EARLY | AN21: =IF(OR(S21<>"",V21<>"",Y21<>"",AB21<>"",AH21<>"",AM21<>""),"CHECK","") -> CHECK
B22: MD | C22: 01654000 | D22: Accotink Creek near Annandale, VA | F22: Yes | I22: rotate2 | J22: Urban | K22: 45 | L22: 2013 | M22: A | N22: Riffle | O22: 41791 | P22: 41835 | Q22: 1 | S22: =IF(Q22>0,IF(R22<($O22-7),"EARLY",IF(R22>N($P22+7),"LATE","")),"") -> EARLY | T22: 0 | V22: =IF(T22>0,IF(U22<($O22-7),"EARLY",IF(U22>N($P22+7),"LATE","")),"") | W22: 1 | Y22: =IF(W22>0,IF(X22<($O22-7),"EARLY",IF(X22>N($P22+7),"LATE","")),"") -> EARLY | Z22: 1 | AB22: =IF(Z22>0,IF(AA22<($O22-7),"EARLY",IF(AA22>N($P22+7),"LATE","")),"") -> EARLY | AC22: 41852 | AD22: 41897 | AE22: Yes | AF22: 1 | AH22: =IF(AF22>0,IF(AG22<($AC22-7),"EARLY",IF(AG22>N($AD22+7),"LATE","")),"") -> EARLY | AI22: 41852 | AJ22: 41897 | AK22: 1 | AM22: =IF(AK22>0,IF(AL22<($AI22-7),"EARLY",IF(AL22>N($AJ22+7),"LATE","")),"") -> EARLY | AN22: =IF(OR(S22<>"",V22<>"",Y22<>"",AB22<>"",AH22<>"",AM22<>""),"CHECK","") -> CHECK
B23: MN | C23: 05288705 | D23: Shingle Creek at Minneapolis, MN | E23: Kathy Lee | F23: Yes | I23: rotate2 | J23: Urban | K23: 51 | L23: 2013 | M23: B | N23: Riffle | O23: 41821 | P23: 41866 | Q23: 1 | S23: =IF(Q23>0,IF(R23<($O23-7),"EARLY",IF(R23>N($P23+7),"LATE","")),"") -> EARLY | T23: 0 | V23: =IF(T23>0,IF(U23<($O23-7),"EARLY",IF(U23>N($P23+7),"LATE","")),"") | W23: 1 | Y23: =IF(W23>0,IF(X23<($O23-7),"EARLY",IF(X23>N($P23+7),"LATE","")),"") -> EARLY | Z23: 1 | AB23: =IF(Z23>0,IF(AA23<($O23-7),"EARLY",IF(AA23>N($P23+7),"LATE","")),"") -> EARLY | AC23: 41821 | AD23: 41866 | AE23: Yes | AF23: 1 | AH23: =IF(AF23>0,IF(AG23<($AC23-7),"EARLY",IF(AG23>N($AD23+7),"LATE","")),"") -> EARLY | AI23: 41821 | AJ23: 41866 | AK23: 1 | AM23: =IF(AK23>0,IF(AL23<($AI23-7),"EARLY",IF(AL23>N($AJ23+7),"LATE","")),"") -> EARLY | AN23: =IF(OR(S23<>"",V23<>"",Y23<>"",AB23<>"",AH23<>"",AM23<>""),"CHECK","") -> CHECK
B24: MS | C24: 07288650 | D24: Bogue Phalia near Leland, MS | E24: Jeannie Barlow | F24: Yes | I24: dropped08 | J24: Agricultural | K24: 73 | L24: 2013 | M24: A | N24: Snag | O24: 41852 | P24: 41897 | Q24: 1 | S24: =IF(Q24>0,IF(R24<($O24-7),"EARLY",IF(R24>N($P24+7),"LATE","")),"") -> EARLY | T24: 0 | V24: =IF(T24>0,IF(U24<($O24-7),"EARLY",IF(U24>N($P24+7),"LATE","")),"") | W24: 1 | Y24: =IF(W24>0,IF(X24<($O24-7),"EARLY",IF(X24>N($P24+7),"LATE","")),"") -> EARLY | Z24: 1 | AB24: =IF(Z24>0,IF(AA24<($O24-7),"EARLY",IF(AA24>N($P24+7),"LATE","")),"") -> EARLY | AC24: 41835 | AD24: 41882 | AE24: Yes | AF24: 1 | AH24: =IF(AF24>0,IF(AG24<($AC24-7),"EARLY",IF(AG24>N($AD24+7),"LATE","")),"") -> EARLY | AI24: 41835 | AJ24: 41882 | AK24: 1 | AM24: =IF(AK24>0,IF(AL24<($AI24-7),"EARLY",IF(AL24>N($AJ24+7),"LATE","")),"") -> EARLY | AN24: =IF(OR(S24<>"",V24<>"",Y24<>"",AB24<>"",AH24<>"",AM24<>""),"CHECK","") -> CHECK
B25: NE | C25: 06775900 | D25: Dismal River near Thedford, NE | E25: Jason Alexander | F25: Yes | I25: eco_only | J25: Reference | K25: 44 | L25: 2013 | M25: C | N25: Snag | O25: 41852 | P25: 41897 | Q25: 1 | S25: =IF(Q25>0,IF(R25<($O25-7),"EARLY",IF(R25>N($P25+7),"LATE","")),"") -> EARLY | T25: 0 | V25: =IF(T25>0,IF(U25<($O25-7),"EARLY",IF(U25>N($P25+7),"LATE","")),"") | W25: 1 | Y25: =IF(W25>0,IF(X25<($O25-7),"EARLY",IF(X25>N($P25+7),"LATE","")),"") -> EARLY | Z25: 1 | AB25: =IF(Z25>0,IF(AA25<($O25-7),"EARLY",IF(AA25>N($P25+7),"LATE","")),"") -> EARLY | AC25: 41852 | AD25: 41897 | AE25: Yes | AF25: 1 | AH25: =IF(AF25>0,IF(AG25<($AC25-7),"EARLY",IF(AG25>N($AD25+7),"LATE","")),"") -> EARLY | AI25: 41852 | AJ25: 41897 | AK25: 1 | AM25: =IF(AK25>0,IF(AL25<($AI25-7),"EARLY",IF(AL25>N($AJ25+7),"LATE","")),"") -> EARLY | AN25: =IF(OR(S25<>"",V25<>"",Y25<>"",AB25<>"",AH25<>"",AM25<>""),"CHECK","") -> CHECK
B26: NE | C26: 06800000 | D26: Maple Creek near Nickerson, NE | F26: Yes | I26: rotate2 | J26: Agricultural | K26: 47 | L26: 2013 | M26: C | N26: Snag | O26: 41852 | P26: 41897 | Q26: 1 | S26: =IF(Q26>0,IF(R26<($O26-7),"EARLY",IF(R26>N($P26+7),"LATE","")),"") -> EARLY | T26: 0 | V26: =IF(T26>0,IF(U26<($O26-7),"EARLY",IF(U26>N($P26+7),"LATE","")),"") | W26: 1 | Y26: =IF(W26>0,IF(X26<($O26-7),"EARLY",IF(X26>N($P26+7),"LATE","")),"") -> EARLY | Z26: 1 | AB26: =IF(Z26>0,IF(AA26<($O26-7),"EARLY",IF(AA26>N($P26+7),"LATE","")),"") -> EARLY | AC26: 41852 | AD26: 41897 | AE26: Yes | AF26: 1 | AH26: =IF(AF26>0,IF(AG26<($AC26-7),"EARLY",IF(AG26>N($AD26+7),"LATE","")),"") -> EARLY | AI26: 41852 | AJ26: 41897 | AK26: 1 | AM26: =IF(AK26>0,IF(AL26<($AI26-7),"EARLY",IF(AL26>N($AJ26+7),"LATE","")),"") -> EARLY | AN26: =IF(OR(S26<>"",V26<>"",Y26<>"",AB26<>"",AH26<>"",AM26<>""),"CHECK","") -> CHECK
B27: NM | C27: 08227000 | D27: Saguache Creek near Saguache, CO | E27: Dianna Crilley | F27: Yes | I27: eco_only | J27: Reference | K27: 21 | L27: 2013 | M27: A | N27: Riffle | O27: 41835 | P27: 41882 | Q27: 1 | S27: =IF(Q27>0,IF(R27<($O27-7),"EARLY",IF(R27>N($P27+7),"LATE","")),"") -> EARLY | T27: 0 | V27: =IF(T27>0,IF(U27<($O27-7),"EARLY",IF(U27>N($P27+7),"LATE","")),"") | W27: 1 | Y27: =IF(W27>0,IF(X27<($O27-7),"EARLY",IF(X27>N($P27+7),"LATE","")),"") -> EARLY | Z27: 1 | AB27: =IF(Z27>0,IF(AA27<($O27-7),"EARLY",IF(AA27>N($P27+7),"LATE","")),"") -> EARLY | AC27: 41835 | AD27: 41882 | AE27: Yes | AF27: 1 | AH27: =IF(AF27>0,IF(AG27<($AC27-7),"EARLY",IF(AG27>N($AD27+7),"LATE","")),"") -> EARLY | AI27: 41835 | AJ27: 41882 | AK27: 1 | AM27: =IF(AK27>0,IF(AL27<($AI27-7),"EARLY",IF(AL27>N($AJ27+7),"LATE","")),"") -> EARLY | AN27: =IF(OR(S27<>"",V27<>"",Y27<>"",AB27<>"",AH27<>"",AM27<>""),"CHECK","") -> CHECK
B28: NY | C28: 01349150 | D28: Canajoharie Creek near Canajoharie, NY | E28: Karen Murray | F28: Yes | I28: rotate4 | J28: Agricultural | K28: 83 | L28: 2013 | M28: A | N28: Riffle | O28: 41835 | P28: 41882 | Q28: 1 | S28: =IF(Q28>0,IF(R28<($O28-7),"EARLY",IF(R28>N($P28+7),"LATE","")),"") -> EARLY | T28: 0 | V28: =IF(T28>0,IF(U28<($O28-7),"EARLY",IF(U28>N($P28+7),"LATE","")),"") | W28: 1 | Y28: =IF(W28>0,IF(X28<($O28-7),"EARLY",IF(X28>N($P28+7),"LATE","")),"") -> EARLY | Z28: 1 | AB28: =IF(Z28>0,IF(AA28<($O28-7),"EARLY",IF(AA28>N($P28+7),"LATE","")),"") -> EARLY | AC28: 41852 | AD28: 41897 | AE28: Yes | AF28: 1 | AH28: =IF(AF28>0,IF(AG28<($AC28-7),"EARLY",IF(AG28>N($AD28+7),"LATE","")),"") -> EARLY | AI28: 41852 | AJ28: 41897 | AK28: 1 | AM28: =IF(AK28>0,IF(AL28<($AI28-7),"EARLY",IF(AL28>N($AJ28+7),"LATE","")),"") -> EARLY | AN28: =IF(OR(S28<>"",V28<>"",Y28<>"",AB28<>"",AH28<>"",AM28<>""),"CHECK","") -> CHECK
B29: NC | C29: 02091500 | D29: Contentnea Creek at Hookerton, NC | E29: Michelle Moorman | F29: Yes | I29: rotate4 | J29: Agricultural | K29: 65 | L29: 2013 | M29: A | N29: Snag | O29: 41774 | P29: 41820 | Q29: 1 | S29: =IF(Q29>0,IF(R29<($O29-7),"EARLY",IF(R29>N($P29+7),"LATE","")),"") -> EARLY | T29: 0 | V29: =IF(T29>0,IF(U29<($O29-7),"EARLY",IF(U29>N($P29+7),"LATE","")),"") | W29: 1 | Y29: =IF(W29>0,IF(X29<($O29-7),"EARLY",IF(X29>N($P29+7),"LATE","")),"") -> EARLY | Z29: 1 | AB29: =IF(Z29>0,IF(AA29<($O29-7),"EARLY",IF(AA29>N($P29+7),"LATE","")),"") -> EARLY | AC29: 41883 | AD29: 41927 | AE29: Yes | AF29: 1 | AH29: =IF(AF29>0,IF(AG29<($AC29-7),"EARLY",IF(AG29>N($AD29+7),"LATE","")),"") -> EARLY | AI29: 41883 | AJ29: 41927 | AK29: 1 | AM29: =IF(AK29>0,IF(AL29<($AI29-7),"EARLY",IF(AL29>N($AJ29+7),"LATE","")),"") -> EARLY | AN29: =IF(OR(S29<>"",V29<>"",Y29<>"",AB29<>"",AH29<>"",AM29<>""),"CHECK","") -> CHECK
B30: NC | C30: 2087580 | D30: Swift Creek near Apex, NC | F30: Yes | I30: rotate2 | J30: Urban | K30: 65 | L30: 2013 | M30: C | N30: Riffle | O30: 41774 | P30: 41820 | Q30: 1 | S30: =IF(Q30>0,IF(R30<($O30-7),"EARLY",IF(R30>N($P30+7),"LATE","")),"") -> EARLY | T30: 0 | V30: =IF(T30>0,IF(U30<($O30-7),"EARLY",IF(U30>N($P30+7),"LATE","")),"") | W30: 1 | Y30: =IF(W30>0,IF(X30<($O30-7),"EARLY",IF(X30>N($P30+7),"LATE","")),"") -> EARLY | Z30: 1 | AB30: =IF(Z30>0,IF(AA30<($O30-7),"EARLY",IF(AA30>N($P30+7),"LATE","")),"") -> EARLY | AC30: 41883 | AD30: 41927 | AE30: Yes | AF30: 1 | AH30: =IF(AF30>0,IF(AG30<($AC30-7),"EARLY",IF(AG30>N($AD30+7),"LATE","")),"") -> EARLY | AI30: 41883 | AJ30: 41927 | AK30: 1 | AM30: =IF(AK30>0,IF(AL30<($AI30-7),"EARLY",IF(AL30>N($AJ30+7),"LATE","")),"") -> EARLY | AN30: =IF(OR(S30<>"",V30<>"",Y30<>"",AB30<>"",AH30<>"",AM30<>""),"CHECK","") -> CHECK
B31: OH | C31: 04161820 | D31: Clinton River at Sterling Heights, MI | E31: Stephanie Janosy | F31: Yes | I31: rotate4 | J31: Urban | K31: 56 | L31: 2013 | M31: A | N31: Riffle | O31: 41852 | P31: 41897 | Q31: 1 | S31: =IF(Q31>0,IF(R31<($O31-7),"EARLY",IF(R31>N($P31+7),"LATE","")),"") -> EARLY | T31: 0 | V31: =IF(T31>0,IF(U31<($O31-7),"EARLY",IF(U31>N($P31+7),"LATE","")),"") | W31: 1 | Y31: =IF(W31>0,IF(X31<($O31-7),"EARLY",IF(X31>N($P31+7),"LATE","")),"") -> EARLY | Z31: 1 | AB31: =IF(Z31>0,IF(AA31<($O31-7),"EARLY",IF(AA31>N($P31+7),"LATE","")),"") -> EARLY | AC31: 41852 | AD31: 41897 | AE31: Yes | AF31: 1 | AH31: =IF(AF31>0,IF(AG31<($AC31-7),"EARLY",IF(AG31>N($AD31+7),"LATE","")),"") -> EARLY | AI31: 41852 | AJ31: 41897 | AK31: 1 | AM31: =IF(AK31>0,IF(AL31<($AI31-7),"EARLY",IF(AL31>N($AJ31+7),"LATE","")),"") -> EARLY | AN31: =IF(OR(S31<>"",V31<>"",Y31<>"",AB31<>"",AH31<>"",AM31<>""),"CHECK","") -> CHECK
B32: OR | C32: 14201300 | D32: Zollner Creek near Mt. Angel, OR | E32: Jennifer Moarce | F32: NO | I32: rotate4 | J32: Agricultural | K32: 3 | L32: 2013 | M32: A | N32: Snag | O32: 41866 | P32: 41912 | Q32: 1 | S32: =IF(Q32>0,IF(R32<($O32-7),"EARLY",IF(R32>N($P32+7),"LATE","")),"") -> EARLY | T32: 0 | V32: =IF(T32>0,IF(U32<($O32-7),"EARLY",IF(U32>N($P32+7),"LATE","")),"") | W32: 1 | Y32: =IF(W32>0,IF(X32<($O32-7),"EARLY",IF(X32>N($P32+7),"LATE","")),"") -> EARLY | Z32: 1 | AB32: =IF(Z32>0,IF(AA32<($O32-7),"EARLY",IF(AA32>N($P32+7),"LATE","")),"") -> EARLY | AC32: 41866 | AD32: 41912 | AE32: NO | AF32: 1 | AH32: =IF(AF32>0,IF(AG32<($AC32-7),"EARLY",IF(AG32>N($AD32+7),"LATE","")),"") -> EARLY | AI32: 41866 | AJ32: 41912 | AK32: 1 | AM32: =IF(AK32>0,IF(AL32<($AI32-7),"EARLY",IF(AL32>N($AJ32+7),"LATE","")),"") -> EARLY | AN32: =IF(OR(S32<>"",V32<>"",Y32<>"",AB32<>"",AH32<>"",AM32<>""),"CHECK","") -> CHECK
B33: OR | C33: 14206950 | D33: Fanno Creek at Durham, OR | F33: NO | I33: rotate2 | J33: Urban | K33: 3 | L33: 2013 | M33: A | N33: Riffle | O33: 41866 | P33: 41912 | Q33: 1 | S33: =IF(Q33>0,IF(R33<($O33-7),"EARLY",IF(R33>N($P33+7),"LATE","")),"") -> EARLY | T33: 0 | V33: =IF(T33>0,IF(U33<($O33-7),"EARLY",IF(U33>N($P33+7),"LATE","")),"") | W33: 1 | Y33: =IF(W33>0,IF(X33<($O33-7),"EARLY",IF(X33>N($P33+7),"LATE","")),"") -> EARLY | Z33: 1 | AB33: =IF(Z33>0,IF(AA33<($O33-7),"EARLY",IF(AA33>N($P33+7),"LATE","")),"") -> EARLY | AC33: 41866 | AD33: 41912 | AE33: NO | AF33: 1 | AH33: =IF(AF33>0,IF(AG33<($AC33-7),"EARLY",IF(AG33>N($AD33+7),"LATE","")),"") -> EARLY | AI33: 41866 | AJ33: 41912 | AK33: 1 | AM33: =IF(AK33>0,IF(AL33<($AI33-7),"EARLY",IF(AL33>N($AJ33+7),"LATE","")),"") -> EARLY | AN33: =IF(OR(S33<>"",V33<>"",Y33<>"",AB33<>"",AH33<>"",AM33<>""),"CHECK","") -> CHECK
B34: OR | C34: 14205400 | D34: E Fork Dairy Creek near Meachan Corner, OR | F34: NO | I34: rotate4 | J34: Reference | K34: 3 | L34: 2013 | M34: A | N34: Riffle | O34: 41866 | P34: 41912 | Q34: 1 | S34: =IF(Q34>0,IF(R34<($O34-7),"EARLY",IF(R34>N($P34+7),"LATE","")),"") -> EARLY | T34: 0 | V34: =IF(T34>0,IF(U34<($O34-7),"EARLY",IF(U34>N($P34+7),"LATE","")),"") | W34: 1 | Y34: =IF(W34>0,IF(X34<($O34-7),"EARLY",IF(X34>N($P34+7),"LATE","")),"") -> EARLY | Z34: 1 | AB34: =IF(Z34>0,IF(AA34<($O34-7),"EARLY",IF(AA34>N($P34+7),"LATE","")),"") -> EARLY | AC34: 41866 | AD34: 41912 | AE34: NO | AF34: 1 | AH34: =IF(AF34>0,IF(AG34<($AC34-7),"EARLY",IF(AG34>N($AD34+7),"LATE","")),"") -> EARLY | AI34: 41866 | AJ34: 41912 | AK34: 1 | AM34: =IF(AK34>0,IF(AL34<($AI34-7),"EARLY",IF(AL34>N($AJ34+7),"LATE","")),"") -> EARLY | AN34: =IF(OR(S34<>"",V34<>"",Y34<>"",AB34<>"",AH34<>"",AM34<>""),"CHECK","") -> CHECK
B35: SC | C35: 02172300 | D35: McTier Creek near Monetta, SC | E35: Jeff Riley | F35: Yes | I35: rotate4 | J35: Reference | K35: 65 | L35: 2013 | M35: A | N35: Snag | O35: 41774 | P35: 41820 | Q35: 1 | S35: =IF(Q35>0,IF(R35<($O35-7),"EARLY",IF(R35>N($P35+7),"LATE","")),"") -> EARLY | T35: 0 | V35: =IF(T35>0,IF(U35<($O35-7),"EARLY",IF(U35>N($P35+7),"LATE","")),"") | W35: 1 | Y35: =IF(W35>0,IF(X35<($O35-7),"EARLY",IF(X35>N($P35+7),"LATE","")),"") -> EARLY | Z35: 1 | AB35: =IF(Z35>0,IF(AA35<($O35-7),"EARLY",IF(AA35>N($P35+7),"LATE","")),"") -> EARLY | AC35: 41883 | AD35: 41927 | AE35: Yes | AF35: 1 | AH35: =IF(AF35>0,IF(AG35<($AC35-7),"EARLY",IF(AG35>N($AD35+7),"LATE","")),"") -> EARLY | AI35: 41774 | AJ35: 41820 | AK35: 1 | AM35: =IF(AK35>0,IF(AL35<($AI35-7),"EARLY",IF(AL35>N($AJ35+7),"LATE","")),"") -> EARLY | AN35: =IF(OR(S35<>"",V35<>"",Y35<>"",AB35<>"",AH35<>"",AM35<>""),"CHECK","") -> CHECK
B36: TX | C36: 08057200 | D36: White Rock Creek at Dallas, TX | E36: Bruce Moring | F36: Yes | I36: rotate2 | J36: Urban | K36: 32 | L36: 2013 | M36: A | N36: Riffle | O36: 41821 | P36: 41866 | Q36: 1 | S36: =IF(Q36>0,IF(R36<($O36-7),"EARLY",IF(R36>N($P36+7),"LATE","")),"") -> EARLY | T36: 0 | V36: =IF(T36>0,IF(U36<($O36-7),"EARLY",IF(U36>N($P36+7),"LATE","")),"") | W36: 1 | Y36: =IF(W36>0,IF(X36<($O36-7),"EARLY",IF(X36>N($P36+7),"LATE","")),"") -> EARLY | Z36: 1 | AB36: =IF(Z36>0,IF(AA36<($O36-7),"EARLY",IF(AA36>N($P36+7),"LATE","")),"") -> EARLY | AC36: 41821 | AD36: 41866 | AE36: Yes | AF36: 1 | AH36: =IF(AF36>0,IF(AG36<($AC36-7),"EARLY",IF(AG36>N($AD36+7),"LATE","")),"") -> EARLY | AI36: 41821 | AJ36: 41866 | AK36: 1 | AM36: =IF(AK36>0,IF(AL36<($AI36-7),"EARLY",IF(AL36>N($AJ36+7),"LATE","")),"") -> EARLY | AN36: =IF(OR(S36<>"",V36<>"",Y36<>"",AB36<>"",AH36<>"",AM36<>""),"CHECK","") -> CHECK
B37: TX | C37: 08195000 | D37: Frio River at Concan, TX | F37: Yes | I37: eco_only | J37: Reference | K37: 30 | L37: 2013 | M37: B | N37: Riffle | O37: 41821 | P37: 41866 | Q37: 1 | S37: =IF(Q37>0,IF(R37<($O37-7),"EARLY",IF(R37>N($P37+7),"LATE","")),"") -> EARLY | T37: 0 | V37: =IF(T37>0,IF(U37<($O37-7),"EARLY",IF(U37>N($P37+7),"LATE","")),"") | W37: 1 | Y37: =IF(W37>0,IF(X37<($O37-7),"EARLY",IF(X37>N($P37+7),"LATE","")),"") -> EARLY | Z37: 1 | AB37: =IF(Z37>0,IF(AA37<($O37-7),"EARLY",IF(AA37>N($P37+7),"LATE","")),"") -> EARLY | AC37: 41821 | AD37: 41866 | AE37: Yes | AF37: 1 | AH37: =IF(AF37>0,IF(AG37<($AC37-7),"EARLY",IF(AG37>N($AD37+7),"LATE","")),"") -> EARLY | AI37: 41821 | AJ37: 41866 | AK37: 1 | AM37: =IF(AK37>0,IF(AL37<($AI37-7),"EARLY",IF(AL37>N($AJ37+7),"LATE","")),"") -> EARLY | AN37: =IF(OR(S37<>"",V37<>"",Y37<>"",AB37<>"",AH37<>"",AM37<>""),"CHECK","") -> CHECK
B38: UT | C38: 10168000 | D38: Little Cottonwood Creek at Salt Lake City, UT | E38: Anne Brasher | F38: NO | I38: rotate2 | J38: Urban | K38: 19 | L38: 2013 | M38: A | N38: Depositional | O38: 41835 | P38: 37864 | Q38: 1 | S38: =IF(Q38>0,IF(R38<($O38-7),"EARLY",IF(R38>N($P38+7),"LATE","")),"") -> EARLY | T38: 0 | V38: =IF(T38>0,IF(U38<($O38-7),"EARLY",IF(U38>N($P38+7),"LATE","")),"") | W38: 1 | Y38: =IF(W38>0,IF(X38<($O38-7),"EARLY",IF(X38>N($P38+7),"LATE","")),"") -> EARLY | Z38: 1 | AB38: =IF(Z38>0,IF(AA38<($O38-7),"EARLY",IF(AA38>N($P38+7),"LATE","")),"") -> EARLY | AC38: 41835 | AD38: 37864 | AE38: NO | AF38: 1 | AH38: =IF(AF38>0,IF(AG38<($AC38-7),"EARLY",IF(AG38>N($AD38+7),"LATE","")),"") -> EARLY | AI38: 41835 | AJ38: 37864 | AK38: 1 | AM38: =IF(AK38>0,IF(AL38<($AI38-7),"EARLY",IF(AL38>N($AJ38+7),"LATE","")),"") -> EARLY | AN38: =IF(OR(S38<>"",V38<>"",Y38<>"",AB38<>"",AH38<>"",AM38<>""),"CHECK","") -> CHECK
B39: UT | C39: 10172200 | D39: Red Butte Creek at Ft Douglas, UT | F39: NO | I39: rotate4 | J39: Reference | K39: 19 | L39: 2013 | M39: A | N39: Riffle | O39: 41835 | P39: 37864 | Q39: 1 | S39: =IF(Q39>0,IF(R39<($O39-7),"EARLY",IF(R39>N($P39+7),"LATE","")),"") -> EARLY | T39: 0 | V39: =IF(T39>0,IF(U39<($O39-7),"EARLY",IF(U39>N($P39+7),"LATE","")),"") | W39: 1 | Y39: =IF(W39>0,IF(X39<($O39-7),"EARLY",IF(X39>N($P39+7),"LATE","")),"") -> EARLY | Z39: 1 | AB39: =IF(Z39>0,IF(AA39<($O39-7),"EARLY",IF(AA39>N($P39+7),"LATE","")),"") -> EARLY | AE39: NO | AF39: 0 | AH39: =IF(AF39>0,IF(AG39<($AC39-7),"EARLY",IF(AG39>N($AD39+7),"LATE","")),"") | AI39: 41835 | AJ39: 37864 | AK39: 1 | AM39: =IF(AK39>0,IF(AL39<($AI39-7),"EARLY",IF(AL39>N($AJ39+7),"LATE","")),"") -> EARLY | AN39: =IF(OR(S39<>"",V39<>"",Y39<>"",AB39<>"",AH39<>"",AM39<>""),"CHECK","") -> CHECK | AO39: No fish collected at this site (only fish present are those stocked by the State).
B40: WA | C40: 12505450 | D40: Granger Drain at Granger, WA | E40: Bob Black | F40: Yes | I40: rotate4 | J40: Agricultural | K40: 10 | L40: 2013 | M40: A | N40: Riffle | O40: 41852 | P40: 41897 | Q40: 1 | S40: =IF(Q40>0,IF(R40<($O40-7),"EARLY",IF(R40>N($P40+7),"LATE","")),"") -> EARLY | T40: 0 | V40: =IF(T40>0,IF(U40<($O40-7),"EARLY",IF(U40>N($P40+7),"LATE","")),"") | W40: 1 | Y40: =IF(W40>0,IF(X40<($O40-7),"EARLY",IF(X40>N($P40+7),"LATE","")),"") -> EARLY | Z40: 1 | AB40: =IF(Z40>0,IF(AA40<($O40-7),"EARLY",IF(AA40>N($P40+7),"LATE","")),"") -> EARLY | AC40: 41852 | AD40: 41897 | AE40: Yes | AF40: 1 | AH40: =IF(AF40>0,IF(AG40<($AC40-7),"EARLY",IF(AG40>N($AD40+7),"LATE","")),"") -> EARLY | AI40: 41852 | AJ40: 41897 | AK40: 1 | AM40: =IF(AK40>0,IF(AL40<($AI40-7),"EARLY",IF(AL40>N($AJ40+7),"LATE","")),"") -> EARLY | AN40: =IF(OR(S40<>"",V40<>"",Y40<>"",AB40<>"",AH40<>"",AM40<>""),"CHECK","") -> CHECK
B41: WA | C41: 12056500 | D41: North Fork Skokomish River near Hdsprt, WA | F41: Yes | I41: eco_only | J41: Reference | K41: 1 | L41: 2013 | M41: A | N41: Riffle | O41: 41866 | P41: 41912 | Q41: 1 | S41: =IF(Q41>0,IF(R41<($O41-7),"EARLY",IF(R41>N($P41+7),"LATE","")),"") -> EARLY | T41: 0 | V41: =IF(T41>0,IF(U41<($O41-7),"EARLY",IF(U41>N($P41+7),"LATE","")),"") | W41: 1 | Y41: =IF(W41>0,IF(X41<($O41-7),"EARLY",IF(X41>N($P41+7),"LATE","")),"") -> EARLY | Z41: 1 | AB41: =IF(Z41>0,IF(AA41<($O41-7),"EARLY",IF(AA41>N($P41+7),"LATE","")),"") -> EARLY | AE41: Yes | AF41: 0 | AH41: =IF(AF41>0,IF(AG41<($AC41-7),"EARLY",IF(AG41>N($AD41+7),"LATE","")),"") | AI41: 41866 | AJ41: 41912 | AK41: 1 | AM41: =IF(AK41>0,IF(AL41<($AI41-7),"EARLY",IF(AL41>N($AJ41+7),"LATE","")),"") -> EARLY | AN41: =IF(OR(S41<>"",V41<>"",Y41<>"",AB41<>"",AH41<>"",AM41<>""),"CHECK","") -> CHECK | AO41: No fish collected at this site
B42: WI | C42: 04063700 | D42: Popple River near Fence, WI | E42: Barb Eikenberry | F42: Yes | I42: rotate4 | J42: Reference | K42: 50 | L42: 2013 | M42: A | N42: Riffle | O42: 41866 | P42: 41912 | Q42: 1 | S42: =IF(Q42>0,IF(R42<($O42-7),"EARLY",IF(R42>N($P42+7),"LATE","")),"") -> EARLY | T42: 0 | V42: =IF(T42>0,IF(U42<($O42-7),"EARLY",IF(U42>N($P42+7),"LATE","")),"") | W42: 1 | Y42: =IF(W42>0,IF(X42<($O42-7),"EARLY",IF(X42>N($P42+7),"LATE","")),"") -> EARLY | Z42: 1 | AB42: =IF(Z42>0,IF(AA42<($O42-7),"EARLY",IF(AA42>N($P42+7),"LATE","")),"") -> EARLY | AC42: 41852 | AD42: 41897 | AE42: Yes | AF42: 1 | AH42: =IF(AF42>0,IF(AG42<($AC42-7),"EARLY",IF(AG42>N($AD42+7),"LATE","")),"") -> EARLY | AI42: 41866 | AJ42: 41912 | AK42: 1 | AM42: =IF(AK42>0,IF(AL42<($AI42-7),"EARLY",IF(AL42>N($AJ42+7),"LATE","")),"") -> EARLY | AN42: =IF(OR(S42<>"",V42<>"",Y42<>"",AB42<>"",AH42<>"",AM42<>""),"CHECK","") -> CHECK
B43: WY | C43: 06324970 | D43: Little Powder River near Weston, WY | E43: Peter Wright | F43: Yes | I43: rotate4 | J43: Reference | K43: 43 | L43: 2013 | M43: A | N43: Riffle | O43: 41821 | P43: 41866 | Q43: 1 | S43: =IF(Q43>0,IF(R43<($O43-7),"EARLY",IF(R43>N($P43+7),"LATE","")),"") -> EARLY | T43: 0 | V43: =IF(T43>0,IF(U43<($O43-7),"EARLY",IF(U43>N($P43+7),"LATE","")),"") | W43: 1 | Y43: =IF(W43>0,IF(X43<($O43-7),"EARLY",IF(X43>N($P43+7),"LATE","")),"") -> EARLY | Z43: 1 | AB43: =IF(Z43>0,IF(AA43<($O43-7),"EARLY",IF(AA43>N($P43+7),"LATE","")),"") -> EARLY | AC43: 41821 | AD43: 41866 | AE43: Yes | AF43: 1 | AH43: =IF(AF43>0,IF(AG43<($AC43-7),"EARLY",IF(AG43>N($AD43+7),"LATE","")),"") -> EARLY | AI43: 41821 | AJ43: 41866 | AK43: 1 | AM43: =IF(AK43>0,IF(AL43<($AI43-7),"EARLY",IF(AL43>N($AJ43+7),"LATE","")),"") -> EARLY | AN43: =IF(OR(S43<>"",V43<>"",Y43<>"",AB43<>"",AH43<>"",AM43<>""),"CHECK","") -> CHECK | AO43: Peter Wright called 7/11/2013 Site has had extreme flows +500 CFS (normally ~3 CFS) 3 weeks ago, has had several high flows (+100 CFS) since. Field crew maynot be available if wait for site to go down until after IP. AHB: if site is sampled within 2 weeks of IP, not a problem.
J45: total counts | Q45: =SUM(Q5:Q43) -> 39 | T45: =SUM(T5:T43) -> 0 | W45: =SUM(W5:W43) -> 39 | Z45: =SUM(Z5:Z43) -> 39 | AF45: =SUM(AF5:AF43) -> 37 | AK45: =SUM(AK5:AK43) -> 39

Sheet WY2013 NFSN Chem Sampling
A1: Last update | B1: Science Center (SC) Collecting Samples | C1: WY | D1: collected QC samples updated as of 8/1/13 | F1: Cycle 2 Site Type | G1: Cycle 3 Site Type | H1: Cycle 3 Program | I1: Daily Streamflow | K1: Continuous QW monitoring | N1: Suspended Sediment (conc. + sand/fine) | R1: Major Ions (schedules 998/1201) | V1: Major Ions blanks (schedule 1674) | X1: Nutrients (schedules 2430/2431/2432) | AB1: Nutrient blanks (SH 452- IBW) | AD1: Nutrient blanks (SH 1675 - OBW) | AF1: uv 412nm blanks (LC8096 - OBW) | AH1: Dissolved Inorganic Carbon blanks (LC8097 - OBW or IBW) | AJ1: Pesticides (schedule 2437) | AR1: Isotope samples (Ty Coplen) | AT1: DOC fractionation samples (George Aiken) | AV1: DNA samples (Byron Crump) | AX1: Comments | AY1: Sampling Comments
D2: Primary STAID | E2: Site name | I2: Gage? | J2: Gross annual NAWQA cost | K2: Parameters | L2: Type | M2: Annual NAWQA cost | N2: Planned | O2: Collected | P2: Planned reps | Q2: Collected reps | R2: Planned (plus alkalinity) | S2: Collected (plus alkalinity) | T2: Planned reps | U2: Collected reps | V2: Planned blanks | W2: Collected blanks | X2: Planned | Y2: Collected | Z2: Planned reps | AA2: Collected reps | AB2: Planned blanks | AC2: Collected blanks | AD2: Planned blanks | AE2: Collected blanks | AF2: Planned blanks | AG2: Collected blanks | AH2: Planned blanks | AI2: Collected blanks | AJ2: Planned | AK2: Collected | AL2: Planned blanks | AM2: Collected blanks | AN2: Planned reps | AO2: Collected reps | AP2: Planned spikes | AQ2: Collected spikes | AR2: Planned | AS2: Collected | AT2: Planned | AU2: Collected | AV2: Planned | AW2: Collected | AX2: Comments | AY2: Comments
B5: AL | C5: 2013 | D5: 02470500 | E5: Mobile River at Mt. Vernon, AL | F5: NASQAN | G5: Large River | H5: NASQAN | I5: yes | N5: 14 | P5: 1 | Q5: 1 | R5: 14 | T5: 1 | U5: 1 | V5: 1 | W5: 1 | X5: 14 | Z5: 1 | AA5: 1 | AB5: 1 | AC5: 1 | AD5: 1 | AE5: 1 | AF5: 1 | AG5: 1 | AH5: 1 | AI5: 1 | AJ5: 14 | AL5: 1 | AM5: 1 | AN5: 1 | AO5: 1 | AP5: 1 | AQ5: 1 | AR5: 14 | AV5: 14
B6: AL | C6: 2013 | D6: 02469762 | E6: Tombigbee River near Coffeeville, AL | F6: rotate4 | G6: Large River | H6: NAWQA | I6: yes | N6: 18 | P6: 1 | R6: 18 | T6: 1 | U6: 1 | V6: 1 | W6: 1 | X6: 18 | Z6: 1 | AA6: 1 | AB6: 1 | AC6: 1 | AD6: 1 | AE6: 1 | AF6: 1 | AG6: 1 | AH6: 1 | AI6: 1 | AJ6: 18 | AL6: 1 | AM6: 1 | AN6: 1 | AO6: 1 | AP6: 1 | AQ6: 1
B7: AL | E7: WSC sum | N7: =SUM(N5:N6) -> 32 | O7: =SUM(O5:O6) -> 0 | P7: =SUM(P5:P6) -> 2 | Q7: =SUM(Q5:Q6) -> 1 | R7: =SUM(R5:R6) -> 32 | S7: =SUM(S5:S6) -> 0 | T7: =SUM(T5:T6) -> 2 | U7: =SUM(U5:U6) -> 2 | ... AW7: =SUM(AW5:AW6) -> 0
B9: AK | C9: 2013 | D9: 15565447 | E9: Yukon River at Pilot Station, AK | F9: NASQAN | G9: Large River | H9: NASQAN | I9: yes | N9: 7 | P9: 1 | R9: 7 | T9: 1 | U9: 1 | V9: 0 | X9: 7 | Z9: 1 | AA9: 2 | AB9: 0 | AD9: 0 | AF9: 0 | AH9: 0 | AJ9: 3 | AO9: 1 | AP9: 1 | AR9: 7 | AV9: 7
B10: AK | E10: WSC sum | N10: =SUM(N8:N9) -> 7 | O10: =SUM(O8:O9) -> 0 | P10: =SUM(P8:P9) -> 1 | Q10: =SUM(Q8:Q9) -> 0 | R10: =SUM(R8:R9) -> 7 | S10: =SUM(S8:S9) -> 0 | T10: =SUM(T8:T9) -> 1 | U10: =SUM(U8:U9) -> 1 | ... AW10: =SUM(AW8:AW9) -> 0
B12: AZ | C12: 2013 | D12: 09380000 | E12: Colorado River at Lees Ferry, AZ | F12: N/A | G12: Large River | H12: NAWQA | I12: yes | K12: YES-COOP | N12: 14 | P12: 1 | R12: 14 | T12: 1 | U12: 1 | V12: 1 | W12: 1 | X12: 14 | Z12: 1 | AA12: 1 | AB12: 1 | AC12: 1 | AD12: 1 | AE12: 1 | AF12: 1 | AG12: 1 | AH12: 1 | AI12: 1 | AJ12: 14 | AL12: 1 | AM12: 1 | AN12: 1 | AO12: 1 | AP12: 1 | AQ12: 1 | AX12: agreed to fund cgc email 20120910
B13: AZ | C13: 2013 | D13: 09522000 | E13: Colorado River at NIB | F13: NASQAN | G13: Large River | H13: NASQAN | I13: yes | N13: 12 | P13: 1 | Q13: 1 | R13: 12 | T13: 1 | U13: 1 | V13: 1 | W13: 1 | X13: 12 | Z13: 1 | AA13: 1 | AB13: 1 | AC13: 1 | AD13: 1 | AE13: 1 | AF13: 1 | AG13: 1 | AH13: 1 | AI13: 1 | AJ13: 12 | AL13: 1 | AM13: 1 | AN13: 1 | AO13: 1 | AP13: 1 | AQ13: 1 | AR13: 12 | AV13: 12
B14: AZ | C14: 2013 | D14: 09471000 | E14: San Pedro River at Charleston, AZ | F14: rotate4 | G14: Reference | H14: NAWQA | I14: yes | N14: 6 | P14: 1 | R14: 6 | T14: 0 | V14: 1 | W14: 1 | X14: 6 | Z14: 0 | AA14: 1 | AB14: 1 | AC14: 1 | AD14: 1 | AE14: 1 | AF14: 1 | AG14: 1 | AH14: 1 | AI14: 1 | AJ14: 0
B15: AZ | C15: 2013 | D15: 09505800 | E15: West Clear Creek near Camp Verde, AZ | F15: rotate4 | G15: Reference | H15: NAWQA | I15: yes | N15: 6 | P15: 1 | Q15: 1 | R15: 6 | T15: 1 | U15: 1 | V15: 0 | X15: 6 | Z15: 1 | AA15: 1 | AB15: 0 | AD15: 0 | AF15: 0 | AH15: 0 | AJ15: 0
B16: AZ | E16: WSC sum | N16: =SUM(N12:N15) -> 38 | O16: =SUM(O12:O15) -> 0 | P16: =SUM(P12:P15) -> 4 | Q16: =SUM(Q12:Q15) -> 2 | R16: =SUM(R12:R15) -> 38 | S16: =SUM(S12:S15) -> 0 | T16: =SUM(T12:T15) -> 3 | U16: =SUM(U12:U15) -> 3 | ... AW16: =SUM(AW12:AW15) -> 0
B18: AR | C18: 2013 | D18: 07263620 | E18: Arkansas River at Terry L&D below Little Rock, AR | F18: NASQAN | G18: Large River | H18: NASQAN | I18: yes | J18: 5510 | N18: 14 | P18: 1 | R18: 14 | T18: 1 | U18: 1 | V18: 1 | W18: 1 | X18: 14 | Z18: 1 | AA18: 1 | AB18: 1 | AC18: 1 | AD18: 1 | AF18: 1 | AH18: 1 | AJ18: 14 | AL18: 1 | AM18: 1 | AN18: 1 | AO18: 1 | AP18: 1 | AR18: 14 | AV18: 14
B19: AR | C19: 2013 | D19: 07055646 | E19: Buffalo River near Boxley, AR | F19: rotate4 | G19: Reference | H19: NAWQA | I19: yes | N19: 6 | P19: 1 | R19: 6 | T19: 0 | V19: 1 | X19: 6 | Z19: 0 | AB19: 1 | AC19: 2 | AD19: 1 | AE19: 1 | AF19: 1 | AG19: 1 | AH19: 1 | AJ19: 0
B20: AR | C20: 2013 | D20: 07060710 | E20: North Sylamore Creek near Fifty Six, AR | F20: rotate4/HBN | G20: Reference | H20: NAWQA | I20: yes | N20: 6 | P20: 1 | R20: 6 | T20: 1 | V20: 0 | X20: 6 | Z20: 1 | AB20: 0 | AC20: 1 | AD20: 0 | AE20: 1 | AF20: 0 | AG20: 1 | AH20: 0 | AI20: 1 | AJ20: 0
B21: AR | E21: WSC sum | N21: =SUM(N18:N20) -> 26 | O21: =SUM(O18:O20) -> 0 | P21: =SUM(P18:P20) -> 3 | Q21: =SUM(Q18:Q20) -> 0 | R21: =SUM(R18:R20) -> 26 | S21: =SUM(S18:S20) -> 0 | T21: =SUM(T18:T20) -> 2 | U21: =SUM(U18:U20) -> 1 | ... AW21: =SUM(AW18:AW20) -> 0
B23: CA | C23: 2013 | D23: 11335000 | E23: Cosumnes River at Michigan Bar, CA | F23: eco_only | G23: Reference | H23: NAWQA | I23: yes | N23: 6 | P23: 1 | R23: 6 | T23: 1 | V23: 1 | W23: 1 | X23: 6 | Z23: 1 | AB23: 1 | AC23: 1 | AD23: 1 | AE23: 1 | AJ23: 0
B24: CA | C24: 2013 | D24: 11274538 | E24: Orestimba Creek near Crows Landing, CA | F24: rotate4 | G24: Agriculture | H24: NAWQA | I24: yes | J24: 22600 | K24: YES-COOP | N24: 24 | P24: 1 | R24: 24 | T24: 1 | V24: 1 | X24: 24 | Z24: 2 | AB24: 2 | AD24: 2 | AF24: 2 | AH24: 2 | AJ24: 24 | AL24: 1 | AN24: 1 | AP24: 1
B25: CA | C25: 2013 | D25: 11447650 | E25: Sacramento River a Freeport, CA | F25: rotate4/NASQAN | G25: Large River | H25: NAWQA | I25: yes | K25: YES-COOP | N25: 14 | P25: 1 | R25: 14 | T25: 1 | V25: 1 | X25: 14 | Z25: 1 | AB25: 1 | AD25: 1 | AF25: 1 | AH25: 1 | AJ25: 14 | AL25: 1 | AN25: 1 | AP25: 1 | AR25: 14 | AV25: 14
B26: CA | C26: 2013 | D26: 11303500 | E26: San Joaquin River near Vernalis, CA | F26: agcore | G26: Large River | H26: NAWQA | I26: yes | N26: 18 | P26: 1 | R26: 18 | T26: 1 | V26: 1 | X26: 18 | Z26: 1 | AB26: 1 | AD26: 1 | AF26: 1 | AH26: 1 | AJ26: 18 | AL26: 1 | AN26: 1 | AP26: 1 | AQ26: 1 | AV26: 14
B27: CA | C27: 2013 | D27: 11049400 | E27: Santa Ana River above Seven Oaks Dam, CA | F27: eco_only | G27: Reference | H27: NAWQA | I27: no | N27: 6 | P27: 1 | R27: 6 | T27: 0 | V27: 1 | X27: 6 | Z27: 0 | AB27: 1 | AD27: 1 | AE27: 1 | AF27: 1 | AG27: 1 | AH27: 1 | AI27: 1 | AJ27: 0
B28: CA | C28: 2013 | D28: 11074000 | E28: Santa Ana River below Prado Dam, CA | F28: urbcore | G28: Large River | H28: NAWQA | I28: yes | N28: 18 | P28: 1 | R28: 18 | T28: 1 | U28: 1 | V28: 1 | W28: 1 | X28: 18 | Z28: 1 | AA28: 1 | AB28: 1 | AC28: 1 | AD28: 1 | AE28: 1 | AF28: 1 | AG28: 1 | AH28: 1 | AI28: 1 | AJ28: 18 | AL28: 1 | AM28: 1 | AN28: 1 | AO28: 1 | AP28: 1 | AQ28: 1
B29: CA | E29: WSC sum | N29: =SUM(N23:N28) -> 86 | O29: =SUM(O23:O28) -> 0 | P29: =SUM(P23:P28) -> 6 | Q29: =SUM(Q23:Q28) -> 0 | R29: =SUM(R23:R28) -> 86 | S29: =SUM(S23:S28) -> 0 | T29: =SUM(T23:T28) -> 5 | U29: =SUM(U23:U28) -> 1 | ... AW29: =SUM(AW23:AW28) -> 0
B31: CO | C31: 2013 | D31: 06713500 | E31: Cherry Creek at Denver, CO | F31: rotate2 | G31: Urban | H31: NAWQA | I31: yes | N31: 24 | P31: 1 | R31: 24 | T31: 1 | U31: 1 | V31: 1 | X31: 24 | Z31: 2 | AA31: 1 | AB31: 2 | AC31: 1 | AD31: 2 | AE31: 1 | AF31: 2 | AH31: 2 | AI31: 1 | AJ31: 24 | AL31: 1 | AN31: 1 | AO31: 1 | AP31: 1 | AQ31: 1
B32: CO | C32: 2013 | D32: 09163500 | E32: Colorado River near Colorado-Utah state line | F32: rotate4 | G32: Large River | H32: NAWQA | I32: yes | K32: YES-COOP | N32: 18 | P32: 1 | R32: 18 | T32: 1 | U32: 1 | V32: 1 | W32: 1 | X32: 18 | Z32: 1 | AA32: 1 | AB32: 1 | AC32: 1 | AD32: 1 | AF32: 1 | AH32: 1 | AI32: 1 | AJ32: 18 | AL32: 1 | AN32: 1 | AP32: 1 | AQ32: 1
B33: CO | C33: 2013 | D33: 06754000 | E33: South Platte River near Kersey, CO | F33: rotate4 | G33: Large River | H33: NAWQA | I33: yes | N33: 18 | P33: 1 | R33: 18 | T33: 1 | V33: 1 | W33: 1 | X33: 18 | Z33: 1 | AB33: 1 | AC33: 1 | AD33: 1 | AE33: 1 | AF33: 1 | AG33: 1 | AH33: 1 | AI33: 1 | AJ33: 18 | AL33: 1 | AN33: 1 | AO33: 1 | AP33: 1
B34: CO | E34: WSC sum | N34: =SUM(N31:N33) -> 60 | O34: =SUM(O31:O33) -> 0 | P34: =SUM(P31:P33) -> 3 | Q34: =SUM(Q31:Q33) -> 0 | R34: =SUM(R31:R33) -> 60 | S34: =SUM(S31:S33) -> 0 | T34: =SUM(T31:T33) -> 3 | U34: =SUM(U31:U33) -> 2 | ... AW34: =SUM(AW31:AW33) -> 0
B36: CT | C36: 2013 | D36: 01184000 | E36: Connecticut River at Thompsonville, CT | F36: rotate4 | G36: Large River | H36: NAWQA | I36: yes | N36: 18 | P36: 1 | R36: 18 | T36: 1 | V36: 1 | X36: 18 | Z36: 1 | AB36: 1 | AD36: 1 | AF36: 1 | AH36: 1 | AJ36: 18 | AL36: 1 | AN36: 1 | AP36: 1
B37: CT | C37: 2013 | D37: 01170100 | E37: Green River near Colrain, MA | F37: rotate4 | G37: Reference | H37: NAWQA | I37: yes | N37: 6 | P37: 1 | R37: 6 | T37: 1 | V37: 0 | X37: 6 | Z37: 1 | AB37: 0 | AD37: 0 | AF37: 0 | AH37: 0 | AJ37: 0
B38: CT | C38: 2013 | D38: 01209710 | E38: Norwalk River at Winnipauk,CT | F38: rotate4 | G38: Urban | H38: NAWQA | I38: yes | N38: 24 | P38: 1 | R38: 24 | T38: 1 | V38: 1 | X38: 24 | Z38: 2 | AB38: 2 | AD38: 2 | AF38: 2 | AH38: 2 | AJ38: 24 | AL38: 1 | AN38: 1 | AP38: 1
B39: CT | E39: WSC sum | N39: =SUM(N36:N38) -> 48 | O39: =SUM(O36:O38) -> 0 | P39: =SUM(P36:P38) -> 3 | Q39: =SUM(Q36:Q38) -> 0 | R39: =SUM(R36:R38) -> 48 | S39: =SUM(S36:S38) -> 0 | T39: =SUM(T36:T38) -> 3 | U39: =SUM(U36:U38) -> 0 | ... AW39: =SUM(AW36:AW38) -> 0
B41: FL | C41: 2013 | D41: 02359170 | E41: Apalachicola River near Sumatra, FL | F41: NMN | G41: Large River | H41: NMN | I41: yes | N41: 14 | P41: 1 | Q41: 1 | R41: 14 | T41: 1 | U41: 1 | V41: 1 | X41: 14 | Z41: 1 | AA41: 1 | AB41: 1 | AD41: 1 | AF41: 1 | AH41: 1 | AJ41: 14 | AL41: 1 | AN41: 1 | AO41: 1 | AP41: 1 | AQ41: 1 | AR41: 14 | AV41: 14
B42: FL | E42: WSC sum | N42: =SUM(N41) -> 14 | O42: =SUM(O40:O41) -> 0 | P42: =SUM(P40:P41) -> 1 | Q42: =SUM(Q40:Q41) -> 1 | R42: =SUM(R40:R41) -> 14 | S42: =SUM(S40:S41) -> 0 | T42: =SUM(T40:T41) -> 1 | U42: =SUM(U40:U41) -> 1 | V42: =SUM(V40:V41) -> 1 | ... AW42: =SUM(AW40:AW41) -> 0
B44: GA | C44: 2013 | D44: 02226160 | E44: Altamaha River at Everett City, GA | F44: NASQAN | G44: Large River | H44: NASQAN | I44: yes | J44: 24250 | N44: 14 | P44: 1 | Q44: 1 | R44: 14 | T44: 1 | U44: 1 | V44: 1 | X44: 14 | Z44: 1 | AA44: 1 | AB44: 1 | AD44: 1 | AE44: 1 | AF44: 1 | AG44: 1 | AH44: 1 | AI44: 1 | AJ44: 14 | AL44: 1 | AN44: 1 | AO44: 1 | AP44: 1 | AQ44: 1 | AR44: 14 | AV44: 14
B45: GA | C45: 2013 | D45: 02338523 | E45: Hillibahatchee Creek near Franklin, GA | F45: rotate4 | G45: Reference | H45: NAWQA | I45: yes | J45: 15315 | N45: 6 | P45: 1 | R45: 6 | T45: 0 | V45: 1 | W45: 1 | X45: 6 | Z45: 0 | AB45: 1 | AC45: 1 | AD45: 1 | AF45: 1 | AH45: 1 | AJ45: 0
B46: GA | C46: 2013 | D46: 02335870 | E46: Sope Creek near Marietta, GA | F46: rotate2 | G46: Urban | H46: NAWQA | I46: yes | N46: 24 | P46: 1 | Q46: 1 | R46: 24 | T46: 1 | U46: 1 | V46: 1 | W46: 1 | X46: 24 | Z46: 2 | AA46: 2 | AB46: 2 | AC46: 2 | AD46: 2 | AE46: 1 | AF46: 2 | AG46: 2 | AH46: 2 | AI46: 2 | AJ46: 24 | AL46: 1 | AM46: 1 | AN46: 1 | AP46: 1 | AQ46: 1
B47: GA | E47: WSC sum | N47: =SUM(N44:N46) -> 44 | O47: =SUM(O44:O46) -> 0 | P47: =SUM(P44:P46) -> 3 | Q47: =SUM(Q44:Q46) -> 2 | R47: =SUM(R44:R46) -> 44 | S47: =SUM(S44:S46) -> 0 | T47: =SUM(T44:T46) -> 2 | U47: =SUM(U44:U46) -> 2 | ... AW47: =SUM(AW44:AW46) -> 0
B49: ID | C49: 2013 | D49: 13092747 | E49: Rock Creek at Twin Falls, ID | F49: rotate4 | G49: Agriculture | H49: NAWQA | I49: yes | J49: 16955 | N49: 24 | P49: 1 | R49: 24 | T49: 1 | U49: 1 | V49: 1 | W49: 1 | X49: 24 | Z49: 2 | AA49: 1 | AB49: 2 | AC49: 1 | AD49: 2 | AF49: 2 | AH49: 2 | AJ49: 24 | AL49: 1 | AN49: 1 | AO49: 1 | AP49: 1 | AQ49: 1
B50: ID | C50: 2013 | D50: 13154500 | E50: Snake River at King Hill, ID | F50: rotate4 | G50: Large River | H50: NAWQA | I50: yes | J50: 16955 | N50: 14 | P50: 1 | R50: 14 | T50: 1 | U50: 1 | V50: 1 | W50: 1 | X50: 14 | Z50: 1 | AA50: 1 | AB50: 1 | AC50: 1 | AD50: 1 | AE50: 1 | AF50: 1 | AG50: 1 | AH50: 1 | AI50: 1 | AJ50: 14 | AL50: 1 | AM50: 1 | AN50: 1 | AO50: 1 | AP50: 1 | AQ50: 1
B51: ID | E51: WSC sum | N51: =SUM(N49:N50) -> 38 | O51: =SUM(O49:O50) -> 0 | P51: =SUM(P49:P50) -> 2 | Q51: =SUM(Q49:Q50) -> 0 | R51: =SUM(R49:R50) -> 38 | S51: =SUM(S49:S50) -> 0 | T51: =SUM(T49:T50) -> 2 | U51: =SUM(U49:U50) -> 2 | ... AW51: =SUM(AW49:AW50) -> 0
B53: IL | C53: 2013 | D53: 05586100 | E53: Illinois River at Valley City, IL | F53: rotate 4/NASQAN | G53: Large River | H53: NAWQA | I53: yes | K53: YES-COOP | N53: 14 | P53: 1 | R53: 14 | T53: 1 | U53: 1 | V53: 1 | X53: 14 | Z53: 1 | AA53: 1 | AB53: 1 | AD53: 1 | AE53: 1 | AF53: 1 | AG53: 1 | AH53: 1 | AI53: 1 | AJ53: 14 | AL53: 1 | AN53: 1 | AO53: 1 | AP53: 1 | AQ53: 1 | AR53: 14 | AV53: 14
B54: IL | E54: WSC sum | N54: =SUM(N53) -> 14 | O54: =SUM(O53) -> 0 | P54: =SUM(P53) -> 1 | Q54: =SUM(Q53) -> 0 | R54: =SUM(R53) -> 14 | S54: =SUM(S53) -> 0 | T54: =SUM(T53) -> 1 | U54: =SUM(U53) -> 1 | ... AW54: =SUM(AW53) -> 0
B56: IN | C56: 2013 | D56: 394340085524601 | E56: Sugar Creek at New Palestine, IN | F56: rotate2 | G56: Agriculture | H56: NAWQA | I56: yes | J56: 10272 | N56: 24 | P56: 1 | R56: 24 | T56: 1 | U56: 1 | V56: 1 | W56: 1 | X56: 24 | Z56: 2 | AA56: 1 | AB56: 2 | AC56: 2 | AD56: 2 | AE56: 1 | AF56: 2 | AG56: 1 | AH56: 2 | AI56: 1 | AJ56: 24 | AL56: 1 | AN56: 1 | AO56: 1 | AP56: 1
B57: IN | C57: 2013 | D57: 03374100 | E57: White River at Hazleton, IN | F57: agcore/NASQAN | G57: Large River | H57: NAWQA | I57: yes | K57: YES-COOP | N57: 18 | P57: 1 | R57: 18 | T57: 1 | U57: 1 | V57: 1 | X57: 18 | Z57: 1 | AA57: 1 | AB57: 1 | AD57: 1 | AE57: 1 | AF57: 1 | AG57: 1 | AH57: 1 | AI57: 1 | AJ57: 18 | AL57: 1 | AM57: 1 | AN57: 1 | AO57: 1 | AP57: 1 | AR57: 18 | AV57: 18
B58: IN | E58: WSC sum | N58: =SUM(N56:N57) -> 42 | O58: =SUM(O56:O57) -> 0 | P58: =SUM(P56:P57) -> 2 | Q58: =SUM(Q56:Q57) -> 0 | R58: =SUM(R56:R57) -> 42 | S58: =SUM(S56:S57) -> 0 | T58: =SUM(T56:T57) -> 2 | U58: =SUM(U56:U57) -> 2 | ... AW58: =SUM(AW56:AW57) -> 0
B60: IA | C60: 2013 | D60: 05420500 | E60: Mississippi River at Clinton, IA | F60: NASQAN | G60: Large River | H60: NASQAN | I60: yes | N60: 14 | P60: 1 | Q60: 1 | R60: 14 | T60: 1 | U60: 1 | V60: 1 | X60: 14 | Z60: 1 | AA60: 1 | AB60: 1 | AD60: 1 | AF60: 1 | AH60: 1 | AJ60: 14 | AL60: 1 | AN60: 1 | AO60: 1 | AP60: 1 | AR60: 14 | AV60: 14
B61: IA | C61: 2013 | D61: 06610000 | E61: Missouri River at Omaha, NE | F61: NASQAN | G61: Large River | H61: NASQAN | N61: 14 | P61: 1 | R61: 14 | T61: 1 | U61: 1 | V61: 1 | X61: 14 | Z61: 1 | AA61: 1 | AB61: 1 | AD61: 1 | AE61: 1 | AF61: 1 | AG61: 1 | AH61: 1 | AJ61: 14 | AL61: 1 | AM61: 1 | AN61: 1 | AO61: 1 | AP61: 1 | AR61: 14 | AV61: 14
B62: IA | C62: 2013 | D62: 05490500 | E62: Des Moines River at Keosauqua, IA | F62: agcore | G62: Large River | H62: NASQAN | I62: yes | N62: 14 | P62: 1 | Q62: 2 | R62: 14 | T62: 1 | V62: 1 | X62: 14 | Z62: 1 | AB62: 1 | AD62: 1 | AF62: 1 | AH62: 1 | AJ62: 14 | AL62: 1 | AN62: 1 | AP62: 1 | AQ62: 1 | AR62: 14 | AV62: 14
B63: IA | C63: 2013 | D63: 05465500 | E63: Iowa River at Wapello, IA | F63: agcore | G63: Large River | H63: NASQAN | I63: yes | N63: 14 | P63: 1 | Q63: 2 | R63: 14 | T63: 1 | V63: 1 | X63: 14 | Z63: 1 | AB63: 1 | AD63: 1 | AF63: 1 | AH63: 1 | AJ63: 14 | AL63: 1 | AN63: 1 | AP63: 1 | AR63: 14 | AV63: 14
B64: IA | C64: 2013 | D64: 05451210 | E64: South Fork Iowa River near New Providence, IA | F64: rotate2 | G64: Agriculture | H64: NAWQA | I64: yes | J64: 15090 | K64: YES-COOP | N64: 24 | P64: 1 | R64: 24 | T64: 1 | V64: 1 | W64: 1 | X64: 24 | Z64: 2 | AB64: 2 | AC64: 1 | AD64: 2 | AE64: 1 | AF64: 2 | AG64: 1 | AH64: 2 | AI64: 1 | AJ64: 24 | AL64: 1 | AN64: 1 | AP64: 1
B65: IA | E65: WSC sum | N65: =SUM(N60:N64) -> 80 | O65: =SUM(O60:O64) -> 0 | P65: =SUM(P60:P64) -> 5 | Q65: =SUM(Q60:Q64) -> 5 | R65: =SUM(R60:R64) -> 80 | S65: =SUM(S60:S64) -> 0 | T65: =SUM(T60:T64) -> 5 | U65: =SUM(U60:U64) -> 2 | ... AW65: =SUM(AW60:AW64) -> 0
B67: KS | C67: 2013 | D67: 06892350 | E67: Kansas River at DeSoto, KS | F67: N/A | G67: Large River | H67: NAWQA | I67: yes | K67: YES-COOP | N67: 14 | P67: 1 | R67: 14 | T67: 1 | U67: 1 | V67: 1 | X67: 14 | Z67: 1 | AA67: 1 | AB67: 1 | AD67: 1 | AF67: 1 | AH67: 1 | AJ67: 14 | AL67: 1 | AN67: 1 | AO67: 1 | AP67: 1 | AX67: agreed to fund cgc email 20120910
B68: KS | C68: 2013 | D68: 07144100 | E68: Lower Arkansas River near Sedgwick, KS | F68: N/A | G68: Large River | H68: NAWQA | I68: yes | K68: YES-COOP | N68: 18 | P68: 1 | R68: 18 | T68: 1 | U68: 1 | V68: 1 | W68: 1 | X68: 18 | Z68: 1 | AA68: 1 | AB68: 1 | AC68: 1 | AD68: 1 | AF68: 1 | AH68: 1 | AI68: 1 | AJ68: 18 | AL68: 1 | AN68: 1 | AO68: 1 | AP68: 1 | AX68: agreed to fund cgc email 20120910
B69: KS | E69: WSC sum | N69: =SUM(N67:N68) -> 32 | O69: =SUM(O67:O68) -> 0 | P69: =SUM(P67:P68) -> 2 | Q69: =SUM(Q67:Q68) -> 0 | R69: =SUM(R67:R68) -> 32 | S69: =SUM(S67:S68) -> 0 | T69: =SUM(T67:T68) -> 2 | U69: =SUM(U67:U68) -> 2 | ... AW69: =SUM(AW67:AW68) -> 0
B71: KY | C71: 2013 | D71: 03303280 | E71: Ohio River at Cannelton Dam at Cannelton, IN | F71: NASQAN | G71: Large Inland River | H71: NASQAN | I71: yes | J71: 13500 | N71: 14 | P71: 1 | R71: 14 | T71: 1 | V71: 1 | W71: 1 | X71: 14 | Z71: 1 | AB71: 1 | AD71: 1 | AE71: 1 | AF71: 1 | AG71: 1 | AH71: 1 | AI71: 1 | AJ71: 14 | AL71: 1 | AM71: 1 | AN71: 1 | AO71: 1 | AP71: 1 | AR71: 14 | AV71: 14
B72: KY | C72: 2013 | D72: 03378500 | E72: Wabash River at New Harmony, IN | F72: NASQAN | G72: Large Inland River | H72: NASQAN | I72: yes | N72: 14 | P72: 1 | R72: 14 | T72: 1 | U72: 1 | V72: 1 | X72: 14 | Z72: 1 | AA72: 1 | AB72: 1 | AD72: 1 | AF72: 1 | AG72: 1 | AH72: 1 | AJ72: 14 | AL72: 1 | AM72: 1 | AN72: 1 | AO72: 1 | AP72: 1 | AR72: 14 | AV72: 14
B73: KY | C73: 2013 | D73: 03609750 | E73: Tennessee River at Highway 60 near Paducah, KY | F73: NASQAN | G73: Large Inland River | H73: NASQAN | I73: yes | J73: 13500 | N73: 14 | P73: 1 | R73: 14 | T73: 1 | U73: 1 | V73: 1 | W73: 1 | X73: 14 | Z73: 1 | AA73: 1 | AB73: 1 | AC73: 1 | AD73: 1 | AF73: 1 | AG73: 1 | AH73: 1 | AI73: 1 | AJ73: 14 | AL73: 1 | AM73: 1 | AN73: 1 | AO73: 1 | AP73: 1 | AR73: 14 | AV73: 14
B74: KY | C74: 2013 | D74: 03612500 | E74: Ohio River at Dam 53 near Grand Chain, IL | F74: NASQAN | G74: Large Inland River | H74: NASQAN | I74: yes | K74: YES | N74: 14 | P74: 1 | R74: 14 | T74: 1 | V74: 1 | X74: 14 | Z74: 1 | AA74: 1 | AB74: 1 | AC74: 1 | AD74: 1 | AE74: 1 | AF74: 1 | AG74: 1 | AH74: 1 | AI74: 1 | AJ74: 14 | AL74: 1 | AM74: 1 | AN74: 1 | AO74: 1 | AP74: 1 | AR74: 14 | AV74: 14
B75: KY | E75: WSC sum | N75: =SUM(N71:N74) -> 56 | O75: =SUM(O71:O74) -> 0 | P75: =SUM(P71:P74) -> 4 | Q75: =SUM(Q71:Q74) -> 0 | R75: =SUM(R71:R74) -> 56 | S75: =SUM(S71:S74) -> 0 | T75: =SUM(T71:T74) -> 4 | U75: =SUM(U71:U74) -> 2 | ... AW75: =SUM(AW71:AW74) -> 0
B77: LA | C77: 2013 | D77: 07373420 | E77: Mississippi River near St. Francisville, LA | F77: NASQAN | G77: Large River | H77: NASQAN | I77: yes | N77: 16 | P77: 1 | R77: 16 | T77: 1 | U77: 1 | V77: 1 | W77: 1 | X77: 16 | Z77: 1 | AA77: 1 | AB77: 1 | AC77: 1 | AD77: 1 | AE77: 1 | AF77: 1 | AG77: 1 | AH77: 1 | AI77: 1 | AJ77: 16 | AL77: 1 | AM77: 1 | AN77: 1 | AO77: 1 | AP77: 1 | AQ77: 1 | AR77: 14 | AV77: 14
B78: LA | C78: 2013 | D78: 07374000 | E78: Mississippi River at Baton Rouge, LA | F78: NASQAN | G78: Large River | H78: NASQAN | I78: yes | K78: YES | N78: 14 | P78: 1 | R78: 14 | T78: 1 | U78: 1 | V78: 1 | W78: 1 | X78: 14 | Z78: 1 | AA78: 1 | AB78: 1 | AC78: 1 | AD78: 1 | AE78: 1 | AF78: 1 | AG78: 1 | AH78: 1 | AI78: 1 | AJ78: 14 | AL78: 1 | AM78: 1 | AN78: 1 | AO78: 1 | AP78: 1 | AQ78: 1 | AR78: 14 | AV78: 14
B79: LA | C79: 2013 | D79: 07374525 | E79: Mississippi River at Belle Chasse, LA | F79: NASQAN | G79: Large River | H79: NASQAN | I79: yes | N79: 14 | P79: 1 | R79: 14 | T79: 1 | U79: 1 | V79: 1 | W79: 1 | X79: 14 | Z79: 1 | AA79: 1 | AB79: 1 | AC79: 1 | AD79: 1 | AE79: 1 | AF79: 1 | AG79: 1 | AH79: 1 | AI79: 1 | AJ79: 14 | AL79: 1 | AM79: 1 | AN79: 1 | AO79: 1 | AP79: 1 | AQ79: 1 | AR79: 14 | AV79: 14
B80: LA | C80: 2013 | D80: 07381495 | E80: Atchafalaya River at Melville, LA | F80: NASQAN | G80: Large River | H80: NASQAN | I80: yes | N80: 16 | P80: 1 | R80: 16 | T80: 1 | U80: 1 | V80: 1 | W80: 1 | X80: 16 | Z80: 1 | AA80: 1 | AB80: 1 | AC80: 1 | AD80: 1 | AE80: 1 | AF80: 1 | AG80: 1 | AH80: 1 | AI80: 1 | AJ80: 16 | AL80: 1 | AM80: 1 | AN80: 1 | AO80: 1 | AP80: 1 | AR80: 14 | AV80: 14
B81: LA | C81: 2013 | D81: 07381590 | E81: Wax Lake Outlet at Calumet, LA | F81: NASQAN | G81: Large River | H81: NASQAN | I81: yes | N81: 14 | P81: 1 | R81: 14 | T81: 1 | U81: 1 | V81: 1 | X81: 14 | Z81: 1 | AA81: 1 | AB81: 1 | AD81: 1 | AE81: 1 | AF81: 1 | AG81: 1 | AH81: 1 | AJ81: 14 | AL81: 1 | AM81: 1 | AN81: 1 | AO81: 1 | AP81: 1 | AQ81: 1 | AR81: 14 | AV81: 14
B82: LA | C82: 2013 | D82: 07381600 | E82: Lower Atchafalaya River at Morgan City, LA | F82: NASQAN | G82: Large River | H82: NASQAN | I82: yes | N82: 14 | P82: 1 | R82: 14 | T82: 1 | U82: 1 | V82: 1 | W82: 1 | X82: 14 | Z82: 1 | AA82: 1 | AB82: 1 | AC82: 1 | AD82: 1 | AE82: 1 | AF82: 1 | AG82: 1 | AH82: 1 | AI82: 1 | AJ82: 14 | AL82: 1 | AM82: 1 | AN82: 1 | AO82: 1 | AP82: 1 | AQ82: 1 | AR82: 14 | AV82: 14
B83: LA | C83: 2013 | D83: 08014500 | E83: Ouiska (Whiskey) Chitto Creek near Oberlin, LA | F83: rotate4 | G83: Reference | H83: NAWQA | I83: yes | N83: 6 | P83: 1 | R83: 6 | T83: 1 | U83: 1 | V83: 0 | X83: 6 | Z83: 1 | AA83: 1 | AB83: 0 | AD83: 0 | AF83: 0 | AH83: 0 | AJ83: 0
B84: LA | E84: WSC sum | N84: =SUM(N77:N83) -> 94 | O84: =SUM(O77:O83) -> 0 | P84: =SUM(P77:P83) -> 7 | Q84: =SUM(Q77:Q83) -> 0 | R84: =SUM(R77:R83) -> 94 | S84: =SUM(S77:S83) -> 0 | T84: =SUM(T77:T83) -> 7 | U84: =SUM(U77:U83) -> 7 | ... AW84: =SUM(AW77:AW83) -> 0
B86: MD | C86: 2013 | D86: 01578310 | E86: Susquehanna River at Conowingo, MD | F86: NASQAN | G86: Large River | H86: NASQAN | I86: yes | N86: 14 | P86: 1 | Q86: 1 | R86: 14 | T86: 1 | U86: 2 | V86: 1 | W86: 2 | X86: 14 | Z86: 1 | AA86: 2 | AB86: 1 | AC86: 1 | AD86: 1 | AE86: 1 | AF86: 1 | AG86: 1 | AH86: 1 | AI86: 2 | AJ86: 14 | AL86: 1 | AM86: 2 | AN86: 1 | AO86: 2 | AP86: 1 | AQ86: 1 | AR86: 14 | AV86: 14
B87: MD | C87: 2013 | D87: 01654000 | E87: Accotink Creek near Annandale, VA | F87: rotate2 | G87: Urban | H87: NAWQA | I87: yes | N87: 24 | P87: 1 | R87: 24 | T87: 1 | U87: 1 | V87: 1 | X87: 24 | Z87: 2 | AA87: 2 | AB87: 2 | AD87: 2 | AE87: 2 | AF87: 2 | AG87: 2 | AH87: 2 | AI87: 2 | AJ87: 24 | AL87: 1 | AM87: 1 | AN87: 1 | AO87: 1 | AP87: 1 | AQ87: 1
B88: MD | C88: 2013 | D88: 01646580 | E88: Potomac River at Washington, DC | F88: agcore/NASQAN | G88: Large River | H88: NAWQA | I88: yes | K88: YES | N88: 18 | P88: 1 | R88: 18 | T88: 1 | U88: 1 | V88: 1 | W88: 1 | X88: 18 | Z88: 1 | AA88: 1 | AB88: 1 | AC88: 1 | AD88: 1 | AE88: 1 | AF88: 1 | AG88: 1 | AH88: 1 | AI88: 1 | AJ88: 18 | AL88: 1 | AM88: 1 | AN88: 1 | AO88: 1 | AP88: 1 | AQ88: 1
B89: MD | C89: 2013 | D89: 01610400 | E89: Waites Run near Wardensville, WV | F89: rotate4 | G89: Reference | H89: NAWQA | I89: yes | J89: 15300 | N89: 6 | P89: 1 | R89: 6 | T89: 0 | V89: 1 | X89: 6 | Z89: 0 | AB89: 1 | AD89: 1 | AE89: 1 | AF89: 1 | AG89: 1 | AH89: 1 | AI89: 1 | AJ89: 0
B90: MD | E90: WSC sum | N90: =SUM(N86:N89) -> 62 | O90: =SUM(O86:O89) -> 0 | P90: =SUM(P86:P89) -> 4 | Q90: =SUM(Q86:Q89) -> 1 | R90: =SUM(R86:R89) -> 62 | S90: =SUM(S86:S89) -> 0 | T90: =SUM(T86:T89) -> 3 | U90: =SUM(U86:U89) -> 4 | ... AW90: =SUM(AW86:AW89) -> 0
B92: MI | C92: 2013 | D92: 04161820 | E92: Clinton River at Sterling Heights, MI | F92: rotate4 | G92: Urban | H92: NAWQA | I92: yes | J92: 16000 | N92: 24 | P92: 1 | Q92: 1 | R92: 24 | T92: 1 | U92: 1 | V92: 1 | W92: 1 | X92: 24 | Z92: 2 | AA92: 2 | AB92: 2 | AC92: 2 | AD92: 2 | AE92: 2 | AF92: 2 | AG92: 2 | AH92: 2 | AI92: 2 | AJ92: 24 | AL92: 1 | AM92: 1 | AN92: 1 | AO92: 1 | AP92: 1 | AQ92: 1
B93: MI | E93: WSC sum | N93: =SUM(N92:N92) -> 24 | O93: =SUM(O92:O92) -> 0 | P93: =SUM(P92:P92) -> 1 | Q93: =SUM(Q92:Q92) -> 1 | R93: =SUM(R92:R92) -> 24 | S93: =SUM(S92:S92) -> 0 | T93: =SUM(T92:T92) -> 1 | U93: =SUM(U92:U92) -> 1 | ... AW93: =SUM(AW92:AW92) -> 0
B95: MN | C95: 2013 | D95: 05288705 | E95: Shingle Creek at Minneapolis, MN | F95: rotate2 | G95: Urban | H95: NAWQA | I95: yes | J95: 10200 | N95: 24 | P95: 1 | R95: 24 | T95: 1 | U95: 1 | V95: 1 | W95: 1 | X95: 24 | Z95: 2 | AA95: 2 | AB95: 2 | AC95: 2 | AD95: 2 | AE95: 2 | AF95: 2 | AG95: 2 | AH95: 2 | AI95: 2 | AJ95: 24 | AL95: 1 | AM95: 1 | AN95: 1 | AO95: 1 | AP95: 1 | AQ95: 1 | AX95: agreed to add site; cgc email 20120926
B96: MN | C96: 2013 | D96: 05331580 | E96: Mississippi River at Hastings, MN | F96: rotate4 | G96: Large River | H96: NAWQA | I96: yes | J96: 3900 | N96: 14 | P96: 1 | R96: 14 | T96: 1 | U96: 1 | V96: 1 | W96: 1 | X96: 14 | Z96: 1 | AB96: 1 | AC96: 1 | AD96: 1 | AE96: 1 | AF96: 1 | AG96: 1 | AH96: 1 | AI96: 1 | AJ96: 14 | AL96: 1 | AM96: 1 | AN96: 1 | AP96: 1 | AQ96: 1
B97: MN | E97: WSC sum | N97: =SUM(N95:N96) -> 38 | O97: =SUM(O95:O96) -> 0 | P97: =SUM(P95:P96) -> 2 | Q97: =SUM(Q95:Q96) -> 0 | R97: =SUM(R95:R96) -> 38 | S97: =SUM(S95:S96) -> 0 | T97: =SUM(T95:T96) -> 2 | U97: =SUM(U95:U96) -> 2 | ... AW97: =SUM(AW95:AW96) -> 0
B99: MS | C99: 2013 | D99: 322023090544500 | E99: Mississippi River above Vicksburg, MS | F99: NMN | G99: Large River | H99: NMN | I99: yes | J99: 3150 | N99: 14 | P99: 1 | R99: 14 | T99: 1 | U99: 1 | V99: 1 | W99: 1 | X99: 14 | Z99: 1 | AA99: 1 | AB99: 1 | AC99: 1 | AD99: 1 | AF99: 1 | AH99: 1 | AJ99: 14 | AL99: 1 | AN99: 1 | AO99: 1 | AP99: 1 | AQ99: 1 | AR99: 14 | AV99: 14
B100: MS | C100: 2013 | D100: 07288650 | E100: Bogue Phalia near Leland, MS | F100: ACT site | G100: Agriculture | H100: NAWQA | I100: yes | N100: 24 | P100: 1 | R100: 24 | T100: 1 | U100: 1 | V100: 1 | W100: 1 | X100: 24 | Z100: 2 | AA100: 1 | AB100: 2 | AD100: 2 | AE100: 1 | AF100: 2 | AG100: 1 | AH100: 2 | AI100: 1 | AJ100: 24 | AL100: 1 | AM100: 1 | AN100: 1 | AO100: 2 | AP100: 1 | AQ100: 1
B101: MS | C101: 2013 | D101: 07288955 | E101: Yazoo River near Long Lake, MS | F101: agcore/NASQAN | G101: Large River | H101: NAWQA | I101: yes | N101: 18 | P101: 1 | R101: 18 | T101: 1 | U101: 1 | V101: 1 | W101: 1 | X101: 18 | Z101: 1 | AA101: 1 | AB101: 1 | AC101: 1 | AD101: 1 | AE101: 1 | AF101: 1 | AG101: 1 | AH101: 1 | AI101: 1 | AJ101: 18 | AL101: 1 | AN101: 1 | AO101: 1 | AP101: 1 | AQ101: 1
B102: MS | E102: WSC sum | N102: =SUM(N99:N101) -> 56 | O102: =SUM(O99:O101) -> 0 | P102: =SUM(P99:P101) -> 3 | Q102: =SUM(Q99:Q101) -> 0 | R102: =SUM(R99:R101) -> 56 | S102: =SUM(S99:S101) -> 0 | T102: =SUM(T99:T101) -> 3 | U102: =SUM(U99:U101) -> 3 | ... AW102: =SUM(AW99:AW101) -> 0
B104: MO | C104: 2013 | D104: 07022000 | E104: Mississippi River at Thebes, IL | F104: NASQAN | G104: Large River | H104: NASQAN | I104: yes | N104: 14 | P104: 1 | R104: 14 | T104: 1 | U104: 1 | V104: 1 | W104: 1 | X104: 14 | Z104: 1 | AA104: 1 | AB104: 1 | AC104: 1 | AD104: 1 | AE104: 1 | AF104: 1 | AG104: 1 | AH104: 1 | AI104: 1 | AJ104: 14 | AL104: 1 | AM104: 1 | AN104: 1 | AO104: 1 | AP104: 1 | AQ104: 1 | AR104: 14 | AV104: 14
B105: MO | C105: 2013 | D105: 05587455 | E105: Mississippi River Below Grafton, IL | F105: NASQAN | G105: Large River | H105: NASQAN | I105: yes | N105: 14 | P105: 1 | R105: 14 | T105: 1 | V105: 1 | W105: 1 | X105: 14 | Z105: 1 | AA105: 1 | AB105: 1 | AC105: 1 | AD105: 1 | AE105: 1 | AF105: 1 | AH105: 1 | AI105: 1 | AJ105: 14 | AL105: 1 | AM105: 1 | AN105: 1 | AP105: 1 | AQ105: 1 | AR105: 14 | AV105: 14 | AX105: co-op site; will use S86, S1630, and S1904 in place of S2431
B106: MO | C106: 2013 | D106: 06934500 | E106: Missouri River at Hermann, MO | F106: NASQAN | G106: Large River | H106: NASQAN | I106: yes | K106: YES | N106: 14 | P106: 1 | Q106: 1 | R106: 14 | T106: 1 | U106: 1 | V106: 1 | W106: 1 | X106: 14 | Z106: 1 | AA106: 1 | AB106: 1 | AC106: 1 | AD106: 1 | AF106: 1 | AH106: 1 | AJ106: 14 | AL106: 1 | AM106: 1 | AN106: 1 | AO106: 1 | AP106: 1 | AR106: 14 | AV106: 14
B107: MO | E107: WSC sum | N107: =SUM(N104:N106) -> 42 | O107: =SUM(O104:O106) -> 0 | P107: =SUM(P104:P106) -> 3 | Q107: =SUM(Q104:Q106) -> 1 | R107: =SUM(R104:R106) -> 42 | S107: =SUM(S106) -> 0 | T107: =SUM(T104:T106) -> 3 | U107: =SUM(U106) -> 1 | V107: =SUM(V104:V106) -> 3 | W107: =SUM(W106) -> 1 | X107: =SUM(X104:X106) -> 42 | Y107: =SUM(Y106) -> 0 | Z107: =SUM(Z104:Z106) -> 3 | AA107: =SUM(AA106) -> 1 | AB107: =SUM(AB104:AB106) -> 3 | AC107: =SUM(AC106) -> 1 | AD107: =SUM(AD104:AD106) -> 3 | AE107: =SUM(AE106) -> 0 | AF107: =SUM(AF104:AF106) -> 3 | AG107: =SUM(AG106) -> 0 | AH107: =SUM(AH104:AH106) -> 3 | AI107: =SUM(AI106) -> 0 | AJ107: =SUM(AJ104:AJ106) -> 42 | AK107: =SUM(AK104:AK106) -> 0 | AL107: =SUM(AL104:AL106) -> 3 | AM107: =SUM(AM104:AM106) -> 3 | AN107: =SUM(AN104:AN106) -> 3 | AO107: =SUM(AO104:AO106) -> 2 | AP107: =SUM(AP104:AP106) -> 3 | AQ107: =SUM(AQ106) -> 0 | AR107: =SUM(AR104:AR106) -> 42 | AS107: =SUM(AS104:AS106) -> 0 | AT107: =SUM(AT104:AT106) -> 0 | AU107: =SUM(AU104:AU106) -> 0 | AV107: =SUM(AV104:AV106) -> 42 | AW107: =SUM(AW104:AW106) -> 0
