Workbook

Sheet WY2014 NFSN Chem Sampling
A1: Last update | B1: Science Center (SC) Collecting Samples | C1: Water Year | D1: 41499 | F1: Cycle 2 Site Type | G1: Cycle 3 Site Type | H1: Cycle 3 Program | I1: Cycle 3 Network Code | J1: Daily Streamflow | L1: Continuous QW monitoring | O1: Suspended Sediment (conc. + sand/fine) | S1: Major Ions (schedules 998/1201) | Y1: Nutrients (schedules 2430/2431/2432) | AC1: Nutrient blanks (Inorganic analytes)* | AE1: Nutrient blanks (Organic analytes)* | AG1: Pesticides (schedule 2437) | AO1: Isotope samples (Ty Coplen) | AQ1: DOC fractionation samples (George Aiken) | AS1: Mercury Samples (George Aiken) | AU1: Tritium (Megan Young) | AW1: DNA samples (Byron Crump) | AY1: Comments | AZ1: Sampling Comments
D2: Primary STAID | E2: Site name | J2: Gage? | K2: Gross annual NAWQA cost | L2: Parameters | M2: Type | N2: Annual NAWQA cost | O2: Planned | P2: Collected | Q2: Planned reps | R2: Collected reps | S2: Planned (plus alkalinity) | T2: Collected (plus alkalinity) | U2: Planned reps | V2: Collected reps | W2: Planned blanks (IBW) | X2: Collected blanks | Y2: Planned | Z2: Collected | AA2: Planned reps | AB2: Collected reps | AC2: Planned blanks | AD2: Collected blanks | AE2: Planned blanks | AF2: Collected blanks | AG2: Planned | AH2: Collected | AI2: Planned blanks | AJ2: Collected blanks | AK2: Planned reps | AL2: Collected reps | AM2: Planned spikes | AN2: Collected spikes | AO2: Planned | AP2: Collected | AQ2: Planned | AR2: Collected | AS2: Planned | AT2: Collected | AU2: Planned | AV2: Collected | AW2: Planned | AX2: Collected | AY2: Comments | AZ2: Comments
B5: AL | C5: 2014 | D5: 02470500 | E5: Mobile River at Mt. Vernon, AL | F5: NASQAN | G5: Coastal River | H5: NASQAN | I5: nfsncoast | J5: yes | O5: 14 | Q5: 1 | S5: 14 | U5: 1 | W5: 1 | Y5: 14 | AA5: 1 | AC5: 1 | AE5: 1 | AG5: 14 | AI5: 1 | AK5: 1 | AM5: 1 | AO5: 14 | AQ5: 14 | AS5: 14 | AW5: 14
B6: AL | C6: 2014 | D6: 02469762 | E6: Tombigbee River near Coffeeville, AL | F6: rotate4 | G6: Large Inland River | H6: NAWQA | I6: nfsnlir | J6: yes | O6: 18 | Q6: 1 | S6: 18 | U6: 1 | W6: 1 | Y6: 18 | AA6: 1 | AC6: 1 | AE6: 1 | AG6: 18 | AI6: 1 | AK6: 1 | AM6: 1
B7: AL | E7: WSC sum | O7: =SUM(O5:O6) -> 32 | P7: =SUM(P5:P6) -> 0 | Q7: =SUM(Q5:Q6) -> 2 | R7: =SUM(R5:R6) -> 0 | S7: =SUM(S5:S6) -> 32 | T7: =SUM(T5:T6) -> 0 | U7: =SUM(U5:U6) -> 2 | V7: =SUM(V5:V6) -> 0 | ... AR7: =SUM(AR5:AR6) -> 0 | AU7: =SUM(AU5:AU6) -> 0 | AV7: =SUM(AV5:AV6) -> 0 | AW7: =SUM(AW5:AW6) -> 14 | AX7: =SUM(AX5:AX6) -> 0
B9: AK | C9: 2014 | D9: 15565447 | E9: Yukon River at Pilot Station, AK | F9: NASQAN | G9: Coastal River | H9: NASQAN | I9: nfsncoast | J9: yes | O9: 7 | Q9: 1 | S9: 7 | U9: 0 | W9: 1 | Y9: 7 | AA9: 0 | AC9: 1 | AE9: 1 | AG9: 3 | AI9: 1 | AO9: 7 | AQ9: 7 | AS9: 7 | AW9: 7
B10: AK | E10: WSC sum | O10: =SUM(O8:O9) -> 7 | P10: =SUM(P8:P9) -> 0 | Q10: =SUM(Q8:Q9) -> 1 | R10: =SUM(R8:R9) -> 0 | S10: =SUM(S8:S9) -> 7 | T10: =SUM(T8:T9) -> 0 | U10: =SUM(U8:U9) -> 0 | V10: =SUM(V8:V9) -> 0 | ... AR10: =SUM(AR8:AR9) -> 0 | AU10: =SUM(AU8:AU9) -> 0 | AV10: =SUM(AV8:AV9) -> 0 | AW10: =SUM(AW8:AW9) -> 7 | AX10: =SUM(AX8:AX9) -> 0
B12: AZ | C12: 2014 | D12: 09380000 | E12: Colorado River at Lees Ferry, AZ | F12: N/A | G12: Large Inland River | H12: NAWQA | I12: nfsnlir | J12: yes | L12: YES-COOP | O12: 14 | Q12: 1 | S12: 14 | U12: 1 | W12: 1 | Y12: 14 | AA12: 1 | AC12: 1 | AE12: 1 | AG12: 14 | AI12: 1 | AK12: 1 | AM12: 1
B13: AZ | C13: 2014 | D13: 09522000 | E13: Colorado River at NIB | F13: NASQAN | G13: Coastal River | H13: NASQAN | I13: nfsncoast | J13: yes | O13: 12 | Q13: 1 | S13: 12 | U13: 1 | W13: 1 | Y13: 12 | AA13: 1 | AC13: 1 | AE13: 1 | AG13: 12 | AI13: 1 | AK13: 1 | AM13: 1 | AO13: 12 | AQ13: 12 | AS13: 12 | AW13: 12
B14: AZ | C14: 2014 | D14: 09471000 | E14: San Pedro River at Charleston, AZ | F14: rotate4 | G14: Reference | H14: NAWQA | I14: nfsnref | J14: yes | O14: 6 | Q14: 1 | S14: 6 | U14: 1 | W14: 0 | Y14: 6 | AA14: 1 | AC14: 0 | AE14: 0 | AG14: 0
B15: AZ | C15: 2014 | D15: 09505800 | E15: West Clear Creek near Camp Verde, AZ | F15: rotate4 | G15: Reference | H15: NAWQA | I15: nfsnref | J15: yes | O15: 6 | Q15: 1 | S15: 6 | U15: 0 | W15: 1 | Y15: 6 | AA15: 0 | AC15: 1 | AE15: 1 | AG15: 0
B16: AZ | E16: WSC sum | O16: =SUM(O12:O15) -> 38 | P16: =SUM(P12:P15) -> 0 | Q16: =SUM(Q12:Q15) -> 4 | R16: =SUM(R12:R15) -> 0 | S16: =SUM(S12:S15) -> 38 | T16: =SUM(T12:T15) -> 0 | U16: =SUM(U12:U15) -> 3 | V16: =SUM(V12:V15) -> 0 | ... AR16: =SUM(AR12:AR15) -> 0 | AU16: =SUM(AU12:AU15) -> 0 | AV16: =SUM(AV12:AV15) -> 0 | AW16: =SUM(AW12:AW15) -> 12 | AX16: =SUM(AX12:AX15) -> 0
B18: AR | C18: 2014 | D18: 07263620 | E18: Arkansas River at Terry L&D below Little Rock, AR | F18: NASQAN | G18: Large Inland River | H18: NASQAN | I18: nfsnlir | J18: yes | K18: 5510 | O18: 14 | Q18: 1 | S18: 14 | U18: 1 | W18: 1 | Y18: 14 | AA18: 1 | AC18: 1 | AE18: 1 | AG18: 14 | AI18: 1 | AK18: 1 | AM18: 1 | AO18: 14 | AQ18: 14 | AW18: 14
B19: AR | C19: 2014 | D19: 07055646 | E19: Buffalo River near Boxley, AR | F19: rotate4 | G19: Reference | H19: NAWQA | I19: nfsnref | J19: yes | O19: 6 | Q19: 1 | S19: 6 | U19: 1 | W19: 0 | Y19: 6 | AA19: 1 | AC19: 0 | AE19: 0 | AG19: 0
B20: AR | C20: 2014 | D20: 07060710 | E20: North Sylamore Creek near Fifty Six, AR | F20: rotate4/HBN | G20: Reference | H20: NAWQA | I20: nfsnref | J20: yes | O20: 6 | Q20: 1 | S20: 6 | U20: 0 | W20: 1 | Y20: 6 | AA20: 0 | AC20: 1 | AE20: 1 | AG20: 0
B21: AR | E21: WSC sum | O21: =SUM(O18:O20) -> 26 | P21: =SUM(P18:P20) -> 0 | Q21: =SUM(Q18:Q20) -> 3 | R21: =SUM(R18:R20) -> 0 | S21: =SUM(S18:S20) -> 26 | T21: =SUM(T18:T20) -> 0 | U21: =SUM(U18:U20) -> 2 | V21: =SUM(V18:V20) -> 0 | ... AR21: =SUM(AR18:AR20) -> 0 | AU21: =SUM(AU18:AU20) -> 0 | AV21: =SUM(AV18:AV20) -> 0 | AW21: =SUM(AW18:AW20) -> 14 | AX21: =SUM(AX18:AX20) -> 0
B23: CA | C23: 2014 | D23: 11335000 | E23: Cosumnes River at Michigan Bar, CA | F23: eco_only | G23: Reference | H23: NAWQA | I23: nfsnref | J23: yes | O23: 6 | Q23: 1 | S23: 6 | U23: 1 | W23: 1 | Y23: 6 | AA23: 1 | AC23: 1 | AE23: 1 | AG23: 0
B24: CA | C24: 2014 | D24: 11274538 | E24: Orestimba Creek near Crows Landing, CA | F24: rotate4 | G24: Agriculture | H24: NAWQA | I24: nfsnag | J24: yes | K24: 22600 | L24: YES-COOP | O24: 16 | Q24: 1 | S24: 16 | U24: 1 | W24: 1 | Y24: 16 | AA24: 1 | AC24: 1 | AE24: 1 | AG24: 16 | AI24: 1 | AK24: 1 | AM24: 1 | AY24: if flows warrant, we will try (but can't guarantee) to provide funding for additional samples
B25: CA | C25: 2014 | D25: 11447650 | E25: Sacramento River a Freeport, CA | F25: rotate4/NASQAN | G25: Coastal River | H25: NAWQA | I25: nfsncoast | J25: yes | L25: YES-COOP | O25: 14 | Q25: 1 | S25: 14 | U25: 1 | W25: 1 | Y25: 14 | AA25: 1 | AC25: 1 | AE25: 1 | AG25: 14 | AI25: 1 | AK25: 1 | AM25: 1 | AO25: 14 | AQ25: 14 | AS25: 14 | AW25: 14
B26: CA | C26: 2014 | D26: 11303500 | E26: San Joaquin River near Vernalis, CA | F26: agcore | G26: Coastal River | H26: NAWQA | I26: nfsncoast | J26: yes | O26: 18 | Q26: 1 | S26: 18 | U26: 1 | W26: 1 | Y26: 18 | AA26: 1 | AC26: 1 | AE26: 1 | AG26: 18 | AI26: 1 | AK26: 1 | AM26: 1 | AO26: 18 | AQ26: 18 | AS26: 18 | AW26: 18
B27: CA | C27: 2014 | D27: 11264500 | E27: Merced River at Happy Isles Bridge nr Yosemite, CA | G27: Reference | H27: NAWQA | I27: nfsnref | J27: yes | O27: 6 | Q27: 1 | S27: 6 | U27: 1 | W27: 0 | Y27: 6 | AA27: 1 | AC27: 0 | AE27: 0 | AG27: 0
B28: CA | C28: 2014 | D28: 11049400 | E28: Santa Ana River above Seven Oaks Dam, CA | F28: eco_only | G28: Reference | H28: NAWQA | I28: nfsnref | J28: no | O28: 0 | S28: 0 | Y28: 0 | AG28: 0 | AY28: CA reference site switched to Merced R nr Yosemite beginning FY14
B29: CA | C29: 2014 | D29: 11074000 | E29: Santa Ana River below Prado Dam, CA | F29: urbcore | G29: Coastal River | H29: NAWQA | I29: nfsncoast | J29: yes | O29: 18 | Q29: 1 | S29: 18 | U29: 1 | W29: 1 | Y29: 18 | AA29: 1 | AC29: 1 | AE29: 1 | AG29: 18 | AI29: 1 | AK29: 1 | AM29: 1
B30: CA | E30: WSC sum | O30: =SUM(O23:O29) -> 78 | P30: =SUM(P23:P29) -> 0 | Q30: =SUM(Q23:Q29) -> 6 | R30: =SUM(R23:R29) -> 0 | S30: =SUM(S23:S29) -> 78 | T30: =SUM(T23:T29) -> 0 | U30: =SUM(U23:U29) -> 6 | V30: =SUM(V23:V29) -> 0 | ... AR30: =SUM(AR23:AR29) -> 0 | AU30: =SUM(AU23:AU29) -> 0 | AV30: =SUM(AV23:AV29) -> 0 | AW30: =SUM(AW23:AW29) -> 32 | AX30: =SUM(AX23:AX29) -> 0
B32: CO | C32: 2014 | D32: 06713500 | E32: Cherry Creek at Denver, CO | F32: rotate2 | G32: Urban | H32: NAWQA | I32: nfsnurb | J32: yes | O32: 24 | Q32: 1 | S32: 24 | U32: 1 | W32: 1 | Y32: 24 | AA32: 2 | AC32: 2 | AE32: 2 | AG32: 24 | AI32: 1 | AK32: 1 | AM32: 1
B33: CO | C33: 2014 | D33: 09163500 | E33: Colorado River near Colorado-Utah state line | F33: rotate4 | G33: Large Inland River | H33: NAWQA | I33: nfsnlir | J33: yes | L33: YES-COOP | O33: 18 | Q33: 1 | S33: 18 | U33: 1 | W33: 1 | Y33: 18 | AA33: 1 | AC33: 1 | AE33: 1 | AG33: 18 | AI33: 1 | AK33: 1 | AM33: 1
B34: CO | C34: 2014 | D34: 06754000 | E34: South Platte River near Kersey, CO | F34: rotate4 | G34: Large Inland River | H34: NAWQA | I34: nfsnlir | J34: yes | O34: 18 | Q34: 1 | S34: 18 | U34: 1 | W34: 1 | Y34: 18 | AA34: 1 | AC34: 1 | AE34: 1 | AG34: 18 | AI34: 1 | AK34: 1 | AM34: 1
B35: CO | E35: WSC sum | O35: =SUM(O32:O34) -> 60 | P35: =SUM(P32:P34) -> 0 | Q35: =SUM(Q32:Q34) -> 3 | R35: =SUM(R32:R34) -> 0 | S35: =SUM(S32:S34) -> 60 | T35: =SUM(T32:T34) -> 0 | U35: =SUM(U32:U34) -> 3 | V35: =SUM(V32:V34) -> 0 | ... AR35: =SUM(AR32:AR34) -> 0 | AU35: =SUM(AU32:AU34) -> 0 | AV35: =SUM(AV32:AV34) -> 0 | AW35: =SUM(AW32:AW34) -> 0 | AX35: =SUM(AX32:AX34) -> 0
B37: CT | C37: 2014 | D37: 01184000 | E37: Connecticut River at Thompsonville, CT | F37: rotate4 | G37: Coastal River | H37: NAWQA | I37: nfsncoast | J37: yes | O37: 18 | Q37: 1 | S37: 18 | U37: 1 | W37: 1 | Y37: 18 | AA37: 1 | AC37: 1 | AE37: 1 | AG37: 18 | AI37: 1 | AK37: 1 | AM37: 1
B38: CT | C38: 2014 | D38: 01170100 | E38: Green River near Colrain, MA | F38: rotate4 | G38: Reference | H38: NAWQA | I38: nfsnref | J38: yes | O38: 6 | Q38: 1 | S38: 6 | U38: 0 | W38: 1 | Y38: 6 | AA38: 0 | AC38: 1 | AE38: 1 | AG38: 0
B39: CT | C39: 2014 | D39: 01209710 | E39: Norwalk River at Winnipauk,CT | F39: rotate4 | G39: Urban | H39: NAWQA | I39: nfsnurb | J39: yes | O39: 24 | Q39: 1 | S39: 24 | U39: 1 | W39: 1 | Y39: 24 | AA39: 2 | AC39: 2 | AE39: 2 | AG39: 24 | AI39: 1 | AK39: 1 | AM39: 1
B40: CT | E40: WSC sum | O40: =SUM(O37:O39) -> 48 | P40: =SUM(P37:P39) -> 0 | Q40: =SUM(Q37:Q39) -> 3 | R40: =SUM(R37:R39) -> 0 | S40: =SUM(S37:S39) -> 48 | T40: =SUM(T37:T39) -> 0 | U40: =SUM(U37:U39) -> 2 | V40: =SUM(V37:V39) -> 0 | ... AR40: =SUM(AR37:AR39) -> 0 | AU40: =SUM(AU37:AU39) -> 0 | AV40: =SUM(AV37:AV39) -> 0 | AW40: =SUM(AW37:AW39) -> 0 | AX40: =SUM(AX37:AX39) -> 0
B42: FL | C42: 2014 | D42: 02359170 | E42: Apalachicola River near Sumatra, FL | F42: NMN | G42: Coastal River | H42: NMN | I42: nfsncoast | J42: yes | O42: 14 | Q42: 1 | S42: 14 | U42: 1 | W42: 1 | Y42: 14 | AA42: 1 | AC42: 1 | AE42: 1 | AG42: 14 | AI42: 1 | AK42: 1 | AM42: 1 | AO42: 14 | AQ42: 14 | AW42: 14
B43: FL | E43: WSC sum | O43: =SUM(O42) -> 14 | P43: =SUM(P41:P42) -> 0 | Q43: =SUM(Q41:Q42) -> 1 | R43: =SUM(R41:R42) -> 0 | S43: =SUM(S41:S42) -> 14 | T43: =SUM(T41:T42) -> 0 | U43: =SUM(U41:U42) -> 1 | V43: =SUM(V41:V42) -> 0 | W43: =SUM(W41:W42) -> 1 | ... AR43: =SUM(AR41:AR42) -> 0 | AU43: =SUM(AU41:AU42) -> 0 | AV43: =SUM(AV41:AV42) -> 0 | AW43: =SUM(AW41:AW42) -> 14 | AX43: =SUM(AX41:AX42) -> 0
B45: GA | C45: 2014 | D45: 02226160 | E45: Altamaha River at Everett City, GA | F45: NASQAN | G45: Coastal River | H45: NASQAN | I45: nfsncoast | J45: yes | K45: 24250 | O45: 14 | Q45: 1 | S45: 14 | U45: 1 | W45: 1 | Y45: 14 | AA45: 1 | AC45: 1 | AE45: 1 | AG45: 14 | AI45: 1 | AK45: 1 | AM45: 1 | AO45: 14 | AQ45: 14 | AS45: 14 | AW45: 14
B46: GA | C46: 2014 | D46: 02338523 | E46: Hillibahatchee Creek near Franklin, GA | F46: rotate4 | G46: Reference | H46: NAWQA | I46: nfsnref | J46: yes | K46: 15315 | O46: 6 | Q46: 1 | S46: 6 | U46: 1 | W46: 0 | Y46: 6 | AA46: 1 | AC46: 0 | AE46: 0 | AG46: 0
B47: GA | C47: 2014 | D47: 02335870 | E47: Sope Creek near Marietta, GA | F47: rotate2 | G47: Urban | H47: NAWQA | I47: nfsnurb | J47: yes | O47: 24 | Q47: 1 | S47: 24 | U47: 1 | W47: 1 | Y47: 24 | AA47: 2 | AC47: 2 | AE47: 2 | AG47: 24 | AI47: 1 | AK47: 1 | AM47: 1
B48: GA | E48: WSC sum | O48: =SUM(O45:O47) -> 44 | P48: =SUM(P45:P47) -> 0 | Q48: =SUM(Q45:Q47) -> 3 | R48: =SUM(R45:R47) -> 0 | S48: =SUM(S45:S47) -> 44 | T48: =SUM(T45:T47) -> 0 | U48: =SUM(U45:U47) -> 3 | V48: =SUM(V45:V47) -> 0 | ... AR48: =SUM(AR45:AR47) -> 0 | AU48: =SUM(AU45:AU47) -> 0 | AV48: =SUM(AV45:AV47) -> 0 | AW48: =SUM(AW45:AW47) -> 14 | AX48: =SUM(AX45:AX47) -> 0
B50: ID | C50: 2014 | D50: 13092747 | E50: Rock Creek at Twin Falls, ID | F50: rotate4 | G50: Agriculture | H50: NAWQA | I50: nfsnag | J50: yes | K50: 16955 | O50: 24 | Q50: 1 | S50: 24 | U50: 1 | W50: 1 | Y50: 24 | AA50: 2 | AC50: 2 | AE50: 2 | AG50: 24 | AI50: 1 | AK50: 1 | AM50: 1
B51: ID | C51: 2014 | D51: 13154500 | E51: Snake River at King Hill, ID | F51: rotate4 | G51: Large Inland River | H51: NAWQA | I51: nfsnlir | J51: yes | K51: 16955 | O51: 14 | Q51: 1 | S51: 14 | U51: 1 | W51: 1 | Y51: 14 | AA51: 1 | AC51: 1 | AE51: 1 | AG51: 14 | AI51: 1 | AK51: 1 | AM51: 1
...

Sheet WY2014 NFSN Eco Sampling
A1: Last Update | B1: SC | C1: 41497 | G1: Ecological STAID | H1: Ecological Site name | I1: Cycle 2 Site Type | J1: Cycle 3 Site Type | K1: Eco- region | L1: Fiscal year | M1: Reach Sampled (Primary Reach) | N1: Inv / Algae RTH (Riffle or Snag) | O1: Index Period for Inverts and Algae | Q1: Inverts - RTH | S1: Outside IP | T1: Inverts - QMH | V1: Outside IP | W1: Algae - RTH | Y1: Outside IP | Z1: Algae - Chl a / Biomass | AB1: Outside IP | AC1: Fish | AH1: Outside IP | AI1: Habitat | AM1: Outside IP | AN1: IP Check | AO1: SU Annual Comments: Unusual Sampling Circumstances
C2: Primary STAID | D2: Site name | E2: WSC Ecology contact | F2: Fish QA Plan | Q2: No. of Samples Planned | R2: Date Com-pleted (MM/DD/YY) | T2: No. of Samples Planned | U2: Date Com-pleted (MM/DD/YY) | W2: No. of Samples Planned | X2: Date Com-pleted (MM/DD/YY) | Z2: No. of Samples Planned | AA2: Date Com-pleted (MM/DD/YY) | AC2: Index Period | AE2: QA Plan Submitted (Yes/No) | AF2: No. of Samples Planned | AG2: Date Com-pleted (MM/DD/YY) | AI2: Index Period | AK2: No. of Samples Planned | AL2: Date Com-pleted (MM/DD/YY)
O3: Start Date | P3: End Date | R3: Reach A | U3: Reach A | X3: Reach A | AA3: Reach A | AC3: Start Date | AD3: End Date | AI3: Start Date | AJ3: End Date
B5: AZ | C5: 09471000 | D5: San Pedro River at Charleston, AZ | E5: Nick Paretti | F5: Yes | I5: rotate4 | J5: Reference | K5: 79 | L5: 2014 | M5: A | N5: Riffle | O5: 41944 | P5: 41988 | Q5: 1 | S5: =IF(Q5>0,IF(R5<($O5-7),"EARLY",IF(R5>N($P5+7),"LATE","")),"") -> EARLY | T5: 0 | V5: =IF(T5>0,IF(U5<($O5-7),"EARLY",IF(U5>N($P5+7),"LATE","")),"") | W5: 1 | Y5: =IF(W5>0,IF(X5<($O5-7),"EARLY",IF(X5>N($P5+7),"LATE","")),"") -> EARLY | Z5: 1 | AB5: =IF(Z5>0,IF(AA5<($O5-7),"EARLY",IF(AA5>N($P5+7),"LATE","")),"") -> EARLY | AC5: 41944 | AD5: 41988 | AF5: 1 | AH5: =IF(AF5>0,IF(AG5<($AC5-7),"EARLY",IF(AG5>N($AD5+7),"LATE","")),"") -> EARLY | AI5: 41944 | AJ5: 41988 | AK5: 1 | AM5: =IF(AK5>0,IF(AL5<($AI5-7),"EARLY",IF(AL5>N($AJ5+7),"LATE","")),"") -> EARLY | AN5: =IF(OR(S5<>"",V5<>"",Y5<>"",AB5<>"",AH5<>"",AM5<>""),"CHECK","") -> CHECK
B6: AZ | C6: 09505800 | D6: West Clear Creek near Camp Verde, AZ | F6: Yes | I6: rotate4 | J6: Reference | K6: 23 | L6: 2014 | M6: A | N6: Riffle | O6: 41927 | P6: 41973 | Q6: 1 | S6: =IF(Q6>0,IF(R6<($O6-7),"EARLY",IF(R6>N($P6+7),"LATE","")),"") -> EARLY | T6: 0 | V6: =IF(T6>0,IF(U6<($O6-7),"EARLY",IF(U6>N($P6+7),"LATE","")),"") | W6: 1 | Y6: =IF(W6>0,IF(X6<($O6-7),"EARLY",IF(X6>N($P6+7),"LATE","")),"") -> EARLY | Z6: 1 | AB6: =IF(Z6>0,IF(AA6<($O6-7),"EARLY",IF(AA6>N($P6+7),"LATE","")),"") -> EARLY | AC6: 41927 | AD6: 41973 | AF6: 1 | AH6: =IF(AF6>0,IF(AG6<($AC6-7),"EARLY",IF(AG6>N($AD6+7),"LATE","")),"") -> EARLY | AI6: 41927 | AJ6: 41973 | AK6: 1 | AM6: =IF(AK6>0,IF(AL6<($AI6-7),"EARLY",IF(AL6>N($AJ6+7),"LATE","")),"") -> EARLY | AN6: =IF(OR(S6<>"",V6<>"",Y6<>"",AB6<>"",AH6<>"",AM6<>""),"CHECK","") -> CHECK | AO6: Sampling plan shown for the Fiscal Years in which samples are collected (i.e., Fall 2012 = FY2013)
B7: AR | C7: 07055646 | D7: Buffalo River near Boxley, AR | E7: Billy Justus | F7: Yes | I7: rotate4 | J7: Reference | K7: 38 | L7: 2014 | M7: A | N7: Riffle | O7: 41866 | P7: 41912 | Q7: 1 | S7: =IF(Q7>0,IF(R7<($O7-7),"EARLY",IF(R7>N($P7+7),"LATE","")),"") -> EARLY | T7: 0 | V7: =IF(T7>0,IF(U7<($O7-7),"EARLY",IF(U7>N($P7+7),"LATE","")),"") | W7: 1 | Y7: =IF(W7>0,IF(X7<($O7-7),"EARLY",IF(X7>N($P7+7),"LATE","")),"") -> EARLY | Z7: 1 | AB7: =IF(Z7>0,IF(AA7<($O7-7),"EARLY",IF(AA7>N($P7+7),"LATE","")),"") -> EARLY | AC7: 41835 | AD7: 41882 | AF7: 1 | AH7: =IF(AF7>0,IF(AG7<($AC7-7),"EARLY",IF(AG7>N($AD7+7),"LATE","")),"") -> EARLY | AI7: 41835 | AJ7: 41882 | AK7: 1 | AM7: =IF(AK7>0,IF(AL7<($AI7-7),"EARLY",IF(AL7>N($AJ7+7),"LATE","")),"") -> EARLY | AN7: =IF(OR(S7<>"",V7<>"",Y7<>"",AB7<>"",AH7<>"",AM7<>""),"CHECK","") -> CHECK
B8: AR | C8: 07060710 | D8: North Sylamore Creek near Fifty Six, AR | F8: Yes | I8: rotate4 | J8: Reference | K8: 39 | L8: 2014 | M8: C | N8: Riffle | O8: 41866 | P8: 41912 | Q8: 1 | S8: =IF(Q8>0,IF(R8<($O8-7),"EARLY",IF(R8>N($P8+7),"LATE","")),"") -> EARLY | T8: 0 | V8: =IF(T8>0,IF(U8<($O8-7),"EARLY",IF(U8>N($P8+7),"LATE","")),"") | W8: 1 | Y8: =IF(W8>0,IF(X8<($O8-7),"EARLY",IF(X8>N($P8+7),"LATE","")),"") -> EARLY | Z8: 1 | AB8: =IF(Z8>0,IF(AA8<($O8-7),"EARLY",IF(AA8>N($P8+7),"LATE","")),"") -> EARLY | AC8: 41835 | AD8: 41882 | AF8: 1 | AH8: =IF(AF8>0,IF(AG8<($AC8-7),"EARLY",IF(AG8>N($AD8+7),"LATE","")),"") -> EARLY | AI8: 41835 | AJ8: 41882 | AK8: 1 | AM8: =IF(AK8>0,IF(AL8<($AI8-7),"EARLY",IF(AL8>N($AJ8+7),"LATE","")),"") -> EARLY | AN8: =IF(OR(S8<>"",V8<>"",Y8<>"",AB8<>"",AH8<>"",AM8<>""),"CHECK","") -> CHECK
B9: CA | C9: 11274538 | D9: Orestimba Creek near Crows Landing, CA | E9: Jason May | F9: Yes | I9: rotate4 | J9: Agricultural | K9: 5 | L9: 2014 | M9: A | N9: Snag | O9: 41866 | P9: 41912 | Q9: 1 | S9: =IF(Q9>0,IF(R9<($O9-7),"EARLY",IF(R9>N($P9+7),"LATE","")),"") -> EARLY | T9: 0 | V9: =IF(T9>0,IF(U9<($O9-7),"EARLY",IF(U9>N($P9+7),"LATE","")),"") | W9: 1 | Y9: =IF(W9>0,IF(X9<($O9-7),"EARLY",IF(X9>N($P9+7),"LATE","")),"") -> EARLY | Z9: 1 | AB9: =IF(Z9>0,IF(AA9<($O9-7),"EARLY",IF(AA9>N($P9+7),"LATE","")),"") -> EARLY | AC9: 41866 | AD9: 41912 | AF9: 1 | AH9: =IF(AF9>0,IF(AG9<($AC9-7),"EARLY",IF(AG9>N($AD9+7),"LATE","")),"") -> EARLY | AI9: 41866 | AJ9: 41912 | AK9: 1 | AM9: =IF(AK9>0,IF(AL9<($AI9-7),"EARLY",IF(AL9>N($AJ9+7),"LATE","")),"") -> EARLY | AN9: =IF(OR(S9<>"",V9<>"",Y9<>"",AB9<>"",AH9<>"",AM9<>""),"CHECK","") -> CHECK
B10: CA | C10: 11335000 | D10: Cosumnes River at Michigan Bar, CA | F10: Yes | I10: eco_only | J10: Reference | K10: 7 | L10: 2014 | M10: C | N10: Riffle | O10: 41866 | P10: 41912 | Q10: 1 | S10: =IF(Q10>0,IF(R10<($O10-7),"EARLY",IF(R10>N($P10+7),"LATE","")),"") -> EARLY | T10: 0 | V10: =IF(T10>0,IF(U10<($O10-7),"EARLY",IF(U10>N($P10+7),"LATE","")),"") | W10: 1 | Y10: =IF(W10>0,IF(X10<($O10-7),"EARLY",IF(X10>N($P10+7),"LATE","")),"") -> EARLY | Z10: 1 | AB10: =IF(Z10>0,IF(AA10<($O10-7),"EARLY",IF(AA10>N($P10+7),"LATE","")),"") -> EARLY | AC10: 41866 | AD10: 41912 | AF10: 1 | AH10: =IF(AF10>0,IF(AG10<($AC10-7),"EARLY",IF(AG10>N($AD10+7),"LATE","")),"") -> EARLY | AI10: 41866 | AJ10: 41912 | AK10: 1 | AM10: =IF(AK10>0,IF(AL10<($AI10-7),"EARLY",IF(AL10>N($AJ10+7),"LATE","")),"") -> EARLY | AN10: =IF(OR(S10<>"",V10<>"",Y10<>"",AB10<>"",AH10<>"",AM10<>""),"CHECK","") -> CHECK
B11: CA | C11: 11264500 | D11: Merced River at Happy Isles Bridge nr Yosemite, CA | F11: Yes | I11: eco_only | J11: Reference | L11: 2014 | M11: A | N11: Riffle | O11: 41866 | P11: 41912 | Q11: 1 | S11: =IF(Q11>0,IF(R11<($O11-7),"EARLY",IF(R11>N($P11+7),"LATE","")),"") -> EARLY | T11: 0 | V11: =IF(T11>0,IF(U11<($O11-7),"EARLY",IF(U11>N($P11+7),"LATE","")),"") | W11: 1 | Y11: =IF(W11>0,IF(X11<($O11-7),"EARLY",IF(X11>N($P11+7),"LATE","")),"") -> EARLY | Z11: 1 | AB11: =IF(Z11>0,IF(AA11<($O11-7),"EARLY",IF(AA11>N($P11+7),"LATE","")),"") -> EARLY | AC11: 41828 | AD11: 41873 | AF11: 1 | AH11: =IF(AF11>0,IF(AG11<($AC11-7),"EARLY",IF(AG11>N($AD11+7),"LATE","")),"") -> EARLY | AI11: 41828 | AJ11: 41873 | AK11: 1 | AM11: =IF(AK11>0,IF(AL11<($AI11-7),"EARLY",IF(AL11>N($AJ11+7),"LATE","")),"") -> EARLY | AN11: =IF(OR(S11<>"",V11<>"",Y11<>"",AB11<>"",AH11<>"",AM11<>""),"CHECK","") -> CHECK
B12: CO | C12: 06713500 | D12: Cherry Creek at Denver, CO | E12: Bob Zuellig | F12: Yes | I12: rotate2 | J12: Urban | K12: 25 | L12: 2014 | M12: B | N12: Riffle | O12: 41835 | P12: 41882 | Q12: 1 | S12: =IF(Q12>0,IF(R12<($O12-7),"EARLY",IF(R12>N($P12+7),"LATE","")),"") -> EARLY | T12: 0 | V12: =IF(T12>0,IF(U12<($O12-7),"EARLY",IF(U12>N($P12+7),"LATE","")),"") | W12: 1 | Y12: =IF(W12>0,IF(X12<($O12-7),"EARLY",IF(X12>N($P12+7),"LATE","")),"") -> EARLY | Z12: 1 | AB12: =IF(Z12>0,IF(AA12<($O12-7),"EARLY",IF(AA12>N($P12+7),"LATE","")),"") -> EARLY | AC12: 41835 | AD12: 41882 | AF12: 1 | AH12: =IF(AF12>0,IF(AG12<($AC12-7),"EARLY",IF(AG12>N($AD12+7),"LATE","")),"") -> EARLY | AI12: 41835 | AJ12: 41882 | AK12: 1 | AM12: =IF(AK12>0,IF(AL12<($AI12-7),"EARLY",IF(AL12>N($AJ12+7),"LATE","")),"") -> EARLY | AN12: =IF(OR(S12<>"",V12<>"",Y12<>"",AB12<>"",AH12<>"",AM12<>""),"CHECK","") -> CHECK
B13: CT | C13: 01170100 | D13: Green River near Colrain, MA | E13: Karen Beaulieu | F13: Yes | G13: 01170095 | H13: Green River at Stewartville, MA | I13: rotate4 | J13: Reference | K13: 58 | L13: 2014 | M13: A | N13: Riffle | O13: 41852 | P13: 41897 | Q13: 1 | S13: =IF(Q13>0,IF(R13<($O13-7),"EARLY",IF(R13>N($P13+7),"LATE","")),"") -> EARLY | T13: 0 | V13: =IF(T13>0,IF(U13<($O13-7),"EARLY",IF(U13>N($P13+7),"LATE","")),"") | W13: 1 | Y13: =IF(W13>0,IF(X13<($O13-7),"EARLY",IF(X13>N($P13+7),"LATE","")),"") -> EARLY | Z13: 1 | AB13: =IF(Z13>0,IF(AA13<($O13-7),"EARLY",IF(AA13>N($P13+7),"LATE","")),"") -> EARLY | AC13: 41852 | AD13: 41897 | AF13: 1 | AH13: =IF(AF13>0,IF(AG13<($AC13-7),"EARLY",IF(AG13>N($AD13+7),"LATE","")),"") -> EARLY | AI13: 41852 | AJ13: 41897 | AK13: 1 | AM13: =IF(AK13>0,IF(AL13<($AI13-7),"EARLY",IF(AL13>N($AJ13+7),"LATE","")),"") -> EARLY | AN13: =IF(OR(S13<>"",V13<>"",Y13<>"",AB13<>"",AH13<>"",AM13<>""),"CHECK","") -> CHECK
B14: CT | C14: 01209710 | D14: Norwalk River at Winnipauk,CT | F14: Yes | I14: rotate4 | J14: Urban | K14: 59 | L14: 2014 | M14: A | N14: Riffle | O14: 41852 | P14: 41897 | Q14: 1 | S14: =IF(Q14>0,IF(R14<($O14-7),"EARLY",IF(R14>N($P14+7),"LATE","")),"") -> EARLY | T14: 0 | V14: =IF(T14>0,IF(U14<($O14-7),"EARLY",IF(U14>N($P14+7),"LATE","")),"") | W14: 1 | Y14: =IF(W14>0,IF(X14<($O14-7),"EARLY",IF(X14>N($P14+7),"LATE","")),"") -> EARLY | Z14: 1 | AB14: =IF(Z14>0,IF(AA14<($O14-7),"EARLY",IF(AA14>N($P14+7),"LATE","")),"") -> EARLY | AC14: 41852 | AD14: 41897 | AF14: 1 | AH14: =IF(AF14>0,IF(AG14<($AC14-7),"EARLY",IF(AG14>N($AD14+7),"LATE","")),"") -> EARLY | AI14: 41852 | AJ14: 41897 | AK14: 1 | AM14: =IF(AK14>0,IF(AL14<($AI14-7),"EARLY",IF(AL14>N($AJ14+7),"LATE","")),"") -> EARLY | AN14: =IF(OR(S14<>"",V14<>"",Y14<>"",AB14<>"",AH14<>"",AM14<>""),"CHECK","") -> CHECK
B15: GA | C15: 2338523 | D15: Hillibahatchee Creek near Franklin, GA | E15: Jeff Riley | F15: Yes | I15: rotate4 | J15: Reference | K15: 45 | L15: 2014 | M15: B | N15: Riffle | O15: 41774 | P15: 41820 | Q15: 1 | S15: =IF(Q15>0,IF(R15<($O15-7),"EARLY",IF(R15>N($P15+7),"LATE","")),"") -> EARLY | T15: 0 | V15: =IF(T15>0,IF(U15<($O15-7),"EARLY",IF(U15>N($P15+7),"LATE","")),"") | W15: 1 | Y15: =IF(W15>0,IF(X15<($O15-7),"EARLY",IF(X15>N($P15+7),"LATE","")),"") -> EARLY | Z15: 1 | AB15: =IF(Z15>0,IF(AA15<($O15-7),"EARLY",IF(AA15>N($P15+7),"LATE","")),"") -> EARLY | AC15: 41883 | AD15: 41927 | AF15: 1 | AH15: =IF(AF15>0,IF(AG15<($AC15-7),"EARLY",IF(AG15>N($AD15+7),"LATE","")),"") -> EARLY | AI15: 41883 | AJ15: 41927 | AK15: 1 | AM15: =IF(AK15>0,IF(AL15<($AI15-7),"EARLY",IF(AL15>N($AJ15+7),"LATE","")),"") -> EARLY | AN15: =IF(OR(S15<>"",V15<>"",Y15<>"",AB15<>"",AH15<>"",AM15<>""),"CHECK","") -> CHECK
B16: GA | C16: 02335870 | D16: Sope Creek near Marietta, GA | F16: Yes | I16: rotate2 | J16: Urban | K16: 45 | L16: 2014 | M16: A | N16: Riffle | O16: 41774 | P16: 41820 | Q16: 1 | S16: =IF(Q16>0,IF(R16<($O16-7),"EARLY",IF(R16>N($P16+7),"LATE","")),"") -> EARLY | T16: 0 | V16: =IF(T16>0,IF(U16<($O16-7),"EARLY",IF(U16>N($P16+7),"LATE","")),"") | W16: 1 | Y16: =IF(W16>0,IF(X16<($O16-7),"EARLY",IF(X16>N($P16+7),"LATE","")),"") -> EARLY | Z16: 1 | AB16: =IF(Z16>0,IF(AA16<($O16-7),"EARLY",IF(AA16>N($P16+7),"LATE","")),"") -> EARLY | AC16: 41883 | AD16: 41927 | AF16: 1 | AH16: =IF(AF16>0,IF(AG16<($AC16-7),"EARLY",IF(AG16>N($AD16+7),"LATE","")),"") -> EARLY | AI16: 41883 | AJ16: 41927 | AK16: 1 | AM16: =IF(AK16>0,IF(AL16<($AI16-7),"EARLY",IF(AL16>N($AJ16+7),"LATE","")),"") -> EARLY | AN16: =IF(OR(S16<>"",V16<>"",Y16<>"",AB16<>"",AH16<>"",AM16<>""),"CHECK","") -> CHECK
B17: ID | C17: 13092747 | D17: Rock Creek at Twin Falls, ID | E17: Dorene MacCoy | F17: Yes | I17: rotate4 | J17: Agricultural | K17: 12 | L17: 2014 | M17: A | N17: Riffle | O17: 41821 | P17: 41866 | Q17: 1 | S17: =IF(Q17>0,IF(R17<($O17-7),"EARLY",IF(R17>N($P17+7),"LATE","")),"") -> EARLY | T17: 0 | V17: =IF(T17>0,IF(U17<($O17-7),"EARLY",IF(U17>N($P17+7),"LATE","")),"") | W17: 1 | Y17: =IF(W17>0,IF(X17<($O17-7),"EARLY",IF(X17>N($P17+7),"LATE","")),"") -> EARLY | Z17: 1 | AB17: =IF(Z17>0,IF(AA17<($O17-7),"EARLY",IF(AA17>N($P17+7),"LATE","")),"") -> EARLY | AC17: 41821 | AD17: 41866 | AF17: 1 | AH17: =IF(AF17>0,IF(AG17<($AC17-7),"EARLY",IF(AG17>N($AD17+7),"LATE","")),"") -> EARLY | AI17: 41821 | AJ17: 41866 | AK17: 1 | AM17: =IF(AK17>0,IF(AL17<($AI17-7),"EARLY",IF(AL17>N($AJ17+7),"LATE","")),"") -> EARLY | AN17: =IF(OR(S17<>"",V17<>"",Y17<>"",AB17<>"",AH17<>"",AM17<>""),"CHECK","") -> CHECK
B18: IN | C18: 394340085524601 | D18: Sugar Creek at New Palestine, IN | E18: Edward Dobrowolski | F18: Yes | I18: rotate2 | J18: Agricultural | K18: 55 | L18: 2014 | M18: A | N18: Riffle | O18: 41835 | P18: 41882 | Q18: 1 | S18: =IF(Q18>0,IF(R18<($O18-7),"EARLY",IF(R18>N($P18+7),"LATE","")),"") -> EARLY | T18: 0 | V18: =IF(T18>0,IF(U18<($O18-7),"EARLY",IF(U18>N($P18+7),"LATE","")),"") | W18: 1 | Y18: =IF(W18>0,IF(X18<($O18-7),"EARLY",IF(X18>N($P18+7),"LATE","")),"") -> EARLY | Z18: 1 | AB18: =IF(Z18>0,IF(AA18<($O18-7),"EARLY",IF(AA18>N($P18+7),"LATE","")),"") -> EARLY | AC18: 41852 | AD18: 41897 | AF18: 1 | AH18: =IF(AF18>0,IF(AG18<($AC18-7),"EARLY",IF(AG18>N($AD18+7),"LATE","")),"") -> EARLY | AI18: 41835 | AJ18: 41882 | AK18: 1 | AM18: =IF(AK18>0,IF(AL18<($AI18-7),"EARLY",IF(AL18>N($AJ18+7),"LATE","")),"") -> EARLY | AN18: =IF(OR(S18<>"",V18<>"",Y18<>"",AB18<>"",AH18<>"",AM18<>""),"CHECK","") -> CHECK
B19: IA | C19: 05451210 | D19: South Fork Iowa River near New Providence, IA | E19: Jason McVay | F19: Yes | I19: rotate2 | J19: Agricultural | K19: 47 | L19: 2014 | M19: A | N19: Snag | O19: 41852 | P19: 41897 | Q19: 1 | S19: =IF(Q19>0,IF(R19<($O19-7),"EARLY",IF(R19>N($P19+7),"LATE","")),"") -> EARLY | T19: 0 | V19: =IF(T19>0,IF(U19<($O19-7),"EARLY",IF(U19>N($P19+7),"LATE","")),"") | W19: 1 | Y19: =IF(W19>0,IF(X19<($O19-7),"EARLY",IF(X19>N($P19+7),"LATE","")),"") -> EARLY | Z19: 1 | AB19: =IF(Z19>0,IF(AA19<($O19-7),"EARLY",IF(AA19>N($P19+7),"LATE","")),"") -> EARLY | AC19: 41866 | AD19: 41912 | AF19: 1 | AH19: =IF(AF19>0,IF(AG19<($AC19-7),"EARLY",IF(AG19>N($AD19+7),"LATE","")),"") -> EARLY | AI19: 41852 | AJ19: 41897 | AK19: 1 | AM19: =IF(AK19>0,IF(AL19<($AI19-7),"EARLY",IF(AL19>N($AJ19+7),"LATE","")),"") -> EARLY | AN19: =IF(OR(S19<>"",V19<>"",Y19<>"",AB19<>"",AH19<>"",AM19<>""),"CHECK","") -> CHECK
B20: LA | C20: 08014500 | D20: Ouiska (Whisky) Chitto Creek near Oberlin, LA | E20: Scott Mize | F20: Yes | I20: rotate4 | J20: Reference | K20: 35 | L20: 2014 | M20: A | N20: Snag | O20: 41835 | P20: 41882 | Q20: 1 | S20: =IF(Q20>0,IF(R20<($O20-7),"EARLY",IF(R20>N($P20+7),"LATE","")),"") -> EARLY | T20: 0 | V20: =IF(T20>0,IF(U20<($O20-7),"EARLY",IF(U20>N($P20+7),"LATE","")),"") | W20: 1 | Y20: =IF(W20>0,IF(X20<($O20-7),"EARLY",IF(X20>N($P20+7),"LATE","")),"") -> EARLY | Z20: 1 | AB20: =IF(Z20>0,IF(AA20<($O20-7),"EARLY",IF(AA20>N($P20+7),"LATE","")),"") -> EARLY | AC20: 41835 | AD20: 41882 | AF20: 1 | AH20: =IF(AF20>0,IF(AG20<($AC20-7),"EARLY",IF(AG20>N($AD20+7),"LATE","")),"") -> EARLY | AI20: 41835 | AJ20: 41882 | AK20: 1 | AM20: =IF(AK20>0,IF(AL20<($AI20-7),"EARLY",IF(AL20>N($AJ20+7),"LATE","")),"") -> EARLY | AN20: =IF(OR(S20<>"",V20<>"",Y20<>"",AB20<>"",AH20<>"",AM20<>""),"CHECK","") -> CHECK
B21: MD | C21: 01610400 | D21: Waites Run near Wardensville, WV | E21: Robin Brightbill | F21: Yes | I21: rotate4 | J21: Reference | K21: 67 | L21: 2014 | M21: B | N21: Riffle | O21: 41821 | P21: 41866 | Q21: 1 | S21: =IF(Q21>0,IF(R21<($O21-7),"EARLY",IF(R21>N($P21+7),"LATE","")),"") -> EARLY | T21: 0 | V21: =IF(T21>0,IF(U21<($O21-7),"EARLY",IF(U21>N($P21+7),"LATE","")),"") | W21: 1 | Y21: =IF(W21>0,IF(X21<($O21-7),"EARLY",IF(X21>N($P21+7),"LATE","")),"") -> EARLY | Z21: 1 | AB21: =IF(Z21>0,IF(AA21<($O21-7),"EARLY",IF(AA21>N($P21+7),"LATE","")),"") -> EARLY | AC21: 41821 | AD21: 41866 | AF21: 1 | AH21: =IF(AF21>0,IF(AG21<($AC21-7),"EARLY",IF(AG21>N($AD21+7),"LATE","")),"") -> EARLY | AI21: 41821 | AJ21: 41866 | AK21: 1 | AM21: =IF(AK21>0,IF(AL21<($AI21-7),"EARLY",IF(AL21>N($AJ21+7),"LATE","")),"") -> EARLY | AN21: =IF(OR(S21<>"",V21<>"",Y21<>"",AB21<>"",AH21<>"",AM21<>""),"CHECK","") -> CHECK
B22: MD | C22: 01654000 | D22: Accotink Creek near Annandale, VA | F22: Yes | I22: rotate2 | J22: Urban | K22: 45 | L22: 2014 | M22: A | N22: Riffle | O22: 41791 | P22: 41835 | Q22: 1 | S22: =IF(Q22>0,IF(R22<($O22-7),"EARLY",IF(R22>N($P22+7),"LATE","")),"") -> EARLY | T22: 0 | V22: =IF(T22>0,IF(U22<($O22-7),"EARLY",IF(U22>N($P22+7),"LATE","")),"") | W22: 1 | Y22: =IF(W22>0,IF(X22<($O22-7),"EARLY",IF(X22>N($P22+7),"LATE","")),"") -> EARLY | Z22: 1 | AB22: =IF(Z22>0,IF(AA22<($O22-7),"EARLY",IF(AA22>N($P22+7),"LATE","")),"") -> EARLY | AC22: 41852 | AD22: 41897 | AF22: 1 | AH22: =IF(AF22>0,IF(AG22<($AC22-7),"EARLY",IF(AG22>N($AD22+7),"LATE","")),"") -> EARLY | AI22: 41852 | AJ22: 41897 | AK22: 1 | AM22: =IF(AK22>0,IF(AL22<($AI22-7),"EARLY",IF(AL22>N($AJ22+7),"LATE","")),"") -> EARLY | AN22: =IF(OR(S22<>"",V22<>"",Y22<>"",AB22<>"",AH22<>"",AM22<>""),"CHECK","") -> CHECK
B23: MN | C23: 05288705 | D23: Shingle Creek at Minneapolis, MN | E23: Kathy Lee | F23: Yes | I23: rotate2 | J23: Urban | K23: 51 | L23: 2014 | M23: B | N23: Riffle | O23: 41821 | P23: 41866 | Q23: 1 | S23: =IF(Q23>0,IF(R23<($O23-7),"EARLY",IF(R23>N($P23+7),"LATE","")),"") -> EARLY | T23: 0 | V23: =IF(T23>0,IF(U23<($O23-7),"EARLY",IF(U23>N($P23+7),"LATE","")),"") | W23: 1 | Y23: =IF(W23>0,IF(X23<($O23-7),"EARLY",IF(X23>N($P23+7),"LATE","")),"") -> EARLY | Z23: 1 | AB23: =IF(Z23>0,IF(AA23<($O23-7),"EARLY",IF(AA23>N($P23+7),"LATE","")),"") -> EARLY | AC23: 41821 | AD23: 41866 | AF23: 1 | AH23: =IF(AF23>0,IF(AG23<($AC23-7),"EARLY",IF(AG23>N($AD23+7),"LATE","")),"") -> EARLY | AI23: 41821 | AJ23: 41866 | AK23: 1 | AM23: =IF(AK23>0,IF(AL23<($AI23-7),"EARLY",IF(AL23>N($AJ23+7),"LATE","")),"") -> EARLY | AN23: =IF(OR(S23<>"",V23<>"",Y23<>"",AB23<>"",AH23<>"",AM23<>""),"CHECK","") -> CHECK
B24: MS | C24: 07288650 | D24: Bogue Phalia near Leland, MS | E24: Jeannie Barlow | F24: Yes | I24: dropped08 | J24: Agricultural | K24: 73 | L24: 2014 | M24: A | N24: Snag | O24: 41852 | P24: 41897 | Q24: 1 | S24: =IF(Q24>0,IF(R24<($O24-7),"EARLY",IF(R24>N($P24+7),"LATE","")),"") -> EARLY | T24: 0 | V24: =IF(T24>0,IF(U24<($O24-7),"EARLY",IF(U24>N($P24+7),"LATE","")),"") | W24: 1 | Y24: =IF(W24>0,IF(X24<($O24-7),"EARLY",IF(X24>N($P24+7),"LATE","")),"") -> EARLY | Z24: 1 | AB24: =IF(Z24>0,IF(AA24<($O24-7),"EARLY",IF(AA24>N($P24+7),"LATE","")),"") -> EARLY | AC24: 41835 | AD24: 41882 | AF24: 1 | AH24: =IF(AF24>0,IF(AG24<($AC24-7),"EARLY",IF(AG24>N($AD24+7),"LATE","")),"") -> EARLY | AI24: 41835 | AJ24: 41882 | AK24: 1 | AM24: =IF(AK24>0,IF(AL24<($AI24-7),"EARLY",IF(AL24>N($AJ24+7),"LATE","")),"") -> EARLY | AN24: =IF(OR(S24<>"",V24<>"",Y24<>"",AB24<>"",AH24<>"",AM24<>""),"CHECK","") -> CHECK
B25: NE | C25: 06775900 | D25: Dismal River near Thedford, NE | E25: Jason Alexander | F25: Yes | I25: eco_only | J25: Reference | K25: 44 | L25: 2014 | M25: C | N25: Snag | O25: 41852 | P25: 41897 | Q25: 1 | S25: =IF(Q25>0,IF(R25<($O25-7),"EARLY",IF(R25>N($P25+7),"LATE","")),"") -> EARLY | T25: 0 | V25: =IF(T25>0,IF(U25<($O25-7),"EARLY",IF(U25>N($P25+7),"LATE","")),"") | W25: 1 | Y25: =IF(W25>0,IF(X25<($O25-7),"EARLY",IF(X25>N($P25+7),"LATE","")),"") -> EARLY | Z25: 1 | AB25: =IF(Z25>0,IF(AA25<($O25-7),"EARLY",IF(AA25>N($P25+7),"LATE","")),"") -> EARLY | AC25: 41852 | AD25: 41897 | AF25: 1 | AH25: =IF(AF25>0,IF(AG25<($AC25-7),"EARLY",IF(AG25>N($AD25+7),"LATE","")),"") -> EARLY | AI25: 41852 | AJ25: 41897 | AK25: 1 | AM25: =IF(AK25>0,IF(AL25<($AI25-7),"EARLY",IF(AL25>N($AJ25+7),"LATE","")),"") -> EARLY | AN25: =IF(OR(S25<>"",V25<>"",Y25<>"",AB25<>"",AH25<>"",AM25<>""),"CHECK","") -> CHECK
B26: NE | C26: 06800000 | D26: Maple Creek near Nickerson, NE | F26: Yes | I26: rotate2 | J26: Agricultural | K26: 47 | L26: 2014 | M26: C | N26: Snag | O26: 41852 | P26: 41897 | Q26: 1 | S26: =IF(Q26>0,IF(R26<($O26-7),"EARLY",IF(R26>N($P26+7),"LATE","")),"") -> EARLY | T26: 0 | V26: =IF(T26>0,IF(U26<($O26-7),"EARLY",IF(U26>N($P26+7),"LATE","")),"") | W26: 1 | Y26: =IF(W26>0,IF(X26<($O26-7),"EARLY",IF(X26>N($P26+7),"LATE","")),"") -> EARLY | Z26: 1 | AB26: =IF(Z26>0,IF(AA26<($O26-7),"EARLY",IF(AA26>N($P26+7),"LATE","")),"") -> EARLY | AC26: 41852 | AD26: 41897 | AF26: 1 | AH26: =IF(AF26>0,IF(AG26<($AC26-7),"EARLY",IF(AG26>N($AD26+7),"LATE","")),"") -> EARLY | AI26: 41852 | AJ26: 41897 | AK26: 1 | AM26: =IF(AK26>0,IF(AL26<($AI26-7),"EARLY",IF(AL26>N($AJ26+7),"LATE","")),"") -> EARLY | AN26: =IF(OR(S26<>"",V26<>"",Y26<>"",AB26<>"",AH26<>"",AM26<>""),"CHECK","") -> CHECK
B27: NM | C27: 08227000 | D27: Saguache Creek near Saguache, CO | E27: Dianna Crilley | F27: Yes | I27: eco_only | J27: Reference | K27: 21 | L27: 2014 | M27: A | N27: Riffle | O27: 41835 | P27: 41882 | Q27: 1 | S27: =IF(Q27>0,IF(R27<($O27-7),"EARLY",IF(R27>N($P27+7),"LATE","")),"") -> EARLY | T27: 0 | V27: =IF(T27>0,IF(U27<($O27-7),"EARLY",IF(U27>N($P27+7),"LATE","")),"") | W27: 1 | Y27: =IF(W27>0,IF(X27<($O27-7),"EARLY",IF(X27>N($P27+7),"LATE","")),"") -> EARLY | Z27: 1 | AB27: =IF(Z27>0,IF(AA27<($O27-7),"EARLY",IF(AA27>N($P27+7),"LATE","")),"") -> EARLY | AC27: 41835 | AD27: 41882 | AF27: 1 | AH27: =IF(AF27>0,IF(AG27<($AC27-7),"EARLY",IF(AG27>N($AD27+7),"LATE","")),"") -> EARLY | AI27: 41835 | AJ27: 41882 | AK27: 1 | AM27: =IF(AK27>0,IF(AL27<($AI27-7),"EARLY",IF(AL27>N($AJ27+7),"LATE","")),"") -> EARLY | AN27: =IF(OR(S27<>"",V27<>"",Y27<>"",AB27<>"",AH27<>"",AM27<>""),"CHECK","") -> CHECK
B28: NY | C28: 01349150 | D28: Canajoharie Creek near Canajoharie, NY | E28: Karen Murray | F28: Yes | I28: rotate4 | J28: Agricultural | K28: 83 | L28: 2014 | M28: A | N28: Riffle | O28: 41835 | P28: 41882 | Q28: 1 | S28: =IF(Q28>0,IF(R28<($O28-7),"EARLY",IF(R28>N($P28+7),"LATE","")),"") -> EARLY | T28: 0 | V28: =IF(T28>0,IF(U28<($O28-7),"EARLY",IF(U28>N($P28+7),"LATE","")),"") | W28: 1 | Y28: =IF(W28>0,IF(X28<($O28-7),"EARLY",IF(X28>N($P28+7),"LATE","")),"") -> EARLY | Z28: 1 | AB28: =IF(Z28>0,IF(AA28<($O28-7),"EARLY",IF(AA28>N($P28+7),"LATE","")),"") -> EARLY | AC28: 41852 | AD28: 41897 | AF28: 1 | AH28: =IF(AF28>0,IF(AG28<($AC28-7),"EARLY",IF(AG28>N($AD28+7),"LATE","")),"") -> EARLY | AI28: 41852 | AJ28: 41897 | AK28: 1 | AM28: =IF(AK28>0,IF(AL28<($AI28-7),"EARLY",IF(AL28>N($AJ28+7),"LATE","")),"") -> EARLY | AN28: =IF(OR(S28<>"",V28<>"",Y28<>"",AB28<>"",AH28<>"",AM28<>""),"CHECK","") -> CHECK
B29: NC | C29: 02091500 | D29: Contentnea Creek at Hookerton, NC | E29: Michelle Moorman | F29: Yes | I29: rotate4 | J29: Agricultural | K29: 65 | L29: 2014 | M29: A | N29: Snag | O29: 41774 | P29: 41820 | Q29: 1 | S29: =IF(Q29>0,IF(R29<($O29-7),"EARLY",IF(R29>N($P29+7),"LATE","")),"") -> EARLY | T29: 0 | V29: =IF(T29>0,IF(U29<($O29-7),"EARLY",IF(U29>N($P29+7),"LATE","")),"") | W29: 1 | Y29: =IF(W29>0,IF(X29<($O29-7),"EARLY",IF(X29>N($P29+7),"LATE","")),"") -> EARLY | Z29: 1 | AB29: =IF(Z29>0,IF(AA29<($O29-7),"EARLY",IF(AA29>N($P29+7),"LATE","")),"") -> EARLY | AC29: 41883 | AD29: 41927 | AF29: 1 | AH29: =IF(AF29>0,IF(AG29<($AC29-7),"EARLY",IF(AG29>N($AD29+7),"LATE","")),"") -> EARLY | AI29: 41883 | AJ29: 41927 | AK29: 1 | AM29: =IF(AK29>0,IF(AL29<($AI29-7),"EARLY",IF(AL29>N($AJ29+7),"LATE","")),"") -> EARLY | AN29: =IF(OR(S29<>"",V29<>"",Y29<>"",AB29<>"",AH29<>"",AM29<>""),"CHECK","") -> CHECK
B30: NC | C30: 2087580 | D30: Swift Creek near Apex, NC | F30: Yes | I30: rotate2 | J30: Urban | K30: 65 | L30: 2014 | M30: C | N30: Riffle | O30: 41774 | P30: 41820 | Q30: 1 | S30: =IF(Q30>0,IF(R30<($O30-7),"EARLY",IF(R30>N($P30+7),"LATE","")),"") -> EARLY | T30: 0 | V30: =IF(T30>0,IF(U30<($O30-7),"EARLY",IF(U30>N($P30+7),"LATE","")),"") | W30: 1 | Y30: =IF(W30>0,IF(X30<($O30-7),"EARLY",IF(X30>N($P30+7),"LATE","")),"") -> EARLY | Z30: 1 | AB30: =IF(Z30>0,IF(AA30<($O30-7),"EARLY",IF(AA30>N($P30+7),"LATE","")),"") -> EARLY | AC30: 41883 | AD30: 41927 | AF30: 1 | AH30: =IF(AF30>0,IF(AG30<($AC30-7),"EARLY",IF(AG30>N($AD30+7),"LATE","")),"") -> EARLY | AI30: 41883 | AJ30: 41927 | AK30: 1 | AM30: =IF(AK30>0,IF(AL30<($AI30-7),"EARLY",IF(AL30>N($AJ30+7),"LATE","")),"") -> EARLY | AN30: =IF(OR(S30<>"",V30<>"",Y30<>"",AB30<>"",AH30<>"",AM30<>""),"CHECK","") -> CHECK
B31: OH | C31: 04161820 | D31: Clinton River at Sterling Heights, MI | E31: Stephanie Janosy | F31: Yes | I31: rotate4 | J31: Urban | K31: 56 | L31: 2014 | M31: A | N31: Riffle | O31: 41852 | P31: 41897 | Q31: 1 | S31: =IF(Q31>0,IF(R31<($O31-7),"EARLY",IF(R31>N($P31+7),"LATE","")),"") -> EARLY | T31: 0 | V31: =IF(T31>0,IF(U31<($O31-7),"EARLY",IF(U31>N($P31+7),"LATE","")),"") | W31: 1 | Y31: =IF(W31>0,IF(X31<($O31-7),"EARLY",IF(X31>N($P31+7),"LATE","")),"") -> EARLY | Z31: 1 | AB31: =IF(Z31>0,IF(AA31<($O31-7),"EARLY",IF(AA31>N($P31+7),"LATE","")),"") -> EARLY | AC31: 41852 | AD31: 41897 | AF31: 1 | AH31: =IF(AF31>0,IF(AG31<($AC31-7),"EARLY",IF(AG31>N($AD31+7),"LATE","")),"") -> EARLY | AI31: 41852 | AJ31: 41897 | AK31: 1 | AM31: =IF(AK31>0,IF(AL31<($AI31-7),"EARLY",IF(AL31>N($AJ31+7),"LATE","")),"") -> EARLY | AN31: =IF(OR(S31<>"",V31<>"",Y31<>"",AB31<>"",AH31<>"",AM31<>""),"CHECK","") -> CHECK
B32: OR | C32: 14201300 | D32: Zollner Creek near Mt. Angel, OR | E32: Jennifer Moarce | F32: NO | I32: rotate4 | J32: Agricultural | K32: 3 | L32: 2014 | M32: A | N32: Snag | O32: 41866 | P32: 41912 | Q32: 1 | S32: =IF(Q32>0,IF(R32<($O32-7),"EARLY",IF(R32>N($P32+7),"LATE","")),"") -> EARLY | T32: 0 | V32: =IF(T32>0,IF(U32<($O32-7),"EARLY",IF(U32>N($P32+7),"LATE","")),"") | W32: 1 | Y32: =IF(W32>0,IF(X32<($O32-7),"EARLY",IF(X32>N($P32+7),"LATE","")),"") -> EARLY | Z32: 1 | AB32: =IF(Z32>0,IF(AA32<($O32-7),"EARLY",IF(AA32>N($P32+7),"LATE","")),"") -> EARLY | AC32: 41866 | AD32: 41912 | AF32: 1 | AH32: =IF(AF32>0,IF(AG32<($AC32-7),"EARLY",IF(AG32>N($AD32+7),"LATE","")),"") -> EARLY | AI32: 41866 | AJ32: 41912 | AK32: 1 | AM32: =IF(AK32>0,IF(AL32<($AI32-7),"EARLY",IF(AL32>N($AJ32+7),"LATE","")),"") -> EARLY | AN32: =IF(OR(S32<>"",V32<>"",Y32<>"",AB32<>"",AH32<>"",AM32<>""),"CHECK","") -> CHECK
B33: OR | C33: 14206950 | D33: Fanno Creek at Durham, OR | F33: NO | I33: rotate2 | J33: Urban | K33: 3 | L33: 2014 | M33: A | N33: Riffle | O33: 41866 | P33: 41912 | Q33: 1 | S33: =IF(Q33>0,IF(R33<($O33-7),"EARLY",IF(R33>N($P33+7),"LATE","")),"") -> EARLY | T33: 0 | V33: =IF(T33>0,IF(U33<($O33-7),"EARLY",IF(U33>N($P33+7),"LATE","")),"") | W33: 1 | Y33: =IF(W33>0,IF(X33<($O33-7),"EARLY",IF(X33>N($P33+7),"LATE","")),"") -> EARLY | Z33: 1 | AB33: =IF(Z33>0,IF(AA33<($O33-7),"EARLY",IF(AA33>N($P33+7),"LATE","")),"") -> EARLY | AC33: 41866 | AD33: 41912 | AF33: 1 | AH33: =IF(AF33>0,IF(AG33<($AC33-7),"EARLY",IF(AG33>N($AD33+7),"LATE","")),"") -> EARLY | AI33: 41866 | AJ33: 41912 | AK33: 1 | AM33: =IF(AK33>0,IF(AL33<($AI33-7),"EARLY",IF(AL33>N($AJ33+7),"LATE","")),"") -> EARLY | AN33: =IF(OR(S33<>"",V33<>"",Y33<>"",AB33<>"",AH33<>"",AM33<>""),"CHECK","") -> CHECK
B34: OR | C34: 14205400 | D34: E Fork Dairy Creek near Meachan Corner, OR | F34: NO | I34: rotate4 | J34: Reference | K34: 3 | L34: 2014 | M34: A | N34: Riffle | O34: 41866 | P34: 41912 | Q34: 1 | S34: =IF(Q34>0,IF(R34<($O34-7),"EARLY",IF(R34>N($P34+7),"LATE","")),"") -> EARLY | T34: 0 | V34: =IF(T34>0,IF(U34<($O34-7),"EARLY",IF(U34>N($P34+7),"LATE","")),"") | W34: 1 | Y34: =IF(W34>0,IF(X34<($O34-7),"EARLY",IF(X34>N($P34+7),"LATE","")),"") -> EARLY | Z34: 1 | AB34: =IF(Z34>0,IF(AA34<($O34-7),"EARLY",IF(AA34>N($P34+7),"LATE","")),"") -> EARLY | AC34: 41866 | AD34: 41912 | AF34: 1 | AH34: =IF(AF34>0,IF(AG34<($AC34-7),"EARLY",IF(AG34>N($AD34+7),"LATE","")),"") -> EARLY | AI34: 41866 | AJ34: 41912 | AK34: 1 | AM34: =IF(AK34>0,IF(AL34<($AI34-7),"EARLY",IF(AL34>N($AJ34+7),"LATE","")),"") -> EARLY | AN34: =IF(OR(S34<>"",V34<>"",Y34<>"",AB34<>"",AH34<>"",AM34<>""),"CHECK","") -> CHECK
B35: SC | C35: 02172300 | D35: McTier Creek near Monetta, SC | E35: Jeff Riley | F35: Yes | I35: rotate4 | J35: Reference | K35: 65 | L35: 2014 | M35: A | N35: Snag | O35: 41774 | P35: 41820 | Q35: 1 | S35: =IF(Q35>0,IF(R35<($O35-7),"EARLY",IF(R35>N($P35+7),"LATE","")),"") -> EARLY | T35: 0 | V35: =IF(T35>0,IF(U35<($O35-7),"EARLY",IF(U35>N($P35+7),"LATE","")),"") | W35: 1 | Y35: =IF(W35>0,IF(X35<($O35-7),"EARLY",IF(X35>N($P35+7),"LATE","")),"") -> EARLY | Z35: 1 | AB35: =IF(Z35>0,IF(AA35<($O35-7),"EARLY",IF(AA35>N($P35+7),"LATE","")),"") -> EARLY | AC35: 41883 | AD35: 41927 | AF35: 1 | AH35: =IF(AF35>0,IF(AG35<($AC35-7),"EARLY",IF(AG35>N($AD35+7),"LATE","")),"") -> EARLY | AI35: 41774 | AJ35: 41820 | AK35: 1 | AM35: =IF(AK35>0,IF(AL35<($AI35-7),"EARLY",IF(AL35>N($AJ35+7),"LATE","")),"") -> EARLY | AN35: =IF(OR(S35<>"",V35<>"",Y35<>"",AB35<>"",AH35<>"",AM35<>""),"CHECK","") -> CHECK
B36: TX | C36: 08057200 | D36: White Rock Creek at Dallas, TX | E36: Bruce Moring | F36: Yes | I36: rotate2 | J36: Urban | K36: 32 | L36: 2014 | M36: A | N36: Riffle | O36: 41821 | P36: 41866 | Q36: 1 | S36: =IF(Q36>0,IF(R36<($O36-7),"EARLY",IF(R36>N($P36+7),"LATE","")),"") -> EARLY | T36: 0 | V36: =IF(T36>0,IF(U36<($O36-7),"EARLY",IF(U36>N($P36+7),"LATE","")),"") | W36: 1 | Y36: =IF(W36>0,IF(X36<($O36-7),"EARLY",IF(X36>N($P36+7),"LATE","")),"") -> EARLY | Z36: 1 | AB36: =IF(Z36>0,IF(AA36<($O36-7),"EARLY",IF(AA36>N($P36+7),"LATE","")),"") -> EARLY | AC36: 41821 | AD36: 41866 | AF36: 1 | AH36: =IF(AF36>0,IF(AG36<($AC36-7),"EARLY",IF(AG36>N($AD36+7),"LATE","")),"") -> EARLY | AI36: 41821 | AJ36: 41866 | AK36: 1 | AM36: =IF(AK36>0,IF(AL36<($AI36-7),"EARLY",IF(AL36>N($AJ36+7),"LATE","")),"") -> EARLY | AN36: =IF(OR(S36<>"",V36<>"",Y36<>"",AB36<>"",AH36<>"",AM36<>""),"CHECK","") -> CHECK
B37: TX | C37: 08195000 | D37: Frio River at Concan, TX | F37: Yes | I37: eco_only | J37: Reference | K37: 30 | L37: 2014 | M37: B | N37: Riffle | O37: 41821 | P37: 41866 | Q37: 1 | S37: =IF(Q37>0,IF(R37<($O37-7),"EARLY",IF(R37>N($P37+7),"LATE","")),"") -> EARLY | T37: 0 | V37: =IF(T37>0,IF(U37<($O37-7),"EARLY",IF(U37>N($P37+7),"LATE","")),"") | W37: 1 | Y37: =IF(W37>0,IF(X37<($O37-7),"EARLY",IF(X37>N($P37+7),"LATE","")),"") -> EARLY | Z37: 1 | AB37: =IF(Z37>0,IF(AA37<($O37-7),"EARLY",IF(AA37>N($P37+7),"LATE","")),"") -> EARLY | AC37: 41821 | AD37: 41866 | AF37: 1 | AH37: =IF(AF37>0,IF(AG37<($AC37-7),"EARLY",IF(AG37>N($AD37+7),"LATE","")),"") -> EARLY | AI37: 41821 | AJ37: 41866 | AK37: 1 | AM37: =IF(AK37>0,IF(AL37<($AI37-7),"EARLY",IF(AL37>N($AJ37+7),"LATE","")),"") -> EARLY | AN37: =IF(OR(S37<>"",V37<>"",Y37<>"",AB37<>"",AH37<>"",AM37<>""),"CHECK","") -> CHECK
B38: UT | C38: 10168000 | D38: Little Cottonwood Creek at Salt Lake City, UT | E38: Anne Brasher | F38: NO | I38: rotate2 | J38: Urban | K38: 19 | L38: 2014 | M38: A | N38: Depositional | O38: 41835 | P38: 37864 | Q38: 1 | S38: =IF(Q38>0,IF(R38<($O38-7),"EARLY",IF(R38>N($P38+7),"LATE","")),"") -> EARLY | T38: 0 | V38: =IF(T38>0,IF(U38<($O38-7),"EARLY",IF(U38>N($P38+7),"LATE","")),"") | W38: 1 | Y38: =IF(W38>0,IF(X38<($O38-7),"EARLY",IF(X38>N($P38+7),"LATE","")),"") -> EARLY | Z38: 1 | AB38: =IF(Z38>0,IF(AA38<($O38-7),"EARLY",IF(AA38>N($P38+7),"LATE","")),"") -> EARLY | AC38: 41835 | AD38: 37864 | AF38: 1 | AH38: =IF(AF38>0,IF(AG38<($AC38-7),"EARLY",IF(AG38>N($AD38+7),"LATE","")),"") -> EARLY | AI38: 41835 | AJ38: 37864 | AK38: 1 | AM38: =IF(AK38>0,IF(AL38<($AI38-7),"EARLY",IF(AL38>N($AJ38+7),"LATE","")),"") -> EARLY | AN38: =IF(OR(S38<>"",V38<>"",Y38<>"",AB38<>"",AH38<>"",AM38<>""),"CHECK","") -> CHECK
B39: UT | C39: 10172200 | D39: Red Butte Creek at Ft Douglas, UT | F39: NO | I39: rotate4 | J39: Reference | K39: 19 | L39: 2014 | M39: A | N39: Riffle | O39: 41835 | P39: 37864 | Q39: 1 | S39: =IF(Q39>0,IF(R39<($O39-7),"EARLY",IF(R39>N($P39+7),"LATE","")),"") -> EARLY | T39: 0 | V39: =IF(T39>0,IF(U39<($O39-7),"EARLY",IF(U39>N($P39+7),"LATE","")),"") | W39: 1 | Y39: =IF(W39>0,IF(X39<($O39-7),"EARLY",IF(X39>N($P39+7),"LATE","")),"") -> EARLY | Z39: 1 | AB39: =IF(Z39>0,IF(AA39<($O39-7),"EARLY",IF(AA39>N($P39+7),"LATE","")),"") -> EARLY | AF39: 0 | AH39: =IF(AF39>0,IF(AG39<($AC39-7),"EARLY",IF(AG39>N($AD39+7),"LATE","")),"") | AI39: 41835 | AJ39: 37864 | AK39: 1 | AM39: =IF(AK39>0,IF(AL39<($AI39-7),"EARLY",IF(AL39>N($AJ39+7),"LATE","")),"") -> EARLY | AN39: =IF(OR(S39<>"",V39<>"",Y39<>"",AB39<>"",AH39<>"",AM39<>""),"CHECK","") -> CHECK | AO39: No fish collected at this site (only fish present are those stocked by the State).
B40: WA | C40: 12505450 | D40: Granger Drain at Granger, WA | E40: Bob Black | F40: Yes | I40: rotate4 | J40: Agricultural | K40: 10 | L40: 2014 | M40: A | N40: Riffle | O40: 41852 | P40: 41897 | Q40: 1 | S40: =IF(Q40>0,IF(R40<($O40-7),"EARLY",IF(R40>N($P40+7),"LATE","")),"") -> EARLY | T40: 0 | V40: =IF(T40>0,IF(U40<($O40-7),"EARLY",IF(U40>N($P40+7),"LATE","")),"") | W40: 1 | Y40: =IF(W40>0,IF(X40<($O40-7),"EARLY",IF(X40>N($P40+7),"LATE","")),"") -> EARLY | Z40: 1 | AB40: =IF(Z40>0,IF(AA40<($O40-7),"EARLY",IF(AA40>N($P40+7),"LATE","")),"") -> EARLY | AC40: 41852 | AD40: 41897 | AF40: 1 | AH40: =IF(AF40>0,IF(AG40<($AC40-7),"EARLY",IF(AG40>N($AD40+7),"LATE","")),"") -> EARLY | AI40: 41852 | AJ40: 41897 | AK40: 1 | AM40: =IF(AK40>0,IF(AL40<($AI40-7),"EARLY",IF(AL40>N($AJ40+7),"LATE","")),"") -> EARLY | AN40: =IF(OR(S40<>"",V40<>"",Y40<>"",AB40<>"",AH40<>"",AM40<>""),"CHECK","") -> CHECK
B41: WA | C41: 12056500 | D41: North Fork Skokomish River near Hdsprt, WA | F41: Yes | I41: eco_only | J41: Reference | K41: 1 | L41: 2014 | M41: A | N41: Riffle | O41: 41866 | P41: 41912 | Q41: 1 | S41: =IF(Q41>0,IF(R41<($O41-7),"EARLY",IF(R41>N($P41+7),"LATE","")),"") -> EARLY | T41: 0 | V41: =IF(T41>0,IF(U41<($O41-7),"EARLY",IF(U41>N($P41+7),"LATE","")),"") | W41: 1 | Y41: =IF(W41>0,IF(X41<($O41-7),"EARLY",IF(X41>N($P41+7),"LATE","")),"") -> EARLY | Z41: 1 | AB41: =IF(Z41>0,IF(AA41<($O41-7),"EARLY",IF(AA41>N($P41+7),"LATE","")),"") -> EARLY | AF41: 0 | AH41: =IF(AF41>0,IF(AG41<($AC41-7),"EARLY",IF(AG41>N($AD41+7),"LATE","")),"") | AI41: 41866 | AJ41: 41912 | AK41: 1 | AM41: =IF(AK41>0,IF(AL41<($AI41-7),"EARLY",IF(AL41>N($AJ41+7),"LATE","")),"") -> EARLY | AN41: =IF(OR(S41<>"",V41<>"",Y41<>"",AB41<>"",AH41<>"",AM41<>""),"CHECK","") -> CHECK | AO41: No fish collected at this site
...

Sheet Sample counts
A1: SC Collecting Samples | B1: Suspended Sediment Samples | C1: SH 998/1201 Major Ion Samples | D1: SH 998/1201 Major Ions Blanks | E1: SH 2430/31/32 Nutrients Samples | F1: Nutrient Blanks | G1: SH2437 Pesticide Samples | H1: SH2437 Pesticide Blanks | I1: LC 2172 Inverts RTH | J1: LC 2176 Inverts QMH | K1: Algae RTH | L1: SH 1632 Chl a
A2: AL | B2: ='WY2014 NFSN Chem Sampling'!$O$7+'WY2014 NFSN Chem Sampling'!$Q$7 -> 34 | C2: ='WY2014 NFSN Chem Sampling'!$S$7+'WY2014 NFSN Chem Sampling'!$U$7 -> 34 | D2: ='WY2014 NFSN Chem Sampling'!$W$7 -> 2 | E2: ='WY2014 NFSN Chem Sampling'!$Y$7+'WY2014 NFSN Chem Sampling'!$AA$7 -> 34 | F2: ='WY2014 NFSN Chem Sampling'!$AC$7 -> 2 | G2: ='WY2014 NFSN Chem Sampling'!AG7+'WY2014 NFSN Chem Sampling'!AK7+'WY2014 NFSN Chem Sampling'!AM7 -> 36 | H2: ='WY2014 NFSN Chem Sampling'!$AI$7 -> 2 | I2: 0 | J2: 0 | K2: 0 | L2: 0
A3: AK | B3: ='WY2014 NFSN Chem Sampling'!$O$10+'WY2014 NFSN Chem Sampling'!$Q$10 -> 8 | C3: ='WY2014 NFSN Chem Sampling'!$S$10+'WY2014 NFSN Chem Sampling'!$U$10 -> 7 | D3: ='WY2014 NFSN Chem Sampling'!$W$10 -> 1 | E3: ='WY2014 NFSN Chem Sampling'!$Y$10+'WY2014 NFSN Chem Sampling'!$AA$10 -> 7 | F3: ='WY2014 NFSN Chem Sampling'!$AC$10 -> 1 | G3: ='WY2014 NFSN Chem Sampling'!AG10+'WY2014 NFSN Chem Sampling'!AK10+'WY2014 NFSN Chem Sampling'!AM10 -> 3 | H3: ='WY2014 NFSN Chem Sampling'!$AI$10 -> 1 | I3: 0 | J3: 0 | K3: 0 | L3: 0
A4: AZ | B4: ='WY2014 NFSN Chem Sampling'!$O$16+'WY2014 NFSN Chem Sampling'!$Q$16 -> 42 | C4: ='WY2014 NFSN Chem Sampling'!$S$16+'WY2014 NFSN Chem Sampling'!$U$16 -> 41 | D4: ='WY2014 NFSN Chem Sampling'!$W$16 -> 3 | E4: ='WY2014 NFSN Chem Sampling'!$Y$16+'WY2014 NFSN Chem Sampling'!$AA$16 -> 41 | F4: ='WY2014 NFSN Chem Sampling'!$AC$16 -> 3 | G4: ='WY2014 NFSN Chem Sampling'!AG16+'WY2014 NFSN Chem Sampling'!AK16+'WY2014 NFSN Chem Sampling'!AM16 -> 30 | H4: ='WY2014 NFSN Chem Sampling'!$AI$16 -> 2 | I4: ='WY2014 NFSN Eco Sampling'!$Q$5+'WY2014 NFSN Eco Sampling'!$Q$6 -> 2 | J4: ='WY2014 NFSN Eco Sampling'!$T$5+'WY2014 NFSN Eco Sampling'!$T$6 -> 0 | K4: ='WY2014 NFSN Eco Sampling'!$W$5+'WY2014 NFSN Eco Sampling'!$W$6 -> 2 | L4: ='WY2014 NFSN Eco Sampling'!$Z$5+'WY2014 NFSN Eco Sampling'!$Z$6 -> 2
A5: AR | B5: ='WY2014 NFSN Chem Sampling'!$O$21+'WY2014 NFSN Chem Sampling'!$Q$21 -> 29 | C5: ='WY2014 NFSN Chem Sampling'!$S$21+'WY2014 NFSN Chem Sampling'!$U$21 -> 28 | D5: ='WY2014 NFSN Chem Sampling'!$W$21 -> 2 | E5: ='WY2014 NFSN Chem Sampling'!$Y$21+'WY2014 NFSN Chem Sampling'!$AA$21 -> 28 | F5: ='WY2014 NFSN Chem Sampling'!$AC$21 -> 2 | G5: ='WY2014 NFSN Chem Sampling'!AG21+'WY2014 NFSN Chem Sampling'!AK21+'WY2014 NFSN Chem Sampling'!AM21 -> 16 | H5: ='WY2014 NFSN Chem Sampling'!$AI$21 -> 1 | I5: ='WY2014 NFSN Eco Sampling'!$Q$7+'WY2014 NFSN Eco Sampling'!$Q$8 -> 2 | J5: ='WY2014 NFSN Eco Sampling'!$T$7+'WY2014 NFSN Eco Sampling'!$T$8 -> 0 | K5: ='WY2014 NFSN Eco Sampling'!$W$7+'WY2014 NFSN Eco Sampling'!$W$8 -> 2 | L5: ='WY2014 NFSN Eco Sampling'!$Z$7+'WY2014 NFSN Eco Sampling'!$Z$8 -> 2
A6: CA | B6: ='WY2014 NFSN Chem Sampling'!$O$30+'WY2014 NFSN Chem Sampling'!$Q$30 -> 84 | C6: ='WY2014 NFSN Chem Sampling'!$S$30+'WY2014 NFSN Chem Sampling'!$U$30 -> 84 | D6: ='WY2014 NFSN Chem Sampling'!$W$30 -> 5 | E6: ='WY2014 NFSN Chem Sampling'!$Y$30+'WY2014 NFSN Chem Sampling'!$AA$30 -> 84 | F6: ='WY2014 NFSN Chem Sampling'!$AC$30 -> 5 | G6: ='WY2014 NFSN Chem Sampling'!AG30+'WY2014 NFSN Chem Sampling'!AK30+'WY2014 NFSN Chem Sampling'!AM30 -> 74 | H6: ='WY2014 NFSN Chem Sampling'!$AI$30 -> 4 | I6: ='WY2014 NFSN Eco Sampling'!$Q$9+'WY2014 NFSN Eco Sampling'!$Q$10+'WY2014 NFSN Eco Sampling'!$Q$11 -> 3 | J6: ='WY2014 NFSN Eco Sampling'!$T$9+'WY2014 NFSN Eco Sampling'!$T$10+'WY2014 NFSN Eco Sampling'!$T$11 -> 0 | K6: ='WY2014 NFSN Eco Sampling'!$W$9+'WY2014 NFSN Eco Sampling'!$W$10+'WY2014 NFSN Eco Sampling'!$W$11 -> 3 | L6: ='WY2014 NFSN Eco Sampling'!$Z$9+'WY2014 NFSN Eco Sampling'!$Z$10+'WY2014 NFSN Eco Sampling'!$Z$11 -> 3
A7: CO | B7: ='WY2014 NFSN Chem Sampling'!$O$35+'WY2014 NFSN Chem Sampling'!$Q$35 -> 63 | C7: ='WY2014 NFSN Chem Sampling'!$S$35+'WY2014 NFSN Chem Sampling'!$U$35 -> 63 | D7: ='WY2014 NFSN Chem Sampling'!$W$35 -> 3 | E7: ='WY2014 NFSN Chem Sampling'!$Y$35+'WY2014 NFSN Chem Sampling'!$AA$35 -> 64 | F7: ='WY2014 NFSN Chem Sampling'!$AC$35 -> 4 | G7: ='WY2014 NFSN Chem Sampling'!AG35+'WY2014 NFSN Chem Sampling'!AK35+'WY2014 NFSN Chem Sampling'!AM35 -> 66 | H7: ='WY2014 NFSN Chem Sampling'!$AI$35 -> 3 | I7: ='WY2014 NFSN Eco Sampling'!$Q$12 -> 1 | J7: ='WY2014 NFSN Eco Sampling'!$T$12 -> 0 | K7: ='WY2014 NFSN Eco Sampling'!$W$12 -> 1 | L7: ='WY2014 NFSN Eco Sampling'!$Z$12 -> 1
A8: CT | B8: ='WY2014 NFSN Chem Sampling'!$O$40+'WY2014 NFSN Chem Sampling'!$Q$40 -> 51 | C8: ='WY2014 NFSN Chem Sampling'!$S$40+'WY2014 NFSN Chem Sampling'!$U$40 -> 50 | D8: ='WY2014 NFSN Chem Sampling'!$W$40 -> 3 | E8: ='WY2014 NFSN Chem Sampling'!$Y$40+'WY2014 NFSN Chem Sampling'!$AA$40 -> 51 | F8: ='WY2014 NFSN Chem Sampling'!$AC$40 -> 4 | G8: ='WY2014 NFSN Chem Sampling'!AG40+'WY2014 NFSN Chem Sampling'!AK40+'WY2014 NFSN Chem Sampling'!AM40 -> 46 | H8: ='WY2014 NFSN Chem Sampling'!$AI$40 -> 2 | I8: ='WY2014 NFSN Eco Sampling'!$Q$13+'WY2014 NFSN Eco Sampling'!$Q$14 -> 2 | J8: ='WY2014 NFSN Eco Sampling'!$T$13+'WY2014 NFSN Eco Sampling'!$T$14 -> 0 | K8: ='WY2014 NFSN Eco Sampling'!$W$13+'WY2014 NFSN Eco Sampling'!$W$14 -> 2 | L8: ='WY2014 NFSN Eco Sampling'!$Z$13+'WY2014 NFSN Eco Sampling'!$Z$14 -> 2
A9: FL | B9: ='WY2014 NFSN Chem Sampling'!$O$43+'WY2014 NFSN Chem Sampling'!$Q$43 -> 15 | C9: ='WY2014 NFSN Chem Sampling'!$S$43+'WY2014 NFSN Chem Sampling'!$U$43 -> 15 | D9: ='WY2014 NFSN Chem Sampling'!$W$43 -> 1 | E9: ='WY2014 NFSN Chem Sampling'!$Y$43+'WY2014 NFSN Chem Sampling'!$AA$43 -> 15 | F9: ='WY2014 NFSN Chem Sampling'!$AC$43 -> 1 | G9: ='WY2014 NFSN Chem Sampling'!AG43+'WY2014 NFSN Chem Sampling'!AK43+'WY2014 NFSN Chem Sampling'!AM43 -> 16 | H9: ='WY2014 NFSN Chem Sampling'!$AI$43 -> 1 | I9: 0 | J9: 0 | K9: 0 | L9: 0
A10: GA | B10: ='WY2014 NFSN Chem Sampling'!$O$48+'WY2014 NFSN Chem Sampling'!$Q$48 -> 47 | C10: ='WY2014 NFSN Chem Sampling'!$S$48+'WY2014 NFSN Chem Sampling'!$U$48 -> 47 | D10: ='WY2014 NFSN Chem Sampling'!$W$48 -> 2 | E10: ='WY2014 NFSN Chem Sampling'!$Y$48+'WY2014 NFSN Chem Sampling'!$AA$48 -> 48 | F10: ='WY2014 NFSN Chem Sampling'!$AC$48 -> 3 | G10: ='WY2014 NFSN Chem Sampling'!AG48+'WY2014 NFSN Chem Sampling'!AK48+'WY2014 NFSN Chem Sampling'!AM48 -> 42 | H10: ='WY2014 NFSN Chem Sampling'!$AI$48 -> 2 | I10: ='WY2014 NFSN Eco Sampling'!$Q$15+'WY2014 NFSN Eco Sampling'!$Q$16 -> 2 | J10: ='WY2014 NFSN Eco Sampling'!$T$15+'WY2014 NFSN Eco Sampling'!$T$16 -> 0 | K10: ='WY2014 NFSN Eco Sampling'!$W$15+'WY2014 NFSN Eco Sampling'!$W$16 -> 2 | L10: ='WY2014 NFSN Eco Sampling'!$Z$15+'WY2014 NFSN Eco Sampling'!$Z$16 -> 2
A11: ID | B11: ='WY2014 NFSN Chem Sampling'!$O$52+'WY2014 NFSN Chem Sampling'!$Q$52 -> 40 | C11: ='WY2014 NFSN Chem Sampling'!$S$52+'WY2014 NFSN Chem Sampling'!$U$52 -> 40 | D11: ='WY2014 NFSN Chem Sampling'!$W$52 -> 2 | E11: ='WY2014 NFSN Chem Sampling'!$Y$52+'WY2014 NFSN Chem Sampling'!$AA$52 -> 41 | F11: ='WY2014 NFSN Chem Sampling'!$AC$52 -> 3 | G11: ='WY2014 NFSN Chem Sampling'!AG52+'WY2014 NFSN Chem Sampling'!AK52+'WY2014 NFSN Chem Sampling'!AM52 -> 42 | H11: ='WY2014 NFSN Chem Sampling'!$AI$52 -> 2 | I11: ='WY2014 NFSN Eco Sampling'!$Q$17 -> 1 | J11: ='WY2014 NFSN Eco Sampling'!$T$17 -> 0 | K11: ='WY2014 NFSN Eco Sampling'!$W$17 -> 1 | L11: ='WY2014 NFSN Eco Sampling'!$Z$17 -> 1
A12: IL | B12: ='WY2014 NFSN Chem Sampling'!$O$55+'WY2014 NFSN Chem Sampling'!$Q$55 -> 15 | C12: ='WY2014 NFSN Chem Sampling'!$S$55+'WY2014 NFSN Chem Sampling'!$U$55 -> 15 | D12: ='WY2014 NFSN Chem Sampling'!$W$55 -> 1 | E12: ='WY2014 NFSN Chem Sampling'!$Y$55+'WY2014 NFSN Chem Sampling'!$AA$55 -> 15 | F12: ='WY2014 NFSN Chem Sampling'!$AC$55 -> 1 | G12: ='WY2014 NFSN Chem Sampling'!AG55+'WY2014 NFSN Chem Sampling'!AK55+'WY2014 NFSN Chem Sampling'!AM55 -> 16 | H12: ='WY2014 NFSN Chem Sampling'!$AI$55 -> 1 | I12: 0 | J12: 0 | K12: 0 | L12: 0
A13: IN | B13: ='WY2014 NFSN Chem Sampling'!$O$59+'WY2014 NFSN Chem Sampling'!$Q$59 -> 44 | C13: ='WY2014 NFSN Chem Sampling'!$S$59+'WY2014 NFSN Chem Sampling'!$U$59 -> 44 | D13: ='WY2014 NFSN Chem Sampling'!$W$59 -> 2 | E13: ='WY2014 NFSN Chem Sampling'!$Y$59+'WY2014 NFSN Chem Sampling'!$AA$59 -> 45 | F13: ='WY2014 NFSN Chem Sampling'!$AC$59 -> 3 | G13: ='WY2014 NFSN Chem Sampling'!AG59+'WY2014 NFSN Chem Sampling'!AK59+'WY2014 NFSN Chem Sampling'!AM59 -> 46 | H13: ='WY2014 NFSN Chem Sampling'!$AI$59 -> 2 | I13: ='WY2014 NFSN Eco Sampling'!$Q$18 -> 1 | J13: ='WY2014 NFSN Eco Sampling'!$T$18 -> 0 | K13: ='WY2014 NFSN Eco Sampling'!$W$18 -> 1 | L13: ='WY2014 NFSN Eco Sampling'!$Z$18 -> 1
A14: IA | B14: ='WY2014 NFSN Chem Sampling'!$O$66+'WY2014 NFSN Chem Sampling'!$Q$66 -> 85 | C14: ='WY2014 NFSN Chem Sampling'!$S$66+'WY2014 NFSN Chem Sampling'!$U$66 -> 85 | D14: ='WY2014 NFSN Chem Sampling'!$W$66 -> 5 | E14: ='WY2014 NFSN Chem Sampling'!$Y$66+'WY2014 NFSN Chem Sampling'!$AA$66 -> 86 | F14: ='WY2014 NFSN Chem Sampling'!$AC$66 -> 6 | G14: ='WY2014 NFSN Chem Sampling'!AG66+'WY2014 NFSN Chem Sampling'!AK66+'WY2014 NFSN Chem Sampling'!AM66 -> 90 | H14: ='WY2014 NFSN Chem Sampling'!$AI$66 -> 5 | I14: ='WY2014 NFSN Eco Sampling'!$Q$19 -> 1 | J14: ='WY2014 NFSN Eco Sampling'!$T$19 -> 0 | K14: ='WY2014 NFSN Eco Sampling'!$W$19 -> 1 | L14: ='WY2014 NFSN Eco Sampling'!$Z$19 -> 1
A15: KS | B15: ='WY2014 NFSN Chem Sampling'!$O$70+'WY2014 NFSN Chem Sampling'!$Q$70 -> 34 | C15: ='WY2014 NFSN Chem Sampling'!$S$70+'WY2014 NFSN Chem Sampling'!$U$70 -> 34 | D15: ='WY2014 NFSN Chem Sampling'!$W$70 -> 2 | E15: ='WY2014 NFSN Chem Sampling'!$Y$70+'WY2014 NFSN Chem Sampling'!$AA$70 -> 34 | F15: ='WY2014 NFSN Chem Sampling'!$AC$70 -> 2 | G15: ='WY2014 NFSN Chem Sampling'!AG70+'WY2014 NFSN Chem Sampling'!AK70+'WY2014 NFSN Chem Sampling'!AM70 -> 36 | H15: ='WY2014 NFSN Chem Sampling'!$AI$70 -> 2 | I15: 0 | J15: 0 | K15: 0 | L15: 0
A16: KY | B16: ='WY2014 NFSN Chem Sampling'!$O$76+'WY2014 NFSN Chem Sampling'!$Q$76 -> 60 | C16: ='WY2014 NFSN Chem Sampling'!$S$76+'WY2014 NFSN Chem Sampling'!$U$76 -> 60 | D16: ='WY2014 NFSN Chem Sampling'!$W$76 -> 4 | E16: ='WY2014 NFSN Chem Sampling'!$Y$76+'WY2014 NFSN Chem Sampling'!$AA$76 -> 60 | F16: ='WY2014 NFSN Chem Sampling'!$AC$76 -> 4 | G16: ='WY2014 NFSN Chem Sampling'!AG76+'WY2014 NFSN Chem Sampling'!AK76+'WY2014 NFSN Chem Sampling'!AM76 -> 64 | H16: ='WY2014 NFSN Chem Sampling'!$AI$76 -> 4 | I16: 0 | J16: 0 | K16: 0 | L16: 0
A17: LA | B17: ='WY2014 NFSN Chem Sampling'!$O$85+'WY2014 NFSN Chem Sampling'!$Q$85 -> 101 | C17: ='WY2014 NFSN Chem Sampling'!$S$85+'WY2014 NFSN Chem Sampling'!$U$85 -> 100 | D17: ='WY2014 NFSN Chem Sampling'!$W$85 -> 7 | E17: ='WY2014 NFSN Chem Sampling'!$Y$85+'WY2014 NFSN Chem Sampling'!$AA$85 -> 100 | F17: ='WY2014 NFSN Chem Sampling'!$AC$85 -> 7 | G17: ='WY2014 NFSN Chem Sampling'!AG85+'WY2014 NFSN Chem Sampling'!AK85+'WY2014 NFSN Chem Sampling'!AM85 -> 100 | H17: ='WY2014 NFSN Chem Sampling'!$AI$85 -> 6 | I17: ='WY2014 NFSN Eco Sampling'!$Q$20 -> 1 | J17: ='WY2014 NFSN Eco Sampling'!$T$20 -> 0 | K17: ='WY2014 NFSN Eco Sampling'!$W$20 -> 1 | L17: ='WY2014 NFSN Eco Sampling'!$Z$20 -> 1
A18: MD | B18: ='WY2014 NFSN Chem Sampling'!$O$91+'WY2014 NFSN Chem Sampling'!$Q$91 -> 66 | C18: ='WY2014 NFSN Chem Sampling'!$S$91+'WY2014 NFSN Chem Sampling'!$U$91 -> 66 | D18: ='WY2014 NFSN Chem Sampling'!$W$91 -> 3 | E18: ='WY2014 NFSN Chem Sampling'!$Y$91+'WY2014 NFSN Chem Sampling'!$AA$91 -> 67 | F18: ='WY2014 NFSN Chem Sampling'!$AC$91 -> 4 | G18: ='WY2014 NFSN Chem Sampling'!AG91+'WY2014 NFSN Chem Sampling'!AK91+'WY2014 NFSN Chem Sampling'!AM91 -> 62 | H18: ='WY2014 NFSN Chem Sampling'!$AI$91 -> 3 | I18: ='WY2014 NFSN Eco Sampling'!$Q$21+'WY2014 NFSN Eco Sampling'!$Q$22 -> 2 | J18: ='WY2014 NFSN Eco Sampling'!$T$21+'WY2014 NFSN Eco Sampling'!$T$22 -> 0 | K18: ='WY2014 NFSN Eco Sampling'!$W$21+'WY2014 NFSN Eco Sampling'!$W$22 -> 2 | L18: ='WY2014 NFSN Eco Sampling'!$Z$21+'WY2014 NFSN Eco Sampling'!$Z$22 -> 2
