Workbook

Sheet chem site information
A1: CYCLE II SU | B1: Science Center (SC) | C1: STATION ID | D1: STATION NAME | E1: CYCLE II SITE (145) | F1: CYCLE II SITE (84) | G1: CYCLE II SITE TYPE | H1: CYCLE II SITE SAMPLING SCHEDULE | I1: SAMPLED FOR ECOLOGY Cycle II | J1: SAMPLED FOR ECOLOGY Cycle III | K1: PROPOSED COST CENTER TO DO SAMPLING | L1: NUMBER OF SAMPLES IN 2014 | M1: SITE OFFICE | N1: SITE SIZE | O1: LOW FLOW SITE TYPE | P1: HIGH FLOW SITE TYPE | Q1: Comments
A2: NASQAN | B2: AK | C2: 15565447 | D2: Yukon River at Pilot Station, AK | E2: N | F2: N | G2: NA | H2: NA | I2: N | J2: N | K2: Anchorage, AK | L2: 7 | M2: Anchorage, AK | N2: large | O2: boat | P2: boat
A3: NASQAN | B3: AL | C3: 02470500 | D3: Mobile River at Mt. Vernon, AL | E3: N | F3: N | G3: NA | H3: NA | I3: N | J3: N | K3: Montgomery, AL | L3: 14 | M3: Montgomery, AL | N3: large | O3: boat | P3: boat
A4: MOBL | B4: AL | C4: 02469762 | D4: Tombigbee River near Coffeeville, AL | E4: Y | F4: Y | G4: Integ | H4: rotate4 | I4: N | J4: N | K4: Montgomery, AL | L4: 18 | M4: Montgomery, AL | N4: large | O4: boat | P4: boat
A5: NASQAN | B5: AR | C5: 07263620 | D5: Arkansas River at Terry L&D below Little Rock, AR | E5: N | F5: N | G5: NA | H5: NA | I5: N | J5: N | K5: Little Rock, AR | L5: 14 | M5: Little Rock, AR | N5: large | O5: boat | P5: boat
A6: OZRK | B6: AR | C6: 07055646 | D6: Buffalo River near Boxley, AR | E6: Y | F6: N | G6: Ref | H6: rotate4 | I6: N | J6: Y | K6: Little Rock, AR | L6: 6 | M6: Little Rock, AR | N6: medium | O6: wading | P6: bridge
A7: OZRK | B7: AR | C7: 07060710 | D7: North Sylamore Creek near Fifty Six, AR | E7: Y | F7: Y | G7: Ref | H7: rotate4 | I7: Y | J7: Y | K7: Little Rock, AR | L7: 6 | M7: Little Rock, AR | N7: small | O7: wading | P7: bridge
A8: CAZB | B8: AZ | C8: 09471000 | D8: San Pedro River at Charleston, AZ | E8: Y | F8: N | G8: Ref | H8: rotate4 | I8: N | J8: Y | K8: Tucson, AZ | L8: 6 | M8: Tucson, AZ | N8: small | O8: wading | P8: bridge
A9: CAZB | B9: AZ | C9: 09505800 | D9: West Clear Creek near Camp Verde, AZ | E9: Y | F9: Y | G9: Ref | H9: rotate4 | I9: Y | J9: Y | K9: Tucson, AZ | L9: 6 | M9: Tucson, AZ | N9: small | O9: wading | P9: cableway
A10: CO-OP | B10: AZ | C10: 09380000 | D10: Colorado River at Lees Ferry, AZ | E10: N | F10: N | G10: NA | H10: NA | I10: N | J10: N | K10: Tucson, AZ | L10: 14 | M10: Flagstaff, AZ | N10: large | O10: boat | P10: cableway
A11: NASQAN | B11: AZ | C11: 09522000 | D11: Colorado River at NIB | E11: N | F11: N | G11: NA | H11: NA | I11: N | J11: N | K11: Tucson, AZ | L11: 12 | M11: Yuma, AZ | N11: large | O11: boat | P11: cableway
A12: NASQAN/SACR | B12: CA | C12: 11447650 | D12: Sacramento River at Freeport, CA | E12: Y | F12: Y | G12: Integ | H12: rotate4 | I12: N | J12: N | K12: Sacramento, CA | L12: 14 | M12: Sacramento, CA | N12: large | O12: bridge | P12: bridge
A13: SANJ | B13: CA | C13: 11274538 | D13: Orestimba Creek near Crows Landing, CA | E13: Y | F13: Y | G13: Ag | H13: rotate4 | I13: Y | J13: Y | K13: Sacramento, CA | L13: 24 | M13: Sacramento, CA | N13: small | O13: wading | P13: bridge
... A15: SANJ | B15: CA | C15: 11335000 | D15: Cosumnes River at Michigan Bar, CA | E15: Y | F15: Y | G15: Ref | H15: eco_only | I15: Y | J15: Y | K15: Sacramento, CA | L15: 6 | M15: Sacramento, CA | N15: small | O15: wading | P15: bridge
A16: NA | B16: CA | C16: 11264500 | D16: Merced River at Happy Isles Bridge nr Yosemite, CA | E16: N | F16: N | G16: Ref | H16: NA | I16: N | J16: Y | K16: San Diego, CA | L16: 6 | M16: Sacramento, CA | N16: small | O16: wading | P16: bridge
A17: SOCA | B17: CA | C17: 11074000 | D17: Santa Ana River below Prado Dam, CA | E17: Y | F17: Y | G17: Integ | H17: urbcore | I17: N | J17: N | K17: San Diego, CA | L17: 18 | M17: San Diego, CA | N17: small | O17: wading | P17: cableway
A18: SPLT | B18: CO | C18: 06713500 | D18: Cherry Creek at Denver, CO | E18: Y | F18: Y | G18: Urban | H18: rotate2 | I18: Y | J18: Y | K18: Lakewood, CO | L18: 24 | M18: Lakewood, CO | N18: small | O18: wading | P18: bridge
A19: SPLT | B19: CO | C19: 06754000 | D19: South Platte River near Kersey, CO | E19: Y | F19: Y | G19: Integ | H19: rotate4 | I19: N | J19: N | K19: Lakewood, CO | L19: 18 | M19: Lakewood, CO | N19: medium | O19: wading | P19: bridge
A20: UCOL | B20: CO | C20: 09163500 | D20: Colorado River near Colorado-Utah state line | E20: Y | F20: Y | G20: Integ | H20: rotate4 | I20: N | J20: N | K20: Lakewood, CO | L20: 18 | M20: Grand Junction, CO | N20: large | O20: boat | P20: cableway
A21: CONN | B21: CT | C21: 01170100 | D21: Green River near Colrain, MA | E21: Y | F21: Y | G21: Ref | H21: rotate4 | I21: Y | J21: Y | K21: East Hartford, CT | L21: 6 | M21: East Hartford, CT | N21: small | O21: wading | P21: bridge
A22: CONN | B22: CT | C22: 01184000 | D22: Connecticut River at Thompsonville, CT | E22: Y | F22: Y | G22: Integ | H22: rotate4 | I22: N | J22: N | K22: East Hartford, CT | L22: 18 | M22: East Hartford, CT | N22: large | O22: boat | P22: boat
A23: CONN | B23: CT | C23: 01209710 | D23: Norwalk River at Winnipauk,CT | E23: Y | F23: Y | G23: Urban | H23: rotate4 | I23: Y | J23: Y | K23: East Hartford, CT | L23: 24 | M23: East Hartford, CT | N23: small | O23: wading | P23: bridge
A24: NMN | B24: FL | C24: 02359170 | D24: Apalachicola River near Sumatra, FL | E24: N | F24: N | G24: NA | H24: NA | I24: N | J24: N | K24: Tallahassee, FL | L24: 14 | M24: Tallahassee, FL | N24: large | O24: boat | P24: boat
A25: ACFB | B25: GA | C25: 02335870 | D25: Sope Creek near Marietta, GA | E25: Y | F25: Y | G25: Urban | H25: rotate2 | I25: Y | J25: Y | K25: Atlanta, GA | L25: 24 | M25: Atlanta, GA | N25: small | O25: wading | P25: bridge
A26: ACFB | B26: GA | C26: 02338523 | D26: Hillibahatchee Creek near Franklin, GA | E26: Y | F26: Y | G26: Ref | H26: rotate4 | I26: Y | J26: Y | K26: Atlanta, GA | L26: 6 | M26: Atlanta, GA | N26: small | O26: wading | P26: bridge
A27: NASQAN | B27: GA | C27: 02226160 | D27: Altamaha River at Everett City, GA | E27: N | F27: N | G27: NA | H27: NA | I27: N | J27: N | K27: Atlanta, GA | L27: 14 | M27: Atlanta, GA | N27: large | O27: boat | P27: boat
A28: EIWA | B28: IA | C28: 05451210 | D28: South Fork Iowa River near New Providence, IA | E28: Y | F28: Y | G28: Ag | H28: rotate2 | I28: Y | J28: Y | K28: Iowa City, IA | L28: 24 | M28: Iowa City, IA | N28: small | O28: wading | P28: bridge
... A31: NASQAN | B31: IA | C31: 05420500 | D31: Mississippi River at Clinton, IA | E31: N | F31: N | G31: NA | H31: NA | I31: N | J31: N | K31: Iowa City, IA | L31: 14 | M31: Iowa City, IA | N31: large | O31: boat | P31: boat
A32: NASQAN | B32: IA | C32: 06610000 | D32: Missouri River at Omaha, NE | G32: NA | H32: NA | I32: N | J32: N | K32: Iowa City, IA | L32: 14 | M32: Council Bluffs, IA | N32: large | O32: boat | P32: boat
A33: USNK | B33: ID | C33: 13092747 | D33: Rock Creek at Twin Falls, ID | E33: Y | F33: Y | G33: Ag | H33: rotate4 | I33: Y | J33: Y | K33: Boise, ID | L33: 24 | M33: Boise, ID | N33: small | O33: wading | P33: bridge
A34: USNK | B34: ID | C34: 13154500 | D34: Snake River at King Hill, ID | E34: Y | F34: Y | G34: Integ | H34: rotate4 | I34: N | J34: N | K34: Boise, ID | L34: 14 | M34: Boise, ID | N34: large | O34: cableway | P34: cableway
A35: NASQAN/LIRB | B35: IL | C35: 05586100 | D35: Illinois River at Valley City, IL | E35: Y | F35: Y | G35: Integ | H35: rotate4 | I35: N | J35: N | K35: Urbana, IL | L35: 14 | M35: Urbana, IL | N35: large | O35: boat | P35: boat
A36: NASQAN/WHMI | B36: IN | C36: 03374100 | D36: White River at Hazleton, IN | E36: Y | F36: Y | G36: Integ | H36: agcore | I36: N | J36: N | K36: Indianapolis, IN | L36: 18 | M36: Indianapolis, IN | N36: large | O36: bridge | P36: bridge
A37: WHMI | B37: IN | C37: 394340085524601 | D37: Sugar Creek at New Palestine, IN | E37: Y | F37: Y | G37: Ag | H37: rotate2 | I37: Y | J37: Y | K37: Indianapolis, IN | L37: 24 | M37: Indianapolis, IN | N37: small | O37: wading | P37: bridge
A38: CO-OP | B38: KS | C38: 06892350 | D38: Kansas River at DeSoto, KS | E38: N | F38: N | G38: NA | H38: NA | I38: N | J38: N | K38: Lawrence, KS | L38: 14 | M38: Lawrence, KS | N38: large
A39: CO-OP | B39: KS | C39: 07144100 | D39: Lower Arkansas River near Sedgwick, KS | E39: N | F39: N | G39: NA | H39: NA | I39: N | J39: N | K39: Lawrence, KS | L39: 18 | M39: Lawrence, KS | N39: large
A40: NASQAN | B40: KY | C40: 03303280 | D40: Ohio River at Cannelton Dam at Cannelton, IN | E40: N | F40: N | G40: NA | H40: NA | I40: N | J40: N | K40: Louisville, KY | L40: 14 | M40: Murray, KY | N40: large | O40: boat | P40: boat
A41: NASQAN | B41: KY | C41: 03378500 | D41: Wabash River at New Harmony, IN | E41: N | F41: N | G41: NA | H41: NA | I41: N | J41: N | K41: Louisville, KY | L41: 14 | M41: Murray, KY | N41: large | O41: boat | P41: boat
A42: NASQAN | B42: KY | C42: 03609750 | D42: Tennessee River at Highway 60 near Paducah, KY | E42: N | F42: N | G42: NA | H42: NA | I42: N | J42: N | K42: Louisville, KY | L42: 14 | M42: Murray, KY | N42: large | O42: boat | P42: boat
A43: NASQAN | B43: KY | C43: 03612500 | D43: Ohio River at Dam 53 near Grand Chain, IL | E43: N | F43: N | G43: NA | H43: NA | I43: N | J43: N | K43: Louisville, KY | L43: 14 | M43: Murray, KY | N43: large | O43: boat | P43: boat
...

Sheet FY14 chem site costs
A1: SC | B1: STATION ID | C1: STATION NAME | D1: CYCLE 3 SITE TYPE | E1: FY14 sample collection site target NAWQA | F1: FY14 sample collection site target NASQAN | G1: FY14 sample collection site target NMN | H1: FY14 streamgaging site target NAWQA | I1: FY14 streamgaging site target NASQAN | J1: FY14 streamgaging site target NMN
A2: AK | B2: 15565447 | C2: Yukon River at Pilot Station, AK | D2: Coastal Rivers | E2: 0 | F2: 76500 | G2: 0 | H2: 0 | I2: 0 | J2: 0
A3: AL | B3: 02470500 | C3: Mobile River at Mt. Vernon, AL | D3: Coastal Rivers | E3: 0 | F3: 78000 | G3: 0 | H3: 0 | I3: 0 | J3: 0
A4: AL | B4: 02469762 | C4: Tombigbee River near Coffeeville, AL | D4: Large Inland Rivers | E4: 86500 | F4: 0 | G4: 0 | H4: 0 | I4: 0 | J4: 0
A5: AR | B5: 07263620 | C5: Arkansas River at Terry L&D below Little Rock, AR | D5: Large Inland Rivers | E5: 0 | F5: 56000 | G5: 0 | H5: 0 | I5: 5500 | J5: 0
A6: AR | B6: 07055646 | C6: Buffalo River near Boxley, AR | D6: reference | E6: 20000 | F6: 0 | G6: 0 | H6: 0 | I6: 0 | J6: 0
A7: AR | B7: 07060710 | C7: North Sylamore Creek near Fifty Six, AR | D7: reference | E7: 19000 | F7: 0 | G7: 0 | H7: 0 | I7: 0 | J7: 0
A8: AZ | B8: 09471000 | C8: San Pedro River at Charleston, AZ | D8: reference | E8: 25500 | F8: 0 | G8: 0 | H8: 0 | I8: 0 | J8: 0
A9: AZ | B9: 09505800 | C9: West Clear Creek near Camp Verde, AZ | D9: reference | E9: 28000 | F9: 0 | G9: 0 | H9: 0 | I9: 0 | J9: 0
A10: AZ | B10: 09380000 | C10: Colorado River at Lees Ferry, AZ | D10: Large Inland Rivers | E10: 66500 | F10: 0 | G10: 0 | H10: 0 | I10: 0 | J10: 0
A11: AZ | B11: 09522000 | C11: Colorado River at NIB | D11: Coastal Rivers | E11: 0 | F11: 50000 | G11: 0 | H11: 0 | I11: 0 | J11: 0
A12: CA | B12: 11447650 | C12: Sacramento River at Freeport, CA | D12: Coastal Rivers | E12: 69500 | F12: 0 | G12: 0 | H12: 0 | I12: 0 | J12: 0
A13: CA | B13: 11274538 | C13: Orestimba Creek near Crows Landing, CA | D13: Agriculture | E13: 72000 | F13: 0 | G13: 0 | H13: 22500 | I13: 0 | J13: 0
... A15: CA | B15: 11335000 | C15: Cosumnes River at Michigan Bar, CA | D15: reference | E15: 30000 | F15: 0 | G15: 0 | H15: 0 | I15: 0 | J15: 0
A16: CA | B16: 11264500 | C16: Merced River at Happy Isles Bridge nr Yosemite, CA | D16: reference | E16: 22500 | F16: 0 | G16: 0 | H16: 0 | I16: 0 | J16: 0
A17: CA | B17: 11074000 | C17: Santa Ana River below Prado Dam, CA | D17: Coastal Rivers | E17: 70000 | F17: 0 | G17: 0 | H17: 0 | I17: 0 | J17: 0
A18: CO | B18: 06713500 | C18: Cherry Creek at Denver, CO | D18: Urban | E18: 87000 | F18: 0 | G18: 0 | H18: 0 | I18: 0 | J18: 0
A19: CO | B19: 06754000 | C19: South Platte River near Kersey, CO | D19: Large Inland Rivers | E19: 84000 | F19: 0 | G19: 0 | H19: 0 | I19: 0 | J19: 0
A20: CO | B20: 09163500 | C20: Colorado River near Colorado-Utah state line | D20: Large Inland Rivers | E20: 78000 | F20: 0 | G20: 0 | H20: 0 | I20: 0 | J20: 0
A21: CT | B21: 01170100 | C21: Green River near Colrain, MA | D21: reference | E21: 34500 | F21: 0 | G21: 0 | H21: 0 | I21: 0 | J21: 0
A22: CT | B22: 01184000 | C22: Connecticut River at Thompsonville, CT | D22: Coastal Rivers | E22: 87500 | F22: 0 | G22: 0 | H22: 0 | I22: 0 | J22: 0
A23: CT | B23: 01209710 | C23: Norwalk River at Winnipauk,CT | D23: Urban | E23: 78000 | F23: 0 | G23: 0 | H23: 0 | I23: 0 | J23: 0
A24: FL | B24: 02359170 | C24: Apalachicola River near Sumatra, FL | D24: Coastal Rivers | E24: 0 | F24: 0 | G24: 54000 | H24: 0 | I24: 0 | J24: 0
A25: GA | B25: 02335870 | C25: Sope Creek near Marietta, GA | D25: Urban | E25: 81000 | F25: 0 | G25: 0 | H25: 0 | I25: 0 | J25: 0
A26: GA | B26: 02338523 | C26: Hillibahatchee Creek near Franklin, GA | D26: reference | E26: 40500 | F26: 0 | G26: 0 | H26: 15500 | I26: 0 | J26: 0
A27: GA | B27: 02226160 | C27: Altamaha River at Everett City, GA | D27: Coastal Rivers | E27: 0 | F27: 68000 | G27: 0 | H27: 0 | I27: 24500 | J27: 0
A28: IA | B28: 05451210 | C28: South Fork Iowa River near New Providence, IA | D28: Agriculture | E28: 90000 | F28: 0 | G28: 0 | H28: 15000 | I28: 0 | J28: 0
... A76: NY | B76: 01349150 | C76: Canajoharie Creek near Canajoharie, NY | D76: Agriculture | E76: 112000 | F76: 0 | G76: 0 | H76: 15500 | I76: 0 | J76: 0
A77: NY | B77: 4264331 | C77: St. Lawrence River at Cornwall, Ontario | D77: Large Inland Rivers | E77: 0 | F77: 54500 | G77: 0 | H77: 0 | I77: 0 | J77: 0
A78: NY | B78: 01372043 | C78: Hudson River near Poughkeepsie, NY | D78: Coastal Rivers | E78: 0 | F78: 0 | G78: 66500 | H78: 0 | I78: 0 | J78: 0
A79: OH | B79: 04193500 | C79: Maumee River at Waterville, OH | D79: Large Inland Rivers | E79: 83500 | F79: 0 | G79: 0 | H79: 0 | I79: 0 | J79: 0
A80: OK | B80: 07241550 | C80: North Canadian River near Harrah, OK | D80: Large Inland Rivers | E80: 21500 | F80: 0 | G80: 0 | H80: 0 | I80: 0 | J80: 0
A81: OR | B81: 14201300 | C81: Zollner Creek near Mt. Angel, OR | D81: Agriculture | E81: 91000 | F81: 0 | G81: 0 | H81: 17700 | I81: 0 | J81: 0
A82: OR | B82: 14205400 | C82: East Fork Dairy Creek near Meachan Corner, OR | D82: reference | E82: 27200 | F82: 0 | G82: 0 | H82: 17700 | I82: 0 | J82: 0
A83: OR | B83: 14206950 | C83: Fanno Creek at Durham, OR | D83: urban | E83: 83000 | F83: 0 | G83: 0 | H83: 9000 | I83: 0 | J83: 0
A84: OR | B84: 14211720 | C84: Willamette River at Portland, OR | D84: Large Inland Rivers | E84: 81000 | F84: 0 | G84: 0 | H84: 0 | I84: 0 | J84: 0
A85: OR | B85: 14246900 | C85: Columbia River near Beaver Army Terminal, OR | D85: Coastal Rivers | E85: 0 | F85: 64000 | G85: 0 | H85: 0 | I85: 0 | J85: 0
A86: SC | B86: 02172300 | C86: McTier Creek near Monetta, SC | D86: reference | E86: 31500 | F86: 0 | G86: 0 | H86: 17500 | I86: 0 | J86: 0
A87: SC | B87: 02175000 | C87: Edisto River near Givhans, SC | D87: Coastal Rivers | E87: 91000 | F87: 0 | G87: 0 | H87: 0 | I87: 0 | J87: 0
A88: TX | B88: 08057200 | C88: White Rock Creek at Dallas, TX | D88: urban | E88: 95000 | F88: 0 | G88: 0 | H88: 0 | I88: 0 | J88: 0
...

Sheet Eco site information
M1: Cycle 3 Sampling Schedule
A2: sc | B2: Station number | C2: Station name | D2: PROPOSED COST CENTER TO DO SAMPLING | E2: Cycle III site type | F2: Eco-region | G2: RTH (Snag or Riffle) | H2: RT Miles to Site | I2: RT Travel Time to Site (hrs) | J2: Fish Rela-tive Rich- ness | K2: Fish Rich- ness factor | L2: Area (sq km) | M2: 2013 | N2: 2014 | O2: 2015 | P2: 2016 | Q2: 2017 | R2: 2018 | S2: 2019 | T2: 2020 | U2: 2021 | V2: 2022
A3: AR | B3: 07055646 | C3: Buffalo River near Boxley, AR | D3: Little Rock, AR | E3: Reference | F3: 38 | G3: Riffle | H3: 380 | I3: 8.2 | J3: Hi | K3: =IF(J3="Lo",0.8,IF(J3="Med",1,(IF(J3="Hi",1.2,"error")))) -> 1.2 | L3: 134 | M3: IAFH | N3: IAFH | O3: IAFH | P3: IAFH | Q3: IAFH | R3: IAFH | S3: IAFH | T3: IAFH | U3: IAFH | V3: IAFH
A4: AR | B4: 7060710 | C4: North Sylamore Creek near Fifty Six, AR | D4: Little Rock, AR | E4: Reference | F4: 39 | G4: Riffle | H4: 260 | I4: 6.2 | J4: Med | K4: =IF(J4="Lo",0.8,IF(J4="Med",1,(IF(J4="Hi",1.2,"error")))) -> 1 | L4: 150 | M4: IAFH | N4: IAFH | O4: IAFH | P4: IAFH | Q4: IAFH | R4: IAFH | S4: IAFH | T4: IAFH | U4: IAFH | V4: IAFH
A5: AZ | B5: 09471000 | C5: San Pedro River at Charleston, AZ | D5: Tucson, AZ | E5: Reference | F5: 79 | G5: Riffle | H5: 170 | I5: 3.2 | J5: Med | K5: =IF(J5="Lo",0.8,IF(J5="Med",1,(IF(J5="Hi",1.2,"error")))) -> 1 | L5: 3196 | M5: IAFH | N5: IAFH | O5: IAFH | P5: IAFH | Q5: IAFH | R5: IAFH | S5: IAFH | T5: IAFH | U5: IAFH | V5: IAFH
A6: AZ | B6: 9505800 | C6: West Clear Creek near Camp Verde, AZ | D6: Tucson, AZ | E6: Reference | F6: 23 | G6: Riffle | H6: 460 | I6: 7 | J6: Lo | K6: =IF(J6="Lo",0.8,IF(J6="Med",1,(IF(J6="Hi",1.2,"error")))) -> 0.8 | L6: 615 | M6: IAFH | N6: IAFH | O6: IAFH | P6: IAFH | Q6: IAFH | R6: IAFH | S6: IAFH | T6: IAFH | U6: IAFH | V6: IAFH
A7: CA | B7: 11274538 | C7: Orestimba Creek near Crows Landing, CA | D7: Sacramento, CA | E7: Agriculture | F7: 5 | G7: Snag | H7: 240 | I7: 3.6 | J7: Lo | K7: =IF(J7="Lo",0.8,IF(J7="Med",1,(IF(J7="Hi",1.2,"error")))) -> 0.8 | L7: 27.9 | M7: IAFH | N7: IAFH | O7: IAFH | P7: IAFH | Q7: IAFH | R7: IAFH | S7: IAFH | T7: IAFH | U7: IAFH | V7: IAFH
A8: CA | B8: 11335000 | C8: Cosumnes River at Michigan Bar, CA | D8: Sacramento, CA | E8: Reference | F8: 7 | G8: Riffle | H8: 82 | I8: 1.8 | J8: Lo | K8: =IF(J8="Lo",0.8,IF(J8="Med",1,(IF(J8="Hi",1.2,"error")))) -> 0.8 | L8: 1390 | M8: IAFH | N8: IAFH | O8: IAFH | P8: IAFH | Q8: IAFH | R8: IAFH | S8: IAFH | T8: IAFH | U8: IAFH | V8: IAFH
A9: CA | B9: 11264500 | C9: Merced River at Happy Isles Bridge nr Yosemite, CA | D9: Sacramento, CA | E9: Reference | G9: Riffle | H9: 400 | I9: 9 | J9: Med | K9: =IF(J9="Lo",0.8,IF(J9="Med",1,(IF(J9="Hi",1.2,"error")))) -> 1 | L9: 468.8 | M9: IAFH | N9: IAFH | O9: IAFH | P9: IAFH | Q9: IAFH | R9: IAFH | S9: IAFH | T9: IAFH | U9: IAFH | V9: IAFH
A10: CO | B10: 6713500 | C10: Cherry Creek at Denver, CO | D10: Lakewood, CO | E10: Urban | F10: 25 | G10: Riffle | H10: 28 | I10: 0.8 | J10: Lo | K10: =IF(J10="Lo",0.8,IF(J10="Med",1,(IF(J10="Hi",1.2,"error")))) -> 0.8 | L10: 1060 | M10: IAFH | N10: IAFH | O10: IAFH | P10: IAFH | Q10: IAFH | R10: IAFH | S10: IAFH | T10: IAFH | U10: IAFH | V10: IAFH
A11: CT | B11: 1170100 | C11: Green River near Colrain, MA | D11: East Hartford, CT | E11: Reference | F11: 58 | G11: Riffle | H11: 174 | I11: 3.2 | J11: Lo | K11: =IF(J11="Lo",0.8,IF(J11="Med",1,(IF(J11="Hi",1.2,"error")))) -> 0.8 | L11: 107 | M11: IAFH | N11: IAFH | O11: IAFH | P11: IAFH | Q11: IAFH | R11: IAFH | S11: IAFH | T11: IAFH | U11: IAFH | V11: IAFH
A12: CT | B12: 1209710 | C12: Norwalk River at Winnipauk,CT | D12: East Hartford, CT | E12: Urban | F12: 59 | G12: Riffle | H12: 158 | I12: 3 | J12: Med | K12: =IF(J12="Lo",0.8,IF(J12="Med",1,(IF(J12="Hi",1.2,"error")))) -> 1 | L12: 85.1 | M12: IAFH | N12: IAFH | O12: IAFH | P12: IAFH | Q12: IAFH | R12: IAFH | S12: IAFH | T12: IAFH | U12: IAFH | V12: IAFH
A13: GA | B13: 2335870 | C13: Sope Creek near Marietta, GA | D13: Atlanta, GA | E13: Urban | F13: 45 | G13: Riffle | H13: 58 | I13: 1.2 | J13: Med | K13: =IF(J13="Lo",0.8,IF(J13="Med",1,(IF(J13="Hi",1.2,"error")))) -> 1 | L13: 79.5 | M13: IAFH | N13: IAFH | O13: IAFH | P13: IAFH | Q13: IAFH | R13: IAFH | S13: IAFH | T13: IAFH | U13: IAFH | V13: IAFH
A14: GA | B14: 2338523 | C14: Hillibahatchee Creek near Franklin, GA | D14: Atlanta, GA | E14: Reference | F14: 45 | G14: Riffle | H14: 180 | I14: 3.6 | J14: Med | K14: =IF(J14="Lo",0.8,IF(J14="Med",1,(IF(J14="Hi",1.2,"error")))) -> 1 | L14: 43.5 | M14: IAFH | N14: IAFH | O14: IAFH | P14: IAFH | Q14: IAFH | R14: IAFH | S14: IAFH | T14: IAFH | U14: IAFH | V14: IAFH
A15: IA | B15: 5451210 | C15: South Fork Iowa River near New Providence, IA | D15: Iowa City, IA | E15: Agriculture | F15: 47 | G15: Snag | H15: 320 | I15: 5.6 | J15: Hi | K15: =IF(J15="Lo",0.8,IF(J15="Med",1,(IF(J15="Hi",1.2,"error")))) -> 1.2 | L15: 581 | M15: IAFH | N15: IAFH | O15: IAFH | P15: IAFH | Q15: IAFH | R15: IAFH | S15: IAFH | T15: IAFH | U15: IAFH | V15: IAFH
A16: ID | B16: 13092747 | C16: Rock Creek at Twin Falls, ID | D16: Boise, ID | E16: Agriculture | F16: 12 | G16: Riffle | H16: 300 | I16: 4.4 | J16: Lo | K16: =IF(J16="Lo",0.8,IF(J16="Med",1,(IF(J16="Hi",1.2,"error")))) -> 0.8 | L16: 623 | M16: IAFH | N16: IAFH | O16: IAFH | P16: IAFH | Q16: IAFH | R16: IAFH | S16: IAFH | T16: IAFH | U16: IAFH | V16: IAFH
A17: IN | B17: 394340085524601 | C17: Sugar Creek at New Palestine, IN | D17: Indianapolis, IN | E17: Agriculture | F17: 55 | G17: Riffle | H17: 80 | I17: 1.8 | J17: Hi | K17: =IF(J17="Lo",0.8,IF(J17="Med",1,(IF(J17="Hi",1.2,"error")))) -> 1.2 | L17: 246 | M17: IAFH | N17: IAFH | O17: IAFH | P17: IAFH | Q17: IAFH | R17: IAFH | S17: IAFH | T17: IAFH | U17: IAFH | V17: IAFH
A18: LA | B18: 8014500 | C18: Ouiska (Whiskey) Chitto Creek near Oberlin, LA | D18: Baton Rouge, LA | E18: Reference | F18: 35 | G18: Snag | H18: 340 | I18: 5.6 | J18: Med | K18: =IF(J18="Lo",0.8,IF(J18="Med",1,(IF(J18="Hi",1.2,"error")))) -> 1 | L18: 1310 | M18: IAFH | N18: IAFH | O18: IAFH | P18: IAFH | Q18: IAFH | R18: IAFH | S18: IAFH | T18: IAFH | U18: IAFH | V18: IAFH
A19: MD | B19: 1610400 | C19: Waites Run near Wardensville, WV | D19: Baltimore, MD | E19: Reference | F19: 67 | G19: Riffle | H19: 320 | I19: 6.4 | J19: Med | K19: =IF(J19="Lo",0.8,IF(J19="Med",1,(IF(J19="Hi",1.2,"error")))) -> 1 | L19: 32.6 | M19: IAFH | N19: IAFH | O19: IAFH | P19: IAFH | Q19: IAFH | R19: IAFH | S19: IAFH | T19: IAFH | U19: IAFH | V19: IAFH
A20: MD | B20: 1654000 | C20: Accotink Creek near Annandale, VA | D20: Baltimore, MD | E20: Urban | F20: 45 | G20: Riffle | H20: 154 | I20: 2.8 | J20: Med | K20: =IF(J20="Lo",0.8,IF(J20="Med",1,(IF(J20="Hi",1.2,"error")))) -> 1 | L20: 60.7 | M20: IAFH | N20: IAFH | O20: IAFH | P20: IAFH | Q20: IAFH | R20: IAFH | S20: IAFH | T20: IAFH | U20: IAFH | V20: IAFH
A21: MN | B21: 05288705 | C21: Shingle Creek at Minneapolis, MN | D21: Mounds View, MN | E21: Urban | F21: 51 | G21: Snag | H21: 20 | I21: 0.6 | J21: Med | L21: 73 | M21: IAFH | N21: IAFH | O21: IAFH | P21: IAFH | Q21: IAFH | R21: IAFH | S21: IAFH | T21: IAFH | U21: IAFH | V21: IAFH
A22: MS | B22: 07288650 | C22: Bogue Phalia near Leland, MS | D22: Jackson, MS | E22: Agriculture | F22: 73 | G22: Snag | H22: 250 | I22: 4.5 | J22: Hi | K22: =IF(J22="Lo",0.8,IF(J22="Med",1,(IF(J22="Hi",1.2,"error")))) -> 1.2 | L22: 1254 | M22: IAFH | N22: IAFH | O22: IAFH | P22: IAFH | Q22: IAFH | R22: IAFH | S22: IAFH | T22: IAFH | U22: IAFH | V22: IAFH
A23: NC | B23: 2087580 | C23: Swift Creek near Apex, NC | D23: Raleigh, NC | E23: Urban | F23: 65 | G23: Riffle | H23: 40 | I23: 0.8 | J23: Med | K23: =IF(J23="Lo",0.8,IF(J23="Med",1,(IF(J23="Hi",1.2,"error")))) -> 1 | L23: 53.9 | M23: IAFH | N23: IAFH | O23: IAFH | P23: IAFH | Q23: IAFH | R23: IAFH | S23: IAFH | T23: IAFH | U23: IAFH | V23: IAFH
A24: NC | B24: 2091500 | C24: Contentnea Creek at Hookerton, NC | D24: Raleigh, NC | E24: Agriculture | F24: 65 | G24: Snag | H24: 200 | I24: 3.8 | J24: Hi | K24: =IF(J24="Lo",0.8,IF(J24="Med",1,(IF(J24="Hi",1.2,"error")))) -> 1.2 | L24: 1910 | M24: IAFH | N24: IAFH | O24: IAFH | P24: IAFH | Q24: IAFH | R24: IAFH | S24: IAFH | T24: IAFH | U24: IAFH | V24: IAFH
A25: NE | B25: 6775900 | C25: Dismal River near Thedford, NE | D25: Lincoln, NE | E25: Reference | F25: 44 | G25: Snag | H25: 660 | I25: 10.2 | J25: Med | K25: =IF(J25="Lo",0.8,IF(J25="Med",1,(IF(J25="Hi",1.2,"error")))) -> 1 | L25: 2500 | M25: IAFH | N25: IAFH | O25: IAFH | P25: IAFH | Q25: IAFH | R25: IAFH | S25: IAFH | T25: IAFH | U25: IAFH | V25: IAFH
A26: NE | B26: 6800000 | C26: Maple Creek near Nickerson, NE | D26: Lincoln, NE | E26: Agriculture | F26: 47 | G26: Snag | H26: 194 | I26: 3.4 | J26: Med | K26: =IF(J26="Lo",0.8,IF(J26="Med",1,(IF(J26="Hi",1.2,"error")))) -> 1 | L26: 955 | M26: IAFH | N26: IAFH | O26: IAFH | P26: IAFH | Q26: IAFH | R26: IAFH | S26: IAFH | T26: IAFH | U26: IAFH | V26: IAFH
A27: NM | B27: 8227000 | C27: Saguache Creek near Saguache, CO | D27: Albuquerque, NM | E27: Reference | F27: 21 | G27: Riffle | H27: 560 | I27: 10.6 | J27: Lo | K27: =IF(J27="Lo",0.8,IF(J27="Med",1,(IF(J27="Hi",1.2,"error")))) -> 0.8 | L27: 1330 | M27: IAFH | N27: IAFH | O27: IAFH | P27: IAFH | Q27: IAFH | R27: IAFH | S27: IAFH | T27: IAFH | U27: IAFH | V27: IAFH
A28: NY | B28: 1349150 | C28: Canajoharie Creek near Canajoharie, NY | D28: Troy, NY | E28: Agriculture | F28: 83 | G28: Riffle | H28: 140 | I28: 2.4 | J28: Med | K28: =IF(J28="Lo",0.8,IF(J28="Med",1,(IF(J28="Hi",1.2,"error")))) -> 1 | L28: 155 | M28: IAFH | N28: IAFH | O28: IAFH | P28: IAFH | Q28: IAFH | R28: IAFH | S28: IAFH | T28: IAFH | U28: IAFH | V28: IAFH
A29: OH | B29: 4161820 | C29: Clinton River at Sterling Heights, MI | D29: Columbus, OH | E29: Urban | F29: 56 | G29: Riffle | H29: 200 | I29: 3.4 | J29: Hi | K29: =IF(J29="Lo",0.8,IF(J29="Med",1,(IF(J29="Hi",1.2,"error")))) -> 1.2 | L29: 803 | M29: IAFH | N29: IAFH | O29: IAFH | P29: IAFH | Q29: IAFH | R29: IAFH | S29: IAFH | T29: IAFH | U29: IAFH | V29: IAFH
A30: OR | B30: 14201300 | C30: Zollner Creek near Mt. Angel, OR | D30: Portland, OR | E30: Agriculture | F30: 3 | G30: Snag | H30: 80 | I30: 2 | J30: Med | K30: =IF(J30="Lo",0.8,IF(J30="Med",1,(IF(J30="Hi",1.2,"error")))) -> 1 | L30: 38.85 | M30: IAFH | N30: IAFH | O30: IAFH | P30: IAFH | Q30: IAFH | R30: IAFH | S30: IAFH | T30: IAFH | U30: IAFH | V30: IAFH
A31: OR | B31: 14205400 | C31: East Fork Dairy Creek near Meachan Corner, OR | D31: Portland, OR | E31: Reference | F31: 3 | G31: Riffle | H31: 90 | I31: 2.2 | J31: Lo | K31: =IF(J31="Lo",0.8,IF(J31="Med",1,(IF(J31="Hi",1.2,"error")))) -> 0.8 | L31: 32.9 | M31: IAFH | N31: IAFH | O31: IAFH | P31: IAFH | Q31: IAFH | R31: IAFH | S31: IAFH | T31: IAFH | U31: IAFH | V31: IAFH
A32: OR | B32: 14206950 | C32: Fanno Creek at Durham, OR | D32: Portland, OR | E32: Urban | F32: 3 | G32: Riffle | H32: 50 | I32: 1.2 | J32: Lo | K32: =IF(J32="Lo",0.8,IF(J32="Med",1,(IF(J32="Hi",1.2,"error")))) -> 0.8 | L32: 80.7 | M32: IAFH | N32: IAFH | O32: IAFH | P32: IAFH | Q32: IAFH | R32: IAFH | S32: IAFH | T32: IAFH | U32: IAFH | V32: IAFH
A33: SC | B33: 2172300 | C33: McTier Creek near Monetta, SC | D33: Columbia, SC | E33: Reference | F33: 65 | G33: Snag | H33: 108 | I33: 1.8 | J33: Med | K33: =IF(J33="Lo",0.8,IF(J33="Med",1,(IF(J33="Hi",1.2,"error")))) -> 1 | L33: 40.4 | M33: IAFH | N33: IAFH | O33: IAFH | P33: IAFH | Q33: IAFH | R33: IAFH | S33: IAFH | T33: IAFH | U33: IAFH | V33: IAFH
A34: TX | B34: 8057200 | C34: White Rock Creek at Dallas, TX | D34: Austin, TX | E34: Urban | F34: 32(pr w /29) | G34: Riffle | H34: 440 | I34: 7 | J34: Hi | K34: =IF(J34="Lo",0.8,IF(J34="Med",1,(IF(J34="Hi",1.2,"error")))) -> 1.2 | L34: 173 | M34: IAFH | N34: IAFH | O34: IAFH | P34: IAFH | Q34: IAFH | R34: IAFH | S34: IAFH | T34: IAFH | U34: IAFH | V34: IAFH
A35: TX | B35: 8195000 | C35: Frio River at Concan, TX | D35: Austin, TX | E35: Reference | F35: 30 | G35: Riffle | H35: 380 | I35: 7.6 | J35: Med | K35: =IF(J35="Lo",0.8,IF(J35="Med",1,(IF(J35="Hi",1.2,"error")))) -> 1 | L35: 1030 | M35: IAFH | N35: IAFH | O35: IAFH | P35: IAFH | Q35: IAFH | R35: IAFH | S35: IAFH | T35: IAFH | U35: IAFH | V35: IAFH
A36: UT | B36: 10168000 | C36: Little Cottonwood Creek at Salt Lake City, UT | D36: West Valley City, UT | E36: Urban | F36: 19 | G36: Depos. | H36: 24 | I36: 0.8 | J36: Lo | K36: =IF(J36="Lo",0.8,IF(J36="Med",1,(IF(J36="Hi",1.2,"error")))) -> 0.8 | L36: 117 | M36: IAFH | N36: IAFH | O36: IAFH | P36: IAFH | Q36: IAFH | R36: IAFH | S36: IAFH | T36: IAFH | U36: IAFH | V36: IAFH
A37: UT | B37: 10172200 | C37: *Red Butte Creek at Fort Douglas, UT | D37: West Valley City, UT | E37: Reference | F37: 19 | G37: Riffle | H37: 34 | I37: 1.2 | J37: Med | K37: =IF(J37="Lo",0.8,IF(J37="Med",1,(IF(J37="Hi",1.2,"error")))) -> 1 | L37: 18.7 | M37: IAH | N37: IAH | O37: IAH | P37: IAH | Q37: IAH | R37: IAH | S37: IAH | T37: IAH | U37: IAH | V37: IAH
A38: WA | B38: 12056500 | C38: **North Fork Skokomish River near Hoodsport, WA | D38: Tacoma, WA | E38: Reference | F38: 1 | G38: Riffle | H38: 156 | I38: 2.8 | J38: Lo | K38: =IF(J38="Lo",0.8,IF(J38="Med",1,(IF(J38="Hi",1.2,"error")))) -> 0.8 | L38: 147 | M38: IAH | N38: IAH | O38: IAH | P38: IAH | Q38: IAH | R38: IAH | S38: IAH | T38: IAH | U38: IAH | V38: IAH
A39: WA | B39: 12505450 | C39: Granger Drain at Granger, WA | D39: Tacoma, WA | E39: Agriculture | F39: 10 | G39: Riffle | H39: 360 | I39: 6 | J39: Lo | K39: =IF(J39="Lo",0.8,IF(J39="Med",1,(IF(J39="Hi",1.2,"error")))) -> 0.8 | L39: 160 | M39: IAFH | N39: IAFH | O39: IAFH | P39: IAFH | Q39: IAFH | R39: IAFH | S39: IAFH | T39: IAFH | U39: IAFH | V39: IAFH
A40: WI | B40: 4063700 | C40: Popple River near Fence, WI | D40: Madison, WI | E40: Reference | F40: 50 | G40: Riffle | H40: 580 | I40: 10.6 | J40: Med | K40: =IF(J40="Lo",0.8,IF(J40="Med",1,(IF(J40="Hi",1.2,"error")))) -> 1 | L40: 363 | M40: IAFH | N40: IAFH | O40: IAFH | P40: IAFH | Q40: IAFH | R40: IAFH | S40: IAFH | T40: IAFH | U40: IAFH | V40: IAFH
...

Sheet FY14 Eco site costs
F1: FY14 $ (Net) | O1: FY14 $ GROSS
A2: SC | B2: Station number | C2: Station name | D2: PROPOSED COST CENTER TO DO SAMPLING | E2: Cycle3 site type | F2: Eco Field Labor Cost (inc 22.4% lv assess) | G2: Eco Field Travel Cost (per diem) | H2: Eco Vehicle costs | I2: Eco Supply costs | J2: Eco Office Labor Costs (inc 22.4% lv assess) | K2: Eco QA / Mgt Labor Costs (inc 22.4% lv assess) | L2: Eco WSC net cost incl 10% contingency | M2: Dist Direct Cost | N2: Over-head Cost | O2: Eco WSC Total Cost
A3: AR | B3: 07055646 | C3: Buffalo River near Boxley, AR | D3: Little Rock, AR | E3: Reference | F3: 5606.6629 | G3: 762.85 | H3: 2112 | I3: 815.1 | J3: 2535.7676 | K3: 719.55738 | L3: 13807.132 | M3: 0 | N3: 6351.2806 | O3: 20158.412
A4: AR | B4: 7060710 | C4: North Sylamore Creek near Fifty Six, AR | D4: Little Rock, AR | E4: Reference | F4: 4766.2637 | G4: 762.85 | H4: 1584 | I4: 815.1 | J4: 2535.7676 | K4: 719.55738 | L4: 12301.893 | M4: 0 | N4: 5658.8706 | O4: 17960.763
A5: AZ | B5: 09471000 | C5: San Pedro River at Charleston, AZ | D5: Tucson, AZ | E5: Reference | F5: 3434.1277 | G5: 0 | H5: 1188 | I5: 815.1 | J5: 2535.7676 | K5: 719.55738 | L5: 9561.808 | M5: 956.1808 | N5: 3120.6873 | O5: 13638.676
A6: AZ | B6: 9505800 | C6: West Clear Creek near Camp Verde, AZ | D6: Tucson, AZ | E6: Reference | F6: 5102.4234 | G6: 762.85 | H6: 2464 | I6: 815.1 | J6: 2535.7676 | K6: 719.55738 | L6: 13639.668 | M6: 1363.9668 | N6: 4451.5785 | O6: 19455.214
A7: CA | B7: 11274538 | C7: Orestimba Creek near Crows Landing, CA | D7: Sacramento, CA | E7: Agriculture | F7: 3818.1662 | G7: 0 | H7: 1496 | I7: 815.1 | J7: 2694.805 | K7: 766.15056 | L7: 10549.244 | M7: 0 | N7: 5091.2761 | O7: 15640.52
A8: CA | B8: 11335000 | C8: Cosumnes River at Michigan Bar, CA | D8: Sacramento, CA | E8: Reference | F8: 3070.3893 | G8: 0 | H8: 800.8 | I8: 815.1 | J8: 2694.805 | K8: 766.15056 | L8: 8961.9693 | M8: 0 | N8: 4325.2256 | O8: 13287.195
A9: CA | B9: 11264500 | C9: Merced River at Happy Isles Bridge nr Yosemite, CA | D9: Sacramento, CA | E9: Reference | F9: 6318.2889 | G9: 762.85 | H9: 2200 | I9: 815.1 | J9: 2694.805 | K9: 766.15056 | L9: 14912.914 | M9: 0 | N9: 7197.2705 | O9: 22110.184
A10: CO | B10: 6713500 | C10: Cherry Creek at Denver, CO | D10: Lakewood, CO | E10: Urban | F10: 2661.2773 | G10: 0 | H10: 563.2 | I10: 815.1 | J10: 2701.311 | K10: 768.08574 | L10: 8259.8715 | M10: 0 | N10: 4950.967 | O10: 13210.839
A11: CT | B11: 1170100 | C11: Green River near Colrain, MA | D11: East Hartford, CT | E11: Reference | F11: 3750.0833 | G11: 0 | H11: 1205.6 | I11: 815.1 | J11: 2766.3718 | K11: 787.13982 | L11: 10256.724 | M11: 0 | N11: 5387.9599 | O11: 15644.684
A12: CT | B12: 1209710 | C12: Norwalk River at Winnipauk,CT | D12: East Hartford, CT | E12: Urban | F12: 3664.7429 | G12: 0 | H12: 1135.2 | I12: 815.1 | J12: 2766.3718 | K12: 787.13982 | L12: 10085.41 | M12: 0 | N12: 5297.9667 | O12: 15383.377
A13: GA | B13: 2335870 | C13: Sope Creek near Marietta, GA | D13: Atlanta, GA | E13: Urban | F13: 2760.4111 | G13: 0 | H13: 695.2 | I13: 815.1 | J13: 2637.6961 | K13: 749.32938 | L13: 8423.5102 | M13: 0 | N13: 3304.543 | O13: 11728.053
A14: GA | B14: 2338523 | C14: Hillibahatchee Creek near Franklin, GA | D14: Atlanta, GA | E14: Reference | F14: 3735.696 | G14: 0 | H14: 1232 | I14: 815.1 | J14: 2637.6961 | K14: 749.32938 | L14: 10086.804 | M14: 0 | N14: 3957.0531 | O14: 14043.857
A15: IA | B15: 5451210 | C15: South Fork Iowa River near New Providence, IA | D15: Iowa City, IA | E15: Agriculture | F15: 4514.144 | G15: 762.85 | H15: 1848 | I15: 815.1 | J15: 2535.7676 | K15: 719.55738 | L15: 12314.961 | M15: 0 | N15: 4277.7248 | O15: 16592.686
A16: ID | B16: 13092747 | C16: Rock Creek at Twin Falls, ID | D16: Boise, ID | E16: Agriculture | F16: 4730.2466 | G16: 915.42 | H16: 1760 | I16: 815.1 | J16: 2535.7676 | K16: 719.55738 | L16: 12623.701 | M16: 0 | N16: 6160.1135 | O16: 18783.814
A17: IN | B17: 394340085524601 | C17: Sugar Creek at New Palestine, IN | D17: Indianapolis, IN | E17: Agriculture | F17: 2899.438 | G17: 0 | H17: 792 | I17: 815.1 | J17: 2546.6111 | K17: 722.68344 | L17: 8553.4158 | M17: 0 | N17: 3926.8732 | O17: 12480.289
... A20: MD | B20: 1654000 | C20: Accotink Creek near Annandale, VA | D20: Baltimore, MD | E20: Urban | F20: 3538.0578 | G20: 0 | H20: 1117.6 | I20: 815.1 | J20: 2734.5643 | K20: 777.9105 | L20: 9881.5559 | M20: 0 | N20: 5434.8557 | O20: 15316.412
A21: MN | B21: 05288705 | C21: Shingle Creek at Minneapolis, MN | D21: Mounds View, MN | E21: Urban | F21: 2630.5511 | G21: 0 | H21: 607.2 | I21: 815.1 | J21: 2670.2265 | K21: 759.00528 | L21: 8230.2911 | M21: 0 | N21: 4095.8867 | O21: 12326.178
A22: MS | B22: 07288650 | C22: Bogue Phalia near Leland, MS | D22: Jackson, MS | E22: Agriculture | F22: 4772.2666 | G22: 915.42 | H22: 1540 | I22: 815.1 | J22: 2535.7676 | K22: 719.55738 | L22: 12427.923 | M22: 0 | N22: 4547.3769 | O22: 16975.3
A23: NC | B23: 2087580 | C23: Swift Creek near Apex, NC | D23: Raleigh, NC | E23: Urban | F23: 2497.186 | G23: 0 | H23: 616 | I23: 815.1 | J23: 2535.7676 | K23: 719.55738 | L23: 7901.9722 | M23: 0 | N23: 2153.4455 | O23: 10055.418
A24: NC | B24: 2091500 | C24: Contentnea Creek at Hookerton, NC | D24: Raleigh, NC | E24: Agriculture | F24: 4478.1269 | G24: 915.42 | H24: 1320 | I24: 815.1 | J24: 2535.7676 | K24: 719.55738 | L24: 11862.369 | M24: 0 | N24: 3232.7328 | O24: 15095.102
A25: NE | B25: 6775900 | C25: Dismal River near Thedford, NE | D25: Lincoln, NE | E25: Reference | F25: 6447.062 | G25: 762.85 | H25: 3344 | I25: 815.1 | J25: 2535.7676 | K25: 719.55738 | L25: 16086.771 | M25: 0 | N25: 8947.4619 | O25: 25034.233
A26: NE | B26: 6800000 | C26: Maple Creek near Nickerson, NE | D26: Lincoln, NE | E26: Agriculture | F26: 3512.2062 | G26: 0 | H26: 1293.6 | I26: 815.1 | J26: 2535.7676 | K26: 719.55738 | L26: 9763.8544 | M26: 0 | N26: 5430.6558 | O26: 15194.51
A27: NM | B27: 8227000 | C27: Saguache Creek near Saguache, CO | D27: Albuquerque, NM | E27: Reference | F27: 5942.8225 | G27: 762.85 | H27: 2640 | I27: 815.1 | J27: 2535.7676 | K27: 719.55738 | L27: 14757.707 | M27: 0 | N27: 7380.6246 | O27: 22138.332
A28: NY | B28: 1349150 | C28: Canajoharie Creek near Canajoharie, NY | D28: Troy, NY | E28: Agriculture | F28: 3121.8138 | G28: 0 | H28: 1056 | I28: 815.1 | J28: 2535.7676 | K28: 719.55738 | L28: 9073.0627 | M28: 1088.7675 | N28: 4386.8621 | O28: 14548.692
A29: OH | B29: 4161820 | C29: Clinton River at Sterling Heights, MI | D29: Columbus, OH | E29: Urban | F29: 5652.7444 | G29: 762.85 | H29: 2376 | I29: 815.1 | J29: 2595.0452 | K29: 736.974 | L29: 14232.585 | M29: 0 | N29: 7400.9442 | O29: 21633.529
A30: OR | B30: 14201300 | C30: Zollner Creek near Mt. Angel, OR | D30: Portland, OR | E30: Agriculture | F30: 3115.3228 | G30: 0 | H30: 792 | I30: 815.1 | J30: 2657.9372 | K30: 755.43264 | L30: 8949.3719 | M30: 0 | N30: 4901.8395 | O30: 13851.211
A31: OR | B31: 14205400 | C31: East Fork Dairy Creek near Meachan Corner, OR | D31: Portland, OR | E31: Reference | F31: 3197.3893 | G31: 0 | H31: 836 | I31: 815.1 | J31: 2657.9372 | K31: 755.43264 | L31: 9088.0451 | M31: 0 | N31: 4977.7949 | O31: 14065.84
A32: OR | B32: 14206950 | C32: Fanno Creek at Durham, OR | D32: Portland, OR | E32: Urban | F32: 2787.0569 | G32: 0 | H32: 660 | I32: 815.1 | J32: 2657.9372 | K32: 755.43264 | L32: 8443.0795 | M32: 0 | N32: 4624.5279 | O32: 13067.607
A33: SC | B33: 2172300 | C33: McTier Creek near Monetta, SC | D33: Columbia, SC | E33: Reference | F33: 2887.5784 | G33: 0 | H33: 915.2 | I33: 815.1 | J33: 2535.7676 | K33: 719.55738 | L33: 8660.5238 | M33: 0 | N33: 4435.4873 | O33: 13096.011
A34: TX | B34: 8057200 | C34: White Rock Creek at Dallas, TX | D34: Austin, TX | E34: Urban | F34: 5102.4234 | G34: 762.85 | H34: 2376 | I34: 815.1 | J34: 2535.7676 | K34: 719.55738 | L34: 13542.868 | M34: 0 | N34: 5594.5589 | O34: 19137.427
A35: TX | B35: 8195000 | C35: Frio River at Concan, TX | D35: Austin, TX | E35: Reference | F35: 6074.8852 | G35: 915.42 | H35: 2112 | I35: 815.1 | J35: 2535.7676 | K35: 719.55738 | L35: 14490.003 | M35: 0 | N35: 5985.8204 | O35: 20475.824
A36: UT | B36: 10168000 | C36: Little Cottonwood Creek at Salt Lake City, UT | D36: West Valley City, UT | E36: Urban | F36: 2497.186 | G36: 0 | H36: 545.6 | I36: 815.1 | J36: 2535.7676 | K36: 719.55738 | L36: 7824.5322 | M36: 1956.133 | N36: 2249.553 | O36: 12030.218
A37: UT | B37: 10172200 | C37: Red Butte Creek at Fort Douglas, UT | D37: West Valley City, UT | E37: Reference | F37: 1296.6158 | G37: 0 | H37: 294.8 | I37: 475.475 | J37: 1323.0092 | K37: 479.70492 | L37: 4256.5654 | M37: 1064.1414 | N37: 1223.7626 | O37: 6544.4694
A38: WA | B38: 12056500 | C38: North Fork Skokomish River near Hoodsport, WA | D38: Tacoma, WA | E38: Reference | F38: 1680.0368 | G38: 0 | H38: 563.2 | I38: 475.475 | J38: 1401.8364 | K38: 509.27844 | L38: 5092.8093 | M38: 0 | N38: 2495.4765 | O38: 7588.2858
A39: WA | B39: 12505450 | C39: Granger Drain at Granger, WA | D39: Tacoma, WA | E39: Agriculture | F39: 4963.745 | G39: 762.85 | H39: 2024 | I39: 815.1 | J39: 2686.8531 | K39: 763.91766 | L39: 13218.112 | M39: 0 | N39: 6476.875 | O39: 19694.987
A40: WI | B40: 4063700 | C40: Popple River near Fence, WI | D40: Madison, WI | E40: Reference | F40: 7335.484 | G40: 915.42 | H40: 2992 | I40: 815.1 | J40: 2535.7676 | K40: 719.55738 | L40: 16844.662 | M40: 0 | N40: 4807.4665 | O40: 21652.128
A41: WY | B41: 6324970 | C41: Little Powder River near Weston, WY | D41: Cheyenne, WY | E41: Reference | F41: 5858.7826 | G41: 762.85 | H41: 3080 | I41: 815.1 | J41: 2535.7676 | K41: 719.55738 | L41: 15149.263 | M41: 2423.8821 | N41: 6728.7574 | O41: 24301.903
N42: Total for FY14 = | O42: =SUM(O3:O41) -> 632403.61

Sheet SW sites
A1: SC | B1: 41498 | E1: Type | F1: NAWQA SWMSA Sample Analyses cost (by SC) | G1: NASQAN Sample Analyses cost (by SC) | H1: NMN Sample Analyses cost (by SC) | I1: NAWQA SWMSA QW Gross Sampling costs | J1: NASQAN QW Gross Sampling costs | K1: NMN QW Gross Sampling costs | L1: NAWQA SW STATUS Gross Stream gaging costs | M1: NASQAN Gross Stream gaging costs | N1: NMN Gross Stream gaging costs | O1: NAWQA SW STATUS Ecology Sampling Gross Costs | P1: NAWQA SW STATUS Ecology Lab Analysis Costs
B2: Station | C2: Site name | D2: Network | Q2: comments
A4: AK | B4: 15565447 | C4: Yukon River at Pilot Station, AK | D4: NASQAN | E4: Coastal River | G4: 7806.56 | I4: ='FY14 chem site costs'!E2 -> 0 | J4: ='FY14 chem site costs'!F2 -> 76500 | K4: ='FY14 chem site costs'!G2 -> 0 | L4: ='FY14 chem site costs'!H2 -> 0 | M4: ='FY14 chem site costs'!I2 -> 0 | N4: ='FY14 chem site costs'!J2 -> 0 | O4: 0 | P4: 0
A5: AL | B5: 02470500 | C5: Mobile River at Mt. Vernon, AL | D5: NASQAN | E5: Coastal River | F5: 28027.32 | G5: 22576.6 | I5: ='FY14 chem site costs'!E3 -> 0 | J5: ='FY14 chem site costs'!F3 -> 78000 | K5: ='FY14 chem site costs'!G3 -> 0 | L5: ='FY14 chem site costs'!H3 -> 0 | M5: ='FY14 chem site costs'!I3 -> 0 | N5: ='FY14 chem site costs'!J3 -> 0 | O5: 0 | P5: 0
A6: AL | B6: 02469762 | C6: Tombigbee River near Coffeeville, AL | D6: NAWQA | E6: Large Inland River | I6: ='FY14 chem site costs'!E4 -> 86500 | J6: ='FY14 chem site costs'!F4 -> 0 | K6: ='FY14 chem site costs'!G4 -> 0 | L6: ='FY14 chem site costs'!H4 -> 0 | M6: ='FY14 chem site costs'!I4 -> 0 | N6: ='FY14 chem site costs'!J4 -> 0 | O6: 0 | P6: 0
A7: AR | B7: 07263620 | C7: Arkansas River at Terry L&D below Little Rock, AR | D7: NASQAN | E7: Large Inland River | F7: 8245.44 | G7: 22576.6 | I7: ='FY14 chem site costs'!E5 -> 0 | J7: ='FY14 chem site costs'!F5 -> 56000 | K7: ='FY14 chem site costs'!G5 -> 0 | L7: ='FY14 chem site costs'!H5 -> 0 | M7: ='FY14 chem site costs'!I5 -> 5500 | N7: ='FY14 chem site costs'!J5 -> 0 | O7: 0 | P7: ='FY14 chem site costs'!L5 -> 0
A8: AR | B8: 07055646 | C8: Buffalo River near Boxley, AR | D8: NAWQA | E8: reference | I8: ='FY14 chem site costs'!E6 -> 20000 | J8: ='FY14 chem site costs'!F6 -> 0 | K8: ='FY14 chem site costs'!G6 -> 0 | L8: ='FY14 chem site costs'!H6 -> 0 | M8: ='FY14 chem site costs'!I6 -> 0 | N8: ='FY14 chem site costs'!J6 -> 0 | O8: ='FY14 Eco site costs'!O3 -> 20158.412 | P8: 2999.19
A9: AR | B9: 07060710 | C9: North Sylamore Creek near Fifty Six, AR | D9: NAWQA | E9: reference | I9: ='FY14 chem site costs'!E7 -> 19000 | J9: ='FY14 chem site costs'!F7 -> 0 | K9: ='FY14 chem site costs'!G7 -> 0 | L9: ='FY14 chem site costs'!H7 -> 0 | M9: ='FY14 chem site costs'!I7 -> 0 | N9: ='FY14 chem site costs'!J7 -> 0 | O9: ='FY14 Eco site costs'!O4 -> 17960.763 | P9: 2999.19
A10: AZ | B10: 09471000 | C10: San Pedro River at Charleston, AZ | D10: NAWQA | E10: reference | F10: 30822.04 | G10: 19851.24 | I10: ='FY14 chem site costs'!E8 -> 25500 | J10: ='FY14 chem site costs'!F8 -> 0 | K10: ='FY14 chem site costs'!G8 -> 0 | L10: ='FY14 chem site costs'!H8 -> 0 | M10: ='FY14 chem site costs'!I8 -> 0 | N10: ='FY14 chem site costs'!J8 -> 0 | O10: ='FY14 Eco site costs'!O5 -> 13638.676 | P10: 2999.19
A11: AZ | B11: 09505800 | C11: West Clear Creek near Camp Verde, AZ | D11: NAWQA | E11: reference | I11: ='FY14 chem site costs'!E9 -> 28000 | J11: ='FY14 chem site costs'!F9 -> 0 | K11: ='FY14 chem site costs'!G9 -> 0 | L11: ='FY14 chem site costs'!H9 -> 0 | M11: ='FY14 chem site costs'!I9 -> 0 | N11: ='FY14 chem site costs'!J9 -> 0 | O11: ='FY14 Eco site costs'!O6 -> 19455.214 | P11: 2999.19
A12: AZ | B12: 09380000 | C12: Colorado River at Lees Ferry, AZ | D12: Co-op | E12: Large Inland River | I12: ='FY14 chem site costs'!E10 -> 66500 | J12: ='FY14 chem site costs'!F10 -> 0 | K12: ='FY14 chem site costs'!G10 -> 0 | L12: ='FY14 chem site costs'!H10 -> 0 | M12: ='FY14 chem site costs'!I10 -> 0 | N12: ='FY14 chem site costs'!J10 -> 0 | O12: 0 | P12: 0
A13: AZ | B13: 09522000 | C13: Colorado River at NIB | D13: NASQAN | E13: Coastal River | I13: ='FY14 chem site costs'!E11 -> 0 | J13: ='FY14 chem site costs'!F11 -> 50000 | K13: ='FY14 chem site costs'!G11 -> 0 | L13: ='FY14 chem site costs'!H11 -> 0 | M13: ='FY14 chem site costs'!I11 -> 0 | N13: ='FY14 chem site costs'!J11 -> 0 | O13: 0 | P13: 0
A14: CA | B14: 11447650 | C14: Sacramento River a Freeport, CA | D14: NAWQA | E14: Coastal River | F14: 112767.6 | I14: ='FY14 chem site costs'!E12 -> 69500 | J14: ='FY14 chem site costs'!F12 -> 0 | K14: ='FY14 chem site costs'!G12 -> 0 | L14: ='FY14 chem site costs'!H12 -> 0 | M14: ='FY14 chem site costs'!I12 -> 0 | N14: ='FY14 chem site costs'!J12 -> 0 | O14: 0 | P14: 0
A15: CA | B15: 11274538 | C15: Orestimba Creek near Crows Landing, CA | D15: NAWQA | E15: Agriculture | I15: ='FY14 chem site costs'!E13 -> 72000 | J15: ='FY14 chem site costs'!F13 -> 0 | K15: ='FY14 chem site costs'!G13 -> 0 | L15: ='FY14 chem site costs'!H13 -> 22500 | M15: ='FY14 chem site costs'!I13 -> 0 | N15: ='FY14 chem site costs'!J13 -> 0 | O15: ='FY14 Eco site costs'!O7 -> 15640.52 | P15: 2999.19
A16: CA | B16: 11303500 | C16: San Joaquin River near Vernalis, CA | D16: NAWQA | E16: Coastal River | I16: ='FY14 chem site costs'!E14 -> 86500 | J16: ='FY14 chem site costs'!F14 -> 0 | K16: ='FY14 chem site costs'!G14 -> 0 | L16: ='FY14 chem site costs'!H14 -> 0 | M16: ='FY14 chem site costs'!I14 -> 0 | N16: ='FY14 chem site costs'!J14 -> 0 | O16: 0 | P16: 0
A17: CA | B17: 11335000 | C17: Cosumnes River at Michigan Bar, CA | D17: NAWQA | E17: reference | I17: ='FY14 chem site costs'!E15 -> 30000 | J17: ='FY14 chem site costs'!F15 -> 0 | K17: ='FY14 chem site costs'!G15 -> 0 | L17: ='FY14 chem site costs'!H15 -> 0 | M17: ='FY14 chem site costs'!I15 -> 0 | N17: ='FY14 chem site costs'!J15 -> 0 | O17: ='FY14 Eco site costs'!O8 -> 13287.195 | P17: 2999.19
A18: CA | B18: 11264500 | C18: Merced River at Happy Isles Bridge nr Yosemite, CA | D18: NAWQA | E18: reference | I18: ='FY14 chem site costs'!E16 -> 22500 | J18: ='FY14 chem site costs'!F16 -> 0 | K18: ='FY14 chem site costs'!G16 -> 0 | L18: ='FY14 chem site costs'!H16 -> 0 | M18: ='FY14 chem site costs'!I16 -> 0 | N18: ='FY14 chem site costs'!J16 -> 0 | O18: ='FY14 Eco site costs'!O9 -> 22110.184 | P18: 2999.19
A19: CA | B19: 11074000 | C19: Santa Ana River below Prado Dam, CA | D19: NAWQA | E19: Coastal River | I19: ='FY14 chem site costs'!E17 -> 70000 | J19: ='FY14 chem site costs'!F17 -> 0 | K19: ='FY14 chem site costs'!G17 -> 0 | L19: ='FY14 chem site costs'!H17 -> 0 | M19: ='FY14 chem site costs'!I17 -> 0 | N19: ='FY14 chem site costs'!J17 -> 0 | O19: 0 | P19: 0
A20: CO | B20: 06713500 | C20: Cherry Creek at Denver, CO | D20: NAWQA | E20: Urban | F20: 92963.98 | I20: ='FY14 chem site costs'!E18 -> 87000 | J20: ='FY14 chem site costs'!F18 -> 0 | K20: ='FY14 chem site costs'!G18 -> 0 | L20: ='FY14 chem site costs'!H18 -> 0 | M20: ='FY14 chem site costs'!I18 -> 0 | N20: ='FY14 chem site costs'!J18 -> 0 | O20: ='FY14 Eco site costs'!O10 -> 13210.839 | P20: 2999.19
A21: CO | B21: 06754000 | C21: South Platte River near Kersey, CO | D21: NAWQA | E21: Large Inland River | I21: ='FY14 chem site costs'!E19 -> 84000 | J21: ='FY14 chem site costs'!F19 -> 0 | K21: ='FY14 chem site costs'!G19 -> 0 | L21: ='FY14 chem site costs'!H19 -> 0 | M21: ='FY14 chem site costs'!I19 -> 0 | N21: ='FY14 chem site costs'!J19 -> 0 | O21: 0 | P21: 0
A22: CO | B22: 09163500 | C22: Colorado River near Colorado-Utah state line | D22: NAWQA | E22: Large Inland River | I22: ='FY14 chem site costs'!E20 -> 78000 | J22: ='FY14 chem site costs'!F20 -> 0 | K22: ='FY14 chem site costs'!G20 -> 0 | L22: ='FY14 chem site costs'!H20 -> 0 | M22: ='FY14 chem site costs'!I20 -> 0 | N22: ='FY14 chem site costs'!J20 -> 0 | O22: 0 | P22: 0
A23: CT | B23: 01170100 | C23: Green River near Colrain, MA | D23: NAWQA | E23: reference | F23: 69059.38 | I23: ='FY14 chem site costs'!E21 -> 34500 | J23: ='FY14 chem site costs'!F21 -> 0 | K23: ='FY14 chem site costs'!G21 -> 0 | L23: ='FY14 chem site costs'!H21 -> 0 | M23: ='FY14 chem site costs'!I22 -> 0 | N23: ='FY14 chem site costs'!J22 -> 0 | O23: ='FY14 Eco site costs'!O11 -> 15644.684 | P23: 2999.19
A24: CT | B24: 01184000 | C24: Connecticut River at Thompsonville, CT | D24: NAWQA | E24: Coastal River | I24: ='FY14 chem site costs'!E22 -> 87500 | J24: ='FY14 chem site costs'!F22 -> 0 | K24: ='FY14 chem site costs'!G22 -> 0 | L24: ='FY14 chem site costs'!H22 -> 0 | M24: ='FY14 chem site costs'!I23 -> 0 | N24: ='FY14 chem site costs'!J23 -> 0 | O24: 0 | P24: 0
A25: CT | B25: 01209710 | C25: Norwalk River at Winnipauk,CT | D25: NAWQA | E25: Urban | I25: ='FY14 chem site costs'!E23 -> 78000 | J25: ='FY14 chem site costs'!F23 -> 0 | K25: ='FY14 chem site costs'!G23 -> 0 | L25: ='FY14 chem site costs'!H23 -> 0 | M25: ='FY14 chem site costs'!I24 -> 0 | N25: ='FY14 chem site costs'!J24 -> 0 | O25: ='FY14 Eco site costs'!O12 -> 15383.377 | P25: 2999.19
A26: FL | B26: 02359170 | C26: Apalachicola River near Sumatra, FL | D26: NMN | E26: Coastal River | H26: 22576.6 | I26: ='FY14 chem site costs'!E24 -> 0 | J26: ='FY14 chem site costs'!F24 -> 0 | K26: ='FY14 chem site costs'!G24 -> 54000 | L26: ='FY14 chem site costs'!H24 -> 0 | M26: ='FY14 chem site costs'!I25 -> 0 | N26: ='FY14 chem site costs'!J24 -> 0 | O26: 0 | P26: 0
A27: GA | B27: 02335870 | C27: Sope Creek near Marietta, GA | D27: NAWQA | E27: Urban | F27: 41032.06 | G27: 22576.6 | I27: ='FY14 chem site costs'!E25 -> 81000 | J27: ='FY14 chem site costs'!F25 -> 0 | K27: ='FY14 chem site costs'!G25 -> 0 | L27: ='FY14 chem site costs'!H25 -> 0 | M27: ='FY14 chem site costs'!I25 -> 0 | N27: ='FY14 chem site costs'!J25 -> 0 | O27: ='FY14 Eco site costs'!O13 -> 11728.053 | P27: 2999.19
A28: GA | B28: 02338523 | C28: Hillibahatchee Creek near Franklin, GA | D28: NAWQA | E28: reference | I28: ='FY14 chem site costs'!E26 -> 40500 | J28: ='FY14 chem site costs'!F26 -> 0 | K28: ='FY14 chem site costs'!G26 -> 0 | L28: ='FY14 chem site costs'!H26 -> 15500 | M28: ='FY14 chem site costs'!I26 -> 0 | N28: ='FY14 chem site costs'!J26 -> 0 | O28: ='FY14 Eco site costs'!O14 -> 14043.857 | P28: 2999.19
A29: GA | B29: 02226160 | C29: Altamaha River at Everett City, GA | D29: NASQAN | E29: Coastal River | I29: ='FY14 chem site costs'!E27 -> 0 | J29: ='FY14 chem site costs'!F27 -> 68000 | K29: ='FY14 chem site costs'!G27 -> 0 | L29: ='FY14 chem site costs'!H27 -> 0 | M29: ='FY14 chem site costs'!I27 -> 24500 | N29: ='FY14 chem site costs'!J27 -> 0 | O29: 0 | P29: 0
A30: IA | B30: 05451210 | C30: South Fork Iowa River near New Providence, IA | D30: NAWQA | E30: Agriculture | F30: 36909.34 | G30: 90306.4 | I30: ='FY14 chem site costs'!E28 -> 90000 | J30: ='FY14 chem site costs'!F28 -> 0 | K30: ='FY14 chem site costs'!G28 -> 0 | L30: ='FY14 chem site costs'!H28 -> 15000 | M30: ='FY14 chem site costs'!I28 -> 0 | N30: ='FY14 chem site costs'!J28 -> 0 | O30: ='FY14 Eco site costs'!O15 -> 16592.686 | P30: 2999.19
A31: IA | B31: 05465500 | C31: Iowa River at Wapello, IA | D31: NAWQA | E31: Large Inland River | I31: ='FY14 chem site costs'!E29 -> 0 | J31: ='FY14 chem site costs'!F29 -> 46000 | K31: ='FY14 chem site costs'!G29 -> 0 | L31: ='FY14 chem site costs'!H29 -> 0 | M31: ='FY14 chem site costs'!I29 -> 0 | N31: ='FY14 chem site costs'!J29 -> 0 | O31: ='FY14 chem site costs'!K29 -> 0 | P31: 0
A32: IA | B32: 05490500 | C32: Des Moines at Keosauqua, IA | D32: NAWQA | E32: Large Inland River | I32: ='FY14 chem site costs'!E30 -> 0 | J32: ='FY14 chem site costs'!F30 -> 46000 | K32: ='FY14 chem site costs'!G30 -> 0 | L32: ='FY14 chem site costs'!H30 -> 0 | M32: ='FY14 chem site costs'!I30 -> 0 | N32: ='FY14 chem site costs'!J30 -> 0 | O32: ='FY14 chem site costs'!K30 -> 0 | P32: 0
A33: IA | B33: 05420500 | C33: Mississippi River at Clinton, IA | D33: NASQAN | E33: Large Inland River | I33: ='FY14 chem site costs'!E31 -> 0 | J33: ='FY14 chem site costs'!F31 -> 59000 | K33: ='FY14 chem site costs'!G31 -> 0 | L33: ='FY14 chem site costs'!H31 -> 0 | M33: ='FY14 chem site costs'!I31 -> 0 | N33: ='FY14 chem site costs'!J31 -> 0 | O33: ='FY14 chem site costs'!K31 -> 0 | P33: 0
A34: IA | B34: 06610000 | C34: Missouri River at Omaha, NE | D34: NASQAN | E34: Large Inland River | I34: ='FY14 chem site costs'!E32 -> 0 | J34: ='FY14 chem site costs'!F32 -> 65000 | K34: ='FY14 chem site costs'!G32 -> 0 | L34: ='FY14 chem site costs'!H32 -> 0 | M34: ='FY14 chem site costs'!I32 -> 0 | N34: ='FY14 chem site costs'!J32 -> 0 | O34: ='FY14 chem site costs'!K32 -> 0 | P34: 0
A35: ID | B35: 13092747 | C35: Rock Creek at Twin Falls, ID | D35: NAWQA | E35: Agriculture | F35: 59485.94 | I35: ='FY14 chem site costs'!E33 -> 76500 | J35: ='FY14 chem site costs'!F33 -> 0 | K35: ='FY14 chem site costs'!G33 -> 0 | L35: ='FY14 chem site costs'!H33 -> 17000 | M35: ='FY14 chem site costs'!I34 -> 0 | N35: ='FY14 chem site costs'!J34 -> 0 | O35: ='FY14 Eco site costs'!O16 -> 18783.814 | P35: 2999.19
A36: ID | B36: 13154500 | C36: Snake River at King Hill, ID | D36: NAWQA | E36: Large Inland River | I36: ='FY14 chem site costs'!E34 -> 73500 | J36: ='FY14 chem site costs'!F34 -> 0 | K36: ='FY14 chem site costs'!G34 -> 0 | L36: ='FY14 chem site costs'!H34 -> 17000 | M36: ='FY14 chem site costs'!I35 -> 0 | N36: ='FY14 chem site costs'!J35 -> 0 | O36: 0 | P36: 0
A37: IL | B37: 05586100 | C37: Illinois River at Valley City, IL | D37: NASQAN | E37: Large Inland River | F37: 22576.6 | I37: ='FY14 chem site costs'!E35 -> 83000 | J37: ='FY14 chem site costs'!F35 -> 0 | K37: ='FY14 chem site costs'!G35 -> 0 | L37: ='FY14 chem site costs'!H35 -> 0 | M37: ='FY14 chem site costs'!I35 -> 0 | N37: ='FY14 chem site costs'!J35 -> 0 | O37: 0 | P37: 0
A38: IN | B38: 03374100 | C38: White River at Hazleton, IN | D38: NAWQA | E38: Large Inland River | F38: 64936.66 | I38: ='FY14 chem site costs'!E36 -> 101000 | J38: ='FY14 chem site costs'!F36 -> 0 | K38: ='FY14 chem site costs'!G36 -> 0 | L38: ='FY14 chem site costs'!H36 -> 0 | M38: ='FY14 chem site costs'!I37 -> 0 | N38: ='FY14 chem site costs'!J37 -> 0 | O38: 0 | P38: 0
A39: IN | B39: 394340085524601 | C39: Sugar Creek at New Palestine, IN | D39: NAWQA | E39: Agriculture | I39: ='FY14 chem site costs'!E37 -> 102000 | J39: ='FY14 chem site costs'!F37 -> 0 | K39: ='FY14 chem site costs'!G37 -> 0 | L39: ='FY14 chem site costs'!H37 -> 10500 | M39: ='FY14 chem site costs'!I37 -> 0 | N39: ='FY14 chem site costs'!J37 -> 0 | O39: ='FY14 Eco site costs'!O17 -> 12480.289 | P39: 2999.19
A40: KS | B40: 06892350 | C40: Kansas River at DeSoto, KS | D40: Co-op | E40: Large Inland River | F40: 50603.92 | I40: ='FY14 chem site costs'!E38 -> 32000 | J40: ='FY14 chem site costs'!F38 -> 0 | K40: ='FY14 chem site costs'!G38 -> 0 | L40: ='FY14 chem site costs'!H38 -> 0 | M40: ='FY14 chem site costs'!I38 -> 0 | N40: ='FY14 chem site costs'!J38 -> 0 | O40: 0 | P40: 0
A41: KS | B41: 07144100 | C41: Lower Arkansas River near Sedgwick, KS | D41: Co-op | E41: Large Inland River | I41: ='FY14 chem site costs'!E39 -> 32000 | J41: ='FY14 chem site costs'!F39 -> 0 | K41: ='FY14 chem site costs'!G39 -> 0 | L41: ='FY14 chem site costs'!H39 -> 0 | M41: ='FY14 chem site costs'!I39 -> 0 | N41: ='FY14 chem site costs'!J39 -> 0 | O41: 0 | P41: 0
...

Sheet FY14 sampling by SC
A1: 41498
B2: NAWQA SW Chemistry | E2: NASQAN Chemistry | H2: NMN Chemistry | K2: NAWQA Ecology | M2: NAWQA SW Status Total | P2: NASQAN Total | S2: NMN Total
A3: SC | B3: Sampling & Data Review | C3: Lab Analysis (includes QC) | D3: Streamflow Gaging | E3: Sampling & Data Review | F3: Lab Analysis (includes QC) | G3: Streamflow Gaging | H3: Sampling & Data Review | I3: Lab Analysis (includes QC) | J3: Streamflow Gaging | K3: Sampling & Data Review | L3: Lab Analysis (includes QC) | M3: Lab Analysis | N3: SC Costs | O3: TOTAL | P3: Lab Analysis | Q3: WSC Costs | R3: TOTAL | S3: Lab Analysis | T3: WSC Costs | U3: TOTAL
A4: AK | B4: =SUM('SW sites'!I4) -> 0 | C4: =SUM('SW sites'!F4) -> 0 | D4: =SUM('SW sites'!L4) -> 0 | E4: =SUM('SW sites'!J4) -> 76500 | F4: =SUM('SW sites'!G4) -> 7806.56 | G4: =SUM('SW sites'!M4) -> 0 | H4: =SUM('SW sites'!K4) -> 0 | I4: =SUM('SW sites'!H4) -> 0 | J4: =SUM('SW sites'!N4) -> 0 | K4: =SUM('SW sites'!O4) -> 0 | L4: 0 | M4: =C4+L4 -> 0 | N4: =B4+K4+D4 -> 0 | O4: =M4+N4 -> 0 | P4: =F4 -> 7806.56 | Q4: =E4+G4 -> 76500 | R4: =P4+Q4 -> 84306.56 | S4: =I4 -> 0 | T4: =H4+J4 -> 0 | U4: =S4+T4 -> 0
A5: AL | B5: =SUM('SW sites'!I6:'SW sites'!I5) -> 86500 | C5: =SUM('SW sites'!F6:'SW sites'!F5) -> 28027.32 | D5: =SUM('SW sites'!L6:'SW sites'!L5) -> 0 | E5: =SUM('SW sites'!J6:'SW sites'!J5) -> 78000 | F5: =SUM('SW sites'!G6:'SW sites'!G5) -> 22576.6 | G5: =SUM('SW sites'!M5:'SW sites'!M6) -> 0 | H5: =SUM('SW sites'!K5:'SW sites'!K6) -> 0 | I5: =SUM('SW sites'!H5:'SW sites'!H6) -> 0 | J5: =SUM('SW sites'!N5:'SW sites'!N6) -> 0 | K5: =SUM('SW sites'!O5:'SW sites'!O6) -> 0 | L5: 0 | M5: =C5+L5 -> 28027.32 | N5: =B5+K5+D5 -> 86500 | O5: =M5+N5 -> 114527.32 | P5: =F5 -> 22576.6 | Q5: =E5+G5 -> 78000 | R5: =P5+Q5 -> 100576.6 | S5: =I5 -> 0 | T5: =H5+J5 -> 0 | U5: =S5+T5 -> 0
A6: AR | B6: =SUM('SW sites'!I7:'SW sites'!I9) -> 39000 | C6: =SUM('SW sites'!F7:'SW sites'!F9) -> 8245.44 | D6: =SUM('SW sites'!L7:'SW sites'!L9) -> 0 | E6: =SUM('SW sites'!J7:'SW sites'!J9) -> 56000 | F6: =SUM('SW sites'!G7:'SW sites'!G9) -> 22576.6 | G6: =SUM('SW sites'!M7:'SW sites'!M9) -> 5500 | H6: =SUM('SW sites'!K7:'SW sites'!K9) -> 0 | I6: =SUM('SW sites'!H7:'SW sites'!H9) -> 0 | J6: =SUM('SW sites'!N7:'SW sites'!N9) -> 0 | K6: =SUM('SW sites'!O7:'SW sites'!O9) -> 38119.175 | L6: 5998.38 | M6: =C6+L6 -> 14243.82 | N6: =B6+K6+D6 -> 77119.175 | O6: =M6+N6 -> 91362.995 | P6: =F6 -> 22576.6 | Q6: =E6+G6 -> 61500 | R6: =P6+Q6 -> 84076.6 | S6: =I6 -> 0 | T6: =H6+J6 -> 0 | U6: =S6+T6 -> 0
A7: AZ | B7: =SUM('SW sites'!I10:'SW sites'!I13) -> 120000 | C7: =SUM('SW sites'!F10:'SW sites'!F13) -> 30822.04 | D7: =SUM('SW sites'!L10:'SW sites'!L13) -> 0 | E7: =SUM('SW sites'!J10:'SW sites'!J13) -> 50000 | F7: =SUM('SW sites'!G10:'SW sites'!G13) -> 19851.24 | G7: =SUM('SW sites'!M10:'SW sites'!M13) -> 0 | H7: =SUM('SW sites'!K10:'SW sites'!K13) -> 0 | I7: =SUM('SW sites'!H10:'SW sites'!H13) -> 0 | J7: =SUM('SW sites'!N10:'SW sites'!N13) -> 0 | K7: =SUM('SW sites'!O10:'SW sites'!O13) -> 33093.89 | L7: 5998.38 | M7: =C7+L7 -> 36820.42 | N7: =B7+K7+D7 -> 153093.89 | O7: =M7+N7 -> 189914.31 | P7: =F7 -> 19851.24 | Q7: =E7+G7 -> 50000 | R7: =P7+Q7 -> 69851.24 | S7: =I7 -> 0 | T7: =H7+J7 -> 0 | U7: =S7+T7 -> 0
A8: CA | B8: =SUM('SW sites'!I14:'SW sites'!I19) -> 350500 | C8: =SUM('SW sites'!F14:'SW sites'!F19) -> 112767.6 | D8: =SUM('SW sites'!L14:'SW sites'!L19) -> 22500 | E8: =SUM('SW sites'!J14:'SW sites'!J19) -> 0 | F8: =SUM('SW sites'!G14:'SW sites'!G19) -> 0 | G8: =SUM('SW sites'!M14:'SW sites'!M19) -> 0 | H8: =SUM('SW sites'!K14:'SW sites'!K19) -> 0 | I8: =SUM('SW sites'!H14:'SW sites'!H19) -> 0 | J8: =SUM('SW sites'!N14:'SW sites'!N19) -> 0 | K8: =SUM('SW sites'!O14:'SW sites'!O19) -> 51037.899 | L8: 8997.57 | M8: =C8+L8 -> 121765.17 | N8: =B8+K8+D8 -> 424037.9 | O8: =M8+N8 -> 545803.07 | P8: =F8 -> 0 | Q8: =E8+G8 -> 0 | R8: =P8+Q8 -> 0 | S8: =I8 -> 0 | T8: =H8+J8 -> 0 | U8: =S8+T8 -> 0
A9: CO | B9: =SUM('SW sites'!I20:'SW sites'!I22) -> 249000 | C9: =SUM('SW sites'!F20:'SW sites'!F22) -> 92963.98 | D9: =SUM('SW sites'!L20:'SW sites'!L22) -> 0 | E9: =SUM('SW sites'!J20:'SW sites'!J22) -> 0 | F9: =SUM('SW sites'!G20:'SW sites'!G22) -> 0 | G9: =SUM('SW sites'!M20:'SW sites'!M22) -> 0 | H9: =SUM('SW sites'!K20:'SW sites'!K22) -> 0 | I9: =SUM('SW sites'!H20:'SW sites'!H22) -> 0 | J9: =SUM('SW sites'!N20:'SW sites'!N22) -> 0 | K9: =SUM('SW sites'!O20:'SW sites'!O22) -> 13210.839 | L9: 2999.19 | M9: =C9+L9 -> 95963.17 | N9: =B9+K9+D9 -> 262210.84 | O9: =M9+N9 -> 358174.01 | P9: =F9 -> 0 | Q9: =E9+G9 -> 0 | R9: =P9+Q9 -> 0 | S9: =I9 -> 0 | T9: =H9+J9 -> 0 | U9: =S9+T9 -> 0
A10: CT | B10: =SUM('SW sites'!I23:'SW sites'!I25) -> 200000 | C10: =SUM('SW sites'!F23:'SW sites'!F25) -> 69059.38 | D10: =SUM('SW sites'!L23:'SW sites'!L25) -> 0 | E10: =SUM('SW sites'!J23:'SW sites'!J25) -> 0 | F10: =SUM('SW sites'!G23:'SW sites'!G25) -> 0 | G10: =SUM('SW sites'!M23:'SW sites'!M25) -> 0 | H10: =SUM('SW sites'!K23:'SW sites'!K25) -> 0 | I10: =SUM('SW sites'!H23:'SW sites'!H25) -> 0 | J10: =SUM('SW sites'!N23:'SW sites'!N25) -> 0 | K10: =SUM('SW sites'!O23:'SW sites'!O25) -> 31028.061 | L10: 5998.38 | M10: =C10+L10 -> 75057.76 | N10: =B10+K10+D10 -> 231028.06 | O10: =M10+N10 -> 306085.82 | P10: =F10 -> 0 | Q10: =E10+G10 -> 0 | R10: =P10+Q10 -> 0 | S10: =I10 -> 0 | T10: =H10+J10 -> 0 | U10: =S10+T10 -> 0
