Workbook

Sheet chem site information
A1: CYCLE II SU | B1: Science Center (SC) | C1: STATION ID | D1: STATION NAME | E1: CYCLE II SITE (145) | F1: CYCLE II SITE (84) | G1: CYCLE II SITE TYPE | H1: CYCLE II SITE SAMPLING SCHEDULE | I1: SAMPLED FOR ECOLOGY Cycle II | J1: SAMPLED FOR ECOLOGY Cycle III | K1: PROPOSED COST CENTER TO DO SAMPLING | L1: NUMBER OF SAMPLES IN 2014 | M1: SITE OFFICE | N1: SITE SIZE | O1: LOW FLOW SITE TYPE | P1: HIGH FLOW SITE TYPE | Q1: Comments
A2: NASQAN | B2: AK | C2: 15565447 | D2: Yukon River at Pilot Station, AK | E2: N | F2: N | G2: NA | H2: NA | I2: N | J2: N | K2: Anchorage, AK | L2: 7 | M2: Anchorage, AK | N2: large | O2: boat | P2: boat
A3: NASQAN | B3: AL | C3: 02470500 | D3: Mobile River at Mt. Vernon, AL | E3: N | F3: N | G3: NA | H3: NA | I3: N | J3: N | K3: Montgomery, AL | L3: 14 | M3: Montgomery, AL | N3: large | O3: boat | P3: boat
A4: MOBL | B4: AL | C4: 02469762 | D4: Tombigbee River near Coffeeville, AL | E4: Y | F4: Y | G4: Integ | H4: rotate4 | I4: N | J4: N | K4: Montgomery, AL | L4: 18 | M4: Montgomery, AL | N4: large | O4: boat | P4: boat
A5: NASQAN | B5: AR | C5: 07263620 | D5: Arkansas River at Terry L&D below Little Rock, AR | E5: N | F5: N | G5: NA | H5: NA | I5: N | J5: N | K5: Little Rock, AR | L5: 14 | M5: Little Rock, AR | N5: large | O5: boat | P5: boat
A6: OZRK | B6: AR | C6: 07055646 | D6: Buffalo River near Boxley, AR | E6: Y | F6: N | G6: Ref | H6: rotate4 | I6: N | J6: Y | K6: Little Rock, AR | L6: 6 | M6: Little Rock, AR | N6: medium | O6: wading | P6: bridge
A7: OZRK | B7: AR | C7: 07060710 | D7: North Sylamore Creek near Fifty Six, AR | E7: Y | F7: Y | G7: Ref | H7: rotate4 | I7: Y | J7: Y | K7: Little Rock, AR | L7: 6 | M7: Little Rock, AR | N7: small | O7: wading | P7: bridge
A8: CAZB | B8: AZ | C8: 09471000 | D8: San Pedro River at Charleston, AZ | E8: Y | F8: N | G8: Ref | H8: rotate4 | I8: N | J8: Y | K8: Tucson, AZ | L8: 6 | M8: Tucson, AZ | N8: small | O8: wading | P8: bridge
A9: CAZB | B9: AZ | C9: 09505800 | D9: West Clear Creek near Camp Verde, AZ | E9: Y | F9: Y | G9: Ref | H9: rotate4 | I9: Y | J9: Y | K9: Tucson, AZ | L9: 6 | M9: Tucson, AZ | N9: small | O9: wading | P9: cableway
A10: CO-OP | B10: AZ | C10: 09380000 | D10: Colorado River at Lees Ferry, AZ | E10: N | F10: N | G10: NA | H10: NA | I10: N | J10: N | K10: Tucson, AZ | L10: 14 | M10: Flagstaff, AZ | N10: large | O10: boat | P10: cableway
A11: NASQAN | B11: AZ | C11: 09522000 | D11: Colorado River at NIB | E11: N | F11: N | G11: NA | H11: NA | I11: N | J11: N | K11: Tucson, AZ | L11: 12 | M11: Yuma, AZ | N11: large | O11: boat | P11: cableway
A12: NASQAN/SACR | B12: CA | C12: 11447650 | D12: Sacramento River at Freeport, CA | E12: Y | F12: Y | G12: Integ | H12: rotate4 | I12: N | J12: N | K12: Sacramento, CA | L12: 14 | M12: Sacramento, CA | N12: large | O12: bridge | P12: bridge
A13: SANJ | B13: CA | C13: 11274538 | D13: Orestimba Creek near Crows Landing, CA | E13: Y | F13: Y | G13: Ag | H13: rotate4 | I13: Y | J13: Y | K13: Sacramento, CA | L13: 24 | M13: Sacramento, CA | N13: small | O13: wading | P13: bridge
... A15: SANJ | B15: CA | C15: 11335000 | D15: Cosumnes River at Michigan Bar, CA | E15: Y | F15: Y | G15: Ref | H15: eco_only | I15: Y | J15: Y | K15: Sacramento, CA | L15: 6 | M15: Sacramento, CA | N15: small | O15: wading | P15: bridge
A16: NA | B16: CA | C16: 11264500 | D16: Merced River at Happy Isles Bridge nr Yosemite, CA | E16: N | F16: N | G16: Ref | H16: NA | I16: N | J16: Y | K16: San Diego, CA | L16: 6 | M16: Sacramento, CA | N16: small | O16: wading | P16: bridge
A17: SOCA | B17: CA | C17: 11074000 | D17: Santa Ana River below Prado Dam, CA | E17: Y | F17: Y | G17: Integ | H17: urbcore | I17: N | J17: N | K17: San Diego, CA | L17: 18 | M17: San Diego, CA | N17: small | O17: wading | P17: cableway
A18: SPLT | B18: CO | C18: 06713500 | D18: Cherry Creek at Denver, CO | E18: Y | F18: Y | G18: Urban | H18: rotate2 | I18: Y | J18: Y | K18: Lakewood, CO | L18: 24 | M18: Lakewood, CO | N18: small | O18: wading | P18: bridge
A19: SPLT | B19: CO | C19: 06754000 | D19: South Platte River near Kersey, CO | E19: Y | F19: Y | G19: Integ | H19: rotate4 | I19: N | J19: N | K19: Lakewood, CO | L19: 18 | M19: Lakewood, CO | N19: medium | O19: wading | P19: bridge
A20: UCOL | B20: CO | C20: 09163500 | D20: Colorado River near Colorado-Utah state line | E20: Y | F20: Y | G20: Integ | H20: rotate4 | I20: N | J20: N | K20: Lakewood, CO | L20: 18 | M20: Grand Junction, CO | N20: large | O20: boat | P20: cableway
A21: CONN | B21: CT | C21: 01170100 | D21: Green River near Colrain, MA | E21: Y | F21: Y | G21: Ref | H21: rotate4 | I21: Y | J21: Y | K21: East Hartford, CT | L21: 6 | M21: East Hartford, CT | N21: small | O21: wading | P21: bridge
A22: CONN | B22: CT | C22: 01184000 | D22: Connecticut River at Thompsonville, CT | E22: Y | F22: Y | G22: Integ | H22: rotate4 | I22: N | J22: N | K22: East Hartford, CT | L22: 18 | M22: East Hartford, CT | N22: large | O22: boat | P22: boat
A23: CONN | B23: CT | C23: 01209710 | D23: Norwalk River at Winnipauk,CT | E23: Y | F23: Y | G23: Urban | H23: rotate4 | I23: Y | J23: Y | K23: East Hartford, CT | L23: 24 | M23: East Hartford, CT | N23: small | O23: wading | P23: bridge
A24: NMN | B24: FL | C24: 02359170 | D24: Apalachicola River near Sumatra, FL | E24: N | F24: N | G24: NA | H24: NA | I24: N | J24: N | K24: Tallahassee, FL | L24: 14 | M24: Tallahassee, FL | N24: large | O24: boat | P24: boat
A25: ACFB | B25: GA | C25: 02335870 | D25: Sope Creek near Marietta, GA | E25: Y | F25: Y | G25: Urban | H25: rotate2 | I25: Y | J25: Y | K25: Atlanta, GA | L25: 24 | M25: Atlanta, GA | N25: small | O25: wading | P25: bridge
A26: ACFB | B26: GA | C26: 02338523 | D26: Hillibahatchee Creek near Franklin, GA | E26: Y | F26: Y | G26: Ref | H26: rotate4 | I26: Y | J26: Y | K26: Atlanta, GA | L26: 6 | M26: Atlanta, GA | N26: small | O26: wading | P26: bridge
A27: NASQAN | B27: GA | C27: 02226160 | D27: Altamaha River at Everett City, GA | E27: N | F27: N | G27: NA | H27: NA | I27: N | J27: N | K27: Atlanta, GA | L27: 14 | M27: Atlanta, GA | N27: large | O27: boat | P27: boat
A28: EIWA | B28: IA | C28: 05451210 | D28: South Fork Iowa River near New Providence, IA | E28: Y | F28: Y | G28: Ag | H28: rotate2 | I28: Y | J28: Y | K28: Iowa City, IA | L28: 24 | M28: Iowa City, IA | N28: small | O28: wading | P28: bridge
... A31: NASQAN | B31: IA | C31: 05420500 | D31: Mississippi River at Clinton, IA | E31: N | F31: N | G31: NA | H31: NA | I31: N | J31: N | K31: Iowa City, IA | L31: 14 | M31: Iowa City, IA | N31: large | O31: boat | P31: boat
A32: NASQAN | B32: IA | C32: 06610000 | D32: Missouri River at Omaha, NE | G32: NA | H32: NA | I32: N | J32: N | K32: Iowa City, IA | L32: 14 | M32: Council Bluffs, IA | N32: large | O32: boat | P32: boat
A33: USNK | B33: ID | C33: 13092747 | D33: Rock Creek at Twin Falls, ID | E33: Y | F33: Y | G33: Ag | H33: rotate4 | I33: Y | J33: Y | K33: Boise, ID | L33: 24 | M33: Boise, ID | N33: small | O33: wading | P33: bridge
A34: USNK | B34: ID | C34: 13154500 | D34: Snake River at King Hill, ID | E34: Y | F34: Y | G34: Integ | H34: rotate4 | I34: N | J34: N | K34: Boise, ID | L34: 14 | M34: Boise, ID | N34: large | O34: cableway | P34: cableway
A35: NASQAN/LIRB | B35: IL | C35: 05586100 | D35: Illinois River at Valley City, IL | E35: Y | F35: Y | G35: Integ | H35: rotate4 | I35: N | J35: N | K35: Urbana, IL | L35: 14 | M35: Urbana, IL | N35: large | O35: boat | P35: boat
A36: NASQAN/WHMI | B36: IN | C36: 03374100 | D36: White River at Hazleton, IN | E36: Y | F36: Y | G36: Integ | H36: agcore | I36: N | J36: N | K36: Indianapolis, IN | L36: 18 | M36: Indianapolis, IN | N36: large | O36: bridge | P36: bridge
A37: WHMI | B37: IN | C37: 394340085524601 | D37: Sugar Creek at New Palestine, IN | E37: Y | F37: Y | G37: Ag | H37: rotate2 | I37: Y | J37: Y | K37: Indianapolis, IN | L37: 24 | M37: Indianapolis, IN | N37: small | O37: wading | P37: bridge
A38: CO-OP | B38: KS | C38: 06892350 | D38: Kansas River at DeSoto, KS | E38: N | F38: N | G38: NA | H38: NA | I38: N | J38: N | K38: Lawrence, KS | L38: 14 | M38: Lawrence, KS | N38: large
A39: CO-OP | B39: KS | C39: 07144100 | D39: Lower Arkansas River near Sedgwick, KS | E39: N | F39: N | G39: NA | H39: NA | I39: N | J39: N | K39: Lawrence, KS | L39: 18 | M39: Lawrence, KS | N39: large
A40: NASQAN | B40: KY | C40: 03303280 | D40: Ohio River at Cannelton Dam at Cannelton, IN | E40: N | F40: N | G40: NA | H40: NA | I40: N | J40: N | K40: Louisville, KY | L40: 14 | M40: Murray, KY | N40: large | O40: boat | P40: boat
A41: NASQAN | B41: KY | C41: 03378500 | D41: Wabash River at New Harmony, IN | E41: N | F41: N | G41: NA | H41: NA | I41: N | J41: N | K41: Louisville, KY | L41: 14 | M41: Murray, KY | N41: large | O41: boat | P41: boat
A42: NASQAN | B42: KY | C42: 03609750 | D42: Tennessee River at Highway 60 near Paducah, KY | E42: N | F42: N | G42: NA | H42: NA | I42: N | J42: N | K42: Louisville, KY | L42: 14 | M42: Murray, KY | N42: large | O42: boat | P42: boat
A43: NASQAN | B43: KY | C43: 03612500 | D43: Ohio River at Dam 53 near Grand Chain, IL | E43: N | F43: N | G43: NA | H43: NA | I43: N | J43: N | K43: Louisville, KY | L43: 14 | M43: Murray, KY | N43: large | O43: boat | P43: boat
A44: ACAD | B44: LA | C44: 08014500 | D44: Ouiska (Whiskey) Chitto Creek near Oberlin, LA | E44: Y | F44: Y | G44: Ref | H44: rotate4 | I44: Y | J44: Y | K44: Baton Rouge, LA | L44: 6 | M44: Baton Rouge, LA | N44: medium | O44: wading | P44: bridge
A45: NASQAN | B45: LA | C45: 07373420 | D45: Mississippi River near St. Francisville, LA | G45: NA | H45: NA | I45: N | J45: N | K45: Baton Rouge, LA | L45: 16 | M45: Baton Rouge, LA | N45: large | O45: boat | P45: boat
A46: NASQAN | B46: LA | C46: 07374000 | D46: Mississippi River at Baton Rouge, LA | E46: N | F46: N | G46: NA | H46: NA | I46: N | J46: N | K46: Baton Rouge, LA | L46: 14 | M46: Baton Rouge, LA | N46: large | O46: boat | P46: boat
A47: NASQAN | B47: LA | C47: 07374525 | D47: Mississippi River at Belle Chasse, LA | E47: N | F47: N | G47: NA | H47: NA | I47: N | J47: N | K47: Baton Rouge, LA | L47: 14 | M47: Baton Rouge, LA | N47: large | O47: boat | P47: boat
A48: NASQAN | B48: LA | C48: 07381495 | D48: Atchafalaya River at Melville, LA | E48: N | F48: N | G48: NA | H48: NA | I48: N | J48: N | K48: Baton Rouge, LA | L48: 16 | M48: Baton Rouge, LA | N48: large | O48: boat | P48: boat
A49: NASQAN | B49: LA | C49: 07381590 | D49: Wax Lake Outlet at Calumet, LA | E49: N | F49: N | G49: NA | H49: NA | I49: N | J49: N | K49: Baton Rouge, LA | L49: 14 | M49: Baton Rouge, LA | N49: large | O49: boat | P49: boat
A50: NASQAN | B50: LA | C50: 07381600 | D50: Lower Atchafalaya River at Morgan City, LA | E50: N | F50: N | G50: NA | H50: NA | I50: N | J50: N | K50: Baton Rouge, LA | L50: 14 | M50: Baton Rouge, LA | N50: large | O50: boat | P50: boat
A51: NASQAN | B51: MD | C51: 01578310 | D51: Susquehanna River at Conowingo, MD | E51: Y | F51: N | G51: NA | H51: NA | I51: N | J51: N | K51: Baltimore, MD | L51: 12 | M51: Baltimore, MD | N51: large | O51: dam | P51: dam
A52: PODL | B52: MD | C52: 01610400 | D52: Waites Run near Wardensville, WV | E52: Y | F52: Y | G52: Ref | H52: rotate4 | I52: Y | J52: Y | K52: Baltimore, MD | L52: 6 | M52: Frostburg, MD | N52: small | O52: wading | P52: bridge
A53: NASQAN/PODL | B53: MD | C53: 01646580 | D53: Potomac River at Washington, DC | E53: Y | F53: Y | G53: Integ | H53: agcore | I53: N | J53: N | K53: Baltimore, MD | L53: 18 | M53: Frostburg, MD | N53: medium | O53: wading | P53: bridge
A54: PODL | B54: MD | C54: 01654000 | D54: Accotink Creek near Annandale, VA | E54: Y | F54: Y | G54: Urban | H54: rotate2 | I54: Y | J54: Y | K54: Baltimore, MD | L54: 24 | M54: Frostburg, MD | N54: small | O54: wading | P54: bridge
A55: LERI | B55: MI | C55: 04161820 | D55: Clinton River at Sterling Heights, MI | E55: Y | F55: Y | G55: Urban | H55: rotate4 | I55: Y | J55: Y | K55: East Lansing, MI | L55: 24 | M55: Lansing, MI | N55: small | O55: wading | P55: bridge
A56: UMIS | B56: MN | C56: 05331580 | D56: Mississippi River at Hastings, MN | E56: Y | F56: N | G56: Integ | H56: rotate4 | I56: N | J56: N | K56: Mounds View, MN | L56: 14 | M56: Mounds View, MN | N56: large | O56: boat | P56: boat
A57: UMIS | B57: MN | C57: 05288705 | D57: Shingle Creek at Minneapolis, MN | L57: 24 | M57: Mounds View, MN
A58: NASQAN | B58: MO | C58: 07022000 | D58: Mississippi River at Thebes, IL | E58: N | F58: N | G58: NA | H58: NA | I58: N | J58: N | K58: Rolla, MO | L58: 14 | M58: Rolla, MO | N58: large | O58: boat | P58: boat
A59: NASQAN | B59: MO | C59: 05587455 | D59: Mississippi River Below Grafton, IL | E59: N | F59: N | G59: NA | H59: NA | I59: N | J59: N | K59: Rolla, MO | L59: 12 | M59: Rolla, MO | N59: large | O59: boat | P59: boat
A60: NASQAN | B60: MO | C60: 06934500 | D60: Missouri River at Hermann, MO | E60: N | F60: N | G60: NA | H60: NA | I60: N | J60: N | K60: Rolla, MO | L60: 14 | M60: Rolla, MO | N60: large | O60: boat | P60: boat
A61: MISE | B61: MS | C61: 07288650 | D61: Bogue Phalia near Leland, MS | E61: Y | F61: Y | G61: Ag | H61: dropped in 2008 | I61: N | J61: Y | K61: Jackson, MS | L61: 24 | M61: Jackson, MS | N61: medium | O61: bridge | P61: bridge
A62: NASQAN/MISE | B62: MS | C62: 07288955 | D62: Yazoo River near Long Lake, MS | E62: Y | F62: Y | G62: Integ | H62: agcore | I62: N | J62: N | K62: Jackson, MS | L62: 18 | M62: Jackson, MS | N62: large | O62: boat | P62: boat
A63: NMN | B63: MS | C63: 322023090544500 | D63: Mississippi River above Vicksburg, MS | E63: N | F63: N | G63: NA | H63: NA | I63: N | J63: N | K63: Jackson, MS | L63: 14 | M63: Jackson, MS | N63: large | O63: boat | P63: boat
A64: ALBE | B64: NC | C64: 02087580 | D64: Swift Creek near Apex, NC | E64: Y | F64: Y | G64: Urban | H64: rotate2 | I64: Y | J64: Y | K64: Raleigh, NC | L64: 24 | M64: Raleigh, NC | N64: small | O64: wading | P64: bridge
A65: ALBE | B65: NC | C65: 02089500 | D65: Neuse River at Kinston, NC | E65: Y | F65: Y | G65: Integ | H65: agcore | I65: N | J65: N | K65: Raleigh, NC | L65: 18 | M65: Raleigh, NC | N65: medium | O65: bridge | P65: bridge
A66: ALBE | B66: NC | C66: 02091500 | D66: Contentnea Creek at Hookerton, NC | E66: Y | F66: Y | G66: Ag | H66: rotate4 | I66: Y | J66: Y | K66: Raleigh, NC | L66: 24 | M66: Raleigh, NC | N66: medium | O66: bridge | P66: bridge
A67: CO-OP | B67: ND | C67: 05082500 | D67: Red River of the North at Grand Forks, ND | E67: Y | F67: N | G67: NA | H67: NA | I67: N | J67: N | K67: Mounds View, MN? | L67: 14 | M67: Grand Forks, ND | N67: large
A68: CNBR | B68: NE | C68: 06775900 | D68: Dismal River near Thedford, NE | E68: Y | F68: N | G68: Ref | H68: eco_only | I68: Y | J68: Y | K68: Lincoln, NE | L68: 6 | M68: Lincoln, NE | N68: small | O68: wading | P68: bridge
A69: CNBR | B69: NE | C69: 06800000 | D69: Maple Creek near Nickerson, NE | E69: Y | F69: Y | G69: Ag | H69: rotate2 | I69: Y | J69: Y | K69: Lincoln, NE | L69: 24 | M69: Lincoln, NE | N69: small | O69: wading | P69: bridge
A70: CNBR | B70: NE | C70: 06800500 | D70: Elkhorn River at Waterloo, NE | E70: Y | F70: N | G70: Integ | H70: rotate4 | I70: N | J70: N | K70: Lincoln, NE | L70: 18 | M70: Lincoln, NE | N70: large | O70: bridge | P70: bridge
A71: NASQAN/CNBR | B71: NE | C71: 06805500 | D71: Platte River at Louisville, NE | E71: Y | F71: Y | G71: Integ | H71: agcore | I71: N | J71: N | K71: Lincoln, NE | L71: 14 | M71: Lincoln, NE | N71: large | O71: bridge | P71: bridge
A72: NMN/DELR | B72: NJ | C72: 01463500 | D72: Delaware River at Trenton, NJ | E72: Y | F72: Y | G72: Integ | H72: rotate4 | I72: N | J72: N | K72: West Trenton, NJ | L72: 14 | M72: Trenton, NJ | N72: large | O72: bridge | P72: bridge
A73: RIOG | B73: NM | C73: 08227000 | D73: Saguache Creek near Saguache, CO | E73: Y | F73: N | G73: Ref | H73: eco_only | I73: Y | J73: Y | K73: Albuquerque, NM | L73: 6 | M73: Alberquerque, NM | N73: small | O73: wading | P73: wading
A74: RIOG | B74: NM | C74: 08364000 | D74: Rio Grande at El Paso, TX | E74: Y | F74: Y | G74: Integ | H74: agcore | I74: N | J74: N | K74: Albuquerque, NM | L74: 14 | M74: Alberquerque, NM | N74: medium | O74: bridge | P74: cableway
A75: NVBR | B75: NV | C75: 10350340 | D75: Truckee River at Tracy, NV | E75: Y | F75: Y | H75: rotate4 | I75: N | J75: N | K75: Carson City, NV | L75: 18 | M75: Carson City, NV | N75: large | O75: bridge | P75: bridge
A76: HDSN | B76: NY | C76: 01349150 | D76: Canajoharie Creek near Canajoharie, NY | E76: Y | F76: Y | G76: Ag | H76: rotate4 | I76: Y | J76: Y | K76: Troy, NY | L76: 24 | M76: Troy, NY | N76: small | O76: wading | P76: bridge
A77: NASQAN | B77: NY | C77: 4264331 | D77: St. Lawrence River at Cornwall, Ontario | E77: N | F77: N | G77: NA | H77: NA | I77: N | J77: N | K77: Troy, NY | L77: 14 | M77: Troy, NY | N77: large | O77: dam | P77: dam
A78: NMN | B78: NY | C78: 01372043 | D78: Hudson River near Poughkeepsie, NY | E78: N | F78: N | G78: NA | H78: NA | I78: N | J78: N | K78: Troy, NY | L78: 14 | M78: Troy, NY | N78: large | O78: boat | P78: boat
A79: LERI | B79: OH | C79: 04193500 | D79: Maumee River at Waterville, OH | E79: Y | F79: Y | G79: Integ | H79: rotate4 | I79: N | J79: N | K79: Columbus, OH | L79: 18 | M79: Columbus, OH | N79: large | O79: wading | P79: bridge
A80: CO-OP | B80: OK | C80: 07241550 | D80: North Canadian River near Harrah, OK | E80: N | F80: N | G80: NA | H80: NA | I80: N | J80: N | K80: Oklahoma City, OK | L80: 18 | M80: Tulsa, OK | N80: large
A81: WILL | B81: OR | C81: 14201300 | D81: Zollner Creek near Mt. Angel, OR | E81: Y | F81: Y | G81: Ag | H81: rotate4 | I81: N | J81: N | K81: Portland, OR | L81: 24 | M81: Portland, OR | N81: small | O81: wading | P81: bridge
A82: WILL | B82: OR | C82: 14205400 | D82: East Fork Dairy Creek near Meachan Corner, OR | E82: Y | F82: Y | G82: Ref | H82: rotate4 | I82: Y | J82: Y | K82: Portland, OR | L82: 6 | M82: Portland, OR | N82: small | O82: wading | P82: bridge
A83: WILL | B83: OR | C83: 14206950 | D83: Fanno Creek at Durham, OR | E83: Y | F83: Y | G83: Urban | H83: rotate2 | I83: Y | J83: Y | K83: Portland, OR | L83: 24 | M83: Portland, OR | N83: small | O83: wading | P83: bridge
A84: WILL | B84: OR | C84: 14211720 | D84: Willamette River at Portland, OR | E84: Y | F84: Y | G84: Integ | H84: agcore | I84: N | J84: N | K84: Portland, OR | L84: 18 | M84: Portland, OR | N84: large | O84: boat | P84: boat
A85: NASQAN | B85: OR | C85: 14246900 | D85: Columbia River near Beaver Army Terminal, OR | E85: N | F85: N | G85: NA | H85: NA | I85: N | J85: N | K85: Portland, OR | L85: 12 | M85: Portland, OR | N85: large | O85: boat | P85: boat
A86: SANT | B86: SC | C86: 02172300 | D86: McTier Creek near Monetta, SC | E86: Y | F86: Y | G86: Ref | H86: rotate4 | I86: Y | J86: Y | K86: Columbia, SC | L86: 6 | M86: Columbia, SC | N86: small | O86: wading | P86: bridge
A87: SANT | B87: SC | C87: 02175000 | D87: Edisto River near Givhans, SC | E87: Y | F87: Y | G87: Integ | H87: rotate4 | I87: N | J87: N | K87: Columbia, SC | L87: 18 | M87: Columbia, SC | N87: medium | O87: bridge | P87: bridge
A88: TRIN | B88: TX | C88: 08057200 | D88: White Rock Creek at Dallas, TX | E88: Y | F88: Y | G88: Urban | H88: rotate2 | I88: Y | J88: Y | K88: Austin, TX | L88: 24 | M88: Austin, TX | N88: small | O88: wading | P88: bridge
A89: TRIN | B89: TX | C89: 08057410 | D89: Trinity River below Dallas, TX | E89: Y | F89: Y | G89: Integ | H89: urbcore | I89: N | J89: N | K89: Austin, TX | L89: 18 | M89: Austin, TX | N89: large | O89: bridge | P89: bridge
A90: NMN | B90: TX | C90: 08116650 | D90: Brazos River near Rosharon, TX | E90: N | F90: N | G90: NA | H90: NA | I90: N | J90: N | K90: Austin, TX | L90: 14 | M90: The Woodlands, TX | N90: large | O90: wading | P90: boat
A91: SCTX | B91: TX | C91: 08195000 | D91: Frio River at Concan, TX | E91: Y | F91: N | G91: Ref | H91: eco_only | I91: Y | J91: Y | K91: Austin, TX | L91: 6 | M91: San Antonio, TX | N91: small | O91: wading | P91: bridge
A92: NASQAN | B92: TX | C92: 08475000 | D92: Rio Grande near Brownsville, TX | E92: N | F92: N | G92: NA | H92: NA | I92: N | J92: N | K92: Austin, TX | L92: 12 | M92: San Antonio, TX | N92: large | O92: wading | P92: cableway
... A101: YELL | B101: WY | C101: 06329500 | D101: Yellowstone River near Sidney, MT | E101: Y | F101: Y | G101: Integ | H101: rotate4 | I101: N | J101: N | K101: Cheyenne, WY | L101: 14 | M101: Butte, MT | N101: large | O101: cableway | P101: cableway

Sheet FY14 chem site costs
A1: SC | B1: STATION ID | C1: STATION NAME | D1: CYCLE 3 SITE TYPE | E1: FY14 sample collection site target NAWQA | F1: FY14 sample collection site target NASQAN | G1: FY14 sample collection site target NMN | H1: FY14 streamgaging site target NAWQA | I1: FY14 streamgaging site target NASQAN | J1: FY14 streamgaging site target NMN
A2: AK | B2: 15565447 | C2: Yukon River at Pilot Station, AK | D2: Coastal Rivers | E2: 0 | F2: 76500 | G2: 0 | H2: 0 | I2: 0 | J2: 0
A3: AL | B3: 02470500 | C3: Mobile River at Mt. Vernon, AL | D3: Coastal Rivers | E3: 0 | F3: 78000 | G3: 0 | H3: 0 | I3: 0 | J3: 0
A4: AL | B4: 02469762 | C4: Tombigbee River near Coffeeville, AL | D4: Large Inland Rivers | E4: 86500 | F4: 0 | G4: 0 | H4: 0 | I4: 0 | J4: 0
A5: AR | B5: 07263620 | C5: Arkansas River at Terry L&D below Little Rock, AR | D5: Large Inland Rivers | E5: 0 | F5: 56000 | G5: 0 | H5: 0 | I5: 5500 | J5: 0
A6: AR | B6: 07055646 | C6: Buffalo River near Boxley, AR | D6: reference | E6: 20000 | F6: 0 | G6: 0 | H6: 0 | I6: 0 | J6: 0
A7: AR | B7: 07060710 | C7: North Sylamore Creek near Fifty Six, AR | D7: reference | E7: 19000 | F7: 0 | G7: 0 | H7: 0 | I7: 0 | J7: 0
A8: AZ | B8: 09471000 | C8: San Pedro River at Charleston, AZ | D8: reference | E8: 25500 | F8: 0 | G8: 0 | H8: 0 | I8: 0 | J8: 0
A9: AZ | B9: 09505800 | C9: West Clear Creek near Camp Verde, AZ | D9: reference | E9: 28000 | F9: 0 | G9: 0 | H9: 0 | I9: 0 | J9: 0
A10: AZ | B10: 09380000 | C10: Colorado River at Lees Ferry, AZ | D10: Large Inland Rivers | E10: 66500 | F10: 0 | G10: 0 | H10: 0 | I10: 0 | J10: 0
A11: AZ | B11: 09522000 | C11: Colorado River at NIB | D11: Coastal Rivers | E11: 0 | F11: 50000 | G11: 0 | H11: 0 | I11: 0 | J11: 0
A12: CA | B12: 11447650 | C12: Sacramento River at Freeport, CA | D12: Coastal Rivers | E12: 69500 | F12: 0 | G12: 0 | H12: 0 | I12: 0 | J12: 0
A13: CA | B13: 11274538 | C13: Orestimba Creek near Crows Landing, CA | D13: Agriculture | E13: 72000 | F13: 0 | G13: 0 | H13: 22500 | I13: 0 | J13: 0
... A15: CA | B15: 11335000 | C15: Cosumnes River at Michigan Bar, CA | D15: reference | E15: 30000 | F15: 0 | G15: 0 | H15: 0 | I15: 0 | J15: 0
A16: CA | B16: 11264500 | C16: Merced River at Happy Isles Bridge nr Yosemite, CA | D16: reference | E16: 22500 | F16: 0 | G16: 0 | H16: 0 | I16: 0 | J16: 0
A17: CA | B17: 11074000 | C17: Santa Ana River below Prado Dam, CA | D17: Coastal Rivers | E17: 70000 | F17: 0 | G17: 0 | H17: 0 | I17: 0 | J17: 0
A18: CO | B18: 06713500 | C18: Cherry Creek at Denver, CO | D18: Urban | E18: 87000 | F18: 0 | G18: 0 | H18: 0 | I18: 0 | J18: 0
A19: CO | B19: 06754000 | C19: South Platte River near Kersey, CO | D19: Large Inland Rivers | E19: 84000 | F19: 0 | G19: 0 | H19: 0 | I19: 0 | J19: 0
A20: CO | B20: 09163500 | C20: Colorado River near Colorado-Utah state line | D20: Large Inland Rivers | E20: 78000 | F20: 0 | G20: 0 | H20: 0 | I20: 0 | J20: 0
A21: CT | B21: 01170100 | C21: Green River near Colrain, MA | D21: reference | E21: 34500 | F21: 0 | G21: 0 | H21: 0 | I21: 0 | J21: 0
A22: CT | B22: 01184000 | C22: Connecticut River at Thompsonville, CT | D22: Coastal Rivers | E22: 87500 | F22: 0 | G22: 0 | H22: 0 | I22: 0 | J22: 0
A23: CT | B23: 01209710 | C23: Norwalk River at Winnipauk,CT | D23: Urban | E23: 78000 | F23: 0 | G23: 0 | H23: 0 | I23: 0 | J23: 0
A24: FL | B24: 02359170 | C24: Apalachicola River near Sumatra, FL | D24: Coastal Rivers | E24: 0 | F24: 0 | G24: 54000 | H24: 0 | I24: 0 | J24: 0
A25: GA | B25: 02335870 | C25: Sope Creek near Marietta, GA | D25: Urban | E25: 81000 | F25: 0 | G25: 0 | H25: 0 | I25: 0 | J25: 0
A26: GA | B26: 02338523 | C26: Hillibahatchee Creek near Franklin, GA | D26: reference | E26: 40500 | F26: 0 | G26: 0 | H26: 15500 | I26: 0 | J26: 0
A27: GA | B27: 02226160 | C27: Altamaha River at Everett City, GA | D27: Coastal Rivers | E27: 0 | F27: 68000 | G27: 0 | H27: 0 | I27: 24500 | J27: 0
A28: IA | B28: 05451210 | C28: South Fork Iowa River near New Providence, IA | D28: Agriculture | E28: 90000 | F28: 0 | G28: 0 | H28: 15000 | I28: 0 | J28: 0
... A76: NY | B76: 01349150 | C76: Canajoharie Creek near Canajoharie, NY | D76: Agriculture | E76: 112000 | F76: 0 | G76: 0 | H76: 15500 | I76: 0 | J76: 0
A77: NY | B77: 4264331 | C77: St. Lawrence River at Cornwall, Ontario | D77: Large Inland Rivers | E77: 0 | F77: 54500 | G77: 0 | H77: 0 | I77: 0 | J77: 0
A78: NY | B78: 01372043 | C78: Hudson River near Poughkeepsie, NY | D78: Coastal Rivers | E78: 0 | F78: 0 | G78: 66500 | H78: 0 | I78: 0 | J78: 0
A79: OH | B79: 04193500 | C79: Maumee River at Waterville, OH | D79: Large Inland Rivers | E79: 83500 | F79: 0 | G79: 0 | H79: 0 | I79: 0 | J79: 0
A80: OK | B80: 07241550 | C80: North Canadian River near Harrah, OK | D80: Large Inland Rivers | E80: 21500 | F80: 0 | G80: 0 | H80: 0 | I80: 0 | J80: 0
A81: OR | B81: 14201300 | C81: Zollner Creek near Mt. Angel, OR | D81: Agriculture | E81: 91000 | F81: 0 | G81: 0 | H81: 17700 | I81: 0 | J81: 0
A82: OR | B82: 14205400 | C82: East Fork Dairy Creek near Meachan Corner, OR | D82: reference | E82: 27200 | F82: 0 | G82: 0 | H82: 17700 | I82: 0 | J82: 0
A83: OR | B83: 14206950 | C83: Fanno Creek at Durham, OR | D83: urban | E83: 83000 | F83: 0 | G83: 0 | H83: 9000 | I83: 0 | J83: 0
A84: OR | B84: 14211720 | C84: Willamette River at Portland, OR | D84: Large Inland Rivers | E84: 81000 | F84: 0 | G84: 0 | H84: 0 | I84: 0 | J84: 0
A85: OR | B85: 14246900 | C85: Columbia River near Beaver Army Terminal, OR | D85: Coastal Rivers | E85: 0 | F85: 64000 | G85: 0 | H85: 0 | I85: 0 | J85: 0
A86: SC | B86: 02172300 | C86: McTier Creek near Monetta, SC | D86: reference | E86: 31500 | F86: 0 | G86: 0 | H86: 17500 | I86: 0 | J86: 0
A87: SC | B87: 02175000 | C87: Edisto River near Givhans, SC | D87: Coastal Rivers | E87: 91000 | F87: 0 | G87: 0 | H87: 0 | I87: 0 | J87: 0
A88: TX | B88: 08057200 | C88: White Rock Creek at Dallas, TX | D88: urban | E88: 95000 | F88: 0 | G88: 0 | H88: 0 | I88: 0 | J88: 0
A89: TX | B89: 08057410 | C89: Trinity River below Dallas, TX | D89: Large Inland Rivers | E89: 94000 | F89: 0 | G89: 0 | H89: 0 | I89: 0 | J89: 0
... A101: WY | B101: 06329500 | C101: Yellowstone River near Sidney, MT | D101: Large Inland Rivers | E101: 86500 | F101: 0 | G101: 0 | H101: 0 | I101: 0 | J101: 0
E102: =SUM(E2:E101) -> 4456200 | F102: =SUM(F2:F101) -> 1521000 | G102: =SUM(G2:G101) -> 234500 | H102: =SUM(H2:H101) -> 278700 | I102: =SUM(I2:I101) -> 57000 | J102: =SUM(J2:J101) -> 3200

Sheet Eco site information
M1: Cycle 3 Sampling Schedule
A2: sc | B2: Station number | C2: Station name | D2: PROPOSED COST CENTER TO DO SAMPLING | E2: Cycle III site type | F2: Eco-region | G2: RTH (Snag or Riffle) | H2: RT Miles to Site | I2: RT Travel Time to Site (hrs) | J2: Fish Rela-tive Rich- ness | K2: Fish Rich- ness factor | L2: Area (sq km) | M2: 2013 | N2: 2014 | O2: 2015 | P2: 2016 | Q2: 2017 | R2: 2018 | S2: 2019 | T2: 2020 | U2: 2021 | V2: 2022
A3: AR | B3: 07055646 | C3: Buffalo River near Boxley, AR | D3: Little Rock, AR | E3: Reference | F3: 38 | G3: Riffle | H3: 380 | I3: 8.2 | J3: Hi | K3: =IF(J3="Lo",0.8,IF(J3="Med",1,(IF(J3="Hi",1.2,"error")))) -> 1.2 | L3: 134 | M3: IAFH | N3: IAFH | O3: IAFH | P3: IAFH | Q3: IAFH | R3: IAFH | S3: IAFH | T3: IAFH | U3: IAFH | V3: IAFH
A4: AR | B4: 7060710 | C4: North Sylamore Creek near Fifty Six, AR | D4: Little Rock, AR | E4: Reference | F4: 39 | G4: Riffle | H4: 260 | I4: 6.2 | J4: Med | K4: =IF(J4="Lo",0.8,IF(J4="Med",1,(IF(J4="Hi",1.2,"error")))) -> 1 | L4: 150 | M4: IAFH | N4: IAFH | O4: IAFH | P4: IAFH | Q4: IAFH | R4: IAFH | S4: IAFH | T4: IAFH | U4: IAFH | V4: IAFH
A5: AZ | B5: 09471000 | C5: San Pedro River at Charleston, AZ | D5: Tucson, AZ | E5: Reference | F5: 79 | G5: Riffle | H5: 170 | I5: 3.2 | J5: Med | K5: =IF(J5="Lo",0.8,IF(J5="Med",1,(IF(J5="Hi",1.2,"error")))) -> 1 | L5: 3196 | M5: IAFH | N5: IAFH | O5: IAFH | P5: IAFH | Q5: IAFH | R5: IAFH | S5: IAFH | T5: IAFH | U5: IAFH | V5: IAFH
A6: AZ | B6: 9505800 | C6: West Clear Creek near Camp Verde, AZ | D6: Tucson, AZ | E6: Reference | F6: 23 | G6: Riffle | H6: 460 | I6: 7 | J6: Lo | K6: =IF(J6="Lo",0.8,IF(J6="Med",1,(IF(J6="Hi",1.2,"error")))) -> 0.8 | L6: 615 | M6: IAFH | N6: IAFH | O6: IAFH | P6: IAFH | Q6: IAFH | R6: IAFH | S6: IAFH | T6: IAFH | U6: IAFH | V6: IAFH
A7: CA | B7: 11274538 | C7: Orestimba Creek near Crows Landing, CA | D7: Sacramento, CA | E7: Agriculture | F7: 5 | G7: Snag | H7: 240 | I7: 3.6 | J7: Lo | K7: =IF(J7="Lo",0.8,IF(J7="Med",1,(IF(J7="Hi",1.2,"error")))) -> 0.8 | L7: 27.9 | M7: IAFH | N7: IAFH | O7: IAFH | P7: IAFH | Q7: IAFH | R7: IAFH | S7: IAFH | T7: IAFH | U7: IAFH | V7: IAFH
A8: CA | B8: 11335000 | C8: Cosumnes River at Michigan Bar, CA | D8: Sacramento, CA | E8: Reference | F8: 7 | G8: Riffle | H8: 82 | I8: 1.8 | J8: Lo | K8: =IF(J8="Lo",0.8,IF(J8="Med",1,(IF(J8="Hi",1.2,"error")))) -> 0.8 | L8: 1390 | M8: IAFH | N8: IAFH | O8: IAFH | P8: IAFH | Q8: IAFH | R8: IAFH | S8: IAFH | T8: IAFH | U8: IAFH | V8: IAFH
A9: CA | B9: 11264500 | C9: Merced River at Happy Isles Bridge nr Yosemite, CA | D9: Sacramento, CA | E9: Reference | G9: Riffle | H9: 400 | I9: 9 | J9: Med | K9: =IF(J9="Lo",0.8,IF(J9="Med",1,(IF(J9="Hi",1.2,"error")))) -> 1 | L9: 468.8 | M9: IAFH | N9: IAFH | O9: IAFH | P9: IAFH | Q9: IAFH | R9: IAFH | S9: IAFH | T9: IAFH | U9: IAFH | V9: IAFH
A10: CO | B10: 6713500 | C10: Cherry Creek at Denver, CO | D10: Lakewood, CO | E10: Urban | F10: 25 | G10: Riffle | H10: 28 | I10: 0.8 | J10: Lo | K10: =IF(J10="Lo",0.8,IF(J10="Med",1,(IF(J10="Hi",1.2,"error")))) -> 0.8 | L10: 1060 | M10: IAFH | N10: IAFH | O10: IAFH | P10: IAFH | Q10: IAFH | R10: IAFH | S10: IAFH | T10: IAFH | U10: IAFH | V10: IAFH
A11: CT | B11: 1170100 | C11: Green River near Colrain, MA | D11: East Hartford, CT | E11: Reference | F11: 58 | G11: Riffle | H11: 174 | I11: 3.2 | J11: Lo | K11: =IF(J11="Lo",0.8,IF(J11="Med",1,(IF(J11="Hi",1.2,"error")))) -> 0.8 | L11: 107 | M11: IAFH | N11: IAFH | O11: IAFH | P11: IAFH | Q11: IAFH | R11: IAFH | S11: IAFH | T11: IAFH | U11: IAFH | V11: IAFH
A12: CT | B12: 1209710 | C12: Norwalk River at Winnipauk,CT | D12: East Hartford, CT | E12: Urban | F12: 59 | G12: Riffle | H12: 158 | I12: 3 | J12: Med | K12: =IF(J12="Lo",0.8,IF(J12="Med",1,(IF(J12="Hi",1.2,"error")))) -> 1 | L12: 85.1 | M12: IAFH | N12: IAFH | O12: IAFH | P12: IAFH | Q12: IAFH | R12: IAFH | S12: IAFH | T12: IAFH | U12: IAFH | V12: IAFH
A13: GA | B13: 2335870 | C13: Sope Creek near Marietta, GA | D13: Atlanta, GA | E13: Urban | F13: 45 | G13: Riffle | H13: 58 | I13: 1.2 | J13: Med | K13: =IF(J13="Lo",0.8,IF(J13="Med",1,(IF(J13="Hi",1.2,"error")))) -> 1 | L13: 79.5 | M13: IAFH | N13: IAFH | O13: IAFH | P13: IAFH | Q13: IAFH | R13: IAFH | S13: IAFH | T13: IAFH | U13: IAFH | V13: IAFH
A14: GA | B14: 2338523 | C14: Hillibahatchee Creek near Franklin, GA | D14: Atlanta, GA | E14: Reference | F14: 45 | G14: Riffle | H14: 180 | I14: 3.6 | J14: Med | K14: =IF(J14="Lo",0.8,IF(J14="Med",1,(IF(J14="Hi",1.2,"error")))) -> 1 | L14: 43.5 | M14: IAFH | N14: IAFH | O14: IAFH | P14: IAFH | Q14: IAFH | R14: IAFH | S14: IAFH | T14: IAFH | U14: IAFH | V14: IAFH
A15: IA | B15: 5451210 | C15: South Fork Iowa River near New Providence, IA | D15: Iowa City, IA | E15: Agriculture | F15: 47 | G15: Snag | H15: 320 | I15: 5.6 | J15: Hi | K15: =IF(J15="Lo",0.8,IF(J15="Med",1,(IF(J15="Hi",1.2,"error")))) -> 1.2 | L15: 581 | M15: IAFH | N15: IAFH | O15: IAFH | P15: IAFH | Q15: IAFH | R15: IAFH | S15: IAFH | T15: IAFH | U15: IAFH | V15: IAFH
A16: ID | B16: 13092747 | C16: Rock Creek at Twin Falls, ID | D16: Boise, ID | E16: Agriculture | F16: 12 | G16: Riffle | H16: 300 | I16: 4.4 | J16: Lo | K16: =IF(J16="Lo",0.8,IF(J16="Med",1,(IF(J16="Hi",1.2,"error")))) -> 0.8 | L16: 623 | M16: IAFH | N16: IAFH | O16: IAFH | P16: IAFH | Q16: IAFH | R16: IAFH | S16: IAFH | T16: IAFH | U16: IAFH | V16: IAFH
A17: IN | B17: 394340085524601 | C17: Sugar Creek at New Palestine, IN | D17: Indianapolis, IN | E17: Agriculture | F17: 55 | G17: Riffle | H17: 80 | I17: 1.8 | J17: Hi | K17: =IF(J17="Lo",0.8,IF(J17="Med",1,(IF(J17="Hi",1.2,"error")))) -> 1.2 | L17: 246 | M17: IAFH | N17: IAFH | O17: IAFH | P17: IAFH | Q17: IAFH | R17: IAFH | S17: IAFH | T17: IAFH | U17: IAFH | V17: IAFH
A18: LA | B18: 8014500 | C18: Ouiska (Whiskey) Chitto Creek near Oberlin, LA | D18: Baton Rouge, LA | E18: Reference | F18: 35 | G18: Snag | H18: 340 | I18: 5.6 | J18: Med | K18: =IF(J18="Lo",0.8,IF(J18="Med",1,(IF(J18="Hi",1.2,"error")))) -> 1 | L18: 1310 | M18: IAFH | N18: IAFH | O18: IAFH | P18: IAFH | Q18: IAFH | R18: IAFH | S18: IAFH | T18: IAFH | U18: IAFH | V18: IAFH
A19: MD | B19: 1610400 | C19: Waites Run near Wardensville, WV | D19: Baltimore, MD | E19: Reference | F19: 67 | G19: Riffle | H19: 320 | I19: 6.4 | J19: Med | K19: =IF(J19="Lo",0.8,IF(J19="Med",1,(IF(J19="Hi",1.2,"error")))) -> 1 | L19: 32.6 | M19: IAFH | N19: IAFH | O19: IAFH | P19: IAFH | Q19: IAFH | R19: IAFH | S19: IAFH | T19: IAFH | U19: IAFH | V19: IAFH
A20: MD | B20: 1654000 | C20: Accotink Creek near Annandale, VA | D20: Baltimore, MD | E20: Urban | F20: 45 | G20: Riffle | H20: 154 | I20: 2.8 | J20: Med | K20: =IF(J20="Lo",0.8,IF(J20="Med",1,(IF(J20="Hi",1.2,"error")))) -> 1 | L20: 60.7 | M20: IAFH | N20: IAFH | O20: IAFH | P20: IAFH | Q20: IAFH | R20: IAFH | S20: IAFH | T20: IAFH | U20: IAFH | V20: IAFH
A21: MN | B21: 05288705 | C21: Shingle Creek at Minneapolis, MN | D21: Mounds View, MN | E21: Urban | F21: 51 | G21: Snag | H21: 20 | I21: 0.6 | J21: Med | L21: 73 | M21: IAFH | N21: IAFH | O21: IAFH | P21: IAFH | Q21: IAFH | R21: IAFH | S21: IAFH | T21: IAFH | U21: IAFH | V21: IAFH
A22: MS | B22: 07288650 | C22: Bogue Phalia near Leland, MS | D22: Jackson, MS | E22: Agriculture | F22: 73 | G22: Snag | H22: 250 | I22: 4.5 | J22: Hi | K22: =IF(J22="Lo",0.8,IF(J22="Med",1,(IF(J22="Hi",1.2,"error")))) -> 1.2 | L22: 1254 | M22: IAFH | N22: IAFH | O22: IAFH | P22: IAFH | Q22: IAFH | R22: IAFH | S22: IAFH | T22: IAFH | U22: IAFH | V22: IAFH
A23: NC | B23: 2087580 | C23: Swift Creek near Apex, NC | D23: Raleigh, NC | E23: Urban | F23: 65 | G23: Riffle | H23: 40 | I23: 0.8 | J23: Med | K23: =IF(J23="Lo",0.8,IF(J23="Med",1,(IF(J23="Hi",1.2,"error")))) -> 1 | L23: 53.9 | M23: IAFH | N23: IAFH | O23: IAFH | P23: IAFH | Q23: IAFH | R23: IAFH | S23: IAFH | T23: IAFH | U23: IAFH | V23: IAFH
A24: NC | B24: 2091500 | C24: Contentnea Creek at Hookerton, NC | D24: Raleigh, NC | E24: Agriculture | F24: 65 | G24: Snag | H24: 200 | I24: 3.8 | J24: Hi | K24: =IF(J24="Lo",0.8,IF(J24="Med",1,(IF(J24="Hi",1.2,"error")))) -> 1.2 | L24: 1910 | M24: IAFH | N24: IAFH | O24: IAFH | P24: IAFH | Q24: IAFH | R24: IAFH | S24: IAFH | T24: IAFH | U24: IAFH | V24: IAFH
A25: NE | B25: 6775900 | C25: Dismal River near Thedford, NE | D25: Lincoln, NE | E25: Reference | F25: 44 | G25: Snag | H25: 660 | I25: 10.2 | J25: Med | K25: =IF(J25="Lo",0.8,IF(J25="Med",1,(IF(J25="Hi",1.2,"error")))) -> 1 | L25: 2500 | M25: IAFH | N25: IAFH | O25: IAFH | P25: IAFH | Q25: IAFH | R25: IAFH | S25: IAFH | T25: IAFH | U25: IAFH | V25: IAFH
A26: NE | B26: 6800000 | C26: Maple Creek near Nickerson, NE | D26: Lincoln, NE | E26: Agriculture | F26: 47 | G26: Snag | H26: 194 | I26: 3.4 | J26: Med | K26: =IF(J26="Lo",0.8,IF(J26="Med",1,(IF(J26="Hi",1.2,"error")))) -> 1 | L26: 955 | M26: IAFH | N26: IAFH | O26: IAFH | P26: IAFH | Q26: IAFH | R26: IAFH | S26: IAFH | T26: IAFH | U26: IAFH | V26: IAFH
A27: NM | B27: 8227000 | C27: Saguache Creek near Saguache, CO | D27: Albuquerque, NM | E27: Reference | F27: 21 | G27: Riffle | H27: 560 | I27: 10.6 | J27: Lo | K27: =IF(J27="Lo",0.8,IF(J27="Med",1,(IF(J27="Hi",1.2,"error")))) -> 0.8 | L27: 1330 | M27: IAFH | N27: IAFH | O27: IAFH | P27: IAFH | Q27: IAFH | R27: IAFH | S27: IAFH | T27: IAFH | U27: IAFH | V27: IAFH
A28: NY | B28: 1349150 | C28: Canajoharie Creek near Canajoharie, NY | D28: Troy, NY | E28: Agriculture | F28: 83 | G28: Riffle | H28: 140 | I28: 2.4 | J28: Med | K28: =IF(J28="Lo",0.8,IF(J28="Med",1,(IF(J28="Hi",1.2,"error")))) -> 1 | L28: 155 | M28: IAFH | N28: IAFH | O28: IAFH | P28: IAFH | Q28: IAFH | R28: IAFH | S28: IAFH | T28: IAFH | U28: IAFH | V28: IAFH
A29: OH | B29: 4161820 | C29: Clinton River at Sterling Heights, MI | D29: Columbus, OH | E29: Urban | F29: 56 | G29: Riffle | H29: 200 | I29: 3.4 | J29: Hi | K29: =IF(J29="Lo",0.8,IF(J29="Med",1,(IF(J29="Hi",1.2,"error")))) -> 1.2 | L29: 803 | M29: IAFH | N29: IAFH | O29: IAFH | P29: IAFH | Q29: IAFH | R29: IAFH | S29: IAFH | T29: IAFH | U29: IAFH | V29: IAFH
A30: OR | B30: 14201300 | C30: Zollner Creek near Mt. Angel, OR | D30: Portland, OR | E30: Agriculture | F30: 3 | G30: Snag | H30: 80 | I30: 2 | J30: Med | K30: =IF(J30="Lo",0.8,IF(J30="Med",1,(IF(J30="Hi",1.2,"error")))) -> 1 | L30: 38.85 | M30: IAFH | N30: IAFH | O30: IAFH | P30: IAFH | Q30: IAFH | R30: IAFH | S30: IAFH | T30: IAFH | U30: IAFH | V30: IAFH
A31: OR | B31: 14205400 | C31: East Fork Dairy Creek near Meachan Corner, OR | D31: Portland, OR | E31: Reference | F31: 3 | G31: Riffle | H31: 90 | I31: 2.2 | J31: Lo | K31: =IF(J31="Lo",0.8,IF(J31="Med",1,(IF(J31="Hi",1.2,"error")))) -> 0.8 | L31: 32.9 | M31: IAFH | N31: IAFH | O31: IAFH | P31: IAFH | Q31: IAFH | R31: IAFH | S31: IAFH | T31: IAFH | U31: IAFH | V31: IAFH
A32: OR | B32: 14206950 | C32: Fanno Creek at Durham, OR | D32: Portland, OR | E32: Urban | F32: 3 | G32: Riffle | H32: 50 | I32: 1.2 | J32: Lo | K32: =IF(J32="Lo",0.8,IF(J32="Med",1,(IF(J32="Hi",1.2,"error")))) -> 0.8 | L32: 80.7 | M32: IAFH | N32: IAFH | O32: IAFH | P32: IAFH | Q32: IAFH | R32: IAFH | S32: IAFH | T32: IAFH | U32: IAFH | V32: IAFH
A33: SC | B33: 2172300 | C33: McTier Creek near Monetta, SC | D33: Columbia, SC | E33: Reference | F33: 65 | G33: Snag | H33: 108 | I33: 1.8 | J33: Med | K33: =IF(J33="Lo",0.8,IF(J33="Med",1,(IF(J33="Hi",1.2,"error")))) -> 1 | L33: 40.4 | M33: IAFH | N33: IAFH | O33: IAFH | P33: IAFH | Q33: IAFH | R33: IAFH | S33: IAFH | T33: IAFH | U33: IAFH | V33: IAFH
A34: TX | B34: 8057200 | C34: White Rock Creek at Dallas, TX | D34: Austin, TX | E34: Urban | F34: 32(pr w /29) | G34: Riffle | H34: 440 | I34: 7 | J34: Hi | K34: =IF(J34="Lo",0.8,IF(J34="Med",1,(IF(J34="Hi",1.2,"error")))) -> 1.2 | L34: 173 | M34: IAFH | N34: IAFH | O34: IAFH | P34: IAFH | Q34: IAFH | R34: IAFH | S34: IAFH | T34: IAFH | U34: IAFH | V34: IAFH
A35: TX | B35: 8195000 | C35: Frio River at Concan, TX | D35: Austin, TX | E35: Reference | F35: 30 | G35: Riffle | H35: 380 | I35: 7.6 | J35: Med | K35: =IF(J35="Lo",0.8,IF(J35="Med",1,(IF(J35="Hi",1.2,"error")))) -> 1 | L35: 1030 | M35: IAFH | N35: IAFH | O35: IAFH | P35: IAFH | Q35: IAFH | R35: IAFH | S35: IAFH | T35: IAFH | U35: IAFH | V35: IAFH
A36: UT | B36: 10168000 | C36: Little Cottonwood Creek at Salt Lake City, UT | D36: West Valley City, UT | E36: Urban | F36: 19 | G36: Depos. | H36: 24 | I36: 0.8 | J36: Lo | K36: =IF(J36="Lo",0.8,IF(J36="Med",1,(IF(J36="Hi",1.2,"error")))) -> 0.8 | L36: 117 | M36: IAFH | N36: IAFH | O36: IAFH | P36: IAFH | Q36: IAFH | R36: IAFH | S36: IAFH | T36: IAFH | U36: IAFH | V36: IAFH
A37: UT | B37: 10172200 | C37: *Red Butte Creek at Fort Douglas, UT | D37: West Valley City, UT | E37: Reference | F37: 19 | G37: Riffle | H37: 34 | I37: 1.2 | J37: Med | K37: =IF(J37="Lo",0.8,IF(J37="Med",1,(IF(J37="Hi",1.2,"error")))) -> 1 | L37: 18.7 | M37: IAH | N37: IAH | O37: IAH | P37: IAH | Q37: IAH | R37: IAH | S37: IAH | T37: IAH | U37: IAH | V37: IAH
A38: WA | B38: 12056500 | C38: **North Fork Skokomish River near Hoodsport, WA | D38: Tacoma, WA | E38: Reference | F38: 1 | G38: Riffle | H38: 156 | I38: 2.8 | J38: Lo | K38: =IF(J38="Lo",0.8,IF(J38="Med",1,(IF(J38="Hi",1.2,"error")))) -> 0.8 | L38: 147 | M38: IAH | N38: IAH | O38: IAH | P38: IAH | Q38: IAH | R38: IAH | S38: IAH | T38: IAH | U38: IAH | V38: IAH
A39: WA | B39: 12505450 | C39: Granger Drain at Granger, WA | D39: Tacoma, WA | E39: Agriculture | F39: 10 | G39: Riffle | H39: 360 | I39: 6 | J39: Lo | K39: =IF(J39="Lo",0.8,IF(J39="Med",1,(IF(J39="Hi",1.2,"error")))) -> 0.8 | L39: 160 | M39: IAFH | N39: IAFH | O39: IAFH | P39: IAFH | Q39: IAFH | R39: IAFH | S39: IAFH | T39: IAFH | U39: IAFH | V39: IAFH
A40: WI | B40: 4063700 | C40: Popple River near Fence, WI | D40: Madison, WI | E40: Reference | F40: 50 | G40: Riffle | H40: 580 | I40: 10.6 | J40: Med | K40: =IF(J40="Lo",0.8,IF(J40="Med",1,(IF(J40="Hi",1.2,"error")))) -> 1 | L40: 363 | M40: IAFH | N40: IAFH | O40: IAFH | P40: IAFH | Q40: IAFH | R40: IAFH | S40: IAFH | T40: IAFH | U40: IAFH | V40: IAFH
A41: WY | B41: 6324970 | C41: Little Powder River near Weston, WY | D41: Cheyenne, WY | E41: Reference | F41: 43 | G41: Riffle | H41: 600 | I41: 8.8 | J41: Med | K41: =IF(J41="Lo",0.8,IF(J41="Med",1,(IF(J41="Hi",1.2,"error")))) -> 1 | L41: 3200 | M41: IAFH | N41: IAFH | O41: IAFH | P41: IAFH | Q41: IAFH | R41: IAFH | S41: IAFH | T41: IAFH | U41: IAFH | V41: IAFH
C42: *Fish not collected due to permit issues | M42: I=Invertabrates; A=algae; F=fish; H=habitat
C43: **Fish not collected by USGS due to endangered species issues; annual Fish collections at NF Skokomish by U. Washington

Sheet FY14 Eco site costs
F1: FY14 $ (Net) | O1: FY14 $ GROSS
A2: SC | B2: Station number | C2: Station name | D2: PROPOSED COST CENTER TO DO SAMPLING | E2: Cycle3 site type | F2: Eco Field Labor Cost (inc 22.4% lv assess) | G2: Eco Field Travel Cost (per diem) | H2: Eco Vehicle costs | I2: Eco Supply costs | J2: Eco Office Labor Costs (inc 22.4% lv assess) | K2: Eco QA / Mgt Labor Costs (inc 22.4% lv assess) | L2: Eco WSC net cost incl 10% contingency | M2: Dist Direct Cost | N2: Over-head Cost | O2: Eco WSC Total Cost
A3: AR | B3: 07055646 | C3: Buffalo River near Boxley, AR | D3: Little Rock, AR | E3: Reference | F3: 5606.6629 | G3: 762.85 | H3: 2112 | I3: 815.1 | J3: 2535.7676 | K3: 719.55738 | L3: 13807.132 | M3: 0 | N3: 6351.2806 | O3: 20158.412
A4: AR | B4: 7060710 | C4: North Sylamore Creek near Fifty Six, AR | D4: Little Rock, AR | E4: Reference | F4: 4766.2637 | G4: 762.85 | H4: 1584 | I4: 815.1 | J4: 2535.7676 | K4: 719.55738 | L4: 12301.893 | M4: 0 | N4: 5658.8706 | O4: 17960.763
A5: AZ | B5: 09471000 | C5: San Pedro River at Charleston, AZ | D5: Tucson, AZ | E5: Reference | F5: 3434.1277 | G5: 0 | H5: 1188 | I5: 815.1 | J5: 2535.7676 | K5: 719.55738 | L5: 9561.808 | M5: 956.1808 | N5: 3120.6873 | O5: 13638.676
A6: AZ | B6: 9505800 | C6: West Clear Creek near Camp Verde, AZ | D6: Tucson, AZ | E6: Reference | F6: 5102.4234 | G6: 762.85 | H6: 2464 | I6: 815.1 | J6: 2535.7676 | K6: 719.55738 | L6: 13639.668 | M6: 1363.9668 | N6: 4451.5785 | O6: 19455.214
A7: CA | B7: 11274538 | C7: Orestimba Creek near Crows Landing, CA | D7: Sacramento, CA | E7: Agriculture | F7: 3818.1662 | G7: 0 | H7: 1496 | I7: 815.1 | J7: 2694.805 | K7: 766.15056 | L7: 10549.244 | M7: 0 | N7: 5091.2761 | O7: 15640.52
A8: CA | B8: 11335000 | C8: Cosumnes River at Michigan Bar, CA | D8: Sacramento, CA | E8: Reference | F8: 3070.3893 | G8: 0 | H8: 800.8 | I8: 815.1 | J8: 2694.805 | K8: 766.15056 | L8: 8961.9693 | M8: 0 | N8: 4325.2256 | O8: 13287.195
A9: CA | B9: 11264500 | C9: Merced River at Happy Isles Bridge nr Yosemite, CA | D9: Sacramento, CA | E9: Reference | F9: 6318.2889 | G9: 762.85 | H9: 2200 | I9: 815.1 | J9: 2694.805 | K9: 766.15056 | L9: 14912.914 | M9: 0 | N9: 7197.2705 | O9: 22110.184
A10: CO | B10: 6713500 | C10: Cherry Creek at Denver, CO | D10: Lakewood, CO | E10: Urban | F10: 2661.2773 | G10: 0 | H10: 563.2 | I10: 815.1 | J10: 2701.311 | K10: 768.08574 | L10: 8259.8715 | M10: 0 | N10: 4950.967 | O10: 13210.839
A11: CT | B11: 1170100 | C11: Green River near Colrain, MA | D11: East Hartford, CT | E11: Reference | F11: 3750.0833 | G11: 0 | H11: 1205.6 | I11: 815.1 | J11: 2766.3718 | K11: 787.13982 | L11: 10256.724 | M11: 0 | N11: 5387.9599 | O11: 15644.684
A12: CT | B12: 1209710 | C12: Norwalk River at Winnipauk,CT | D12: East Hartford, CT | E12: Urban | F12: 3664.7429 | G12: 0 | H12: 1135.2 | I12: 815.1 | J12: 2766.3718 | K12: 787.13982 | L12: 10085.41 | M12: 0 | N12: 5297.9667 | O12: 15383.377
A13: GA | B13: 2335870 | C13: Sope Creek near Marietta, GA | D13: Atlanta, GA | E13: Urban | F13: 2760.4111 | G13: 0 | H13: 695.2 | I13: 815.1 | J13: 2637.6961 | K13: 749.32938 | L13: 8423.5102 | M13: 0 | N13: 3304.543 | O13: 11728.053
A14: GA | B14: 2338523 | C14: Hillibahatchee Creek near Franklin, GA | D14: Atlanta, GA | E14: Reference | F14: 3735.696 | G14: 0 | H14: 1232 | I14: 815.1 | J14: 2637.6961 | K14: 749.32938 | L14: 10086.804 | M14: 0 | N14: 3957.0531 | O14: 14043.857
A15: IA | B15: 5451210 | C15: South Fork Iowa River near New Providence, IA | D15: Iowa City, IA | E15: Agriculture | F15: 4514.144 | G15: 762.85 | H15: 1848 | I15: 815.1 | J15: 2535.7676 | K15: 719.55738 | L15: 12314.961 | M15: 0 | N15: 4277.7248 | O15: 16592.686
A16: ID | B16: 13092747 | C16: Rock Creek at Twin Falls, ID | D16: Boise, ID | E16: Agriculture | F16: 4730.2466 | G16: 915.42 | H16: 1760 | I16: 815.1 | J16: 2535.7676 | K16: 719.55738 | L16: 12623.701 | M16: 0 | N16: 6160.1135 | O16: 18783.814
A17: IN | B17: 394340085524601 | C17: Sugar Creek at New Palestine, IN | D17: Indianapolis, IN | E17: Agriculture | F17: 2899.438 | G17: 0 | H17: 792 | I17: 815.1 | J17: 2546.6111 | K17: 722.68344 | L17: 8553.4158 | M17: 0 | N17: 3926.8732 | O17: 12480.289
... A20: MD | B20: 1654000 | C20: Accotink Creek near Annandale, VA | D20: Baltimore, MD | E20: Urban | F20: 3538.0578 | G20: 0 | H20: 1117.6 | I20: 815.1 | J20: 2734.5643 | K20: 777.9105 | L20: 9881.5559 | M20: 0 | N20: 5434.8557 | O20: 15316.412
A21: MN | B21: 05288705 | C21: Shingle Creek at Minneapolis, MN | D21: Mounds View, MN | E21: Urban | F21: 2630.5511 | G21: 0 | H21: 607.2 | I21: 815.1 | J21: 2670.2265 | K21: 759.00528 | L21: 8230.2911 | M21: 0 | N21: 4095.8867 | O21: 12326.178
A22: MS | B22: 07288650 | C22: Bogue Phalia near Leland, MS | D22: Jackson, MS | E22: Agriculture | F22: 4772.2666 | G22: 915.42 | H22: 1540 | I22: 815.1 | J22: 2535.7676 | K22: 719.55738 | L22: 12427.923 | M22: 0 | N22: 4547.3769 | O22: 16975.3
A23: NC | B23: 2087580 | C23: Swift Creek near Apex, NC | D23: Raleigh, NC | E23: Urban | F23: 2497.186 | G23: 0 | H23: 616 | I23: 815.1 | J23: 2535.7676 | K23: 719.55738 | L23: 7901.9722 | M23: 0 | N23: 2153.4455 | O23: 10055.418
A24: NC | B24: 2091500 | C24: Contentnea Creek at Hookerton, NC | D24: Raleigh, NC | E24: Agriculture | F24: 4478.1269 | G24: 915.42 | H24: 1320 | I24: 815.1 | J24: 2535.7676 | K24: 719.55738 | L24: 11862.369 | M24: 0 | N24: 3232.7328 | O24: 15095.102
A25: NE | B25: 6775900 | C25: Dismal River near Thedford, NE | D25: Lincoln, NE | E25: Reference | F25: 6447.062 | G25: 762.85 | H25: 3344 | I25: 815.1 | J25: 2535.7676 | K25: 719.55738 | L25: 16086.771 | M25: 0 | N25: 8947.4619 | O25: 25034.233
A26: NE | B26: 6800000 | C26: Maple Creek near Nickerson, NE | D26: Lincoln, NE | E26: Agriculture | F26: 3512.2062 | G26: 0 | H26: 1293.6 | I26: 815.1 | J26: 2535.7676 | K26: 719.55738 | L26: 9763.8544 | M26: 0 | N26: 5430.6558 | O26: 15194.51
A27: NM | B27: 8227000 | C27: Saguache Creek near Saguache, CO | D27: Albuquerque, NM | E27: Reference | F27: 5942.8225 | G27: 762.85 | H27: 2640 | I27: 815.1 | J27: 2535.7676 | K27: 719.55738 | L27: 14757.707 | M27: 0 | N27: 7380.6246 | O27: 22138.332
A28: NY | B28: 1349150 | C28: Canajoharie Creek near Canajoharie, NY | D28: Troy, NY | E28: Agriculture | F28: 3121.8138 | G28: 0 | H28: 1056 | I28: 815.1 | J28: 2535.7676 | K28: 719.55738 | L28: 9073.0627 | M28: 1088.7675 | N28: 4386.8621 | O28: 14548.692
A29: OH | B29: 4161820 | C29: Clinton River at Sterling Heights, MI | D29: Columbus, OH | E29: Urban | F29: 5652.7444 | G29: 762.85 | H29: 2376 | I29: 815.1 | J29: 2595.0452 | K29: 736.974 | L29: 14232.585 | M29: 0 | N29: 7400.9442 | O29: 21633.529
A30: OR | B30: 14201300 | C30: Zollner Creek near Mt. Angel, OR | D30: Portland, OR | E30: Agriculture | F30: 3115.3228 | G30: 0 | H30: 792 | I30: 815.1 | J30: 2657.9372 | K30: 755.43264 | L30: 8949.3719 | M30: 0 | N30: 4901.8395 | O30: 13851.211
A31: OR | B31: 14205400 | C31: East Fork Dairy Creek near Meachan Corner, OR | D31: Portland, OR | E31: Reference | F31: 3197.3893 | G31: 0 | H31: 836 | I31: 815.1 | J31: 2657.9372 | K31: 755.43264 | L31: 9088.0451 | M31: 0 | N31: 4977.7949 | O31: 14065.84
A32: OR | B32: 14206950 | C32: Fanno Creek at Durham, OR | D32: Portland, OR | E32: Urban | F32: 2787.0569 | G32: 0 | H32: 660 | I32: 815.1 | J32: 2657.9372 | K32: 755.43264 | L32: 8443.0795 | M32: 0 | N32: 4624.5279 | O32: 13067.607
A33: SC | B33: 2172300 | C33: McTier Creek near Monetta, SC | D33: Columbia, SC | E33: Reference | F33: 2887.5784 | G33: 0 | H33: 915.2 | I33: 815.1 | J33: 2535.7676 | K33: 719.55738 | L33: 8660.5238 | M33: 0 | N33: 4435.4873 | O33: 13096.011
A34: TX | B34: 8057200 | C34: White Rock Creek at Dallas, TX | D34: Austin, TX | E34: Urban | F34: 5102.4234 | G34: 762.85 | H34: 2376 | I34: 815.1 | J34: 2535.7676 | K34: 719.55738 | L34: 13542.868 | M34: 0 | N34: 5594.5589 | O34: 19137.427
A35: TX | B35: 8195000 | C35: Frio River at Concan, TX | D35: Austin, TX | E35: Reference | F35: 6074.8852 | G35: 915.42 | H35: 2112 | I35: 815.1 | J35: 2535.7676 | K35: 719.55738 | L35: 14490.003 | M35: 0 | N35: 5985.8204 | O35: 20475.824
A36: UT | B36: 10168000 | C36: Little Cottonwood Creek at Salt Lake City, UT | D36: West Valley City, UT | E36: Urban | F36: 2497.186 | G36: 0 | H36: 545.6 | I36: 815.1 | J36: 2535.7676 | K36: 719.55738 | L36: 7824.5322 | M36: 1956.133 | N36: 2249.553 | O36: 12030.218
A37: UT | B37: 10172200 | C37: Red Butte Creek at Fort Douglas, UT | D37: West Valley City, UT | E37: Reference | F37: 1296.6158 | G37: 0 | H37: 294.8 | I37: 475.475 | J37: 1323.0092 | K37: 479.70492 | L37: 4256.5654 | M37: 1064.1414 | N37: 1223.7626 | O37: 6544.4694
A38: WA | B38: 12056500 | C38: North Fork Skokomish River near Hoodsport, WA | D38: Tacoma, WA | E38: Reference | F38: 1680.0368 | G38: 0 | H38: 563.2 | I38: 475.475 | J38: 1401.8364 | K38: 509.27844 | L38: 5092.8093 | M38: 0 | N38: 2495.4765 | O38: 7588.2858
A39: WA | B39: 12505450 | C39: Granger Drain at Granger, WA | D39: Tacoma, WA | E39: Agriculture | F39: 4963.745 | G39: 762.85 | H39: 2024 | I39: 815.1 | J39: 2686.8531 | K39: 763.91766 | L39: 13218.112 | M39: 0 | N39: 6476.875 | O39: 19694.987
A40: WI | B40: 4063700 | C40: Popple River near Fence, WI | D40: Madison, WI | E40: Reference | F40: 7335.484 | G40: 915.42 | H40: 2992 | I40: 815.1 | J40: 2535.7676 | K40: 719.55738 | L40: 16844.662 | M40: 0 | N40: 4807.4665 | O40: 21652.128
A41: WY | B41: 6324970 | C41: Little Powder River near Weston, WY | D41: Cheyenne, WY | E41: Reference | F41: 5858.7826 | G41: 762.85 | H41: 3080 | I41: 815.1 | J41: 2535.7676 | K41: 719.55738 | L41: 15149.263 | M41: 2423.8821 | N41: 6728.7574 | O41: 24301.903
N42: Total for FY14 = | O42: =SUM(O3:O41) -> 632403.61

Sheet SW sites
A1: SC | B1: 41498 | E1: Type | F1: NAWQA SWMSA Sample Analyses cost (by SC) | G1: NASQAN Sample Analyses cost (by SC) | H1: NMN Sample Analyses cost (by SC) | I1: NAWQA SWMSA QW Gross Sampling costs | J1: NASQAN QW Gross Sampling costs | K1: NMN QW Gross Sampling costs | L1: NAWQA SW STATUS Gross Stream gaging costs | M1: NASQAN Gross Stream gaging costs | N1: NMN Gross Stream gaging costs | O1: NAWQA SW STATUS Ecology Sampling Gross Costs | P1: NAWQA SW STATUS Ecology Lab Analysis Costs
B2: Station | C2: Site name | D2: Network | Q2: comments
A4: AK | B4: 15565447 | C4: Yukon River at Pilot Station, AK | D4: NASQAN | E4: Coastal River | G4: 7806.56 | I4: ='FY14 chem site costs'!E2 -> 0 | J4: ='FY14 chem site costs'!F2 -> 76500 | K4: ='FY14 chem site costs'!G2 -> 0 | L4: ='FY14 chem site costs'!H2 -> 0 | M4: ='FY14 chem site costs'!I2 -> 0 | N4: ='FY14 chem site costs'!J2 -> 0 | O4: 0 | P4: 0
A5: AL | B5: 02470500 | C5: Mobile River at Mt. Vernon, AL | D5: NASQAN | E5: Coastal River | F5: 28027.32 | G5: 22576.6 | I5: ='FY14 chem site costs'!E3 -> 0 | J5: ='FY14 chem site costs'!F3 -> 78000 | K5: ='FY14 chem site costs'!G3 -> 0 | L5: ='FY14 chem site costs'!H3 -> 0 | M5: ='FY14 chem site costs'!I3 -> 0 | N5: ='FY14 chem site costs'!J3 -> 0 | O5: 0 | P5: 0
A6: AL | B6: 02469762 | C6: Tombigbee River near Coffeeville, AL | D6: NAWQA | E6: Large Inland River | I6: ='FY14 chem site costs'!E4 -> 86500 | J6: ='FY14 chem site costs'!F4 -> 0 | K6: ='FY14 chem site costs'!G4 -> 0 | L6: ='FY14 chem site costs'!H4 -> 0 | M6: ='FY14 chem site costs'!I4 -> 0 | N6: ='FY14 chem site costs'!J4 -> 0 | O6: 0 | P6: 0
A7: AR | B7: 07263620 | C7: Arkansas River at Terry L&D below Little Rock, AR | D7: NASQAN | E7: Large Inland River | F7: 8245.44 | G7: 22576.6 | I7: ='FY14 chem site costs'!E5 -> 0 | J7: ='FY14 chem site costs'!F5 -> 56000 | K7: ='FY14 chem site costs'!G5 -> 0 | L7: ='FY14 chem site costs'!H5 -> 0 | M7: ='FY14 chem site costs'!I5 -> 5500 | N7: ='FY14 chem site costs'!J5 -> 0 | O7: 0 | P7: ='FY14 chem site costs'!L5 -> 0
A8: AR | B8: 07055646 | C8: Buffalo River near Boxley, AR | D8: NAWQA | E8: reference | I8: ='FY14 chem site costs'!E6 -> 20000 | J8: ='FY14 chem site costs'!F6 -> 0 | K8: ='FY14 chem site costs'!G6 -> 0 | L8: ='FY14 chem site costs'!H6 -> 0 | M8: ='FY14 chem site costs'!I6 -> 0 | N8: ='FY14 chem site costs'!J6 -> 0 | O8: ='FY14 Eco site costs'!O3 -> 20158.412 | P8: 2999.19
A9: AR | B9: 07060710 | C9: North Sylamore Creek near Fifty Six, AR | D9: NAWQA | E9: reference | I9: ='FY14 chem site costs'!E7 -> 19000 | J9: ='FY14 chem site costs'!F7 -> 0 | K9: ='FY14 chem site costs'!G7 -> 0 | L9: ='FY14 chem site costs'!H7 -> 0 | M9: ='FY14 chem site costs'!I7 -> 0 | N9: ='FY14 chem site costs'!J7 -> 0 | O9: ='FY14 Eco site costs'!O4 -> 17960.763 | P9: 2999.19
A10: AZ | B10: 09471000 | C10: San Pedro River at Charleston, AZ | D10: NAWQA | E10: reference | F10: 30822.04 | G10: 19851.24 | I10: ='FY14 chem site costs'!E8 -> 25500 | J10: ='FY14 chem site costs'!F8 -> 0 | K10: ='FY14 chem site costs'!G8 -> 0 | L10: ='FY14 chem site costs'!H8 -> 0 | M10: ='FY14 chem site costs'!I8 -> 0 | N10: ='FY14 chem site costs'!J8 -> 0 | O10: ='FY14 Eco site costs'!O5 -> 13638.676 | P10: 2999.19
A11: AZ | B11: 09505800 | C11: West Clear Creek near Camp Verde, AZ | D11: NAWQA | E11: reference | I11: ='FY14 chem site costs'!E9 -> 28000 | J11: ='FY14 chem site costs'!F9 -> 0 | K11: ='FY14 chem site costs'!G9 -> 0 | L11: ='FY14 chem site costs'!H9 -> 0 | M11: ='FY14 chem site costs'!I9 -> 0 | N11: ='FY14 chem site costs'!J9 -> 0 | O11: ='FY14 Eco site costs'!O6 -> 19455.214 | P11: 2999.19
A12: AZ | B12: 09380000 | C12: Colorado River at Lees Ferry, AZ | D12: Co-op | E12: Large Inland River | I12: ='FY14 chem site costs'!E10 -> 66500 | J12: ='FY14 chem site costs'!F10 -> 0 | K12: ='FY14 chem site costs'!G10 -> 0 | L12: ='FY14 chem site costs'!H10 -> 0 | M12: ='FY14 chem site costs'!I10 -> 0 | N12: ='FY14 chem site costs'!J10 -> 0 | O12: 0 | P12: 0
A13: AZ | B13: 09522000 | C13: Colorado River at NIB | D13: NASQAN | E13: Coastal River | I13: ='FY14 chem site costs'!E11 -> 0 | J13: ='FY14 chem site costs'!F11 -> 50000 | K13: ='FY14 chem site costs'!G11 -> 0 | L13: ='FY14 chem site costs'!H11 -> 0 | M13: ='FY14 chem site costs'!I11 -> 0 | N13: ='FY14 chem site costs'!J11 -> 0 | O13: 0 | P13: 0
A14: CA | B14: 11447650 | C14: Sacramento River a Freeport, CA | D14: NAWQA | E14: Coastal River | F14: 112767.6 | I14: ='FY14 chem site costs'!E12 -> 69500 | J14: ='FY14 chem site costs'!F12 -> 0 | K14: ='FY14 chem site costs'!G12 -> 0 | L14: ='FY14 chem site costs'!H12 -> 0 | M14: ='FY14 chem site costs'!I12 -> 0 | N14: ='FY14 chem site costs'!J12 -> 0 | O14: 0 | P14: 0
A15: CA | B15: 11274538 | C15: Orestimba Creek near Crows Landing, CA | D15: NAWQA | E15: Agriculture | I15: ='FY14 chem site costs'!E13 -> 72000 | J15: ='FY14 chem site costs'!F13 -> 0 | K15: ='FY14 chem site costs'!G13 -> 0 | L15: ='FY14 chem site costs'!H13 -> 22500 | M15: ='FY14 chem site costs'!I13 -> 0 | N15: ='FY14 chem site costs'!J13 -> 0 | O15: ='FY14 Eco site costs'!O7 -> 15640.52 | P15: 2999.19
A16: CA | B16: 11303500 | C16: San Joaquin River near Vernalis, CA | D16: NAWQA | E16: Coastal River | I16: ='FY14 chem site costs'!E14 -> 86500 | J16: ='FY14 chem site costs'!F14 -> 0 | K16: ='FY14 chem site costs'!G14 -> 0 | L16: ='FY14 chem site costs'!H14 -> 0 | M16: ='FY14 chem site costs'!I14 -> 0 | N16: ='FY14 chem site costs'!J14 -> 0 | O16: 0 | P16: 0
A17: CA | B17: 11335000 | C17: Cosumnes River at Michigan Bar, CA | D17: NAWQA | E17: reference | I17: ='FY14 chem site costs'!E15 -> 30000 | J17: ='FY14 chem site costs'!F15 -> 0 | K17: ='FY14 chem site costs'!G15 -> 0 | L17: ='FY14 chem site costs'!H15 -> 0 | M17: ='FY14 chem site costs'!I15 -> 0 | N17: ='FY14 chem site costs'!J15 -> 0 | O17: ='FY14 Eco site costs'!O8 -> 13287.195 | P17: 2999.19
A18: CA | B18: 11264500 | C18: Merced River at Happy Isles Bridge nr Yosemite, CA | D18: NAWQA | E18: reference | I18: ='FY14 chem site costs'!E16 -> 22500 | J18: ='FY14 chem site costs'!F16 -> 0 | K18: ='FY14 chem site costs'!G16 -> 0 | L18: ='FY14 chem site costs'!H16 -> 0 | M18: ='FY14 chem site costs'!I16 -> 0 | N18: ='FY14 chem site costs'!J16 -> 0 | O18: ='FY14 Eco site costs'!O9 -> 22110.184 | P18: 2999.19
A19: CA | B19: 11074000 | C19: Santa Ana River below Prado Dam, CA | D19: NAWQA | E19: Coastal River | I19: ='FY14 chem site costs'!E17 -> 70000 | J19: ='FY14 chem site costs'!F17 -> 0 | K19: ='FY14 chem site costs'!G17 -> 0 | L19: ='FY14 chem site costs'!H17 -> 0 | M19: ='FY14 chem site costs'!I17 -> 0 | N19: ='FY14 chem site costs'!J17 -> 0 | O19: 0 | P19: 0
A20: CO | B20: 06713500 | C20: Cherry Creek at Denver, CO | D20: NAWQA | E20: Urban | F20: 92963.98 | I20: ='FY14 chem site costs'!E18 -> 87000 | J20: ='FY14 chem site costs'!F18 -> 0 | K20: ='FY14 chem site costs'!G18 -> 0 | L20: ='FY14 chem site costs'!H18 -> 0 | M20: ='FY14 chem site costs'!I18 -> 0 | N20: ='FY14 chem site costs'!J18 -> 0 | O20: ='FY14 Eco site costs'!O10 -> 13210.839 | P20: 2999.19
A21: CO | B21: 06754000 | C21: South Platte River near Kersey, CO | D21: NAWQA | E21: Large Inland River | I21: ='FY14 chem site costs'!E19 -> 84000 | J21: ='FY14 chem site costs'!F19 -> 0 | K21: ='FY14 chem site costs'!G19 -> 0 | L21: ='FY14 chem site costs'!H19 -> 0 | M21: ='FY14 chem site costs'!I19 -> 0 | N21: ='FY14 chem site costs'!J19 -> 0 | O21: 0 | P21: 0
A22: CO | B22: 09163500 | C22: Colorado River near Colorado-Utah state line | D22: NAWQA | E22: Large Inland River | I22: ='FY14 chem site costs'!E20 -> 78000 | J22: ='FY14 chem site costs'!F20 -> 0 | K22: ='FY14 chem site costs'!G20 -> 0 | L22: ='FY14 chem site costs'!H20 -> 0 | M22: ='FY14 chem site costs'!I20 -> 0 | N22: ='FY14 chem site costs'!J20 -> 0 | O22: 0 | P22: 0
A23: CT | B23: 01170100 | C23: Green River near Colrain, MA | D23: NAWQA | E23: reference | F23: 69059.38 | I23: ='FY14 chem site costs'!E21 -> 34500 | J23: ='FY14 chem site costs'!F21 -> 0 | K23: ='FY14 chem site costs'!G21 -> 0 | L23: ='FY14 chem site costs'!H21 -> 0 | M23: ='FY14 chem site costs'!I22 -> 0 | N23: ='FY14 chem site costs'!J22 -> 0 | O23: ='FY14 Eco site costs'!O11 -> 15644.684 | P23: 2999.19
A24: CT | B24: 01184000 | C24: Connecticut River at Thompsonville, CT | D24: NAWQA | E24: Coastal River | I24: ='FY14 chem site costs'!E22 -> 87500 | J24: ='FY14 chem site costs'!F22 -> 0 | K24: ='FY14 chem site costs'!G22 -> 0 | L24: ='FY14 chem site costs'!H22 -> 0 | M24: ='FY14 chem site costs'!I23 -> 0 | N24: ='FY14 chem site costs'!J23 -> 0 | O24: 0 | P24: 0
A25: CT | B25: 01209710 | C25: Norwalk River at Winnipauk,CT | D25: NAWQA | E25: Urban | I25: ='FY14 chem site costs'!E23 -> 78000 | J25: ='FY14 chem site costs'!F23 -> 0 | K25: ='FY14 chem site costs'!G23 -> 0 | L25: ='FY14 chem site costs'!H23 -> 0 | M25: ='FY14 chem site costs'!I24 -> 0 | N25: ='FY14 chem site costs'!J24 -> 0 | O25: ='FY14 Eco site costs'!O12 -> 15383.377 | P25: 2999.19
A26: FL | B26: 02359170 | C26: Apalachicola River near Sumatra, FL | D26: NMN | E26: Coastal River | H26: 22576.6 | I26: ='FY14 chem site costs'!E24 -> 0 | J26: ='FY14 chem site costs'!F24 -> 0 | K26: ='FY14 chem site costs'!G24 -> 54000 | L26: ='FY14 chem site costs'!H24 -> 0 | M26: ='FY14 chem site costs'!I25 -> 0 | N26: ='FY14 chem site costs'!J24 -> 0 | O26: 0 | P26: 0
A27: GA | B27: 02335870 | C27: Sope Creek near Marietta, GA | D27: NAWQA | E27: Urban | F27: 41032.06 | G27: 22576.6 | I27: ='FY14 chem site costs'!E25 -> 81000 | J27: ='FY14 chem site costs'!F25 -> 0 | K27: ='FY14 chem site costs'!G25 -> 0 | L27: ='FY14 chem site costs'!H25 -> 0 | M27: ='FY14 chem site costs'!I25 -> 0 | N27: ='FY14 chem site costs'!J25 -> 0 | O27: ='FY14 Eco site costs'!O13 -> 11728.053 | P27: 2999.19
A28: GA | B28: 02338523 | C28: Hillibahatchee Creek near Franklin, GA | D28: NAWQA | E28: reference | I28: ='FY14 chem site costs'!E26 -> 40500 | J28: ='FY14 chem site costs'!F26 -> 0 | K28: ='FY14 chem site costs'!G26 -> 0 | L28: ='FY14 chem site costs'!H26 -> 15500 | M28: ='FY14 chem site costs'!I26 -> 0 | N28: ='FY14 chem site costs'!J26 -> 0 | O28: ='FY14 Eco site costs'!O14 -> 14043.857 | P28: 2999.19
A29: GA | B29: 02226160 | C29: Altamaha River at Everett City, GA | D29: NASQAN | E29: Coastal River | I29: ='FY14 chem site costs'!E27 -> 0 | J29: ='FY14 chem site costs'!F27 -> 68000 | K29: ='FY14 chem site costs'!G27 -> 0 | L29: ='FY14 chem site costs'!H27 -> 0 | M29: ='FY14 chem site costs'!I27 -> 24500 | N29: ='FY14 chem site costs'!J27 -> 0 | O29: 0 | P29: 0
A30: IA | B30: 05451210 | C30: South Fork Iowa River near New Providence, IA | D30: NAWQA | E30: Agriculture | F30: 36909.34 | G30: 90306.4 | I30: ='FY14 chem site costs'!E28 -> 90000 | J30: ='FY14 chem site costs'!F28 -> 0 | K30: ='FY14 chem site costs'!G28 -> 0 | L30: ='FY14 chem site costs'!H28 -> 15000 | M30: ='FY14 chem site costs'!I28 -> 0 | N30: ='FY14 chem site costs'!J28 -> 0 | O30: ='FY14 Eco site costs'!O15 -> 16592.686 | P30: 2999.19
A31: IA | B31: 05465500 | C31: Iowa River at Wapello, IA | D31: NAWQA | E31: Large Inland River | I31: ='FY14 chem site costs'!E29 -> 0 | J31: ='FY14 chem site costs'!F29 -> 46000 | K31: ='FY14 chem site costs'!G29 -> 0 | L31: ='FY14 chem site costs'!H29 -> 0 | M31: ='FY14 chem site costs'!I29 -> 0 | N31: ='FY14 chem site costs'!J29 -> 0 | O31: ='FY14 chem site costs'!K29 -> 0 | P31: 0
A32: IA | B32: 05490500 | C32: Des Moines at Keosauqua, IA | D32: NAWQA | E32: Large Inland River | I32: ='FY14 chem site costs'!E30 -> 0 | J32: ='FY14 chem site costs'!F30 -> 46000 | K32: ='FY14 chem site costs'!G30 -> 0 | L32: ='FY14 chem site costs'!H30 -> 0 | M32: ='FY14 chem site costs'!I30 -> 0 | N32: ='FY14 chem site costs'!J30 -> 0 | O32: ='FY14 chem site costs'!K30 -> 0 | P32: 0
A33: IA | B33: 05420500 | C33: Mississippi River at Clinton, IA | D33: NASQAN | E33: Large Inland River | I33: ='FY14 chem site costs'!E31 -> 0 | J33: ='FY14 chem site costs'!F31 -> 59000 | K33: ='FY14 chem site costs'!G31 -> 0 | L33: ='FY14 chem site costs'!H31 -> 0 | M33: ='FY14 chem site costs'!I31 -> 0 | N33: ='FY14 chem site costs'!J31 -> 0 | O33: ='FY14 chem site costs'!K31 -> 0 | P33: 0
A34: IA | B34: 06610000 | C34: Missouri River at Omaha, NE | D34: NASQAN | E34: Large Inland River | I34: ='FY14 chem site costs'!E32 -> 0 | J34: ='FY14 chem site costs'!F32 -> 65000 | K34: ='FY14 chem site costs'!G32 -> 0 | L34: ='FY14 chem site costs'!H32 -> 0 | M34: ='FY14 chem site costs'!I32 -> 0 | N34: ='FY14 chem site costs'!J32 -> 0 | O34: ='FY14 chem site costs'!K32 -> 0 | P34: 0
A35: ID | B35: 13092747 | C35: Rock Creek at Twin Falls, ID | D35: NAWQA | E35: Agriculture | F35: 59485.94 | I35: ='FY14 chem site costs'!E33 -> 76500 | J35: ='FY14 chem site costs'!F33 -> 0 | K35: ='FY14 chem site costs'!G33 -> 0 | L35: ='FY14 chem site costs'!H33 -> 17000 | M35: ='FY14 chem site costs'!I34 -> 0 | N35: ='FY14 chem site costs'!J34 -> 0 | O35: ='FY14 Eco site costs'!O16 -> 18783.814 | P35: 2999.19
A36: ID | B36: 13154500 | C36: Snake River at King Hill, ID | D36: NAWQA | E36: Large Inland River | I36: ='FY14 chem site costs'!E34 -> 73500 | J36: ='FY14 chem site costs'!F34 -> 0 | K36: ='FY14 chem site costs'!G34 -> 0 | L36: ='FY14 chem site costs'!H34 -> 17000 | M36: ='FY14 chem site costs'!I35 -> 0 | N36: ='FY14 chem site costs'!J35 -> 0 | O36: 0 | P36: 0
A37: IL | B37: 05586100 | C37: Illinois River at Valley City, IL | D37: NASQAN | E37: Large Inland River | F37: 22576.6 | I37: ='FY14 chem site costs'!E35 -> 83000 | J37: ='FY14 chem site costs'!F35 -> 0 | K37: ='FY14 chem site costs'!G35 -> 0 | L37: ='FY14 chem site costs'!H35 -> 0 | M37: ='FY14 chem site costs'!I35 -> 0 | N37: ='FY14 chem site costs'!J35 -> 0 | O37: 0 | P37: 0
A38: IN | B38: 03374100 | C38: White River at Hazleton, IN | D38: NAWQA | E38: Large Inland River | F38: 64936.66 | I38: ='FY14 chem site costs'!E36 -> 101000 | J38: ='FY14 chem site costs'!F36 -> 0 | K38: ='FY14 chem site costs'!G36 -> 0 | L38: ='FY14 chem site costs'!H36 -> 0 | M38: ='FY14 chem site costs'!I37 -> 0 | N38: ='FY14 chem site costs'!J37 -> 0 | O38: 0 | P38: 0
A39: IN | B39: 394340085524601 | C39: Sugar Creek at New Palestine, IN | D39: NAWQA | E39: Agriculture | I39: ='FY14 chem site costs'!E37 -> 102000 | J39: ='FY14 chem site costs'!F37 -> 0 | K39: ='FY14 chem site costs'!G37 -> 0 | L39: ='FY14 chem site costs'!H37 -> 10500 | M39: ='FY14 chem site costs'!I37 -> 0 | N39: ='FY14 chem site costs'!J37 -> 0 | O39: ='FY14 Eco site costs'!O17 -> 12480.289 | P39: 2999.19
A40: KS | B40: 06892350 | C40: Kansas River at DeSoto, KS | D40: Co-op | E40: Large Inland River | F40: 50603.92 | I40: ='FY14 chem site costs'!E38 -> 32000 | J40: ='FY14 chem site costs'!F38 -> 0 | K40: ='FY14 chem site costs'!G38 -> 0 | L40: ='FY14 chem site costs'!H38 -> 0 | M40: ='FY14 chem site costs'!I38 -> 0 | N40: ='FY14 chem site costs'!J38 -> 0 | O40: 0 | P40: 0
A41: KS | B41: 07144100 | C41: Lower Arkansas River near Sedgwick, KS | D41: Co-op | E41: Large Inland River | I41: ='FY14 chem site costs'!E39 -> 32000 | J41: ='FY14 chem site costs'!F39 -> 0 | K41: ='FY14 chem site costs'!G39 -> 0 | L41: ='FY14 chem site costs'!H39 -> 0 | M41: ='FY14 chem site costs'!I39 -> 0 | N41: ='FY14 chem site costs'!J39 -> 0 | O41: 0 | P41: 0
A42: KY | B42: 03303280 | C42: Ohio River at Cannelton Dam at Cannelton, IN | D42: NASQAN | E42: Large Inland River | G42: 90306.4 | I42: ='FY14 chem site costs'!E40 -> 0 | J42: ='FY14 chem site costs'!F40 -> 57000 | K42: ='FY14 chem site costs'!G40 -> 0 | L42: ='FY14 chem site costs'!H40 -> 0 | M42: ='FY14 chem site costs'!I40 -> 13500 | N42: ='FY14 chem site costs'!J40 -> 0 | O42: 0 | P42: 0
A43: KY | B43: 03378500 | C43: Wabash River at New Harmony, IN | D43: NASQAN | E43: Large Inland River | I43: ='FY14 chem site costs'!E41 -> 0 | J43: ='FY14 chem site costs'!F41 -> 57500 | K43: ='FY14 chem site costs'!G41 -> 0 | L43: ='FY14 chem site costs'!H41 -> 0 | M43: ='FY14 chem site costs'!I41 -> 0 | N43: ='FY14 chem site costs'!J41 -> 0 | O43: 0 | P43: 0
A44: KY | B44: 03609750 | C44: Tennessee River at Highway 60 near Paducah, KY | D44: NASQAN | E44: Large Inland River | I44: ='FY14 chem site costs'!E42 -> 0 | J44: ='FY14 chem site costs'!F42 -> 47000 | K44: ='FY14 chem site costs'!G42 -> 0 | L44: ='FY14 chem site costs'!H42 -> 0 | M44: ='FY14 chem site costs'!I42 -> 0 | N44: ='FY14 chem site costs'!J42 -> 0 | O44: 0 | P44: 0
A45: KY | B45: 03612500 | C45: Ohio River at Dam 53 near Grand Chain, IL | D45: NASQAN | E45: Large Inland River | I45: ='FY14 chem site costs'!E43 -> 0 | J45: ='FY14 chem site costs'!F43 -> 48000 | K45: ='FY14 chem site costs'!G43 -> 0 | L45: ='FY14 chem site costs'!H43 -> 0 | M45: ='FY14 chem site costs'!I43 -> 13500 | N45: ='FY14 chem site costs'!J43 -> 0 | O45: 0 | P45: 0
A46: LA | B46: 08014500 | C46: Whisky Chitto Creek near Oberlin, LA | D46: NAWQA | E46: reference | F46: 4122.72 | G46: 140910.32 | I46: ='FY14 chem site costs'!E44 -> 18000 | J46: ='FY14 chem site costs'!F44 -> 0 | K46: ='FY14 chem site costs'!G44 -> 0 | L46: ='FY14 chem site costs'!H44 -> 0 | M46: ='FY14 chem site costs'!I45 -> 0 | N46: ='FY14 chem site costs'!J45 -> 0 | O46: ='FY14 Eco site costs'!O18 -> 17707.824 | P46: 2999.19
A47: LA | B47: 07373420 | C47: Mississippi River near St. Francisville, LA | D47: NASQAN | E47: Large Inland River | I47: ='FY14 chem site costs'!E45 -> 0 | J47: ='FY14 chem site costs'!F45 -> 71000 | K47: ='FY14 chem site costs'!G45 -> 0 | L47: ='FY14 chem site costs'!H46 -> 0 | M47: ='FY14 chem site costs'!I45 -> 0 | N47: ='FY14 chem site costs'!J46 -> 0 | O47: 0 | P47: 0
A48: LA | B48: 07374000 | C48: Mississippi River at Baton Rouge, LA | D48: NASQAN | E48: Large Inland River | I48: ='FY14 chem site costs'!E46 -> 0 | J48: ='FY14 chem site costs'!F46 -> 68000 | K48: ='FY14 chem site costs'!G46 -> 0 | L48: ='FY14 chem site costs'!H47 -> 0 | M48: ='FY14 chem site costs'!I46 -> 0 | N48: ='FY14 chem site costs'!J47 -> 0 | O48: 0 | P48: 0
A49: LA | B49: 07374525 | C49: Mississippi River at Belle Chasse, LA | D49: NASQAN | E49: Coastal River | I49: ='FY14 chem site costs'!E47 -> 0 | J49: ='FY14 chem site costs'!F47 -> 68000 | K49: ='FY14 chem site costs'!G47 -> 0 | L49: ='FY14 chem site costs'!H48 -> 0 | M49: ='FY14 chem site costs'!I47 -> 0 | N49: ='FY14 chem site costs'!J48 -> 0 | O49: 0 | P49: 0
A50: LA | B50: 07381495 | C50: Atchafalaya River at Melville, LA | D50: NASQAN | E50: Large Inland River | I50: ='FY14 chem site costs'!E48 -> 0 | J50: ='FY14 chem site costs'!F48 -> 68000 | K50: ='FY14 chem site costs'!G48 -> 0 | L50: ='FY14 chem site costs'!H49 -> 0 | M50: ='FY14 chem site costs'!I48 -> 0 | N50: ='FY14 chem site costs'!J49 -> 0 | O50: 0 | P50: 0
A51: LA | B51: 07381590 | C51: Wax Lake Outlet at Calumet, LA | D51: NASQAN | E51: Large Inland River | I51: ='FY14 chem site costs'!E49 -> 0 | J51: ='FY14 chem site costs'!F49 -> 58500 | K51: ='FY14 chem site costs'!G49 -> 0 | L51: ='FY14 chem site costs'!H50 -> 0 | M51: ='FY14 chem site costs'!I49 -> 0 | N51: ='FY14 chem site costs'!J50 -> 0 | O51: 0 | P51: 0
A52: LA | B52: 07381600 | C52: Lower Atchafalaya River at Morgan City, LA | D52: NASQAN | E52: Coastal River | I52: ='FY14 chem site costs'!E50 -> 0 | J52: ='FY14 chem site costs'!F50 -> 70500 | K52: ='FY14 chem site costs'!G50 -> 0 | L52: ='FY14 chem site costs'!H51 -> 0 | M52: ='FY14 chem site costs'!I50 -> 0 | N52: ='FY14 chem site costs'!J51 -> 0 | O52: 0 | P52: 0
A53: MD | B53: 01578310 | C53: Susquehanna River at Conowingo, MD | D53: NASQAN | E53: Coastal River | F53: 69059.38 | G53: 22576.6 | I53: ='FY14 chem site costs'!E51 -> 0 | J53: ='FY14 chem site costs'!F51 -> 12000 | K53: ='FY14 chem site costs'!G51 -> 0 | L53: ='FY14 chem site costs'!H51 -> 0 | M53: ='FY14 chem site costs'!I51 -> 0 | N53: ='FY14 chem site costs'!J51 -> 0 | O53: 0 | P53: 0
A54: MD | B54: 01610400 | C54: Waites Run near Wardensville, WV | D54: NAWQA | E54: reference | I54: ='FY14 chem site costs'!E52 -> 20000 | J54: ='FY14 chem site costs'!F52 -> 0 | K54: ='FY14 chem site costs'!G52 -> 0 | L54: ='FY14 chem site costs'!H52 -> 15300 | M54: ='FY14 chem site costs'!I52 -> 0 | N54: ='FY14 chem site costs'!J52 -> 0 | O54: ='FY14 Eco site costs'!O19 -> 20753.607 | P54: 2999.19
A55: MD | B55: 01646580 | C55: Potomac River at Washington, DC | D55: NAWQA | E55: Coastal River | I55: ='FY14 chem site costs'!E53 -> 83000 | J55: ='FY14 chem site costs'!F53 -> 0 | K55: ='FY14 chem site costs'!G53 -> 0 | L55: ='FY14 chem site costs'!H53 -> 0 | M55: ='FY14 chem site costs'!I53 -> 0 | N55: ='FY14 chem site costs'!J53 -> 0 | O55: 0 | P55: 0
A56: MD | B56: 01654000 | C56: Accotink Creek near Annandale, VA | D56: NAWQA | E56: Urban | I56: ='FY14 chem site costs'!E54 -> 90500 | J56: ='FY14 chem site costs'!F54 -> 0 | K56: ='FY14 chem site costs'!G54 -> 0 | L56: ='FY14 chem site costs'!H54 -> 0 | M56: ='FY14 chem site costs'!I54 -> 0 | N56: ='FY14 chem site costs'!J54 -> 0 | O56: ='FY14 Eco site costs'!O20 -> 15316.412 | P56: 2999.19
A57: MI/OH | B57: 04161820 | C57: Clinton River at Sterling Heights, MI | D57: NAWQA | E57: Urban | F57: 36909.34 | I57: ='FY14 chem site costs'!E55 -> 83500 | J57: ='FY14 chem site costs'!F55 -> 0 | K57: ='FY14 chem site costs'!G55 -> 0 | L57: ='FY14 chem site costs'!H55 -> 16000 | M57: ='FY14 chem site costs'!I56 -> 0 | N57: ='FY14 chem site costs'!J56 -> 0 | O57: ='FY14 Eco site costs'!O29 -> 21633.529 | P57: 2999.19 | Q57: MI WSC collects QW samples/ OH WSC collects eco samples
A58: MN | B58: 05331580 | C58: Mississippi River at Hastings, MN | D58: NAWQA | E58: Large Inland River | F58: 58712.22 | I58: ='FY14 chem site costs'!E56 -> 44000 | J58: ='FY14 chem site costs'!F56 -> 0 | K58: ='FY14 chem site costs'!G56 -> 0 | L58: ='FY14 chem site costs'!H56 -> 4000 | M58: ='FY14 chem site costs'!I56 -> 0 | N58: ='FY14 chem site costs'!J56 -> 0 | O58: 0 | P58: 0
A59: MN | B59: 05288705 | C59: Shingle Creek at Minneapolis, MN | D59: NAWQA | E59: Urban | I59: ='FY14 chem site costs'!E57 -> 75000 | J59: ='FY14 chem site costs'!F57 -> 0 | K59: ='FY14 chem site costs'!G57 -> 0 | L59: ='FY14 chem site costs'!H57 -> 10200 | M59: ='FY14 chem site costs'!I57 -> 0 | N59: ='FY14 chem site costs'!J57 -> 0 | O59: ='FY14 Eco site costs'!O21 -> 12326.178 | P59: 2999.19
A60: MO | B60: 07022000 | C60: Mississippi River at Thebes, IL | D60: NASQAN | E60: Large Inland River | G60: 67729.8 | I60: ='FY14 chem site costs'!E58 -> 0 | J60: ='FY14 chem site costs'!F58 -> 89500 | K60: ='FY14 chem site costs'!G58 -> 0 | L60: ='FY14 chem site costs'!H58 -> 0 | M60: ='FY14 chem site costs'!I58 -> 0 | N60: ='FY14 chem site costs'!J58 -> 0 | O60: 0 | P60: 0
A61: MO | B61: 05587455 | C61: Mississippi River Below Grafton, IL | D61: NASQAN | E61: Large Inland River | I61: ='FY14 chem site costs'!E59 -> 0 | J61: ='FY14 chem site costs'!F59 -> 17500 | K61: ='FY14 chem site costs'!G59 -> 0 | L61: ='FY14 chem site costs'!H59 -> 0 | M61: ='FY14 chem site costs'!I59 -> 0 | N61: ='FY14 chem site costs'!J59 -> 0 | O61: 0 | P61: 0
A62: MO | B62: 06934500 | C62: Missouri River at Hermann, MO | D62: NASQAN | E62: Large Inland River | I62: ='FY14 chem site costs'!E60 -> 0 | J62: ='FY14 chem site costs'!F60 -> 50500 | K62: ='FY14 chem site costs'!G60 -> 0 | L62: ='FY14 chem site costs'!H60 -> 0 | M62: ='FY14 chem site costs'!I60 -> 0 | N62: ='FY14 chem site costs'!J60 -> 0 | O62: 0 | P62: 0
A63: MS | B63: 07288650 | C63: Bogue Phalia near Leland, MS | D63: NAWQA | E63: Agriculture | F63: 64936.66 | H63: 22576.6 | I63: ='FY14 chem site costs'!E61 -> 100500 | J63: ='FY14 chem site costs'!F61 -> 0 | K63: ='FY14 chem site costs'!G61 -> 0 | L63: ='FY14 chem site costs'!H61 -> 0 | M63: ='FY14 chem site costs'!I61 -> 0 | N63: ='FY14 chem site costs'!J61 -> 0 | O63: ='FY14 Eco site costs'!O22 -> 16975.3 | P63: 2999.19
A64: MS | B64: 07288955 | C64: Yazoo River near Long Lake, MS | D64: NAWQA | E64: Large Inland River | I64: ='FY14 chem site costs'!E62 -> 64000 | J64: ='FY14 chem site costs'!F62 -> 0 | K64: ='FY14 chem site costs'!G62 -> 0 | L64: ='FY14 chem site costs'!H62 -> 0 | M64: ='FY14 chem site costs'!I62 -> 0 | N64: ='FY14 chem site costs'!J62 -> 0 | O64: 0 | P64: 0
A65: MS | B65: 322023090544500 | C65: Mississippi River above Vicksburg, MS | D65: NMN | E65: Large Inland River | I65: ='FY14 chem site costs'!E63 -> 0 | J65: ='FY14 chem site costs'!F63 -> 0 | K65: ='FY14 chem site costs'!G63 -> 54000 | L65: ='FY14 chem site costs'!H63 -> 0 | M65: ='FY14 chem site costs'!I63 -> 0 | N65: ='FY14 chem site costs'!J63 -> 3200 | O65: 0 | P65: 0
A66: NC | B66: 02087580 | C66: Swift Creek near Apex, NC | D66: NAWQA | E66: Urban | F66: 101846 | I66: ='FY14 chem site costs'!E64 -> 73000 | J66: ='FY14 chem site costs'!F64 -> 0 | K66: ='FY14 chem site costs'!G64 -> 0 | L66: ='FY14 chem site costs'!H64 -> 14700 | M66: ='FY14 chem site costs'!I64 -> 0 | N66: ='FY14 chem site costs'!J64 -> 0 | O66: ='FY14 Eco site costs'!O23 -> 10055.418 | P66: 2999.19
A67: NC | B67: 02089500 | C67: Neuse River at Kinston, NC | D67: NAWQA | E67: Large Inland River | I67: ='FY14 chem site costs'!E65 -> 79000 | J67: ='FY14 chem site costs'!F65 -> 0 | K67: ='FY14 chem site costs'!G65 -> 0 | L67: ='FY14 chem site costs'!H65 -> 0 | M67: ='FY14 chem site costs'!I65 -> 0 | N67: ='FY14 chem site costs'!J65 -> 0 | O67: 0 | P67: 0
A68: NC | B68: 02091500 | C68: Contentnea Creek at Hookerton, NC | D68: NAWQA | E68: Agriculture | I68: ='FY14 chem site costs'!E66 -> 79000 | J68: ='FY14 chem site costs'!F66 -> 0 | K68: ='FY14 chem site costs'!G66 -> 0 | L68: ='FY14 chem site costs'!H66 -> 0 | M68: ='FY14 chem site costs'!I66 -> 0 | N68: ='FY14 chem site costs'!J66 -> 0 | O68: ='FY14 Eco site costs'!O24 -> 15095.102 | P68: 2999.19
A69: ND | B69: 05082500 | C69: Red River of the North at Grand Forks, ND | D69: Co-op | E69: Large Inland River | F69: 22576.6 | I69: ='FY14 chem site costs'!E67 -> 21000 | J69: ='FY14 chem site costs'!F67 -> 0 | K69: ='FY14 chem site costs'!G67 -> 0 | L69: ='FY14 chem site costs'!H67 -> 0 | M69: ='FY14 chem site costs'!I67 -> 0 | N69: ='FY14 chem site costs'!J67 -> 0 | O69: 0 | P69: 0
A70: NE | B70: 06775900 | C70: Dismal River near Thedford, NE | D70: NAWQA | E70: reference | F70: 91635.98 | I70: ='FY14 chem site costs'!E68 -> 26000 | J70: ='FY14 chem site costs'!F68 -> 0 | K70: ='FY14 chem site costs'!G68 -> 0 | L70: ='FY14 chem site costs'!H68 -> 0 | M70: ='FY14 chem site costs'!I68 -> 0 | N70: ='FY14 chem site costs'!J68 -> 0 | O70: ='FY14 Eco site costs'!O25 -> 25034.233 | P70: 2999.19
A71: NE | B71: 06800000 | C71: Maple Creek near Nickerson, NE | D71: NAWQA | E71: Agriculture | I71: ='FY14 chem site costs'!E69 -> 77000 | J71: ='FY14 chem site costs'!F69 -> 0 | K71: ='FY14 chem site costs'!G69 -> 0 | L71: ='FY14 chem site costs'!H69 -> 0 | M71: ='FY14 chem site costs'!I69 -> 0 | N71: ='FY14 chem site costs'!J69 -> 0 | O71: ='FY14 Eco site costs'!O26 -> 15194.51 | P71: 2999.19
A72: NE | B72: 06800500 | C72: Elkhorn River at Waterloo, NE | D72: NAWQA | E72: Large Inland River | I72: ='FY14 chem site costs'!E70 -> 68000 | J72: ='FY14 chem site costs'!F70 -> 0 | K72: ='FY14 chem site costs'!G70 -> 0 | L72: ='FY14 chem site costs'!H70 -> 0 | M72: ='FY14 chem site costs'!I70 -> 0 | N72: ='FY14 chem site costs'!J70 -> 0 | O72: 0 | P72: 0
A73: NE | B73: 06805500 | C73: Platte River at Louisville, NE | D73: NAWQA | E73: Large Inland River | I73: ='FY14 chem site costs'!E71 -> 58000 | J73: ='FY14 chem site costs'!F71 -> 0 | K73: ='FY14 chem site costs'!G71 -> 0 | L73: ='FY14 chem site costs'!H71 -> 12100 | M73: ='FY14 chem site costs'!I71 -> 0 | N73: ='FY14 chem site costs'!J71 -> 0 | O73: 0 | P73: 0
A74: NJ | B74: 01463500 | C74: Delaware River at Trenton, NJ | D74: NAWQA | E74: Coastal River | F74: 22576.6 | I74: ='FY14 chem site costs'!E72 -> 63000 | J74: ='FY14 chem site costs'!F72 -> 0 | K74: ='FY14 chem site costs'!G72 -> 0 | L74: ='FY14 chem site costs'!H72 -> 0 | M74: ='FY14 chem site costs'!I72 -> 0 | N74: ='FY14 chem site costs'!J72 -> 0 | O74: 0 | P74: 0
A75: NM | B75: 08227000 | C75: Saguache Creek near Saguache, CO | D75: NAWQA | E75: reference | F75: 26699.32 | I75: ='FY14 chem site costs'!E73 -> 33000 | J75: ='FY14 chem site costs'!F73 -> 0 | K75: ='FY14 chem site costs'!G73 -> 0 | L75: ='FY14 chem site costs'!H73 -> 0 | M75: ='FY14 chem site costs'!I73 -> 0 | N75: ='FY14 chem site costs'!J73 -> 0 | O75: ='FY14 Eco site costs'!O27 -> 22138.332 | P75: 2999.19
A76: NM | B76: 08364000 | C76: Rio Grande at El Paso, TX | D76: NAWQA | E76: Large Inland River | I76: ='FY14 chem site costs'!E74 -> 71500 | J76: ='FY14 chem site costs'!F74 -> 0 | K76: ='FY14 chem site costs'!G74 -> 0 | L76: ='FY14 chem site costs'!G74 -> 0 | M76: ='FY14 chem site costs'!H74 -> 0 | N76: ='FY14 chem site costs'!I74 -> 0 | O76: 0 | P76: 0
A77: NV | B77: 10350340 | C77: Truckee River at Tracy, NV | D77: NAWQA | E77: Large Inland River | F77: 28027.32 | I77: ='FY14 chem site costs'!E75 -> 63500 | J77: ='FY14 chem site costs'!F75 -> 0 | K77: ='FY14 chem site costs'!G75 -> 0 | L77: ='FY14 chem site costs'!H75 -> 0 | M77: ='FY14 chem site costs'!I75 -> 0 | N77: ='FY14 chem site costs'!J75 -> 0 | O77: 0 | P77: 0
A78: NY | B78: 01349150 | C78: Canajoharie Creek near Canajoharie, NY | D78: NAWQA | E78: Agriculture | F78: 36909.34 | G78: 22576.6 | H78: 22576.6 | I78: ='FY14 chem site costs'!E76 -> 112000 | J78: ='FY14 chem site costs'!F76 -> 0 | K78: ='FY14 chem site costs'!G76 -> 0 | L78: ='FY14 chem site costs'!H76 -> 15500 | M78: ='FY14 chem site costs'!I76 -> 0 | N78: ='FY14 chem site costs'!J76 -> 0 | O78: ='FY14 Eco site costs'!O28 -> 14548.692 | P78: 2999.19
A79: NY | B79: 01372043 | C79: Hudson River near Poughkeepsie, NY | D79: NMN | E79: Coastal River | I79: ='FY14 chem site costs'!E78 -> 0 | J79: ='FY14 chem site costs'!F78 -> 0 | K79: ='FY14 chem site costs'!G78 -> 66500 | L79: ='FY14 chem site costs'!H77 -> 0 | M79: ='FY14 chem site costs'!I77 -> 0 | N79: ='FY14 chem site costs'!J77 -> 0 | O79: 0 | P79: 0
A80: NY | B80: 4264331 | C80: St. Lawrence River at Cornwall, Ontario | D80: NASQAN | E80: Large Inland River | I80: ='FY14 chem site costs'!E77 -> 0 | J80: ='FY14 chem site costs'!F77 -> 54500 | K80: ='FY14 chem site costs'!G77 -> 0 | L80: ='FY14 chem site costs'!H78 -> 0 | M80: ='FY14 chem site costs'!I78 -> 0 | N80: ='FY14 chem site costs'!J78 -> 0 | O80: 0 | P80: 0
A81: OH | B81: 04193500 | C81: Maumee River at Waterville, OH | D81: NAWQA | E81: Large Inland River | F81: 28027.32 | I81: ='FY14 chem site costs'!E79 -> 83500 | J81: ='FY14 chem site costs'!F79 -> 0 | K81: ='FY14 chem site costs'!G79 -> 0 | L81: ='FY14 chem site costs'!H79 -> 0 | M81: ='FY14 chem site costs'!I79 -> 0 | N81: ='FY14 chem site costs'!J79 -> 0 | O81: 0 | P81: 0
A82: OK | B82: 07241550 | C82: North Canadian River near Harrah, OK | D82: Co-op | E82: Large Inland River | F82: 28027.32 | I82: ='FY14 chem site costs'!E80 -> 21500 | J82: ='FY14 chem site costs'!F80 -> 0 | K82: ='FY14 chem site costs'!G80 -> 0 | L82: ='FY14 chem site costs'!H80 -> 0 | M82: ='FY14 chem site costs'!I80 -> 0 | N82: ='FY14 chem site costs'!J80 -> 0 | O82: 0 | P82: 0
A83: OR | B83: 14201300 | C83: Zollner Creek near Mt. Angel, OR | D83: NAWQA | E83: Agriculture | F83: 105968.72 | G83: 19851.24 | I83: ='FY14 chem site costs'!E81 -> 91000 | J83: ='FY14 chem site costs'!F81 -> 0 | K83: ='FY14 chem site costs'!G81 -> 0 | L83: ='FY14 chem site costs'!H81 -> 17700 | M83: ='FY14 chem site costs'!I81 -> 0 | N83: ='FY14 chem site costs'!J81 -> 0 | O83: ='FY14 Eco site costs'!O30 -> 13851.211 | P83: 2999.19
A84: OR | B84: 14205400 | C84: E Fork Dairy Creek near Meachan Corner, OR | D84: NAWQA | E84: reference | I84: ='FY14 chem site costs'!E82 -> 27200 | J84: ='FY14 chem site costs'!F82 -> 0 | K84: ='FY14 chem site costs'!G82 -> 0 | L84: ='FY14 chem site costs'!H82 -> 17700 | M84: ='FY14 chem site costs'!I82 -> 0 | N84: ='FY14 chem site costs'!J82 -> 0 | O84: ='FY14 Eco site costs'!O31 -> 14065.84 | P84: 2999.19
A85: OR | B85: 14206950 | C85: Fanno Creek at Durham, OR | D85: NAWQA | E85: urban | I85: ='FY14 chem site costs'!E83 -> 83000 | J85: ='FY14 chem site costs'!F83 -> 0 | K85: ='FY14 chem site costs'!G83 -> 0 | L85: ='FY14 chem site costs'!H83 -> 9000 | M85: ='FY14 chem site costs'!I83 -> 0 | N85: ='FY14 chem site costs'!J83 -> 0 | O85: ='FY14 Eco site costs'!O32 -> 13067.607 | P85: 2999.19
A86: OR | B86: 14211720 | C86: Willamette River at Portland, OR | D86: NAWQA | E86: Large Inland River | I86: ='FY14 chem site costs'!E84 -> 81000 | J86: ='FY14 chem site costs'!F84 -> 0 | K86: ='FY14 chem site costs'!G84 -> 0 | L86: ='FY14 chem site costs'!H84 -> 0 | M86: ='FY14 chem site costs'!I84 -> 0 | N86: ='FY14 chem site costs'!J84 -> 0 | O86: 0 | P86: 0
A87: OR | B87: 14246900 | C87: Columbia River near Beaver Army Terminal, OR | D87: NASQAN | E87: Coastal River | I87: ='FY14 chem site costs'!E85 -> 0 | J87: ='FY14 chem site costs'!F85 -> 64000 | K87: ='FY14 chem site costs'!G85 -> 0 | L87: ='FY14 chem site costs'!H85 -> 0 | M87: ='FY14 chem site costs'!I85 -> 0 | N87: ='FY14 chem site costs'!J85 -> 0 | O87: 0 | P87: 0
A88: SC | B88: 02172300 | C88: McTier Creek near Monetta, SC | D88: NAWQA | E88: reference | F88: 32150.04 | I88: ='FY14 chem site costs'!E86 -> 31500 | J88: ='FY14 chem site costs'!F86 -> 0 | K88: ='FY14 chem site costs'!G86 -> 0 | L88: ='FY14 chem site costs'!H86 -> 17500 | M88: ='FY14 chem site costs'!I86 -> 0 | N88: ='FY14 chem site costs'!J86 -> 0 | O88: ='FY14 Eco site costs'!O33 -> 13096.011 | P88: 2999.19
A89: SC | B89: 02175000 | C89: Edisto River near Givhans, SC | D89: NAWQA | E89: Coastal River | I89: ='FY14 chem site costs'!E87 -> 91000 | J89: ='FY14 chem site costs'!F87 -> 0 | K89: ='FY14 chem site costs'!G87 -> 0 | L89: ='FY14 chem site costs'!H87 -> 0 | M89: ='FY14 chem site costs'!I87 -> 0 | N89: ='FY14 chem site costs'!J87 -> 0 | O89: 0 | P89: 0
A90: TX | B90: 08057200 | C90: White Rock Creek at Dallas, TX | D90: NAWQA | E90: urban | F90: 69059.38 | G90: 19851.24 | H90: 22576.6 | I90: ='FY14 chem site costs'!E88 -> 95000 | J90: ='FY14 chem site costs'!F88 -> 0 | K90: ='FY14 chem site costs'!G88 -> 0 | L90: ='FY14 chem site costs'!H88 -> 0 | M90: ='FY14 chem site costs'!I88 -> 0 | N90: ='FY14 chem site costs'!J88 -> 0 | O90: ='FY14 Eco site costs'!O34 -> 19137.427 | P90: 2999.19
A91: TX | B91: 08057410 | C91: Trinity River below Dallas, TX | D91: NAWQA | E91: Large Inland River | I91: ='FY14 chem site costs'!E89 -> 94000 | J91: ='FY14 chem site costs'!F89 -> 0 | K91: ='FY14 chem site costs'!G89 -> 0 | L91: ='FY14 chem site costs'!H89 -> 0 | M91: ='FY14 chem site costs'!I89 -> 0 | N91: ='FY14 chem site costs'!J89 -> 0 | O91: 0 | P91: 0
A92: TX | B92: 08116650 | C92: Brazos River near Rosharon, TX | D92: NMN | E92: Coastal River | I92: ='FY14 chem site costs'!E90 -> 0 | J92: ='FY14 chem site costs'!F90 -> 0 | K92: ='FY14 chem site costs'!G90 -> 60000 | L92: ='FY14 chem site costs'!H90 -> 0 | M92: ='FY14 chem site costs'!I90 -> 0 | N92: ='FY14 chem site costs'!J90 -> 0 | O92: 0 | P92: 0
A93: TX | B93: 08195000 | C93: Frio River at Concan, TX | D93: NAWQA | E93: reference | I93: ='FY14 chem site costs'!E91 -> 56000 | J93: ='FY14 chem site costs'!F91 -> 0 | K93: ='FY14 chem site costs'!G91 -> 0 | L93: ='FY14 chem site costs'!H91 -> 0 | M93: ='FY14 chem site costs'!I91 -> 0 | N93: ='FY14 chem site costs'!J91 -> 0 | O93: ='FY14 Eco site costs'!O35 -> 20475.824 | P93: 2999.19
A94: TX | B94: 08475000 | C94: Rio Grande near Brownsville, TX | D94: NASQAN | E94: Coastal River | I94: ='FY14 chem site costs'!E92 -> 0 | J94: ='FY14 chem site costs'!F92 -> 75000 | K94: ='FY14 chem site costs'!G92 -> 0 | L94: ='FY14 chem site costs'!H92 -> 0 | M94: ='FY14 chem site costs'!I92 -> 0 | N94: ='FY14 chem site costs'!J92 -> 0 | O94: 0 | P94: 0
A95: UT | B95: 10168000 | C95: Little Cottonwood Creek at Salt Lake City, UT | D95: NAWQA | E95: urban | F95: 69059.38 | I95: ='FY14 chem site costs'!E93 -> 75000 | J95: ='FY14 chem site costs'!F93 -> 0 | K95: ='FY14 chem site costs'!G93 -> 0 | L95: ='FY14 chem site costs'!H93 -> 16000 | M95: ='FY14 chem site costs'!I93 -> 0 | N95: ='FY14 chem site costs'!J93 -> 0 | O95: ='FY14 Eco site costs'!O36 -> 12030.218 | P95: 2999.19
A96: UT | B96: 10171000 | C96: Jordan River at Salt Lake City, UT | D96: NAWQA | E96: Large Inland River | I96: ='FY14 chem site costs'!E94 -> 59000 | J96: ='FY14 chem site costs'!F94 -> 0 | K96: ='FY14 chem site costs'!G94 -> 0 | L96: ='FY14 chem site costs'!H94 -> 0 | M96: ='FY14 chem site costs'!I94 -> 0 | N96: ='FY14 chem site costs'!J94 -> 0 | O96: 0 | P96: 0
A97: UT | B97: 10172200 | C97: Red Butte Creek at Ft Douglas, UT | D97: NAWQA | E97: reference | I97: ='FY14 chem site costs'!E95 -> 20000 | J97: ='FY14 chem site costs'!F95 -> 0 | K97: ='FY14 chem site costs'!G95 -> 0 | L97: ='FY14 chem site costs'!H95 -> 0 | M97: ='FY14 chem site costs'!I95 -> 0 | N97: ='FY14 chem site costs'!J95 -> 0 | O97: ='FY14 Eco site costs'!O37 -> 6544.4694 | P97: 2999.19
A98: WA | B98: 12056500 | C98: North Fork Skokomish River near Hdsprt, WA | D98: NAWQA | E98: reference | F98: 69059.38 | I98: ='FY14 chem site costs'!E96 -> 28000 | J98: ='FY14 chem site costs'!F96 -> 0 | K98: ='FY14 chem site costs'!G96 -> 0 | L98: ='FY14 chem site costs'!H96 -> 0 | M98: ='FY14 chem site costs'!I96 -> 0 | N98: ='FY14 chem site costs'!J96 -> 0 | O98: ='FY14 Eco site costs'!O38 -> 7588.2858 | P98: 2999.19
A99: WA | B99: 12505450 | C99: Granger Drain at Granger, WA | D99: NAWQA | E99: Agriculture | I99: ='FY14 chem site costs'!E97 -> 133500 | J99: ='FY14 chem site costs'!F97 -> 0 | K99: ='FY14 chem site costs'!G97 -> 0 | L99: ='FY14 chem site costs'!H97 -> 15500 | M99: ='FY14 chem site costs'!I97 -> 0 | N99: ='FY14 chem site costs'!J97 -> 0 | O99: ='FY14 Eco site costs'!O39 -> 19694.987 | P99: 2999.19
A100: WA | B100: 12510500 | C100: Yakima River at Kiona, WA | D100: NAWQA | E100: Large Inland River | I100: ='FY14 chem site costs'!E98 -> 79500 | J100: ='FY14 chem site costs'!F98 -> 0 | K100: ='FY14 chem site costs'!G98 -> 0 | L100: ='FY14 chem site costs'!H98 -> 0 | M100: ='FY14 chem site costs'!I98 -> 0 | N100: ='FY14 chem site costs'!J98 -> 0 | O100: 0 | P100: 0
A101: WI | B101: 04063700 | C101: Popple River near Fence, WI | D101: NAWQA | E101: reference | F101: 4122.72 | I101: ='FY14 chem site costs'!E99 -> 25500 | J101: ='FY14 chem site costs'!F99 -> 0 | K101: ='FY14 chem site costs'!G99 -> 0 | L101: ='FY14 chem site costs'!H99 -> 0 | M101: ='FY14 chem site costs'!I99 -> 0 | N101: ='FY14 chem site costs'!J99 -> 0 | O101: ='FY14 Eco site costs'!O40 -> 21652.128 | P101: 2999.19
...

Sheet FY14 sampling by SC
A1: 41498
B2: NAWQA SW Chemistry | E2: NASQAN Chemistry | H2: NMN Chemistry | K2: NAWQA Ecology | M2: NAWQA SW Status Total | P2: NASQAN Total | S2: NMN Total
A3: SC | B3: Sampling & Data Review | C3: Lab Analysis (includes QC) | D3: Streamflow Gaging | E3: Sampling & Data Review | F3: Lab Analysis (includes QC) | G3: Streamflow Gaging | H3: Sampling & Data Review | I3: Lab Analysis (includes QC) | J3: Streamflow Gaging | K3: Sampling & Data Review | L3: Lab Analysis (includes QC) | M3: Lab Analysis | N3: SC Costs | O3: TOTAL | P3: Lab Analysis | Q3: WSC Costs | R3: TOTAL | S3: Lab Analysis | T3: WSC Costs | U3: TOTAL
A4: AK | B4: =SUM('SW sites'!I4) -> 0 | C4: =SUM('SW sites'!F4) -> 0 | D4: =SUM('SW sites'!L4) -> 0 | E4: =SUM('SW sites'!J4) -> 76500 | F4: =SUM('SW sites'!G4) -> 7806.56 | G4: =SUM('SW sites'!M4) -> 0 | H4: =SUM('SW sites'!K4) -> 0 | I4: =SUM('SW sites'!H4) -> 0 | J4: =SUM('SW sites'!N4) -> 0 | K4: =SUM('SW sites'!O4) -> 0 | L4: 0 | M4: =C4+L4 -> 0 | N4: =B4+K4+D4 -> 0 | O4: =M4+N4 -> 0 | P4: =F4 -> 7806.56 | Q4: =E4+G4 -> 76500 | R4: =P4+Q4 -> 84306.56 | S4: =I4 -> 0 | T4: =H4+J4 -> 0 | U4: =S4+T4 -> 0
A5: AL | B5: =SUM('SW sites'!I6:'SW sites'!I5) -> 86500 | C5: =SUM('SW sites'!F6:'SW sites'!F5) -> 28027.32 | D5: =SUM('SW sites'!L6:'SW sites'!L5) -> 0 | E5: =SUM('SW sites'!J6:'SW sites'!J5) -> 78000 | F5: =SUM('SW sites'!G6:'SW sites'!G5) -> 22576.6 | G5: =SUM('SW sites'!M5:'SW sites'!M6) -> 0 | H5: =SUM('SW sites'!K5:'SW sites'!K6) -> 0 | I5: =SUM('SW sites'!H5:'SW sites'!H6) -> 0 | J5: =SUM('SW sites'!N5:'SW sites'!N6) -> 0 | K5: =SUM('SW sites'!O5:'SW sites'!O6) -> 0 | L5: 0 | M5: =C5+L5 -> 28027.32 | N5: =B5+K5+D5 -> 86500 | O5: =M5+N5 -> 114527.32 | P5: =F5 -> 22576.6 | Q5: =E5+G5 -> 78000 | R5: =P5+Q5 -> 100576.6 | S5: =I5 -> 0 | T5: =H5+J5 -> 0 | U5: =S5+T5 -> 0
A6: AR | B6: =SUM('SW sites'!I7:'SW sites'!I9) -> 39000 | C6: =SUM('SW sites'!F7:'SW sites'!F9) -> 8245.44 | D6: =SUM('SW sites'!L7:'SW sites'!L9) -> 0 | E6: =SUM('SW sites'!J7:'SW sites'!J9) -> 56000 | F6: =SUM('SW sites'!G7:'SW sites'!G9) -> 22576.6 | G6: =SUM('SW sites'!M7:'SW sites'!M9) -> 5500 | H6: =SUM('SW sites'!K7:'SW sites'!K9) -> 0 | I6: =SUM('SW sites'!H7:'SW sites'!H9) -> 0 | J6: =SUM('SW sites'!N7:'SW sites'!N9) -> 0 | K6: =SUM('SW sites'!O7:'SW sites'!O9) -> 38119.175 | L6: 5998.38 | M6: =C6+L6 -> 14243.82 | N6: =B6+K6+D6 -> 77119.175 | O6: =M6+N6 -> 91362.995 | P6: =F6 -> 22576.6 | Q6: =E6+G6 -> 61500 | R6: =P6+Q6 -> 84076.6 | S6: =I6 -> 0 | T6: =H6+J6 -> 0 | U6: =S6+T6 -> 0
A7: AZ | B7: =SUM('SW sites'!I10:'SW sites'!I13) -> 120000 | C7: =SUM('SW sites'!F10:'SW sites'!F13) -> 30822.04 | D7: =SUM('SW sites'!L10:'SW sites'!L13) -> 0 | E7: =SUM('SW sites'!J10:'SW sites'!J13) -> 50000 | F7: =SUM('SW sites'!G10:'SW sites'!G13) -> 19851.24 | G7: =SUM('SW sites'!M10:'SW sites'!M13) -> 0 | H7: =SUM('SW sites'!K10:'SW sites'!K13) -> 0 | I7: =SUM('SW sites'!H10:'SW sites'!H13) -> 0 | J7: =SUM('SW sites'!N10:'SW sites'!N13) -> 0 | K7: =SUM('SW sites'!O10:'SW sites'!O13) -> 33093.89 | L7: 5998.38 | M7: =C7+L7 -> 36820.42 | N7: =B7+K7+D7 -> 153093.89 | O7: =M7+N7 -> 189914.31 | P7: =F7 -> 19851.24 | Q7: =E7+G7 -> 50000 | R7: =P7+Q7 -> 69851.24 | S7: =I7 -> 0 | T7: =H7+J7 -> 0 | U7: =S7+T7 -> 0
A8: CA | B8: =SUM('SW sites'!I14:'SW sites'!I19) -> 350500 | C8: =SUM('SW sites'!F14:'SW sites'!F19) -> 112767.6 | D8: =SUM('SW sites'!L14:'SW sites'!L19) -> 22500 | E8: =SUM('SW sites'!J14:'SW sites'!J19) -> 0 | F8: =SUM('SW sites'!G14:'SW sites'!G19) -> 0 | G8: =SUM('SW sites'!M14:'SW sites'!M19) -> 0 | H8: =SUM('SW sites'!K14:'SW sites'!K19) -> 0 | I8: =SUM('SW sites'!H14:'SW sites'!H19) -> 0 | J8: =SUM('SW sites'!N14:'SW sites'!N19) -> 0 | K8: =SUM('SW sites'!O14:'SW sites'!O19) -> 51037.899 | L8: 8997.57 | M8: =C8+L8 -> 121765.17 | N8: =B8+K8+D8 -> 424037.9 | O8: =M8+N8 -> 545803.07 | P8: =F8 -> 0 | Q8: =E8+G8 -> 0 | R8: =P8+Q8 -> 0 | S8: =I8 -> 0 | T8: =H8+J8 -> 0 | U8: =S8+T8 -> 0
A9: CO | B9: =SUM('SW sites'!I20:'SW sites'!I22) -> 249000 | C9: =SUM('SW sites'!F20:'SW sites'!F22) -> 92963.98 | D9: =SUM('SW sites'!L20:'SW sites'!L22) -> 0 | E9: =SUM('SW sites'!J20:'SW sites'!J22) -> 0 | F9: =SUM('SW sites'!G20:'SW sites'!G22) -> 0 | G9: =SUM('SW sites'!M20:'SW sites'!M22) -> 0 | H9: =SUM('SW sites'!K20:'SW sites'!K22) -> 0 | I9: =SUM('SW sites'!H20:'SW sites'!H22) -> 0 | J9: =SUM('SW sites'!N20:'SW sites'!N22) -> 0 | K9: =SUM('SW sites'!O20:'SW sites'!O22) -> 13210.839 | L9: 2999.19 | M9: =C9+L9 -> 95963.17 | N9: =B9+K9+D9 -> 262210.84 | O9: =M9+N9 -> 358174.01 | P9: =F9 -> 0 | Q9: =E9+G9 -> 0 | R9: =P9+Q9 -> 0 | S9: =I9 -> 0 | T9: =H9+J9 -> 0 | U9: =S9+T9 -> 0
A10: CT | B10: =SUM('SW sites'!I23:'SW sites'!I25) -> 200000 | C10: =SUM('SW sites'!F23:'SW sites'!F25) -> 69059.38 | D10: =SUM('SW sites'!L23:'SW sites'!L25) -> 0 | E10: =SUM('SW sites'!J23:'SW sites'!J25) -> 0 | F10: =SUM('SW sites'!G23:'SW sites'!G25) -> 0 | G10: =SUM('SW sites'!M23:'SW sites'!M25) -> 0 | H10: =SUM('SW sites'!K23:'SW sites'!K25) -> 0 | I10: =SUM('SW sites'!H23:'SW sites'!H25) -> 0 | J10: =SUM('SW sites'!N23:'SW sites'!N25) -> 0 | K10: =SUM('SW sites'!O23:'SW sites'!O25) -> 31028.061 | L10: 5998.38 | M10: =C10+L10 -> 75057.76 | N10: =B10+K10+D10 -> 231028.06 | O10: =M10+N10 -> 306085.82 | P10: =F10 -> 0 | Q10: =E10+G10 -> 0 | R10: =P10+Q10 -> 0 | S10: =I10 -> 0 | T10: =H10+J10 -> 0 | U10: =S10+T10 -> 0
A11: FL | B11: =SUM('SW sites'!I26) -> 0 | C11: =SUM('SW sites'!F26) -> 0 | D11: =SUM('SW sites'!L26) -> 0 | E11: =SUM('SW sites'!J26) -> 0 | F11: =SUM('SW sites'!G26) -> 0 | G11: =SUM('SW sites'!M26) -> 0 | H11: =SUM('SW sites'!K26) -> 54000 | I11: =SUM('SW sites'!H26) -> 22576.6 | J11: =SUM('SW sites'!N26) -> 0 | K11: =SUM('SW sites'!O26) -> 0 | L11: 0 | M11: =C11+L11 -> 0 | N11: =B11+K11+D11 -> 0 | O11: =M11+N11 -> 0 | P11: =F11 -> 0 | Q11: =E11+G11 -> 0 | R11: =P11+Q11 -> 0 | S11: =I11 -> 22576.6 | T11: =H11+J11 -> 54000 | U11: =S11+T11 -> 76576.6
A12: GA | B12: =SUM('SW sites'!I27:'SW sites'!I29) -> 121500 | C12: =SUM('SW sites'!F27:'SW sites'!F29) -> 41032.06 | D12: =SUM('SW sites'!L27:'SW sites'!L29) -> 15500 | E12: =SUM('SW sites'!J27:'SW sites'!J29) -> 68000 | F12: =SUM('SW sites'!G27:'SW sites'!G29) -> 22576.6 | G12: =SUM('SW sites'!M27:'SW sites'!M29) -> 24500 | H12: =SUM('SW sites'!K27:'SW sites'!K29) -> 0 | I12: =SUM('SW sites'!H27:'SW sites'!H29) -> 0 | J12: =SUM('SW sites'!N27:'SW sites'!N29) -> 0 | K12: =SUM('SW sites'!O27:'SW sites'!O29) -> 25771.91 | L12: 5998.38 | M12: =C12+L12 -> 47030.44 | N12: =B12+K12+D12 -> 162771.91 | O12: =M12+N12 -> 209802.35 | P12: =F12 -> 22576.6 | Q12: =E12+G12 -> 92500 | R12: =P12+Q12 -> 115076.6 | S12: =I12 -> 0 | T12: =H12+J12 -> 0 | U12: =S12+T12 -> 0
A13: IA | B13: =SUM('SW sites'!I34:'SW sites'!I30) -> 90000 | C13: =SUM('SW sites'!F34:'SW sites'!F30) -> 36909.34 | D13: =SUM('SW sites'!L34:'SW sites'!L30) -> 15000 | E13: =SUM('SW sites'!J34:'SW sites'!J30) -> 216000 | F13: =SUM('SW sites'!G34:'SW sites'!G30) -> 90306.4 | G13: =SUM('SW sites'!M34:'SW sites'!M30) -> 0 | H13: =SUM('SW sites'!K34:'SW sites'!K30) -> 0 | I13: =SUM('SW sites'!H34:'SW sites'!H30) -> 0 | J13: =SUM('SW sites'!N34:'SW sites'!N30) -> 0 | K13: =SUM('SW sites'!O34:'SW sites'!O30) -> 16592.686 | L13: 2999.19 | M13: =C13+L13 -> 39908.53 | N13: =B13+K13+D13 -> 121592.69 | O13: =M13+N13 -> 161501.22 | P13: =F13 -> 90306.4 | Q13: =E13+G13 -> 216000 | R13: =P13+Q13 -> 306306.4 | S13: =I13 -> 0 | T13: =H13+J13 -> 0 | U13: =S13+T13 -> 0
A14: ID | B14: =SUM('SW sites'!I35:'SW sites'!I36) -> 150000 | C14: =SUM('SW sites'!F35:'SW sites'!F36) -> 59485.94 | D14: =SUM('SW sites'!L35:'SW sites'!L36) -> 34000 | E14: =SUM('SW sites'!J35:'SW sites'!J36) -> 0 | F14: =SUM('SW sites'!G35:'SW sites'!G36) -> 0 | G14: =SUM('SW sites'!M35:'SW sites'!M36) -> 0 | H14: =SUM('SW sites'!K35:'SW sites'!K36) -> 0 | I14: =SUM('SW sites'!H35:'SW sites'!H36) -> 0 | J14: =SUM('SW sites'!N35:'SW sites'!N36) -> 0 | K14: =SUM('SW sites'!O35:'SW sites'!O36) -> 18783.814 | L14: 2999.19 | M14: =C14+L14 -> 62485.13 | N14: =B14+K14+D14 -> 202783.81 | O14: =M14+N14 -> 265268.94 | P14: =F14 -> 0 | Q14: =E14+G14 -> 0 | R14: =P14+Q14 -> 0 | S14: =I14 -> 0 | T14: =H14+J14 -> 0 | U14: =S14+T14 -> 0
A15: IL | B15: =SUM('SW sites'!I37) -> 83000 | C15: =SUM('SW sites'!F37) -> 22576.6 | D15: =SUM('SW sites'!L37) -> 0 | E15: =SUM('SW sites'!J37) -> 0 | F15: =SUM('SW sites'!G37) -> 0 | G15: =SUM('SW sites'!M37) -> 0 | H15: =SUM('SW sites'!K37) -> 0 | I15: =SUM('SW sites'!H37) -> 0 | J15: =SUM('SW sites'!N37) -> 0 | K15: =SUM('SW sites'!O37) -> 0 | L15: 0 | M15: =C15+L15 -> 22576.6 | N15: =B15+K15+D15 -> 83000 | O15: =M15+N15 -> 105576.6 | P15: =F15 -> 0 | Q15: =E15+G15 -> 0 | R15: =P15+Q15 -> 0 | S15: =I15 -> 0 | T15: =H15+J15 -> 0 | U15: =S15+T15 -> 0
A16: IN | B16: =SUM('SW sites'!I38:'SW sites'!I39) -> 203000 | C16: =SUM('SW sites'!F38:'SW sites'!F39) -> 64936.66 | D16: =SUM('SW sites'!L38:'SW sites'!L39) -> 10500 | E16: =SUM('SW sites'!J38:'SW sites'!J39) -> 0 | F16: =SUM('SW sites'!G38:'SW sites'!G39) -> 0 | G16: =SUM('SW sites'!M38:'SW sites'!M39) -> 0 | H16: =SUM('SW sites'!K38:'SW sites'!K39) -> 0 | I16: =SUM('SW sites'!H38:'SW sites'!H39) -> 0 | J16: =SUM('SW sites'!N38:'SW sites'!N39) -> 0 | K16: =SUM('SW sites'!O38:'SW sites'!O39) -> 12480.289 | L16: 2999.19 | M16: =C16+L16 -> 67935.85 | N16: =B16+K16+D16 -> 225980.29 | O16: =M16+N16 -> 293916.14 | P16: =F16 -> 0 | Q16: =E16+G16 -> 0 | R16: =P16+Q16 -> 0 | S16: =I16 -> 0 | T16: =H16+J16 -> 0 | U16: =S16+T16 -> 0
A17: KS | B17: =SUM('SW sites'!I40:'SW sites'!I41) -> 64000 | C17: =SUM('SW sites'!F40:'SW sites'!F41) -> 50603.92 | D17: =SUM('SW sites'!L40:'SW sites'!L41) -> 0 | E17: =SUM('SW sites'!J40:'SW sites'!J41) -> 0 | F17: =SUM('SW sites'!G40:'SW sites'!G41) -> 0 | G17: =SUM('SW sites'!M40:'SW sites'!M41) -> 0 | H17: =SUM('SW sites'!K40:'SW sites'!K41) -> 0 | I17: =SUM('SW sites'!H40:'SW sites'!H41) -> 0 | J17: =SUM('SW sites'!N40:'SW sites'!N41) -> 0 | K17: =SUM('SW sites'!O40:'SW sites'!O41) -> 0 | L17: 0 | M17: =C17+L17 -> 50603.92 | N17: =B17+K17+D17 -> 64000 | O17: =M17+N17 -> 114603.92 | P17: =F17 -> 0 | Q17: =E17+G17 -> 0 | R17: =P17+Q17 -> 0 | S17: =I17 -> 0 | T17: =H17+J17 -> 0 | U17: =S17+T17 -> 0
A18: KY | B18: =SUM('SW sites'!I42:'SW sites'!I45) -> 0 | C18: =SUM('SW sites'!F42:'SW sites'!F45) -> 0 | D18: =SUM('SW sites'!L42:'SW sites'!L45) -> 0 | E18: =SUM('SW sites'!J42:'SW sites'!J45) -> 209500 | F18: =SUM('SW sites'!G42:'SW sites'!G45) -> 90306.4 | G18: =SUM('SW sites'!M42:'SW sites'!M45) -> 27000 | H18: =SUM('SW sites'!K42:'SW sites'!K45) -> 0 | I18: =SUM('SW sites'!H42:'SW sites'!H45) -> 0 | J18: =SUM('SW sites'!N42:'SW sites'!N45) -> 0 | K18: =SUM('SW sites'!O42:'SW sites'!O45) -> 0 | L18: 0 | M18: =C18+L18 -> 0 | N18: =B18+K18+D18 -> 0 | O18: =M18+N18 -> 0 | P18: =F18 -> 90306.4 | Q18: =E18+G18 -> 236500 | R18: =P18+Q18 -> 326806.4 | S18: =I18 -> 0 | T18: =H18+J18 -> 0 | U18: =S18+T18 -> 0
A19: LA | B19: =SUM('SW sites'!I46:'SW sites'!I52) -> 18000 | C19: =SUM('SW sites'!F46:'SW sites'!F52) -> 4122.72 | D19: =SUM('SW sites'!L46:'SW sites'!L52) -> 0 | E19: =SUM('SW sites'!J46:'SW sites'!J52) -> 404000 | F19: =SUM('SW sites'!G46:'SW sites'!G52) -> 140910.32 | G19: =SUM('SW sites'!M46:'SW sites'!M52) -> 0 | H19: =SUM('SW sites'!K46:'SW sites'!K52) -> 0 | I19: =SUM('SW sites'!H46:'SW sites'!H52) -> 0 | J19: =SUM('SW sites'!N46:'SW sites'!N52) -> 0 | K19: =SUM('SW sites'!O46:'SW sites'!O52) -> 17707.824 | L19: 2999.19 | M19: =C19+L19 -> 7121.91 | N19: =B19+K19+D19 -> 35707.824 | O19: =M19+N19 -> 42829.734 | P19: =F19 -> 140910.32 | Q19: =E19+G19 -> 404000 | R19: =P19+Q19 -> 544910.32 | S19: =I19 -> 0 | T19: =H19+J19 -> 0 | U19: =S19+T19 -> 0
A20: MD | B20: =SUM('SW sites'!I53:'SW sites'!I56) -> 193500 | C20: =SUM('SW sites'!F53:'SW sites'!F56) -> 69059.38 | D20: =SUM('SW sites'!L53:'SW sites'!L56) -> 15300 | E20: =SUM('SW sites'!J53:'SW sites'!J56) -> 12000 | F20: =SUM('SW sites'!G53:'SW sites'!G56) -> 22576.6 | G20: =SUM('SW sites'!M53:'SW sites'!M56) -> 0 | H20: =SUM('SW sites'!K53:'SW sites'!K56) -> 0 | I20: =SUM('SW sites'!H53:'SW sites'!H56) -> 0 | J20: =SUM('SW sites'!N53:'SW sites'!N56) -> 0 | K20: =SUM('SW sites'!O53:'SW sites'!O56) -> 36070.018 | L20: 5998.38 | M20: =C20+L20 -> 75057.76 | N20: =B20+K20+D20 -> 244870.02 | O20: =M20+N20 -> 319927.78 | P20: =F20 -> 22576.6 | Q20: =E20+G20 -> 12000 | R20: =P20+Q20 -> 34576.6 | S20: =I20 -> 0 | T20: =H20+J20 -> 0 | U20: =S20+T20 -> 0
A21: MI | B21: =SUM('SW sites'!I57) -> 83500 | C21: =SUM('SW sites'!F57) -> 36909.34 | D21: =SUM('SW sites'!L57) -> 16000 | E21: =SUM('SW sites'!J57) -> 0 | F21: =SUM('SW sites'!G57) -> 0 | G21: =SUM('SW sites'!M57) -> 0 | H21: =SUM('SW sites'!K57) -> 0 | I21: =SUM('SW sites'!H57) -> 0 | J21: =SUM('SW sites'!N57) -> 0 | K21: 0 | L21: 0 | M21: =C21+L21 -> 36909.34 | N21: =B21+K21+D21 -> 99500 | O21: =M21+N21 -> 136409.34 | P21: =F21 -> 0 | Q21: =E21+G21 -> 0 | R21: =P21+Q21 -> 0 | S21: =I21 -> 0 | T21: =H21+J21 -> 0 | U21: =S21+T21 -> 0
A22: MN | B22: =SUM('SW sites'!I58:'SW sites'!I59) -> 119000 | C22: =SUM('SW sites'!F58:'SW sites'!F59) -> 58712.22 | D22: =SUM('SW sites'!L58:'SW sites'!L59) -> 14200 | E22: =SUM('SW sites'!J58:'SW sites'!J59) -> 0 | F22: =SUM('SW sites'!G58:'SW sites'!G59) -> 0 | G22: =SUM('SW sites'!M58:'SW sites'!M59) -> 0 | H22: =SUM('SW sites'!K58:'SW sites'!K59) -> 0 | I22: =SUM('SW sites'!H58:'SW sites'!H59) -> 0 | J22: =SUM('SW sites'!N58:'SW sites'!N59) -> 0 | K22: =SUM('SW sites'!O58:'SW sites'!O59) -> 12326.178 | L22: 2999.19 | M22: =C22+L22 -> 61711.41 | N22: =B22+K22+D22 -> 145526.18 | O22: =M22+N22 -> 207237.59 | P22: =F22 -> 0 | Q22: =E22+G22 -> 0 | R22: =P22+Q22 -> 0 | S22: =I22 -> 0 | T22: =H22+J22 -> 0 | U22: =S22+T22 -> 0
A23: MO | B23: =SUM('SW sites'!I62:'SW sites'!I60) -> 0 | C23: =SUM('SW sites'!F62:'SW sites'!F60) -> 0 | D23: =SUM('SW sites'!L62:'SW sites'!L60) -> 0 | E23: =SUM('SW sites'!J62:'SW sites'!J60) -> 157500 | F23: =SUM('SW sites'!G62:'SW sites'!G60) -> 67729.8 | G23: =SUM('SW sites'!M62:'SW sites'!M60) -> 0 | H23: =SUM('SW sites'!K62:'SW sites'!K60) -> 0 | I23: =SUM('SW sites'!H62:'SW sites'!H60) -> 0 | J23: =SUM('SW sites'!N62:'SW sites'!N60) -> 0 | K23: =SUM('SW sites'!O62:'SW sites'!O60) -> 0 | L23: 0 | M23: =C23+L23 -> 0 | N23: =B23+K23+D23 -> 0 | O23: =M23+N23 -> 0 | P23: =F23 -> 67729.8 | Q23: =E23+G23 -> 157500 | R23: =P23+Q23 -> 225229.8 | S23: =I23 -> 0 | T23: =H23+J23 -> 0 | U23: =S23+T23 -> 0
A24: MS | B24: =SUM('SW sites'!I63:'SW sites'!I65) -> 164500 | C24: =SUM('SW sites'!F63:'SW sites'!F65) -> 64936.66 | D24: =SUM('SW sites'!L63:'SW sites'!L65) -> 0 | E24: =SUM('SW sites'!J63:'SW sites'!J65) -> 0 | F24: =SUM('SW sites'!G63:'SW sites'!G65) -> 0 | G24: =SUM('SW sites'!M63:'SW sites'!M65) -> 0 | H24: =SUM('SW sites'!K63:'SW sites'!K65) -> 54000 | I24: =SUM('SW sites'!H63:'SW sites'!H65) -> 22576.6 | J24: =SUM('SW sites'!N63:'SW sites'!N65) -> 3200 | K24: =SUM('SW sites'!O63:'SW sites'!O65) -> 16975.3 | L24: 2999.19 | M24: =C24+L24 -> 67935.85 | N24: =B24+K24+D24 -> 181475.3 | O24: =M24+N24 -> 249411.15 | P24: =F24 -> 0 | Q24: =E24+G24 -> 0 | R24: =P24+Q24 -> 0 | S24: =I24 -> 22576.6 | T24: =H24+J24 -> 57200 | U24: =S24+T24 -> 79776.6
A25: NC | B25: =SUM('SW sites'!I68:'SW sites'!I66) -> 231000 | C25: =SUM('SW sites'!F68:'SW sites'!F66) -> 101846 | D25: =SUM('SW sites'!L68:'SW sites'!L66) -> 14700 | E25: =SUM('SW sites'!J68:'SW sites'!J66) -> 0 | F25: =SUM('SW sites'!G68:'SW sites'!G66) -> 0 | G25: =SUM('SW sites'!M68:'SW sites'!M66) -> 0 | H25: =SUM('SW sites'!K68:'SW sites'!K66) -> 0 | I25: =SUM('SW sites'!H68:'SW sites'!H66) -> 0 | J25: =SUM('SW sites'!N68:'SW sites'!N66) -> 0 | K25: =SUM('SW sites'!O68:'SW sites'!O66) -> 25150.519 | L25: 5998.38 | M25: =C25+L25 -> 107844.38 | N25: =B25+K25+D25 -> 270850.52 | O25: =M25+N25 -> 378694.9 | P25: =F25 -> 0 | Q25: =E25+G25 -> 0 | R25: =P25+Q25 -> 0 | S25: =I25 -> 0 | T25: =H25+J25 -> 0 | U25: =S25+T25 -> 0
A26: ND | B26: =SUM('SW sites'!I69) -> 21000 | C26: =SUM('SW sites'!F69) -> 22576.6 | D26: =SUM('SW sites'!L69) -> 0 | E26: =SUM('SW sites'!J69) -> 0 | F26: =SUM('SW sites'!G69) -> 0 | G26: =SUM('SW sites'!M69) -> 0 | H26: =SUM('SW sites'!K69) -> 0 | I26: =SUM('SW sites'!H69) -> 0 | J26: =SUM('SW sites'!N69) -> 0 | K26: =SUM('SW sites'!O69) -> 0 | L26: 0 | M26: =C26+L26 -> 22576.6 | N26: =B26+K26+D26 -> 21000 | O26: =M26+N26 -> 43576.6 | P26: =F26 -> 0 | Q26: =E26+G26 -> 0 | R26: =P26+Q26 -> 0 | S26: =I26 -> 0 | T26: =H26+J26 -> 0 | U26: =S26+T26 -> 0
A27: NE | B27: =SUM('SW sites'!I70:'SW sites'!I73) -> 229000 | C27: =SUM('SW sites'!F70:'SW sites'!F73) -> 91635.98 | D27: =SUM('SW sites'!L70:'SW sites'!L73) -> 12100 | E27: =SUM('SW sites'!J70:'SW sites'!J73) -> 0 | F27: =SUM('SW sites'!G70:'SW sites'!G73) -> 0 | G27: =SUM('SW sites'!M70:'SW sites'!M73) -> 0 | H27: =SUM('SW sites'!K70:'SW sites'!K73) -> 0 | I27: =SUM('SW sites'!H70:'SW sites'!H73) -> 0 | J27: =SUM('SW sites'!N70:'SW sites'!N73) -> 0 | K27: =SUM('SW sites'!O70:'SW sites'!O73) -> 40228.743 | L27: 5998.38 | M27: =C27+L27 -> 97634.36 | N27: =B27+K27+D27 -> 281328.74 | O27: =M27+N27 -> 378963.1 | P27: =F27 -> 0 | Q27: =E27+G27 -> 0 | R27: =P27+Q27 -> 0 | S27: =I27 -> 0 | T27: =H27+J27 -> 0 | U27: =S27+T27 -> 0
A28: NJ | B28: =SUM('SW sites'!I74) -> 63000 | C28: =SUM('SW sites'!F74) -> 22576.6 | D28: =SUM('SW sites'!L74) -> 0 | E28: =SUM('SW sites'!J74) -> 0 | F28: =SUM('SW sites'!G74) -> 0 | G28: =SUM('SW sites'!M74) -> 0 | H28: =SUM('SW sites'!K74) -> 0 | I28: =SUM('SW sites'!H74) -> 0 | J28: =SUM('SW sites'!N74) -> 0 | K28: =SUM('SW sites'!O74) -> 0 | L28: 0 | M28: =C28+L28 -> 22576.6 | N28: =B28+K28+D28 -> 63000 | O28: =M28+N28 -> 85576.6 | P28: =F28 -> 0 | Q28: =E28+G28 -> 0 | R28: =P28+Q28 -> 0 | S28: =I28 -> 0 | T28: =H28+J28 -> 0 | U28: =S28+T28 -> 0
A29: NM | B29: =SUM('SW sites'!I75:'SW sites'!I76) -> 104500 | C29: =SUM('SW sites'!F75:'SW sites'!F76) -> 26699.32 | D29: =SUM('SW sites'!L75:'SW sites'!L76) -> 0 | E29: =SUM('SW sites'!J75:'SW sites'!J76) -> 0 | F29: =SUM('SW sites'!G75:'SW sites'!G76) -> 0 | G29: =SUM('SW sites'!M75:'SW sites'!M76) -> 0 | H29: =SUM('SW sites'!K75:'SW sites'!K76) -> 0 | I29: =SUM('SW sites'!H75:'SW sites'!H76) -> 0 | J29: =SUM('SW sites'!N75:'SW sites'!N76) -> 0 | K29: =SUM('SW sites'!O75:'SW sites'!O76) -> 22138.332 | L29: 2999.19 | M29: =C29+L29 -> 29698.51 | N29: =B29+K29+D29 -> 126638.33 | O29: =M29+N29 -> 156336.84 | P29: =F29 -> 0 | Q29: =E29+G29 -> 0 | R29: =P29+Q29 -> 0 | S29: =I29 -> 0 | T29: =H29+J29 -> 0 | U29: =S29+T29 -> 0
A30: NV | B30: =SUM('SW sites'!I77) -> 63500 | C30: =SUM('SW sites'!F77) -> 28027.32 | D30: =SUM('SW sites'!L77) -> 0 | E30: =SUM('SW sites'!J92) -> 0 | F30: =SUM('SW sites'!G77) -> 0 | G30: =SUM('SW sites'!M77) -> 0 | H30: =SUM('SW sites'!K77) -> 0 | I30: =SUM('SW sites'!H77) -> 0 | J30: =SUM('SW sites'!N77) -> 0 | K30: =SUM('SW sites'!O77) -> 0 | L30: 0 | M30: =C30+L30 -> 28027.32 | N30: =B30+K30+D30 -> 63500 | O30: =M30+N30 -> 91527.32 | P30: =F30 -> 0 | Q30: =E30+G30 -> 0 | R30: =P30+Q30 -> 0 | S30: =I30 -> 0 | T30: =H30+J30 -> 0 | U30: =S30+T30 -> 0
A31: NY | B31: =SUM('SW sites'!I78:'SW sites'!I80) -> 112000 | C31: =SUM('SW sites'!F78:'SW sites'!F80) -> 36909.34 | D31: =SUM('SW sites'!L78:'SW sites'!L80) -> 15500 | E31: =SUM('SW sites'!J78:'SW sites'!J80) -> 54500 | F31: =SUM('SW sites'!G78:'SW sites'!G80) -> 22576.6 | G31: =SUM('SW sites'!M78:'SW sites'!M80) -> 0 | H31: =SUM('SW sites'!K78:'SW sites'!K80) -> 66500 | I31: =SUM('SW sites'!H78:'SW sites'!H80) -> 22576.6 | J31: =SUM('SW sites'!N78:'SW sites'!N80) -> 0 | K31: =SUM('SW sites'!O78:'SW sites'!O80) -> 14548.692 | L31: 2999.19 | M31: =C31+L31 -> 39908.53 | N31: =B31+K31+D31 -> 142048.69 | O31: =M31+N31 -> 181957.22 | P31: =F31 -> 22576.6 | Q31: =E31+G31 -> 54500 | R31: =P31+Q31 -> 77076.6 | S31: =I31 -> 22576.6 | T31: =H31+J31 -> 66500 | U31: =S31+T31 -> 89076.6
A32: OH | B32: =SUM('SW sites'!I81) -> 83500 | C32: =SUM('SW sites'!F81) -> 28027.32 | D32: =SUM('SW sites'!L81) -> 0 | E32: =SUM('SW sites'!J81) -> 0 | F32: =SUM('SW sites'!G57) -> 0 | G32: =SUM('SW sites'!M57) -> 0 | H32: =SUM('SW sites'!K81) -> 0 | I32: =SUM('SW sites'!H81) -> 0 | J32: =SUM('SW sites'!N81) -> 0 | K32: =SUM('SW sites'!O57) -> 21633.529 | L32: 2999.19 | M32: =C32+L32 -> 31026.51 | N32: =B32+K32+D32 -> 105133.53 | O32: =M32+N32 -> 136160.04 | P32: =F32 -> 0 | Q32: =E32+G32 -> 0 | R32: =P32+Q32 -> 0 | S32: =I32 -> 0 | T32: =H32+J32 -> 0 | U32: =S32+T32 -> 0
A33: OK | B33: =SUM('SW sites'!I82) -> 21500 | C33: =SUM('SW sites'!F82) -> 28027.32 | D33: =SUM('SW sites'!L82) -> 0 | E33: =SUM('SW sites'!J82) -> 0 | F33: =SUM('SW sites'!G82) -> 0 | G33: =SUM('SW sites'!M82) -> 0 | H33: =SUM('SW sites'!K82) -> 0 | I33: =SUM('SW sites'!H82) -> 0 | J33: =SUM('SW sites'!N82) -> 0 | K33: =SUM('SW sites'!O82) -> 0 | L33: 0 | M33: =C33+L33 -> 28027.32 | N33: =B33+K33+D33 -> 21500 | O33: =M33+N33 -> 49527.32 | P33: =F33 -> 0 | Q33: =E33+G33 -> 0 | R33: =P33+Q33 -> 0 | S33: =I33 -> 0 | T33: =H33+J33 -> 0 | U33: =S33+T33 -> 0
A34: OR | B34: =SUM('SW sites'!I83:'SW sites'!I87) -> 282200 | C34: =SUM('SW sites'!F83:'SW sites'!F87) -> 105968.72 | D34: =SUM('SW sites'!L83:'SW sites'!L87) -> 44400 | E34: =SUM('SW sites'!J83:'SW sites'!J87) -> 64000 | F34: =SUM('SW sites'!G83:'SW sites'!G87) -> 19851.24 | G34: =SUM('SW sites'!M83:'SW sites'!M87) -> 0 | H34: =SUM('SW sites'!K83:'SW sites'!K87) -> 0 | I34: =SUM('SW sites'!H83:'SW sites'!H87) -> 0 | J34: =SUM('SW sites'!N83:'SW sites'!N87) -> 0 | K34: =SUM('SW sites'!O83:'SW sites'!O87) -> 40984.659 | L34: 8997.57 | M34: =C34+L34 -> 114966.29 | N34: =B34+K34+D34 -> 367584.66 | O34: =M34+N34 -> 482550.95 | P34: =F34 -> 19851.24 | Q34: =E34+G34 -> 64000 | R34: =P34+Q34 -> 83851.24 | S34: =I34 -> 0 | T34: =H34+J34 -> 0 | U34: =S34+T34 -> 0
A35: SC | B35: =SUM('SW sites'!I88:'SW sites'!I89) -> 122500 | C35: =SUM('SW sites'!F88:'SW sites'!F89) -> 32150.04 | D35: =SUM('SW sites'!L88:'SW sites'!L89) -> 17500 | E35: =SUM('SW sites'!J88:'SW sites'!J89) -> 0 | F35: =SUM('SW sites'!G88:'SW sites'!G89) -> 0 | G35: =SUM('SW sites'!M88:'SW sites'!M89) -> 0 | H35: =SUM('SW sites'!K88:'SW sites'!K89) -> 0 | I35: =SUM('SW sites'!H88:'SW sites'!H89) -> 0 | J35: =SUM('SW sites'!N88:'SW sites'!N89) -> 0 | K35: =SUM('SW sites'!O88:'SW sites'!O89) -> 13096.011 | L35: 2999.19 | M35: =C35+L35 -> 35149.23 | N35: =B35+K35+D35 -> 153096.01 | O35: =M35+N35 -> 188245.24 | P35: =F35 -> 0 | Q35: =E35+G35 -> 0 | R35: =P35+Q35 -> 0 | S35: =I35 -> 0 | T35: =H35+J35 -> 0 | U35: =S35+T35 -> 0
A36: TX | B36: =SUM('SW sites'!I90:'SW sites'!I94) -> 245000 | C36: =SUM('SW sites'!F90:'SW sites'!F94) -> 69059.38 | D36: =SUM('SW sites'!L90:'SW sites'!L94) -> 0 | E36: =SUM('SW sites'!J90:'SW sites'!J94) -> 75000 | F36: =SUM('SW sites'!G90:'SW sites'!G94) -> 19851.24 | G36: =SUM('SW sites'!M90:'SW sites'!M94) -> 0 | H36: =SUM('SW sites'!K90:'SW sites'!K94) -> 60000 | I36: =SUM('SW sites'!H90:'SW sites'!H94) -> 22576.6 | J36: =SUM('SW sites'!N90:'SW sites'!N94) -> 0 | K36: =SUM('SW sites'!O90:'SW sites'!O94) -> 39613.251 | L36: 5998.38 | M36: =C36+L36 -> 75057.76 | N36: =B36+K36+D36 -> 284613.25 | O36: =M36+N36 -> 359671.01 | P36: =F36 -> 19851.24 | Q36: =E36+G36 -> 75000 | R36: =P36+Q36 -> 94851.24 | S36: =I36 -> 22576.6 | T36: =H36+J36 -> 60000 | U36: =S36+T36 -> 82576.6
A37: UT | B37: =SUM('SW sites'!I95:'SW sites'!I97) -> 154000 | C37: =SUM('SW sites'!F95:'SW sites'!F97) -> 69059.38 | D37: =SUM('SW sites'!L95:'SW sites'!L97) -> 16000 | E37: =SUM('SW sites'!J95:'SW sites'!J97) -> 0 | F37: =SUM('SW sites'!G95:'SW sites'!G97) -> 0 | G37: =SUM('SW sites'!M95:'SW sites'!M97) -> 0 | H37: =SUM('SW sites'!K95:'SW sites'!K97) -> 0 | I37: =SUM('SW sites'!H95:'SW sites'!H97) -> 0 | J37: =SUM('SW sites'!N95:'SW sites'!N97) -> 0 | K37: =SUM('SW sites'!O95:'SW sites'!O97) -> 18574.688 | L37: 5998.38 | M37: =C37+L37 -> 75057.76 | N37: =B37+K37+D37 -> 188574.69 | O37: =M37+N37 -> 263632.45 | P37: =F37 -> 0 | Q37: =E37+G37 -> 0 | R37: =P37+Q37 -> 0 | S37: =I37 -> 0 | T37: =H37+J37 -> 0 | U37: =S37+T37 -> 0
A38: WA | B38: =SUM('SW sites'!I98:'SW sites'!I100) -> 241000 | C38: =SUM('SW sites'!F98:'SW sites'!F100) -> 69059.38 | D38: =SUM('SW sites'!L98:'SW sites'!L100) -> 15500 | E38: =SUM('SW sites'!J98:'SW sites'!J100) -> 0 | F38: =SUM('SW sites'!G98:'SW sites'!G100) -> 0 | G38: =SUM('SW sites'!M98:'SW sites'!M100) -> 0 | H38: =SUM('SW sites'!K98:'SW sites'!K100) -> 0 | I38: =SUM('SW sites'!H98:'SW sites'!H100) -> 0 | J38: =SUM('SW sites'!N98:'SW sites'!N100) -> 0 | K38: =SUM('SW sites'!O98:'SW sites'!O100) -> 27283.273 | L38: 5998.38 | M38: =C38+L38 -> 75057.76 | N38: =B38+K38+D38 -> 283783.27 | O38: =M38+N38 -> 358841.03 | P38: =F38 -> 0 | Q38: =E38+G38 -> 0 | R38: =P38+Q38 -> 0 | S38: =I38 -> 0 | T38: =H38+J38 -> 0 | U38: =S38+T38 -> 0
A39: WI | B39: =SUM('SW sites'!I101) -> 25500 | C39: =SUM('SW sites'!F101) -> 4122.72 | D39: =SUM('SW sites'!L101) -> 0 | E39: =SUM('SW sites'!J101) -> 0 | F39: =SUM('SW sites'!G101) -> 0 | G39: =SUM('SW sites'!M101) -> 0 | H39: =SUM('SW sites'!K101) -> 0 | I39: =SUM('SW sites'!H101) -> 0 | J39: =SUM('SW sites'!N101) -> 0 | K39: =SUM('SW sites'!O101) -> 21652.128 | L39: 2999.19 | M39: =C39+L39 -> 7121.91 | N39: =B39+K39+D39 -> 47152.128 | O39: =M39+N39 -> 54274.038 | P39: =F39 -> 0 | Q39: =E39+G39 -> 0 | R39: =P39+Q39 -> 0 | S39: =I39 -> 0 | T39: =H39+J39 -> 0 | U39: =S39+T39 -> 0
A40: WY | B40: =SUM('SW sites'!I102:'SW sites'!I103) -> 122000 | C40: =SUM('SW sites'!F102:'SW sites'!F103) -> 26699.32 | D40: =SUM('SW sites'!L102:'SW sites'!L103) -> 0 | E40: =SUM('SW sites'!J102:'SW sites'!J103) -> 0 | F40: =SUM('SW sites'!G102:'SW sites'!G103) -> 0 | G40: =SUM('SW sites'!M102:'SW sites'!M103) -> 0 | H40: =SUM('SW sites'!K102:'SW sites'!K103) -> 0 | I40: =SUM('SW sites'!H102:'SW sites'!H103) -> 0 | J40: =SUM('SW sites'!N102:'SW sites'!N103) -> 0 | K40: =SUM('SW sites'!O102:'SW sites'!O103) -> 24301.903 | L40: 2999.19 | M40: =C40+L40 -> 29698.51 | N40: =B40+K40+D40 -> 146301.9 | O40: =M40+N40 -> 176000.41 | P40: =F40 -> 0 | Q40: =E40+G40 -> 0 | R40: =P40+Q40 -> 0 | S40: =I40 -> 0 | T40: =H40+J40 -> 0 | U40: =S40+T40 -> 0
B42: =SUM(B4:B40) -> 4456200 | C42: =SUM(C4:C40) -> 1613615.3 | D42: =SUM(D4:D40) -> 278700 | E42: =SUM(E4:E40) -> 1521000 | F42: =SUM(F4:F40) -> 569496.2 | G42: =SUM(G4:G40) -> 57000 | H42: =SUM(H4:H40) -> 234500 | I42: =SUM(I4:I40) -> 90306.4 | ... U42: =SUM(U4:U40) -> 328006.4

Sheet Targets sorted by SC
A1: Science Center | B1: SW Monitoring and Status Assessment Team | C1: SW Monitoring Data Collection Sum | D1: NASQAN Data Collection | E1: NASQAN Sample Analyses | F1: NASQAN Stream Gaging | G1: NMN Data Collection | H1: NMN Sample Analyses | I1: NMN Stream Gaging | J1: NAWQA SW Status QW Data Collection | K1: NAWQA SW Status QW Sample Analyses | L1: NAWQA SW Status Stream Gaging | M1: NAWQA ECO Data Collection | N1: NAWQA ECO Sample Analyses
A2: AK | C2: =D2+G2+J2+M2 -> 76500 | D2: =SUM('FY14 sampling by SC'!E4) -> 76500 | E2: =SUM('FY14 sampling by SC'!F4) -> 7806.56 | F2: =SUM('FY14 sampling by SC'!G4) -> 0 | G2: =SUM('FY14 sampling by SC'!H4) -> 0 | H2: =SUM('FY14 sampling by SC'!I4) -> 0 | I2: =SUM('FY14 sampling by SC'!J4) -> 0 | J2: =SUM('FY14 sampling by SC'!B4) -> 0 | K2: =SUM('FY14 sampling by SC'!C4) -> 0 | L2: =SUM('FY14 sampling by SC'!D4) -> 0 | M2: =SUM('FY14 sampling by SC'!K4) -> 0 | N2: =SUM('FY14 sampling by SC'!L4) -> 0
A3: AL | C3: =D3+G3+J3+M3 -> 164500 | D3: =SUM('FY14 sampling by SC'!E5) -> 78000 | E3: =SUM('FY14 sampling by SC'!F5) -> 22576.6 | F3: =SUM('FY14 sampling by SC'!G5) -> 0 | G3: =SUM('FY14 sampling by SC'!H5) -> 0 | H3: =SUM('FY14 sampling by SC'!I5) -> 0 | I3: =SUM('FY14 sampling by SC'!J5) -> 0 | J3: =SUM('FY14 sampling by SC'!B5) -> 86500 | K3: =SUM('FY14 sampling by SC'!C5) -> 28027.32 | L3: =SUM('FY14 sampling by SC'!D5) -> 0 | M3: =SUM('FY14 sampling by SC'!K5) -> 0 | N3: =SUM('FY14 sampling by SC'!L5) -> 0
A4: AR | C4: =D4+G4+J4+M4 -> 133119.18 | D4: =SUM('FY14 sampling by SC'!E6) -> 56000 | E4: =SUM('FY14 sampling by SC'!F6) -> 22576.6 | F4: =SUM('FY14 sampling by SC'!G6) -> 5500 | G4: =SUM('FY14 sampling by SC'!H6) -> 0 | H4: =SUM('FY14 sampling by SC'!I6) -> 0 | I4: =SUM('FY14 sampling by SC'!J6) -> 0 | J4: =SUM('FY14 sampling by SC'!B6) -> 39000 | K4: =SUM('FY14 sampling by SC'!C6) -> 8245.44 | L4: =SUM('FY14 sampling by SC'!D6) -> 0 | M4: =SUM('FY14 sampling by SC'!K6) -> 38119.175 | N4: =SUM('FY14 sampling by SC'!L6) -> 5998.38
A5: AZ | C5: =D5+G5+J5+M5 -> 203093.89 | D5: =SUM('FY14 sampling by SC'!E7) -> 50000 | E5: =SUM('FY14 sampling by SC'!F7) -> 19851.24 | F5: =SUM('FY14 sampling by SC'!G7) -> 0 | G5: =SUM('FY14 sampling by SC'!H7) -> 0 | H5: =SUM('FY14 sampling by SC'!I7) -> 0 | I5: =SUM('FY14 sampling by SC'!J7) -> 0 | J5: =SUM('FY14 sampling by SC'!B7) -> 120000 | K5: =SUM('FY14 sampling by SC'!C7) -> 30822.04 | L5: =SUM('FY14 sampling by SC'!D7) -> 0 | M5: =SUM('FY14 sampling by SC'!K7) -> 33093.89 | N5: =SUM('FY14 sampling by SC'!L7) -> 5998.38
A6: CA | C6: =D6+G6+J6+M6 -> 401537.9 | D6: =SUM('FY14 sampling by SC'!E8) -> 0 | E6: =SUM('FY14 sampling by SC'!F8) -> 0 | F6: =SUM('FY14 sampling by SC'!G8) -> 0 | G6: =SUM('FY14 sampling by SC'!H8) -> 0 | H6: =SUM('FY14 sampling by SC'!I8) -> 0 | I6: =SUM('FY14 sampling by SC'!J8) -> 0 | J6: =SUM('FY14 sampling by SC'!B8) -> 350500 | K6: =SUM('FY14 sampling by SC'!C8) -> 112767.6 | L6: =SUM('FY14 sampling by SC'!D8) -> 22500 | M6: =SUM('FY14 sampling by SC'!K8) -> 51037.899 | N6: =SUM('FY14 sampling by SC'!L8) -> 8997.57
A7: CO | C7: =D7+G7+J7+M7 -> 262210.84 | D7: =SUM('FY14 sampling by SC'!E9) -> 0 | E7: =SUM('FY14 sampling by SC'!F9) -> 0 | F7: =SUM('FY14 sampling by SC'!G9) -> 0 | G7: =SUM('FY14 sampling by SC'!H9) -> 0 | H7: =SUM('FY14 sampling by SC'!I9) -> 0 | I7: =SUM('FY14 sampling by SC'!J9) -> 0 | J7: =SUM('FY14 sampling by SC'!B9) -> 249000 | K7: =SUM('FY14 sampling by SC'!C9) -> 92963.98 | L7: =SUM('FY14 sampling by SC'!D9) -> 0 | M7: =SUM('FY14 sampling by SC'!K9) -> 13210.839 | N7: =SUM('FY14 sampling by SC'!L9) -> 2999.19
A8: CT | C8: =D8+G8+J8+M8 -> 231028.06 | D8: =SUM('FY14 sampling by SC'!E10) -> 0 | E8: =SUM('FY14 sampling by SC'!F10) -> 0 | F8: =SUM('FY14 sampling by SC'!G10) -> 0 | G8: =SUM('FY14 sampling by SC'!H10) -> 0 | H8: =SUM('FY14 sampling by SC'!I10) -> 0 | I8: =SUM('FY14 sampling by SC'!J10) -> 0 | J8: =SUM('FY14 sampling by SC'!B10) -> 200000 | K8: =SUM('FY14 sampling by SC'!C10) -> 69059.38 | L8: =SUM('FY14 sampling by SC'!D10) -> 0 | M8: =SUM('FY14 sampling by SC'!K10) -> 31028.061 | N8: =SUM('FY14 sampling by SC'!L10) -> 5998.38
A9: FL | C9: =D9+G9+J9+M9 -> 54000 | D9: =SUM('FY14 sampling by SC'!E11) -> 0 | E9: =SUM('FY14 sampling by SC'!F11) -> 0 | F9: =SUM('FY14 sampling by SC'!G11) -> 0 | G9: =SUM('FY14 sampling by SC'!H11) -> 54000 | H9: =SUM('FY14 sampling by SC'!I11) -> 22576.6 | I9: =SUM('FY14 sampling by SC'!J11) -> 0 | J9: =SUM('FY14 sampling by SC'!B11) -> 0 | K9: =SUM('FY14 sampling by SC'!C11) -> 0 | L9: =SUM('FY14 sampling by SC'!D11) -> 0 | M9: =SUM('FY14 sampling by SC'!K11) -> 0 | N9: =SUM('FY14 sampling by SC'!L11) -> 0
A10: GA | C10: =D10+G10+J10+M10 -> 215271.91 | D10: =SUM('FY14 sampling by SC'!E12) -> 68000 | E10: =SUM('FY14 sampling by SC'!F12) -> 22576.6 | F10: =SUM('FY14 sampling by SC'!G12) -> 24500 | G10: =SUM('FY14 sampling by SC'!H12) -> 0 | H10: =SUM('FY14 sampling by SC'!I12) -> 0 | I10: =SUM('FY14 sampling by SC'!J12) -> 0 | J10: =SUM('FY14 sampling by SC'!B12) -> 121500 | K10: =SUM('FY14 sampling by SC'!C12) -> 41032.06 | L10: =SUM('FY14 sampling by SC'!D12) -> 15500 | M10: =SUM('FY14 sampling by SC'!K12) -> 25771.91 | N10: =SUM('FY14 sampling by SC'!L12) -> 5998.38
A11: HI | C11: =D11+G11+J11+M11 -> 0 | D11: 0 | E11: 0 | F11: 0 | G11: 0 | H11: 0 | I11: 0 | J11: 0 | K11: 0 | L11: 0 | M11: 0 | N11: 0
A12: IA | C12: =D12+G12+J12+M12 -> 322592.69 | D12: =SUM('FY14 sampling by SC'!E13) -> 216000 | E12: =SUM('FY14 sampling by SC'!F13) -> 90306.4 | F12: =SUM('FY14 sampling by SC'!G13) -> 0 | G12: =SUM('FY14 sampling by SC'!H13) -> 0 | H12: =SUM('FY14 sampling by SC'!I13) -> 0 | I12: =SUM('FY14 sampling by SC'!J13) -> 0 | J12: =SUM('FY14 sampling by SC'!B13) -> 90000 | K12: =SUM('FY14 sampling by SC'!C13) -> 36909.34 | L12: =SUM('FY14 sampling by SC'!D13) -> 15000 | M12: =SUM('FY14 sampling by SC'!K13) -> 16592.686 | N12: =SUM('FY14 sampling by SC'!L13) -> 2999.19
A13: ID | C13: =D13+G13+J13+M13 -> 168783.81 | D13: =SUM('FY14 sampling by SC'!E14) -> 0 | E13: =SUM('FY14 sampling by SC'!F14) -> 0 | F13: =SUM('FY14 sampling by SC'!G14) -> 0 | G13: =SUM('FY14 sampling by SC'!H14) -> 0 | H13: =SUM('FY14 sampling by SC'!I14) -> 0 | I13: =SUM('FY14 sampling by SC'!J14) -> 0 | J13: =SUM('FY14 sampling by SC'!B14) -> 150000 | K13: =SUM('FY14 sampling by SC'!C14) -> 59485.94 | L13: =SUM('FY14 sampling by SC'!D14) -> 34000 | M13: =SUM('FY14 sampling by SC'!K14) -> 18783.814 | N13: =SUM('FY14 sampling by SC'!L14) -> 2999.19
A14: IL | C14: =D14+G14+J14+M14 -> 83000 | D14: =SUM('FY14 sampling by SC'!E15) -> 0 | E14: =SUM('FY14 sampling by SC'!F15) -> 0 | F14: =SUM('FY14 sampling by SC'!G15) -> 0 | G14: =SUM('FY14 sampling by SC'!H15) -> 0 | H14: =SUM('FY14 sampling by SC'!I15) -> 0 | I14: =SUM('FY14 sampling by SC'!J15) -> 0 | J14: =SUM('FY14 sampling by SC'!B15) -> 83000 | K14: =SUM('FY14 sampling by SC'!C15) -> 22576.6 | L14: =SUM('FY14 sampling by SC'!D15) -> 0 | M14: =SUM('FY14 sampling by SC'!K15) -> 0 | N14: =SUM('FY14 sampling by SC'!L15) -> 0
A15: IN | C15: =D15+G15+J15+M15 -> 215480.29 | D15: =SUM('FY14 sampling by SC'!E16) -> 0 | E15: =SUM('FY14 sampling by SC'!F16) -> 0 | F15: =SUM('FY14 sampling by SC'!G16) -> 0 | G15: =SUM('FY14 sampling by SC'!H16) -> 0 | H15: =SUM('FY14 sampling by SC'!I16) -> 0 | I15: =SUM('FY14 sampling by SC'!J16) -> 0 | J15: =SUM('FY14 sampling by SC'!B16) -> 203000 | K15: =SUM('FY14 sampling by SC'!C16) -> 64936.66 | L15: =SUM('FY14 sampling by SC'!D16) -> 10500 | M15: =SUM('FY14 sampling by SC'!K16) -> 12480.289 | N15: =SUM('FY14 sampling by SC'!L16) -> 2999.19
A16: KS | C16: =D16+G16+J16+M16 -> 64000 | D16: =SUM('FY14 sampling by SC'!E17) -> 0 | E16: =SUM('FY14 sampling by SC'!F17) -> 0 | F16: =SUM('FY14 sampling by SC'!G17) -> 0 | G16: =SUM('FY14 sampling by SC'!H17) -> 0 | H16: =SUM('FY14 sampling by SC'!I17) -> 0 | I16: =SUM('FY14 sampling by SC'!J17) -> 0 | J16: =SUM('FY14 sampling by SC'!B17) -> 64000 | K16: =SUM('FY14 sampling by SC'!C17) -> 50603.92 | L16: =SUM('FY14 sampling by SC'!D17) -> 0 | M16: =SUM('FY14 sampling by SC'!K17) -> 0 | N16: =SUM('FY14 sampling by SC'!L17) -> 0
A17: KY | C17: =D17+G17+J17+M17 -> 209500 | D17: =SUM('FY14 sampling by SC'!E18) -> 209500 | E17: =SUM('FY14 sampling by SC'!F18) -> 90306.4 | F17: =SUM('FY14 sampling by SC'!G18) -> 27000 | G17: =SUM('FY14 sampling by SC'!H18) -> 0 | H17: =SUM('FY14 sampling by SC'!I18) -> 0 | I17: =SUM('FY14 sampling by SC'!J18) -> 0 | J17: =SUM('FY14 sampling by SC'!B18) -> 0 | K17: =SUM('FY14 sampling by SC'!C18) -> 0 | L17: =SUM('FY14 sampling by SC'!D18) -> 0 | M17: =SUM('FY14 sampling by SC'!K18) -> 0 | N17: =SUM('FY14 sampling by SC'!L18) -> 0
A18: LA | C18: =D18+G18+J18+M18 -> 439707.82 | D18: =SUM('FY14 sampling by SC'!E19) -> 404000 | E18: =SUM('FY14 sampling by SC'!F19) -> 140910.32 | F18: =SUM('FY14 sampling by SC'!G19) -> 0 | G18: =SUM('FY14 sampling by SC'!H19) -> 0 | H18: =SUM('FY14 sampling by SC'!I19) -> 0 | I18: =SUM('FY14 sampling by SC'!J19) -> 0 | J18: =SUM('FY14 sampling by SC'!B19) -> 18000 | K18: =SUM('FY14 sampling by SC'!C19) -> 4122.72 | L18: =SUM('FY14 sampling by SC'!D19) -> 0 | M18: =SUM('FY14 sampling by SC'!K19) -> 17707.824 | N18: =SUM('FY14 sampling by SC'!L19) -> 2999.19
A19: MA | C19: 0 | D19: 0 | E19: 0 | F19: 0 | G19: 0 | H19: 0 | I19: 0 | J19: 0 | K19: 0 | L19: 0 | M19: 0 | N19: =SUM('FY14 sampling by SC'!L21) -> 0
A20: MD | C20: =D20+G20+J20+M20 -> 241570.02 | D20: =SUM('FY14 sampling by SC'!E20) -> 12000 | E20: =SUM('FY14 sampling by SC'!F20) -> 22576.6 | F20: =SUM('FY14 sampling by SC'!G20) -> 0 | G20: =SUM('FY14 sampling by SC'!H20) -> 0 | H20: =SUM('FY14 sampling by SC'!I20) -> 0 | I20: =SUM('FY14 sampling by SC'!J20) -> 0 | J20: =SUM('FY14 sampling by SC'!B20) -> 193500 | K20: =SUM('FY14 sampling by SC'!C20) -> 69059.38 | L20: =SUM('FY14 sampling by SC'!D20) -> 15300 | M20: =SUM('FY14 sampling by SC'!K20) -> 36070.018 | N20: =SUM('FY14 sampling by SC'!L20) -> 5998.38
A21: ME | C21: =D21+G21+J21+M21 -> 0 | D21: 0 | E21: 0 | F21: 0 | G21: 0 | H21: 0 | I21: 0 | J21: 0 | K21: =SUM('FY14 sampling by SC'!C23) -> 0 | L21: =SUM('FY14 sampling by SC'!D23) -> 0 | M21: =SUM('FY14 sampling by SC'!K23) -> 0 | N21: =SUM('FY14 sampling by SC'!L23) -> 0
A22: MI | C22: =D22+G22+J22+M22 -> 83500 | D22: =SUM('FY14 sampling by SC'!E21) -> 0 | E22: =SUM('FY14 sampling by SC'!F21) -> 0 | F22: =SUM('FY14 sampling by SC'!G21) -> 0 | G22: =SUM('FY14 sampling by SC'!H21) -> 0 | H22: =SUM('FY14 sampling by SC'!I21) -> 0 | I22: =SUM('FY14 sampling by SC'!J21) -> 0 | J22: =SUM('FY14 sampling by SC'!B21) -> 83500 | K22: =SUM('FY14 sampling by SC'!C21) -> 36909.34 | L22: =SUM('FY14 sampling by SC'!D21) -> 16000 | M22: =SUM('FY14 sampling by SC'!K21) -> 0 | N22: =SUM('FY14 sampling by SC'!L21) -> 0
A23: MN | C23: =D23+G23+J23+M23 -> 131326.18 | D23: =SUM('FY14 sampling by SC'!E22) -> 0 | E23: =SUM('FY14 sampling by SC'!F22) -> 0 | F23: =SUM('FY14 sampling by SC'!G22) -> 0 | G23: =SUM('FY14 sampling by SC'!H22) -> 0 | H23: =SUM('FY14 sampling by SC'!I22) -> 0 | I23: =SUM('FY14 sampling by SC'!J22) -> 0 | J23: =SUM('FY14 sampling by SC'!B22) -> 119000 | K23: =SUM('FY14 sampling by SC'!C22) -> 58712.22 | L23: =SUM('FY14 sampling by SC'!D22) -> 14200 | M23: =SUM('FY14 sampling by SC'!K22) -> 12326.178 | N23: =SUM('FY14 sampling by SC'!L22) -> 2999.19
A24: MO | C24: =D24+G24+J24+M24 -> 157500 | D24: =SUM('FY14 sampling by SC'!E23) -> 157500 | E24: =SUM('FY14 sampling by SC'!F23) -> 67729.8 | F24: =SUM('FY14 sampling by SC'!G23) -> 0 | G24: =SUM('FY14 sampling by SC'!H23) -> 0 | H24: =SUM('FY14 sampling by SC'!I23) -> 0 | I24: =SUM('FY14 sampling by SC'!J23) -> 0 | J24: =SUM('FY14 sampling by SC'!B23) -> 0 | K24: =SUM('FY14 sampling by SC'!C23) -> 0 | L24: =SUM('FY14 sampling by SC'!D23) -> 0 | M24: =SUM('FY14 sampling by SC'!K23) -> 0 | N24: =SUM('FY14 sampling by SC'!L23) -> 0
A25: MS | C25: =D25+G25+J25+M25 -> 235475.3 | D25: =SUM('FY14 sampling by SC'!E24) -> 0 | E25: =SUM('FY14 sampling by SC'!F24) -> 0 | F25: =SUM('FY14 sampling by SC'!G24) -> 0 | G25: =SUM('FY14 sampling by SC'!H24) -> 54000 | H25: =SUM('FY14 sampling by SC'!I24) -> 22576.6 | I25: =SUM('FY14 sampling by SC'!J24) -> 3200 | J25: =SUM('FY14 sampling by SC'!B24) -> 164500 | K25: =SUM('FY14 sampling by SC'!C24) -> 64936.66 | L25: =SUM('FY14 sampling by SC'!D24) -> 0 | M25: =SUM('FY14 sampling by SC'!K24) -> 16975.3 | N25: =SUM('FY14 sampling by SC'!L24) -> 2999.19
A26: MT | C26: =D26+G26+J26+M26 -> 0 | D26: 0 | E26: 0 | F26: 0 | G26: 0 | H26: 0 | I26: 0 | J26: 0 | K26: 0 | L26: 0 | M26: 0 | N26: 0
A27: NC | C27: =D27+G27+J27+M27 -> 256150.52 | D27: =SUM('FY14 sampling by SC'!E25) -> 0 | E27: =SUM('FY14 sampling by SC'!F25) -> 0 | F27: =SUM('FY14 sampling by SC'!G25) -> 0 | G27: =SUM('FY14 sampling by SC'!H25) -> 0 | H27: =SUM('FY14 sampling by SC'!I25) -> 0 | I27: =SUM('FY14 sampling by SC'!J25) -> 0 | J27: =SUM('FY14 sampling by SC'!B25) -> 231000 | K27: =SUM('FY14 sampling by SC'!C25) -> 101846 | L27: =SUM('FY14 sampling by SC'!D25) -> 14700 | M27: =SUM('FY14 sampling by SC'!K25) -> 25150.519 | N27: =SUM('FY14 sampling by SC'!L25) -> 5998.38
A28: ND | C28: =D28+G28+J28+M28 -> 21000 | D28: =SUM('FY14 sampling by SC'!E26) -> 0 | E28: =SUM('FY14 sampling by SC'!F26) -> 0 | F28: =SUM('FY14 sampling by SC'!G26) -> 0 | G28: =SUM('FY14 sampling by SC'!H26) -> 0 | H28: =SUM('FY14 sampling by SC'!I26) -> 0 | I28: =SUM('FY14 sampling by SC'!J26) -> 0 | J28: =SUM('FY14 sampling by SC'!B26) -> 21000 | K28: =SUM('FY14 sampling by SC'!C26) -> 22576.6 | L28: =SUM('FY14 sampling by SC'!D26) -> 0 | M28: =SUM('FY14 sampling by SC'!K26) -> 0 | N28: =SUM('FY14 sampling by SC'!L26) -> 0
A29: NE | C29: =D29+G29+J29+M29 -> 269228.74 | D29: =SUM('FY14 sampling by SC'!E27) -> 0 | E29: =SUM('FY14 sampling by SC'!F27) -> 0 | F29: =SUM('FY14 sampling by SC'!G27) -> 0 | G29: =SUM('FY14 sampling by SC'!H27) -> 0 | H29: =SUM('FY14 sampling by SC'!I27) -> 0 | I29: =SUM('FY14 sampling by SC'!J27) -> 0 | J29: =SUM('FY14 sampling by SC'!B27) -> 229000 | K29: =SUM('FY14 sampling by SC'!C27) -> 91635.98 | L29: =SUM('FY14 sampling by SC'!D27) -> 12100 | M29: =SUM('FY14 sampling by SC'!K27) -> 40228.743 | N29: =SUM('FY14 sampling by SC'!L27) -> 5998.38
A30: NH | C30: =D30+G30+J30+M30 -> 0 | D30: 0 | E30: 0 | F30: 0 | G30: 0 | H30: 0 | I30: 0 | J30: 0 | K30: 0 | L30: 0 | M30: 0 | N30: 0
A31: NJ | C31: =D31+G31+J31+M31 -> 63000 | D31: =SUM('FY14 sampling by SC'!E28) -> 0 | E31: =SUM('FY14 sampling by SC'!F28) -> 0 | F31: =SUM('FY14 sampling by SC'!G28) -> 0 | G31: =SUM('FY14 sampling by SC'!H28) -> 0 | H31: =SUM('FY14 sampling by SC'!I28) -> 0 | I31: =SUM('FY14 sampling by SC'!J28) -> 0 | J31: =SUM('FY14 sampling by SC'!B28) -> 63000 | K31: =SUM('FY14 sampling by SC'!C28) -> 22576.6 | L31: =SUM('FY14 sampling by SC'!D28) -> 0 | M31: =SUM('FY14 sampling by SC'!K28) -> 0 | N31: =SUM('FY14 sampling by SC'!L28) -> 0
A32: NM | C32: =D32+G32+J32+M32 -> 126638.33 | D32: =SUM('FY14 sampling by SC'!E29) -> 0 | E32: =SUM('FY14 sampling by SC'!F29) -> 0 | F32: =SUM('FY14 sampling by SC'!G29) -> 0 | G32: =SUM('FY14 sampling by SC'!H29) -> 0 | H32: =SUM('FY14 sampling by SC'!I29) -> 0 | I32: =SUM('FY14 sampling by SC'!J29) -> 0 | J32: =SUM('FY14 sampling by SC'!B29) -> 104500 | K32: =SUM('FY14 sampling by SC'!C29) -> 26699.32 | L32: =SUM('FY14 sampling by SC'!D29) -> 0 | M32: =SUM('FY14 sampling by SC'!K29) -> 22138.332 | N32: =SUM('FY14 sampling by SC'!L29) -> 2999.19
A33: NV | C33: =D33+G33+J33+M33 -> 63500 | D33: =SUM('FY14 sampling by SC'!E30) -> 0 | E33: =SUM('FY14 sampling by SC'!F30) -> 0 | F33: =SUM('FY14 sampling by SC'!G30) -> 0 | G33: =SUM('FY14 sampling by SC'!H30) -> 0 | H33: =SUM('FY14 sampling by SC'!I30) -> 0 | I33: =SUM('FY14 sampling by SC'!J30) -> 0 | J33: =SUM('FY14 sampling by SC'!B30) -> 63500 | K33: =SUM('FY14 sampling by SC'!C30) -> 28027.32 | L33: =SUM('FY14 sampling by SC'!D30) -> 0 | M33: =SUM('FY14 sampling by SC'!K30) -> 0 | N33: =SUM('FY14 sampling by SC'!L30) -> 0
A34: NY | C34: =D34+G34+J34+M34 -> 247548.69 | D34: =SUM('FY14 sampling by SC'!E31) -> 54500 | E34: =SUM('FY14 sampling by SC'!F31) -> 22576.6 | F34: =SUM('FY14 sampling by SC'!G31) -> 0 | G34: =SUM('FY14 sampling by SC'!H31) -> 66500 | H34: =SUM('FY14 sampling by SC'!I31) -> 22576.6 | I34: =SUM('FY14 sampling by SC'!J31) -> 0 | J34: =SUM('FY14 sampling by SC'!B31) -> 112000 | K34: =SUM('FY14 sampling by SC'!C31) -> 36909.34 | L34: =SUM('FY14 sampling by SC'!D31) -> 15500 | M34: =SUM('FY14 sampling by SC'!K31) -> 14548.692 | N34: =SUM('FY14 sampling by SC'!L31) -> 2999.19
A35: OH | C35: =D35+G35+J35+M35 -> 105133.53 | D35: =SUM('FY14 sampling by SC'!E32) -> 0 | E35: =SUM('FY14 sampling by SC'!F32) -> 0 | F35: =SUM('FY14 sampling by SC'!G32) -> 0 | G35: =SUM('FY14 sampling by SC'!H32) -> 0 | H35: =SUM('FY14 sampling by SC'!I32) -> 0 | I35: =SUM('FY14 sampling by SC'!J32) -> 0 | J35: =SUM('FY14 sampling by SC'!B32) -> 83500 | K35: =SUM('FY14 sampling by SC'!C32) -> 28027.32 | L35: =SUM('FY14 sampling by SC'!D32) -> 0 | M35: =SUM('FY14 sampling by SC'!K32) -> 21633.529 | N35: =SUM('FY14 sampling by SC'!L32) -> 2999.19
A36: OK | C36: =D36+G36+J36+M36 -> 21500 | D36: =SUM('FY14 sampling by SC'!E33) -> 0 | E36: =SUM('FY14 sampling by SC'!F33) -> 0 | F36: =SUM('FY14 sampling by SC'!G33) -> 0 | G36: =SUM('FY14 sampling by SC'!H33) -> 0 | H36: =SUM('FY14 sampling by SC'!I33) -> 0 | I36: =SUM('FY14 sampling by SC'!J33) -> 0 | J36: =SUM('FY14 sampling by SC'!B33) -> 21500 | K36: =SUM('FY14 sampling by SC'!C33) -> 28027.32 | L36: =SUM('FY14 sampling by SC'!D33) -> 0 | M36: =SUM('FY14 sampling by SC'!K33) -> 0 | N36: =SUM('FY14 sampling by SC'!L33) -> 0
A37: OR | C37: =D37+G37+J37+M37 -> 387184.66 | D37: =SUM('FY14 sampling by SC'!E34) -> 64000 | E37: =SUM('FY14 sampling by SC'!F34) -> 19851.24 | F37: =SUM('FY14 sampling by SC'!G34) -> 0 | G37: =SUM('FY14 sampling by SC'!H34) -> 0 | H37: =SUM('FY14 sampling by SC'!I34) -> 0 | I37: =SUM('FY14 sampling by SC'!J34) -> 0 | J37: =SUM('FY14 sampling by SC'!B34) -> 282200 | K37: =SUM('FY14 sampling by SC'!C34) -> 105968.72 | L37: =SUM('FY14 sampling by SC'!D34) -> 44400 | M37: =SUM('FY14 sampling by SC'!K34) -> 40984.659 | N37: =SUM('FY14 sampling by SC'!L34) -> 8997.57
A38: PA | C38: =D38+G38+J38+M38 -> 0 | D38: 0 | E38: 0 | F38: 0 | G38: 0 | H38: 0 | I38: 0 | J38: 0 | K38: 0 | L38: 0 | M38: 0 | N38: 0
A39: SC | C39: =D39+G39+J39+M39 -> 135596.01 | D39: =SUM('FY14 sampling by SC'!E35) -> 0 | E39: =SUM('FY14 sampling by SC'!F35) -> 0 | F39: =SUM('FY14 sampling by SC'!G35) -> 0 | G39: =SUM('FY14 sampling by SC'!H35) -> 0 | H39: =SUM('FY14 sampling by SC'!I35) -> 0 | I39: =SUM('FY14 sampling by SC'!J35) -> 0 | J39: =SUM('FY14 sampling by SC'!B35) -> 122500 | K39: =SUM('FY14 sampling by SC'!C35) -> 32150.04 | L39: =SUM('FY14 sampling by SC'!D35) -> 17500 | M39: =SUM('FY14 sampling by SC'!K35) -> 13096.011 | N39: =SUM('FY14 sampling by SC'!L35) -> 2999.19
A40: SD | C40: =D40+G40+J40+M40 -> 0 | D40: 0 | E40: 0 | F40: 0 | G40: 0 | H40: 0 | I40: 0 | J40: 0 | K40: 0 | L40: 0 | M40: 0 | N40: 0
A41: TN | C41: =D41+G41+J41+M41 -> 0 | D41: 0 | E41: 0 | F41: 0 | G41: 0 | H41: 0 | I41: 0 | J41: 0 | K41: 0 | L41: 0 | M41: 0 | N41: 0
A42: TX | C42: =D42+G42+J42+M42 -> 419613.25 | D42: =SUM('FY14 sampling by SC'!E36) -> 75000 | E42: =SUM('FY14 sampling by SC'!F36) -> 19851.24 | F42: =SUM('FY14 sampling by SC'!G36) -> 0 | G42: =SUM('FY14 sampling by SC'!H36) -> 60000 | H42: =SUM('FY14 sampling by SC'!I36) -> 22576.6 | I42: =SUM('FY14 sampling by SC'!J36) -> 0 | J42: =SUM('FY14 sampling by SC'!B36) -> 245000 | K42: =SUM('FY14 sampling by SC'!C36) -> 69059.38 | L42: =SUM('FY14 sampling by SC'!D36) -> 0 | M42: =SUM('FY14 sampling by SC'!K36) -> 39613.251 | N42: =SUM('FY14 sampling by SC'!L36) -> 5998.38
A43: UT | C43: =D43+G43+J43+M43 -> 172574.69 | D43: =SUM('FY14 sampling by SC'!E37) -> 0 | E43: =SUM('FY14 sampling by SC'!F37) -> 0 | F43: =SUM('FY14 sampling by SC'!G37) -> 0 | G43: =SUM('FY14 sampling by SC'!H37) -> 0 | H43: =SUM('FY14 sampling by SC'!I37) -> 0 | I43: =SUM('FY14 sampling by SC'!J37) -> 0 | J43: =SUM('FY14 sampling by SC'!B37) -> 154000 | K43: =SUM('FY14 sampling by SC'!C37) -> 69059.38 | L43: =SUM('FY14 sampling by SC'!D37) -> 16000 | M43: =SUM('FY14 sampling by SC'!K37) -> 18574.688 | N43: =SUM('FY14 sampling by SC'!L37) -> 5998.38
A44: VA | C44: 0 | D44: 0 | E44: 0 | F44: 0 | G44: 0 | H44: 0 | I44: 0 | J44: 0 | K44: 0 | L44: 0 | M44: 0 | N44: 0
A45: WA | C45: =D45+G45+J45+M45 -> 268283.27 | D45: =SUM('FY14 sampling by SC'!E39) -> 0 | E45: =SUM('FY14 sampling by SC'!F39) -> 0 | F45: =SUM('FY14 sampling by SC'!G39) -> 0 | G45: =SUM('FY14 sampling by SC'!H39) -> 0 | H45: =SUM('FY14 sampling by SC'!I39) -> 0 | I45: =SUM('FY14 sampling by SC'!J39) -> 0 | J45: =SUM('FY14 sampling by SC'!B38) -> 241000 | K45: =SUM('FY14 sampling by SC'!C38) -> 69059.38 | L45: =SUM('FY14 sampling by SC'!D38) -> 15500 | M45: =SUM('FY14 sampling by SC'!K38) -> 27283.273 | N45: =SUM('FY14 sampling by SC'!L38) -> 5998.38
A46: WI | C46: =D46+G46+J46+M46 -> 47152.128 | D46: =SUM('FY14 sampling by SC'!E40) -> 0 | E46: =SUM('FY14 sampling by SC'!F40) -> 0 | F46: =SUM('FY14 sampling by SC'!G40) -> 0 | G46: =SUM('FY14 sampling by SC'!H40) -> 0 | H46: =SUM('FY14 sampling by SC'!I40) -> 0 | I46: =SUM('FY14 sampling by SC'!J40) -> 0 | J46: =SUM('FY14 sampling by SC'!B39) -> 25500 | K46: =SUM('FY14 sampling by SC'!C39) -> 4122.72 | L46: =SUM('FY14 sampling by SC'!D39) -> 0 | M46: =SUM('FY14 sampling by SC'!K39) -> 21652.128 | N46: =SUM('FY14 sampling by SC'!L39) -> 2999.19
A47: WV | C47: 0 | D47: 0 | E47: 0 | F47: 0 | G47: 0 | H47: 0 | I47: 0 | J47: 0 | K47: 0 | L47: 0 | M47: 0 | N47: 0
A48: WY | C48: =D48+G48+J48+M48 -> 146301.9 | D48: =SUM('FY14 sampling by SC'!E40) -> 0 | E48: =SUM('FY14 sampling by SC'!F40) -> 0 | F48: =SUM('FY14 sampling by SC'!G40) -> 0 | G48: =SUM('FY14 sampling by SC'!H40) -> 0 | H48: =SUM('FY14 sampling by SC'!I40) -> 0 | I48: =SUM('FY14 sampling by SC'!J40) -> 0 | J48: =SUM('FY14 sampling by SC'!B40) -> 122000 | K48: =SUM('FY14 sampling by SC'!C40) -> 26699.32 | L48: =SUM('FY14 sampling by SC'!D40) -> 0 | M48: =SUM('FY14 sampling by SC'!K40) -> 24301.903 | N48: =SUM('FY14 sampling by SC'!L40) -> 2999.19
A56: HQ Account
A57: Column Totals | B57: =SUM(B2:B56) -> 0 | C57: =SUM(C2:C56) -> 6844103.6 | D57: =SUM(D2:D56) -> 1521000 | E57: =SUM(E2:E56) -> 569496.2 | F57: =SUM(F2:F56) -> 57000 | G57: =SUM(G2:G56) -> 234500 | H57: =SUM(H2:H56) -> 90306.4 | I57: =SUM(I2:I56) -> 3200 | ... N57: =SUM(N2:N56) -> 116968.41
A61: Lab | C61: =E57+H57+K57+N57 -> 2390386.4
A62: Gaging | C62: =F57+I57+L57 -> 338900
A63: Sampling (minus lab) | C63: =D57+G57+J57+M57 -> 6844103.6
A64: Total | C64: =SUM(C60:C63) -> 9573390
A65: Total to WSCs | C65: =C64-C61 -> 7183003.6

Sheet Targets sorted by Region
A1: Science Center | B1: SW Monitoring and Status Assessment Team | C1: SW Monitoring Data Collection Sum | D1: NASQAN Data Collection | E1: NASQAN Sample Analyses | F1: NASQAN Stream Gaging | G1: NMN Data Collection | H1: NMN Sample Analyses | I1: NMN Stream Gaging | J1: NAWQA SW Status QW Data Collection | K1: NAWQA SW Status QW Sample Analyses | L1: NAWQA SW Status Stream Gaging | M1: NAWQA ECO Data Collection | N1: NAWQA ECO Sample Analyses
A2: CT | C2: =D2+G2+J2+M2 -> 231028.06 | D2: =SUM('FY14 sampling by SC'!E10) -> 0 | E2: =SUM('FY14 sampling by SC'!F10) -> 0 | F2: =SUM('FY14 sampling by SC'!G10) -> 0 | G2: =SUM('FY14 sampling by SC'!H10) -> 0 | H2: =SUM('FY14 sampling by SC'!I10) -> 0 | I2: =SUM('FY14 sampling by SC'!J10) -> 0 | J2: =SUM('FY14 sampling by SC'!B10) -> 200000 | K2: =SUM('FY14 sampling by SC'!C10) -> 69059.38 | L2: =SUM('FY14 sampling by SC'!D10) -> 0 | M2: =SUM('FY14 sampling by SC'!K10) -> 31028.061 | N2: =SUM('FY14 sampling by SC'!L10) -> 5998.38
A3: IL | C3: =D3+G3+J3+M3 -> 83000 | D3: =SUM('FY14 sampling by SC'!E15) -> 0 | E3: =SUM('FY14 sampling by SC'!F15) -> 0 | F3: =SUM('FY14 sampling by SC'!G15) -> 0 | G3: =SUM('FY14 sampling by SC'!H15) -> 0 | H3: =SUM('FY14 sampling by SC'!I15) -> 0 | I3: =SUM('FY14 sampling by SC'!J15) -> 0 | J3: =SUM('FY14 sampling by SC'!B15) -> 83000 | K3: =SUM('FY14 sampling by SC'!C15) -> 22576.6 | L3: =SUM('FY14 sampling by SC'!D15) -> 0 | M3: =SUM('FY14 sampling by SC'!K15) -> 0 | N3: =SUM('FY14 sampling by SC'!L15) -> 0
A4: IN | C4: =D4+G4+J4+M4 -> 215480.29 | D4: =SUM('FY14 sampling by SC'!E16) -> 0 | E4: =SUM('FY14 sampling by SC'!F16) -> 0 | F4: =SUM('FY14 sampling by SC'!G16) -> 0 | G4: =SUM('FY14 sampling by SC'!H16) -> 0 | H4: =SUM('FY14 sampling by SC'!I16) -> 0 | I4: =SUM('FY14 sampling by SC'!J16) -> 0 | J4: =SUM('FY14 sampling by SC'!B16) -> 203000 | K4: =SUM('FY14 sampling by SC'!C16) -> 64936.66 | L4: =SUM('FY14 sampling by SC'!D16) -> 10500 | M4: =SUM('FY14 sampling by SC'!K16) -> 12480.289 | N4: =SUM('FY14 sampling by SC'!L16) -> 2999.19
A5: KY | C5: =D5+G5+J5+M5 -> 209500 | D5: =SUM('FY14 sampling by SC'!E18) -> 209500 | E5: =SUM('FY14 sampling by SC'!F18) -> 90306.4 | F5: =SUM('FY14 sampling by SC'!G18) -> 27000 | G5: =SUM('FY14 sampling by SC'!H18) -> 0 | H5: =SUM('FY14 sampling by SC'!I18) -> 0 | I5: =SUM('FY14 sampling by SC'!J18) -> 0 | J5: =SUM('FY14 sampling by SC'!B18) -> 0 | K5: =SUM('FY14 sampling by SC'!C18) -> 0 | L5: =SUM('FY14 sampling by SC'!D18) -> 0 | M5: =SUM('FY14 sampling by SC'!K18) -> 0 | N5: =SUM('FY14 sampling by SC'!L18) -> 0
A6: MA | C6: =D6+G6+J6+M6 -> 0 | D6: 0 | E6: 0 | F6: 0 | G6: 0 | H6: 0 | I6: 0 | J6: 0 | K6: 0 | L6: 0 | M6: 0 | N6: 0
A7: MD | C7: =D7+G7+J7+M7 -> 241570.02 | D7: =SUM('FY14 sampling by SC'!E20) -> 12000 | E7: =SUM('FY14 sampling by SC'!F20) -> 22576.6 | F7: =SUM('FY14 sampling by SC'!G20) -> 0 | G7: =SUM('FY14 sampling by SC'!H20) -> 0 | H7: =SUM('FY14 sampling by SC'!I20) -> 0 | I7: =SUM('FY14 sampling by SC'!J20) -> 0 | J7: =SUM('FY14 sampling by SC'!B20) -> 193500 | K7: =SUM('FY14 sampling by SC'!C20) -> 69059.38 | L7: =SUM('FY14 sampling by SC'!D20) -> 15300 | M7: =SUM('FY14 sampling by SC'!K20) -> 36070.018 | N7: =SUM('FY14 sampling by SC'!L20) -> 5998.38
A8: ME | C8: =D8+G8+J8+M8 -> 0 | D8: 0 | E8: 0 | F8: 0 | G8: 0 | H8: 0 | I8: 0 | J8: 0 | K8: 0 | L8: 0 | M8: 0 | N8: 0
A9: MI | C9: =D9+G9+J9+M9 -> 83500 | D9: =SUM('FY14 sampling by SC'!E21) -> 0 | E9: =SUM('FY14 sampling by SC'!F21) -> 0 | F9: =SUM('FY14 sampling by SC'!G21) -> 0 | G9: =SUM('FY14 sampling by SC'!H21) -> 0 | H9: =SUM('FY14 sampling by SC'!I21) -> 0 | I9: =SUM('FY14 sampling by SC'!J21) -> 0 | J9: =SUM('FY14 sampling by SC'!B21) -> 83500 | K9: =SUM('FY14 sampling by SC'!C21) -> 36909.34 | L9: =SUM('FY14 sampling by SC'!D21) -> 16000 | M9: =SUM('FY14 sampling by SC'!K21) -> 0 | N9: =SUM('FY14 sampling by SC'!L21) -> 0
A10: NH | C10: =D10+G10+J10+M10 -> 0 | D10: 0 | E10: 0 | F10: 0 | G10: 0 | H10: 0 | I10: 0 | J10: 0 | K10: 0 | L10: 0 | M10: 0 | N10: 0
A11: NJ | C11: =D11+G11+J11+M11 -> 63000 | D11: =SUM('FY14 sampling by SC'!E28) -> 0 | E11: =SUM('FY14 sampling by SC'!F28) -> 0 | F11: =SUM('FY14 sampling by SC'!G28) -> 0 | G11: =SUM('FY14 sampling by SC'!H28) -> 0 | H11: =SUM('FY14 sampling by SC'!I28) -> 0 | I11: =SUM('FY14 sampling by SC'!J28) -> 0 | J11: =SUM('FY14 sampling by SC'!B28) -> 63000 | K11: =SUM('FY14 sampling by SC'!C28) -> 22576.6 | L11: =SUM('FY14 sampling by SC'!D28) -> 0 | M11: =SUM('FY14 sampling by SC'!K28) -> 0 | N11: =SUM('FY14 sampling by SC'!L28) -> 0
A12: NY | C12: =D12+G12+J12+M12 -> 247548.69 | D12: =SUM('FY14 sampling by SC'!E31) -> 54500 | E12: =SUM('FY14 sampling by SC'!F31) -> 22576.6 | F12: =SUM('FY14 sampling by SC'!G31) -> 0 | G12: =SUM('FY14 sampling by SC'!H31) -> 66500 | H12: =SUM('FY14 sampling by SC'!I31) -> 22576.6 | I12: =SUM('FY14 sampling by SC'!J31) -> 0 | J12: =SUM('FY14 sampling by SC'!B31) -> 112000 | K12: =SUM('FY14 sampling by SC'!C31) -> 36909.34 | L12: =SUM('FY14 sampling by SC'!D31) -> 15500 | M12: =SUM('FY14 sampling by SC'!K31) -> 14548.692 | N12: =SUM('FY14 sampling by SC'!L31) -> 2999.19
A13: OH | C13: =D13+G13+J13+M13 -> 105133.53 | D13: =SUM('FY14 sampling by SC'!E32) -> 0 | E13: =SUM('FY14 sampling by SC'!F32) -> 0 | F13: =SUM('FY14 sampling by SC'!G32) -> 0 | G13: =SUM('FY14 sampling by SC'!H32) -> 0 | H13: =SUM('FY14 sampling by SC'!I32) -> 0 | I13: =SUM('FY14 sampling by SC'!J32) -> 0 | J13: =SUM('FY14 sampling by SC'!B32) -> 83500 | K13: =SUM('FY14 sampling by SC'!C32) -> 28027.32 | L13: =SUM('FY14 sampling by SC'!D32) -> 0 | M13: =SUM('FY14 sampling by SC'!K32) -> 21633.529 | N13: =SUM('FY14 sampling by SC'!L32) -> 2999.19
A14: PA | C14: =D14+G14+J14+M14 -> 0 | D14: 0 | E14: 0 | F14: 0 | G14: 0 | H14: 0 | I14: 0 | J14: 0 | K14: 0 | L14: 0 | M14: 0 | N14: 0
A15: VA | C15: =D15+G15+J15+M15 -> 0 | D15: 0 | E15: 0 | F15: 0 | G15: 0 | H15: 0 | I15: 0 | J15: 0 | K15: 0 | L15: 0 | M15: 0 | N15: 0
A16: WI | C16: =D16+G16+J16+M16 -> 47152.128 | D16: =SUM('FY14 sampling by SC'!E39) -> 0 | E16: =SUM('FY14 sampling by SC'!F39) -> 0 | F16: =SUM('FY14 sampling by SC'!G39) -> 0 | G16: =SUM('FY14 sampling by SC'!H39) -> 0 | H16: =SUM('FY14 sampling by SC'!I39) -> 0 | I16: =SUM('FY14 sampling by SC'!J39) -> 0 | J16: =SUM('FY14 sampling by SC'!B39) -> 25500 | K16: =SUM('FY14 sampling by SC'!C39) -> 4122.72 | L16: =SUM('FY14 sampling by SC'!D39) -> 0 | M16: =SUM('FY14 sampling by SC'!K39) -> 21652.128 | N16: =SUM('FY14 sampling by SC'!L39) -> 2999.19
A17: WV | C17: =D17+G17+J17+M17 -> 0 | D17: 0 | E17: 0 | F17: 0 | G17: 0 | H17: 0 | I17: 0 | J17: 0 | K17: 0 | L17: 0 | M17: 0 | N17: 0
A18: AR | C18: =D18+G18+J18+M18 -> 133119.18 | D18: =SUM('FY14 sampling by SC'!E6) -> 56000 | E18: =SUM('FY14 sampling by SC'!F6) -> 22576.6 | F18: =SUM('FY14 sampling by SC'!G6) -> 5500 | G18: =SUM('FY14 sampling by SC'!H6) -> 0 | H18: =SUM('FY14 sampling by SC'!I6) -> 0 | I18: =SUM('FY14 sampling by SC'!J6) -> 0 | J18: =SUM('FY14 sampling by SC'!B6) -> 39000 | K18: =SUM('FY14 sampling by SC'!C6) -> 8245.44 | L18: =SUM('FY14 sampling by SC'!D6) -> 0 | M18: =SUM('FY14 sampling by SC'!K6) -> 38119.175 | N18: =SUM('FY14 sampling by SC'!L6) -> 5998.38
A19: CO | C19: =D19+G19+J19+M19 -> 262210.84 | D19: =SUM('FY14 sampling by SC'!E9) -> 0 | E19: =SUM('FY14 sampling by SC'!F9) -> 0 | F19: =SUM('FY14 sampling by SC'!G9) -> 0 | G19: =SUM('FY14 sampling by SC'!H9) -> 0 | H19: =SUM('FY14 sampling by SC'!I9) -> 0 | I19: =SUM('FY14 sampling by SC'!J9) -> 0 | J19: =SUM('FY14 sampling by SC'!B9) -> 249000 | K19: =SUM('FY14 sampling by SC'!C9) -> 92963.98 | L19: =SUM('FY14 sampling by SC'!D9) -> 0 | M19: =SUM('FY14 sampling by SC'!K9) -> 13210.839 | N19: =SUM('FY14 sampling by SC'!L9) -> 2999.19
A20: IA | C20: =D20+G20+J20+M20 -> 322592.69 | D20: =SUM('FY14 sampling by SC'!E13) -> 216000 | E20: =SUM('FY14 sampling by SC'!F13) -> 90306.4 | F20: =SUM('FY14 sampling by SC'!G13) -> 0 | G20: =SUM('FY14 sampling by SC'!H13) -> 0 | H20: =SUM('FY14 sampling by SC'!I13) -> 0 | I20: =SUM('FY14 sampling by SC'!J13) -> 0 | J20: =SUM('FY14 sampling by SC'!B13) -> 90000 | K20: =SUM('FY14 sampling by SC'!C13) -> 36909.34 | L20: =SUM('FY14 sampling by SC'!D13) -> 15000 | M20: =SUM('FY14 sampling by SC'!K13) -> 16592.686 | N20: =SUM('FY14 sampling by SC'!L13) -> 2999.19
A21: KS | C21: =D21+G21+J21+M21 -> 64000 | D21: =SUM('FY14 sampling by SC'!E17) -> 0 | E21: =SUM('FY14 sampling by SC'!F17) -> 0 | F21: =SUM('FY14 sampling by SC'!G17) -> 0 | G21: =SUM('FY14 sampling by SC'!H17) -> 0 | H21: =SUM('FY14 sampling by SC'!I17) -> 0 | I21: =SUM('FY14 sampling by SC'!J17) -> 0 | J21: =SUM('FY14 sampling by SC'!B17) -> 64000 | K21: =SUM('FY14 sampling by SC'!C17) -> 50603.92 | L21: =SUM('FY14 sampling by SC'!D17) -> 0 | M21: =SUM('FY14 sampling by SC'!K17) -> 0 | N21: =SUM('FY14 sampling by SC'!L17) -> 0
A22: LA | C22: =D22+G22+J22+M22 -> 439707.82 | D22: =SUM('FY14 sampling by SC'!E19) -> 404000 | E22: =SUM('FY14 sampling by SC'!F19) -> 140910.32 | F22: =SUM('FY14 sampling by SC'!G19) -> 0 | G22: =SUM('FY14 sampling by SC'!H19) -> 0 | H22: =SUM('FY14 sampling by SC'!I19) -> 0 | I22: =SUM('FY14 sampling by SC'!J19) -> 0 | J22: =SUM('FY14 sampling by SC'!B19) -> 18000 | K22: =SUM('FY14 sampling by SC'!C19) -> 4122.72 | L22: =SUM('FY14 sampling by SC'!D19) -> 0 | M22: =SUM('FY14 sampling by SC'!K19) -> 17707.824 | N22: =SUM('FY14 sampling by SC'!L19) -> 2999.19
A23: MN | C23: =D23+G23+J23+M23 -> 131326.18 | D23: =SUM('FY14 sampling by SC'!E22) -> 0 | E23: =SUM('FY14 sampling by SC'!F22) -> 0 | F23: =SUM('FY14 sampling by SC'!G22) -> 0 | G23: =SUM('FY14 sampling by SC'!H22) -> 0 | H23: =SUM('FY14 sampling by SC'!I22) -> 0 | I23: =SUM('FY14 sampling by SC'!J22) -> 0 | J23: =SUM('FY14 sampling by SC'!B22) -> 119000 | K23: =SUM('FY14 sampling by SC'!C22) -> 58712.22 | L23: =SUM('FY14 sampling by SC'!D22) -> 14200 | M23: =SUM('FY14 sampling by SC'!K22) -> 12326.178 | N23: =SUM('FY14 sampling by SC'!L22) -> 2999.19
A24: MO | C24: =D24+G24+J24+M24 -> 157500 | D24: =SUM('FY14 sampling by SC'!E23) -> 157500 | E24: =SUM('FY14 sampling by SC'!F23) -> 67729.8 | F24: =SUM('FY14 sampling by SC'!G23) -> 0 | G24: =SUM('FY14 sampling by SC'!H23) -> 0 | H24: =SUM('FY14 sampling by SC'!I23) -> 0 | I24: =SUM('FY14 sampling by SC'!J23) -> 0 | J24: =SUM('FY14 sampling by SC'!B23) -> 0 | K24: =SUM('FY14 sampling by SC'!C23) -> 0 | L24: =SUM('FY14 sampling by SC'!D23) -> 0 | M24: =SUM('FY14 sampling by SC'!K23) -> 0 | N24: =SUM('FY14 sampling by SC'!L23) -> 0
A25: MT | C25: =D25+G25+J25+M25 -> 0 | D25: 0 | E25: 0 | F25: 0 | G25: 0 | H25: 0 | I25: 0 | J25: 0 | K25: 0 | L25: 0 | M25: 0 | N25: 0
A26: ND | C26: =D26+G26+J26+M26 -> 21000 | D26: =SUM('FY14 sampling by SC'!E26) -> 0 | E26: =SUM('FY14 sampling by SC'!F26) -> 0 | F26: =SUM('FY14 sampling by SC'!G26) -> 0 | G26: =SUM('FY14 sampling by SC'!H26) -> 0 | H26: =SUM('FY14 sampling by SC'!I26) -> 0 | I26: =SUM('FY14 sampling by SC'!J26) -> 0 | J26: =SUM('FY14 sampling by SC'!B26) -> 21000 | K26: =SUM('FY14 sampling by SC'!C26) -> 22576.6 | L26: =SUM('FY14 sampling by SC'!D26) -> 0 | M26: =SUM('FY14 sampling by SC'!K26) -> 0 | N26: =SUM('FY14 sampling by SC'!L26) -> 0
A27: NE | C27: =D27+G27+J27+M27 -> 269228.74 | D27: =SUM('FY14 sampling by SC'!E27) -> 0 | E27: =SUM('FY14 sampling by SC'!F27) -> 0 | F27: =SUM('FY14 sampling by SC'!G27) -> 0 | G27: =SUM('FY14 sampling by SC'!H27) -> 0 | H27: =SUM('FY14 sampling by SC'!I27) -> 0 | I27: =SUM('FY14 sampling by SC'!J27) -> 0 | J27: =SUM('FY14 sampling by SC'!B27) -> 229000 | K27: =SUM('FY14 sampling by SC'!C27) -> 91635.98 | L27: =SUM('FY14 sampling by SC'!D27) -> 12100 | M27: =SUM('FY14 sampling by SC'!K27) -> 40228.743 | N27: =SUM('FY14 sampling by SC'!L27) -> 5998.38
A28: NM | C28: =D28+G28+J28+M28 -> 126638.33 | D28: =SUM('FY14 sampling by SC'!E29) -> 0 | E28: =SUM('FY14 sampling by SC'!F29) -> 0 | F28: =SUM('FY14 sampling by SC'!G29) -> 0 | G28: =SUM('FY14 sampling by SC'!H29) -> 0 | H28: =SUM('FY14 sampling by SC'!I29) -> 0 | I28: =SUM('FY14 sampling by SC'!J29) -> 0 | J28: =SUM('FY14 sampling by SC'!B29) -> 104500 | K28: =SUM('FY14 sampling by SC'!C29) -> 26699.32 | L28: =SUM('FY14 sampling by SC'!D29) -> 0 | M28: =SUM('FY14 sampling by SC'!K29) -> 22138.332 | N28: =SUM('FY14 sampling by SC'!L29) -> 2999.19
A29: OK | C29: =D29+G29+J29+M29 -> 21500 | D29: =SUM('FY14 sampling by SC'!E33) -> 0 | E29: =SUM('FY14 sampling by SC'!F33) -> 0 | F29: =SUM('FY14 sampling by SC'!G33) -> 0 | G29: =SUM('FY14 sampling by SC'!H33) -> 0 | H29: =SUM('FY14 sampling by SC'!I33) -> 0 | I29: =SUM('FY14 sampling by SC'!J33) -> 0 | J29: =SUM('FY14 sampling by SC'!B33) -> 21500 | K29: =SUM('FY14 sampling by SC'!C33) -> 28027.32 | L29: =SUM('FY14 sampling by SC'!D33) -> 0 | M29: =SUM('FY14 sampling by SC'!K33) -> 0 | N29: =SUM('FY14 sampling by SC'!L33) -> 0
A30: SD | C30: =D30+G30+J30+M30 -> 0 | D30: 0 | E30: 0 | F30: 0 | G30: 0 | H30: 0 | I30: 0 | J30: 0 | K30: 0 | L30: 0 | M30: 0 | N30: 0
A31: TX | C31: =D31+G31+J31+M31 -> 419613.25 | D31: =SUM('FY14 sampling by SC'!E36) -> 75000 | E31: =SUM('FY14 sampling by SC'!F36) -> 19851.24 | F31: =SUM('FY14 sampling by SC'!G36) -> 0 | G31: =SUM('FY14 sampling by SC'!H36) -> 60000 | H31: =SUM('FY14 sampling by SC'!I36) -> 22576.6 | I31: =SUM('FY14 sampling by SC'!J36) -> 0 | J31: =SUM('FY14 sampling by SC'!B36) -> 245000 | K31: =SUM('FY14 sampling by SC'!C36) -> 69059.38 | L31: =SUM('FY14 sampling by SC'!D36) -> 0 | M31: =SUM('FY14 sampling by SC'!K36) -> 39613.251 | N31: =SUM('FY14 sampling by SC'!L36) -> 5998.38
A32: WY | C32: =D32+G32+J32+M32 -> 146301.9 | D32: =SUM('FY14 sampling by SC'!E40) -> 0 | E32: =SUM('FY14 sampling by SC'!F40) -> 0 | F32: =SUM('FY14 sampling by SC'!G40) -> 0 | G32: =SUM('FY14 sampling by SC'!H40) -> 0 | H32: =SUM('FY14 sampling by SC'!I40) -> 0 | I32: =SUM('FY14 sampling by SC'!J40) -> 0 | J32: =SUM('FY14 sampling by SC'!B40) -> 122000 | K32: =SUM('FY14 sampling by SC'!C40) -> 26699.32 | L32: =SUM('FY14 sampling by SC'!D40) -> 0 | M32: =SUM('FY14 sampling by SC'!K40) -> 24301.903 | N32: =SUM('FY14 sampling by SC'!L40) -> 2999.19
A33: AL | C33: =D33+G33+J33+M33 -> 164500 | D33: =SUM('FY14 sampling by SC'!E5) -> 78000 | E33: =SUM('FY14 sampling by SC'!F5) -> 22576.6 | F33: =SUM('FY14 sampling by SC'!G5) -> 0 | G33: =SUM('FY14 sampling by SC'!H5) -> 0 | H33: =SUM('FY14 sampling by SC'!I5) -> 0 | I33: =SUM('FY14 sampling by SC'!J5) -> 0 | J33: =SUM('FY14 sampling by SC'!B5) -> 86500 | K33: =SUM('FY14 sampling by SC'!C5) -> 28027.32 | L33: =SUM('FY14 sampling by SC'!D5) -> 0 | M33: =SUM('FY14 sampling by SC'!K5) -> 0 | N33: =SUM('FY14 sampling by SC'!L5) -> 0
A34: FL | C34: =D34+G34+J34+M34 -> 54000 | D34: =SUM('FY14 sampling by SC'!E11) -> 0 | E34: =SUM('FY14 sampling by SC'!F11) -> 0 | F34: =SUM('FY14 sampling by SC'!G11) -> 0 | G34: =SUM('FY14 sampling by SC'!H11) -> 54000 | H34: =SUM('FY14 sampling by SC'!I11) -> 22576.6 | I34: =SUM('FY14 sampling by SC'!J11) -> 0 | J34: =SUM('FY14 sampling by SC'!B11) -> 0 | K34: =SUM('FY14 sampling by SC'!C11) -> 0 | L34: =SUM('FY14 sampling by SC'!D11) -> 0 | M34: =SUM('FY14 sampling by SC'!K11) -> 0 | N34: =SUM('FY14 sampling by SC'!L11) -> 0
A35: GA | C35: =D35+G35+J35+M35 -> 215271.91 | D35: =SUM('FY14 sampling by SC'!E12) -> 68000 | E35: =SUM('FY14 sampling by SC'!F12) -> 22576.6 | F35: =SUM('FY14 sampling by SC'!G12) -> 24500 | G35: =SUM('FY14 sampling by SC'!H12) -> 0 | H35: =SUM('FY14 sampling by SC'!I12) -> 0 | I35: =SUM('FY14 sampling by SC'!J12) -> 0 | J35: =SUM('FY14 sampling by SC'!B12) -> 121500 | K35: =SUM('FY14 sampling by SC'!C12) -> 41032.06 | L35: =SUM('FY14 sampling by SC'!D12) -> 15500 | M35: =SUM('FY14 sampling by SC'!K12) -> 25771.91 | N35: =SUM('FY14 sampling by SC'!L12) -> 5998.38
A36: MS | C36: =D36+G36+J36+M36 -> 235475.3 | D36: =SUM('FY14 sampling by SC'!E24) -> 0 | E36: =SUM('FY14 sampling by SC'!F24) -> 0 | F36: =SUM('FY14 sampling by SC'!G24) -> 0 | G36: =SUM('FY14 sampling by SC'!H24) -> 54000 | H36: =SUM('FY14 sampling by SC'!I24) -> 22576.6 | I36: =SUM('FY14 sampling by SC'!J24) -> 3200 | J36: =SUM('FY14 sampling by SC'!B24) -> 164500 | K36: =SUM('FY14 sampling by SC'!C24) -> 64936.66 | L36: =SUM('FY14 sampling by SC'!D24) -> 0 | M36: =SUM('FY14 sampling by SC'!K24) -> 16975.3 | N36: =SUM('FY14 sampling by SC'!L24) -> 2999.19
A37: NC | C37: =D37+G37+J37+M37 -> 256150.52 | D37: =SUM('FY14 sampling by SC'!E25) -> 0 | E37: =SUM('FY14 sampling by SC'!F25) -> 0 | F37: =SUM('FY14 sampling by SC'!G25) -> 0 | G37: =SUM('FY14 sampling by SC'!H25) -> 0 | H37: =SUM('FY14 sampling by SC'!I25) -> 0 | I37: =SUM('FY14 sampling by SC'!J25) -> 0 | J37: =SUM('FY14 sampling by SC'!B25) -> 231000 | K37: =SUM('FY14 sampling by SC'!C25) -> 101846 | L37: =SUM('FY14 sampling by SC'!D25) -> 14700 | M37: =SUM('FY14 sampling by SC'!K25) -> 25150.519 | N37: =SUM('FY14 sampling by SC'!L25) -> 5998.38
A38: SC | C38: =D38+G38+J38+M38 -> 135596.01 | D38: =SUM('FY14 sampling by SC'!E35) -> 0 | E38: =SUM('FY14 sampling by SC'!F35) -> 0 | F38: =SUM('FY14 sampling by SC'!G35) -> 0 | G38: =SUM('FY14 sampling by SC'!H35) -> 0 | H38: =SUM('FY14 sampling by SC'!I35) -> 0 | I38: =SUM('FY14 sampling by SC'!J35) -> 0 | J38: =SUM('FY14 sampling by SC'!B35) -> 122500 | K38: =SUM('FY14 sampling by SC'!C35) -> 32150.04 | L38: =SUM('FY14 sampling by SC'!D35) -> 17500 | M38: =SUM('FY14 sampling by SC'!K35) -> 13096.011 | N38: =SUM('FY14 sampling by SC'!L35) -> 2999.19
A39: TN | C39: =D39+G39+J39+M39 -> 0 | D39: 0 | E39: 0 | F39: 0 | G39: 0 | H39: 0 | I39: 0 | J39: 0 | K39: 0 | L39: 0 | M39: 0 | N39: 0
A40: AK | C40: =D40+G40+J40+M40 -> 76500 | D40: =SUM('FY14 sampling by SC'!E4) -> 76500 | E40: =SUM('FY14 sampling by SC'!F4) -> 7806.56 | F40: =SUM('FY14 sampling by SC'!G4) -> 0 | G40: =SUM('FY14 sampling by SC'!H4) -> 0 | H40: =SUM('FY14 sampling by SC'!I4) -> 0 | I40: =SUM('FY14 sampling by SC'!J4) -> 0 | J40: =SUM('FY14 sampling by SC'!B4) -> 0 | K40: =SUM('FY14 sampling by SC'!C4) -> 0 | L40: =SUM('FY14 sampling by SC'!D4) -> 0 | M40: =SUM('FY14 sampling by SC'!K4) -> 0 | N40: =SUM('FY14 sampling by SC'!L4) -> 0
A41: AZ | C41: =D41+G41+J41+M41 -> 203093.89 | D41: =SUM('FY14 sampling by SC'!E7) -> 50000 | E41: =SUM('FY14 sampling by SC'!F7) -> 19851.24 | F41: =SUM('FY14 sampling by SC'!G7) -> 0 | G41: =SUM('FY14 sampling by SC'!H7) -> 0 | H41: =SUM('FY14 sampling by SC'!I7) -> 0 | I41: =SUM('FY14 sampling by SC'!J7) -> 0 | J41: =SUM('FY14 sampling by SC'!B7) -> 120000 | K41: =SUM('FY14 sampling by SC'!C7) -> 30822.04 | L41: =SUM('FY14 sampling by SC'!D7) -> 0 | M41: =SUM('FY14 sampling by SC'!K7) -> 33093.89 | N41: =SUM('FY14 sampling by SC'!L7) -> 5998.38
A42: CA | C42: =D42+G42+J42+M42 -> 401537.9 | D42: =SUM('FY14 sampling by SC'!E8) -> 0 | E42: =SUM('FY14 sampling by SC'!F8) -> 0 | F42: =SUM('FY14 sampling by SC'!G8) -> 0 | G42: =SUM('FY14 sampling by SC'!H8) -> 0 | H42: =SUM('FY14 sampling by SC'!I8) -> 0 | I42: =SUM('FY14 sampling by SC'!J8) -> 0 | J42: =SUM('FY14 sampling by SC'!B8) -> 350500 | K42: =SUM('FY14 sampling by SC'!C8) -> 112767.6 | L42: =SUM('FY14 sampling by SC'!D8) -> 22500 | M42: =SUM('FY14 sampling by SC'!K8) -> 51037.899 | N42: =SUM('FY14 sampling by SC'!L8) -> 8997.57
A43: HI | C43: =D43+G43+J43+M43 -> 0 | D43: 0 | E43: 0 | F43: 0 | G43: 0 | H43: 0 | I43: 0 | J43: 0 | K43: 0 | L43: 0 | M43: 0 | N43: 0
A44: ID | C44: =D44+G44+J44+M44 -> 168783.81 | D44: =SUM('FY14 sampling by SC'!E14) -> 0 | E44: =SUM('FY14 sampling by SC'!F14) -> 0 | F44: =SUM('FY14 sampling by SC'!G14) -> 0 | G44: =SUM('FY14 sampling by SC'!H14) -> 0 | H44: =SUM('FY14 sampling by SC'!I14) -> 0 | I44: =SUM('FY14 sampling by SC'!J14) -> 0 | J44: =SUM('FY14 sampling by SC'!B14) -> 150000 | K44: =SUM('FY14 sampling by SC'!C14) -> 59485.94 | L44: =SUM('FY14 sampling by SC'!D14) -> 34000 | M44: =SUM('FY14 sampling by SC'!K14) -> 18783.814 | N44: =SUM('FY14 sampling by SC'!L14) -> 2999.19
A45: NV | C45: =D45+G45+J45+M45 -> 63500 | D45: =SUM('FY14 sampling by SC'!E30) -> 0 | E45: =SUM('FY14 sampling by SC'!F30) -> 0 | F45: =SUM('FY14 sampling by SC'!G30) -> 0 | G45: =SUM('FY14 sampling by SC'!H30) -> 0 | H45: =SUM('FY14 sampling by SC'!I30) -> 0 | I45: =SUM('FY14 sampling by SC'!J30) -> 0 | J45: =SUM('FY14 sampling by SC'!B30) -> 63500 | K45: =SUM('FY14 sampling by SC'!C30) -> 28027.32 | L45: =SUM('FY14 sampling by SC'!D30) -> 0 | M45: =SUM('FY14 sampling by SC'!K30) -> 0 | N45: =SUM('FY14 sampling by SC'!L30) -> 0
A46: OR | C46: =D46+G46+J46+M46 -> 387184.66 | D46: =SUM('FY14 sampling by SC'!E34) -> 64000 | E46: =SUM('FY14 sampling by SC'!F34) -> 19851.24 | F46: =SUM('FY14 sampling by SC'!G34) -> 0 | G46: =SUM('FY14 sampling by SC'!H34) -> 0 | H46: =SUM('FY14 sampling by SC'!I34) -> 0 | I46: =SUM('FY14 sampling by SC'!J34) -> 0 | J46: =SUM('FY14 sampling by SC'!B34) -> 282200 | K46: =SUM('FY14 sampling by SC'!C34) -> 105968.72 | L46: =SUM('FY14 sampling by SC'!D34) -> 44400 | M46: =SUM('FY14 sampling by SC'!K34) -> 40984.659 | N46: =SUM('FY14 sampling by SC'!L34) -> 8997.57
A47: UT | C47: =D47+G47+J47+M47 -> 172574.69 | D47: =SUM('FY14 sampling by SC'!E37) -> 0 | E47: =SUM('FY14 sampling by SC'!F37) -> 0 | F47: =SUM('FY14 sampling by SC'!G37) -> 0 | G47: =SUM('FY14 sampling by SC'!H37) -> 0 | H47: =SUM('FY14 sampling by SC'!I37) -> 0 | I47: =SUM('FY14 sampling by SC'!J37) -> 0 | J47: =SUM('FY14 sampling by SC'!B37) -> 154000 | K47: =SUM('FY14 sampling by SC'!C37) -> 69059.38 | L47: =SUM('FY14 sampling by SC'!D37) -> 16000 | M47: =SUM('FY14 sampling by SC'!K37) -> 18574.688 | N47: =SUM('FY14 sampling by SC'!L37) -> 5998.38
A48: WA | C48: =D48+G48+J48+M48 -> 268283.27 | D48: =SUM('FY14 sampling by SC'!E38) -> 0 | E48: =SUM('FY14 sampling by SC'!F38) -> 0 | F48: =SUM('FY14 sampling by SC'!G38) -> 0 | G48: =SUM('FY14 sampling by SC'!H38) -> 0 | H48: =SUM('FY14 sampling by SC'!I38) -> 0 | I48: =SUM('FY14 sampling by SC'!J38) -> 0 | J48: =SUM('FY14 sampling by SC'!B38) -> 241000 | K48: =SUM('FY14 sampling by SC'!C38) -> 69059.38 | L48: =SUM('FY14 sampling by SC'!D38) -> 15500 | M48: =SUM('FY14 sampling by SC'!K38) -> 27283.273 | N48: =SUM('FY14 sampling by SC'!L38) -> 5998.38
A64: HQ Account
A65: Column Totals | C65: =SUM(C1:C64) -> 6844103.6 | D65: =SUM(D1:D64) -> 1521000 | E65: =SUM(E1:E64) -> 569496.2 | F65: =SUM(F1:F64) -> 57000 | G65: =SUM(G1:G64) -> 234500 | H65: =SUM(H1:H64) -> 90306.4 | I65: =SUM(I1:I64) -> 3200 | J65: =SUM(J1:J64) -> 4456200 | ... O65: =SUM(O1:O64) -> 0
A69: Lab | C69: =E65+H65+K65+N65 -> 2390386.3
A70: Gaging | C70: =F65+I65+L65 -> 338900
A71: Sampling (minus lab) | C71: =D65+G65+J65+M65 -> 6844103.6
A72: Total | C72: =SUM(C68:C71) -> 9573390
A73: Total to WSCs | C73: =C72-C69 -> 7183003.6
