Workbook

Sheet NFSN Chem Sampling
A1: Last update | B1: Science Center (SC) Collecting Samples | C1: WY | D1: 41239 | F1: Cycle 2 Site Type | G1: Cycle 3 Site Type | H1: Cycle 3 Program | I1: Daily Streamflow | M1: Continuous QW monitoring | P1: Suspended Sediment (conc. + sand/fine) | T1: Major Ions (schedules 998/1201) | X1: Major Ions blanks (schedule 1674) | Z1: Nutrients (schedules 2430/2431/2432) | AD1: Nutrient blanks (SH 452- IBW) | AF1: Nutrient blanks (SH 1675 - OBW) | AH1: uv 412nm blanks (LC8096 - OBW) | AJ1: Dissolved Inorganic Carbon blanks (LC8097 - OBW) | AL1: Pesticides (schedule 2437) | AT1: Isotope samples (Ty Coplen) | AV1: DOC fractionation samples (George Aiken) | AX1: DNA samples (Byron Crump) | AZ1: Comments
D2: Primary STAID | E2: Site name | I2: Gage? | J2: Gross annual cost | K2: NAWQA share (%) | L2: Annual NAWQA cost | M2: Parameters | N2: Type | O2: Annual NAWQA cost | P2: Planned | Q2: Collected | R2: Planned reps | S2: Collected reps | T2: Planned (plus alkalinity) | U2: Collected (plus alkalinity) | V2: Planned reps | W2: Collected reps | X2: Planned blanks | Y2: Collected blanks | Z2: Planned | AA2: Collected | AB2: Planned reps | AC2: Collected reps | AD2: Planned blanks | AE2: Collected blanks | AF2: Planned blanks | AG2: Collected blanks | AH2: Planned blanks | AI2: Collected blanks | AJ2: Planned blanks | AK2: Collected blanks | AL2: Planned | AM2: Collected | AN2: Planned blanks | AO2: Collected blanks | AP2: Planned reps | AQ2: Collected reps | AR2: Planned spikes | AS2: Collected spikes | AT2: Planned | AU2: Collected | AV2: Planned | AW2: Collected | AX2: Planned | AY2: Collected | AZ2: Comments
B5: AL | C5: 2013 | D5: 02470500 | E5: Mobile River at Mt. Vernon, AL | F5: NASQAN | G5: Large River | H5: NASQAN | I5: yes | L5: =J5*K5/100 -> 0 | P5: 14 | R5: 1 | T5: 14 | V5: 1 | X5: 1 | Z5: 14 | AB5: 1 | AD5: 1 | AF5: 1 | AH5: 1 | AJ5: 1 | AL5: 14 | AN5: 1 | AP5: 1 | AR5: 1 | AT5: 14 | AX5: 14
B6: AL | C6: 2013 | D6: 02469762 | E6: Tombigbee River near Coffeeville, AL | F6: rotate4 | G6: Large River | H6: NAWQA | I6: yes | L6: =J6*K6/100 -> 0 | P6: 18 | R6: 1 | T6: 18 | V6: 1 | X6: 1 | Z6: 18 | AB6: 1 | AD6: 1 | AF6: 1 | AH6: 1 | AJ6: 1 | AL6: 18 | AN6: 1 | AP6: 1 | AR6: 1
B7: AL | E7: WSC sum | P7: =SUM(P5:P6) -> 32 | Q7: =SUM(Q5:Q6) -> 0 | R7: =SUM(R5:R6) -> 2 | S7: =SUM(S5:S6) -> 0 | T7: =SUM(T5:T6) -> 32 | U7: =SUM(U5:U6) -> 0 | V7: =SUM(V5:V6) -> 2 | W7: =SUM(W5:W6) -> 0 | ... AY7: =SUM(AY5:AY6) -> 0
B9: AK | C9: 2013 | D9: 15565447 | E9: Yukon River at Pilot Station, AK | F9: NASQAN | G9: Large River | H9: NASQAN | I9: yes | L9: =J9*K9/100 -> 0 | P9: 7 | R9: 1 | T9: 7 | V9: 1 | X9: 0 | Z9: 7 | AB9: 1 | AD9: 0 | AF9: 0 | AH9: 0 | AJ9: 0 | AL9: 3 | AR9: 1 | AT9: 7 | AX9: 7
B10: AK | E10: WSC sum | P10: =SUM(P8:P9) -> 7 | Q10: =SUM(Q8:Q9) -> 0 | R10: =SUM(R8:R9) -> 1 | S10: =SUM(S8:S9) -> 0 | T10: =SUM(T8:T9) -> 7 | U10: =SUM(U8:U9) -> 0 | V10: =SUM(V8:V9) -> 1 | W10: =SUM(W8:W9) -> 0 | ... AY10: =SUM(AY8:AY9) -> 0
B12: AZ | C12: 2013 | D12: 09380000 | E12: Colorado River at Lees Ferry, AZ | F12: N/A | G12: Large River | H12: NAWQA | I12: yes | L12: =J12*K12/100 -> 0 | M12: YES-COOP | P12: 14 | R12: 1 | T12: 14 | V12: 1 | X12: 1 | Z12: 14 | AB12: 1 | AD12: 1 | AF12: 1 | AH12: 1 | AJ12: 1 | AL12: 14 | AN12: 1 | AP12: 1 | AR12: 1 | AZ12: agreed to fund cgc email 20120910
B13: AZ | C13: 2013 | D13: 09522000 | E13: Colorado River at NIB | F13: NASQAN | G13: Large River | H13: NASQAN | I13: yes | L13: =J13*K13/100 -> 0 | P13: 12 | R13: 1 | T13: 12 | V13: 1 | X13: 1 | Z13: 12 | AB13: 1 | AD13: 1 | AF13: 1 | AH13: 1 | AJ13: 1 | AL13: 12 | AN13: 1 | AP13: 1 | AR13: 1 | AT13: 12 | AX13: 12
B14: AZ | C14: 2013 | D14: 09471000 | E14: San Pedro River at Charleston, AZ | F14: rotate4 | G14: Reference | H14: NAWQA | I14: yes | L14: =J14*K14/100 -> 0 | P14: 6 | R14: 1 | T14: 6 | V14: 0 | X14: 1 | Z14: 6 | AB14: 0 | AD14: 1 | AF14: 1 | AH14: 1 | AJ14: 1 | AL14: 0
B15: AZ | C15: 2013 | D15: 09505800 | E15: West Clear Creek near Camp Verde, AZ | F15: rotate4 | G15: Reference | H15: NAWQA | I15: yes | L15: =J15*K15/100 -> 0 | P15: 6 | R15: 1 | T15: 6 | V15: 1 | X15: 0 | Z15: 6 | AB15: 1 | AD15: 0 | AF15: 0 | AH15: 0 | AJ15: 0 | AL15: 0
B16: AZ | E16: WSC sum | P16: =SUM(P12:P15) -> 38 | Q16: =SUM(Q12:Q15) -> 0 | R16: =SUM(R12:R15) -> 4 | S16: =SUM(S12:S15) -> 0 | T16: =SUM(T12:T15) -> 38 | U16: =SUM(U12:U15) -> 0 | V16: =SUM(V12:V15) -> 3 | W16: =SUM(W12:W15) -> 0 | ... AY16: =SUM(AY12:AY15) -> 0
B18: AR | C18: 2013 | D18: 07263620 | E18: Arkansas River at Terry L&D below Little Rock, AR | F18: NASQAN | G18: Large River | H18: NASQAN | I18: yes | J18: 5510 | K18: 100 | L18: =J18*K18/100 -> 5510 | P18: 14 | R18: 1 | T18: 14 | V18: 1 | X18: 1 | Z18: 14 | AB18: 1 | AD18: 1 | AF18: 1 | AH18: 1 | AJ18: 1 | AL18: 14 | AN18: 1 | AP18: 1 | AR18: 1 | AT18: 14 | AX18: 14
B19: AR | C19: 2013 | D19: 07055646 | E19: Buffalo River near Boxley, AR | F19: rotate4 | G19: Reference | H19: NAWQA | I19: yes | L19: =J19*K19/100 -> 0 | P19: 6 | R19: 1 | T19: 6 | V19: 0 | X19: 1 | Z19: 6 | AB19: 0 | AD19: 1 | AF19: 1 | AH19: 1 | AJ19: 1 | AL19: 0
B20: AR | C20: 2013 | D20: 07060710 | E20: North Sylamore Creek near Fifty Six, AR | F20: rotate4/HBN | G20: Reference | H20: NAWQA | I20: yes | L20: =J20*K20/100 -> 0 | P20: 6 | R20: 1 | T20: 6 | V20: 1 | X20: 0 | Z20: 6 | AB20: 1 | AD20: 0 | AF20: 0 | AH20: 0 | AJ20: 0 | AL20: 0
B21: AR | E21: WSC sum | P21: =SUM(P18:P20) -> 26 | Q21: =SUM(Q18:Q20) -> 0 | R21: =SUM(R18:R20) -> 3 | S21: =SUM(S18:S20) -> 0 | T21: =SUM(T18:T20) -> 26 | U21: =SUM(U18:U20) -> 0 | V21: =SUM(V18:V20) -> 2 | W21: =SUM(W18:W20) -> 0 | ... AY21: =SUM(AY18:AY20) -> 0
B23: CA | C23: 2013 | D23: 11335000 | E23: Cosumnes River at Michigan Bar, CA | F23: eco_only | G23: Reference | H23: NAWQA | I23: yes | L23: =J23*K23/100 -> 0 | P23: 6 | R23: 1 | T23: 6 | V23: 1 | X23: 1 | Z23: 6 | AB23: 1 | AD23: 1 | AF23: 1 | AL23: 0
B24: CA | C24: 2013 | D24: 11274538 | E24: Orestimba Creek near Crows Landing, CA | F24: rotate4 | G24: Agriculture | H24: NAWQA | I24: yes | J24: 12200 | K24: 100 | L24: =J24*K24/100 -> 12200 | M24: YES-COOP | P24: 24 | R24: 1 | T24: 24 | V24: 1 | X24: 1 | Z24: 24 | AB24: 2 | AD24: 2 | AF24: 2 | AH24: 2 | AJ24: 2 | AL24: 24 | AN24: 1 | AP24: 1 | AR24: 1
B25: CA | C25: 2013 | D25: 11447650 | E25: Sacramento River a Freeport, CA | F25: rotate4/NASQAN | G25: Large River | H25: NAWQA | I25: yes | L25: =J25*K25/100 -> 0 | M25: YES-COOP | P25: 14 | R25: 1 | T25: 14 | V25: 1 | X25: 1 | Z25: 14 | AB25: 1 | AD25: 1 | AF25: 1 | AH25: 1 | AJ25: 1 | AL25: 14 | AN25: 1 | AP25: 1 | AR25: 1 | AT25: 14 | AX25: 14
B26: CA | C26: 2013 | D26: 11303500 | E26: San Joaquin River near Vernalis, CA | F26: agcore | G26: Large River | H26: NAWQA | I26: yes | L26: =J26*K26/100 -> 0 | P26: 18 | R26: 1 | T26: 18 | V26: 1 | X26: 1 | Z26: 18 | AB26: 1 | AD26: 1 | AF26: 1 | AH26: 1 | AJ26: 1 | AL26: 18 | AN26: 1 | AP26: 1 | AR26: 1 | AX26: 14
B27: CA | C27: 2013 | D27: 11049400 | E27: Santa Ana River above Seven Oaks Dam, CA | F27: eco_only | G27: Reference | H27: NAWQA | I27: no | L27: =J27*K27/100 -> 0 | P27: 6 | R27: 1 | T27: 6 | V27: 0 | X27: 1 | Z27: 6 | AB27: 0 | AD27: 1 | AF27: 1 | AH27: 1 | AJ27: 1 | AL27: 0
B28: CA | C28: 2013 | D28: 11074000 | E28: Santa Ana River below Prado Dam, CA | F28: urbcore | G28: Large River | H28: NAWQA | I28: yes | L28: =J28*K28/100 -> 0 | P28: 18 | R28: 1 | T28: 18 | V28: 1 | X28: 1 | Z28: 18 | AB28: 1 | AD28: 1 | AF28: 1 | AH28: 1 | AJ28: 1 | AL28: 18 | AN28: 1 | AP28: 1 | AR28: 1
B29: CA | E29: WSC sum | P29: =SUM(P23:P28) -> 86 | Q29: =SUM(Q23:Q28) -> 0 | R29: =SUM(R23:R28) -> 6 | S29: =SUM(S23:S28) -> 0 | T29: =SUM(T23:T28) -> 86 | U29: =SUM(U23:U28) -> 0 | V29: =SUM(V23:V28) -> 5 | W29: =SUM(W23:W28) -> 0 | ... AY29: =SUM(AY23:AY28) -> 0
B31: CO | C31: 2013 | D31: 06713500 | E31: Cherry Creek at Denver, CO | F31: rotate2 | G31: Urban | H31: NAWQA | I31: yes | L31: =J31*K31/100 -> 0 | P31: 24 | R31: 1 | T31: 24 | V31: 1 | X31: 1 | Z31: 24 | AB31: 2 | AD31: 2 | AF31: 2 | AH31: 2 | AJ31: 2 | AL31: 24 | AN31: 1 | AP31: 1 | AR31: 1
B32: CO | C32: 2013 | D32: 09163500 | E32: Colorado River near Colorado-Utah state line | F32: rotate4 | G32: Large River | H32: NAWQA | I32: yes | L32: =J32*K32/100 -> 0 | M32: YES-COOP | P32: 18 | R32: 1 | T32: 18 | V32: 1 | X32: 1 | Z32: 18 | AB32: 1 | AD32: 1 | AF32: 1 | AH32: 1 | AJ32: 1 | AL32: 18 | AN32: 1 | AP32: 1 | AR32: 1
B33: CO | C33: 2013 | D33: 06754000 | E33: South Platte River near Kersey, CO | F33: rotate4 | G33: Large River | H33: NAWQA | I33: yes | L33: =J33*K33/100 -> 0 | P33: 18 | R33: 1 | T33: 18 | V33: 1 | X33: 1 | Z33: 18 | AB33: 1 | AD33: 1 | AF33: 1 | AH33: 1 | AJ33: 1 | AL33: 18 | AN33: 1 | AP33: 1 | AR33: 1
B34: CO | E34: WSC sum | P34: =SUM(P31:P33) -> 60 | Q34: =SUM(Q31:Q33) -> 0 | R34: =SUM(R31:R33) -> 3 | S34: =SUM(S31:S33) -> 0 | T34: =SUM(T31:T33) -> 60 | U34: =SUM(U31:U33) -> 0 | V34: =SUM(V31:V33) -> 3 | W34: =SUM(W31:W33) -> 0 | ... AY34: =SUM(AY31:AY33) -> 0
B36: CT | C36: 2013 | D36: 01184000 | E36: Connecticut River at Thompsonville, CT | F36: rotate4 | G36: Large River | H36: NAWQA | I36: yes | L36: =J36*K36/100 -> 0 | P36: 18 | R36: 1 | T36: 18 | V36: 1 | X36: 1 | Z36: 18 | AB36: 1 | AD36: 1 | AF36: 1 | AH36: 1 | AJ36: 1 | AL36: 18 | AN36: 1 | AP36: 1 | AR36: 1
B37: CT | C37: 2013 | D37: 01170100 | E37: Green River near Colrain, MA | F37: rotate4 | G37: Reference | H37: NAWQA | I37: yes | L37: =J37*K37/100 -> 0 | P37: 6 | R37: 1 | T37: 6 | V37: 1 | X37: 0 | Z37: 6 | AB37: 1 | AD37: 0 | AF37: 0 | AH37: 0 | AJ37: 0 | AL37: 0
B38: CT | C38: 2013 | D38: 01209710 | E38: Norwalk River at Winnipauk,CT | F38: rotate4 | G38: Urban | H38: NAWQA | I38: yes | L38: =J38*K38/100 -> 0 | P38: 24 | R38: 1 | T38: 24 | V38: 1 | X38: 1 | Z38: 24 | AB38: 2 | AD38: 2 | AF38: 2 | AH38: 2 | AJ38: 2 | AL38: 24 | AN38: 1 | AP38: 1 | AR38: 1
B39: CT | E39: WSC sum | P39: =SUM(P36:P38) -> 48 | Q39: =SUM(Q36:Q38) -> 0 | R39: =SUM(R36:R38) -> 3 | S39: =SUM(S36:S38) -> 0 | T39: =SUM(T36:T38) -> 48 | U39: =SUM(U36:U38) -> 0 | V39: =SUM(V36:V38) -> 3 | W39: =SUM(W36:W38) -> 0 | ... AY39: =SUM(AY36:AY38) -> 0
B41: FL | C41: 2013 | D41: 02359170 | E41: Apalachicola River near Sumatra, FL | F41: NMN | G41: Large River | H41: NMN | I41: yes | L41: =J41*K41/100 -> 0 | P41: 14 | R41: 1 | T41: 14 | V41: 1 | X41: 1 | Z41: 14 | AB41: 1 | AD41: 1 | AF41: 1 | AH41: 1 | AJ41: 1 | AL41: 14 | AN41: 1 | AP41: 1 | AR41: 1 | AT41: 14 | AX41: 14
B42: FL | E42: WSC sum | P42: =SUM(P41) -> 14 | Q42: =SUM(Q40:Q41) -> 0 | R42: =SUM(R40:R41) -> 1 | S42: =SUM(S40:S41) -> 0 | T42: =SUM(T40:T41) -> 14 | U42: =SUM(U40:U41) -> 0 | V42: =SUM(V40:V41) -> 1 | W42: =SUM(W40:W41) -> 0 | X42: =SUM(X40:X41) -> 1 | ... AY42: =SUM(AY40:AY41) -> 0
B44: GA | C44: 2013 | D44: 02226160 | E44: Altamaha River at Everett City, GA | F44: NASQAN | G44: Large River | H44: NASQAN | I44: yes | J44: 24250 | K44: 100 | L44: =J44*K44/100 -> 24250 | P44: 14 | R44: 1 | T44: 14 | V44: 1 | X44: 1 | Z44: 14 | AB44: 1 | AD44: 1 | AF44: 1 | AH44: 1 | AJ44: 1 | AL44: 14 | AN44: 1 | AP44: 1 | AR44: 1 | AT44: 14 | AX44: 14
B45: GA | C45: 2013 | D45: 02338523 | E45: Hillibahatchee Creek near Franklin, GA | F45: rotate4 | G45: Reference | H45: NAWQA | I45: yes | J45: 14500 | K45: 100 | L45: =J45*K45/100 -> 14500 | P45: 6 | R45: 1 | T45: 6 | V45: 0 | X45: 1 | Z45: 6 | AB45: 0 | AD45: 1 | AF45: 1 | AH45: 1 | AJ45: 1 | AL45: 0
B46: GA | C46: 2013 | D46: 02335870 | E46: Sope Creek near Marietta, GA | F46: rotate2 | G46: Urban | H46: NAWQA | I46: yes | L46: =J46*K46/100 -> 0 | P46: 24 | R46: 1 | T46: 24 | V46: 1 | X46: 1 | Z46: 24 | AB46: 2 | AD46: 2 | AF46: 2 | AH46: 2 | AJ46: 2 | AL46: 24 | AN46: 1 | AP46: 1 | AR46: 1
B47: GA | E47: WSC sum | P47: =SUM(P44:P46) -> 44 | Q47: =SUM(Q44:Q46) -> 0 | R47: =SUM(R44:R46) -> 3 | S47: =SUM(S44:S46) -> 0 | T47: =SUM(T44:T46) -> 44 | U47: =SUM(U44:U46) -> 0 | V47: =SUM(V44:V46) -> 2 | W47: =SUM(W44:W46) -> 0 | ... AY47: =SUM(AY44:AY46) -> 0
B49: ID | C49: 2013 | D49: 13092747 | E49: Rock Creek at Twin Falls, ID | F49: rotate4 | G49: Agriculture | H49: NAWQA | I49: yes | J49: 17000 | K49: 100 | L49: =J49*K49/100 -> 17000 | P49: 24 | R49: 1 | T49: 24 | V49: 1 | X49: 1 | Z49: 24 | AB49: 2 | AD49: 2 | AF49: 2 | AH49: 2 | AJ49: 2 | AL49: 24 | AN49: 1 | AP49: 1 | AR49: 1
B50: ID | C50: 2013 | D50: 13154500 | E50: Snake River at King Hill, ID | F50: rotate4 | G50: Large River | H50: NAWQA | I50: yes | J50: 17000 | K50: 100 | L50: =J50*K50/100 -> 17000 | P50: 14 | R50: 1 | T50: 14 | V50: 1 | X50: 1 | Z50: 14 | AB50: 1 | AD50: 1 | AF50: 1 | AH50: 1 | AJ50: 1 | AL50: 14 | AN50: 1 | AP50: 1 | AR50: 1
B51: ID | E51: WSC sum | P51: =SUM(P49:P50) -> 38 | Q51: =SUM(Q49:Q50) -> 0 | R51: =SUM(R49:R50) -> 2 | S51: =SUM(S49:S50) -> 0 | T51: =SUM(T49:T50) -> 38 | U51: =SUM(U49:U50) -> 0 | V51: =SUM(V49:V50) -> 2 | W51: =SUM(W49:W50) -> 0 | ... AY51: =SUM(AY49:AY50) -> 0
...

Sheet NFSN Eco Sampling
A1: Last Update | B1: SC | C1: 41179 | E1: Ecological STAID | F1: Ecological Site name | G1: Cycle 2 Site Type | H1: Cycle 3 Site Type | I1: Eco- region | J1: Fiscal year | K1: Reach Sampled (Primary Reach) | L1: Inv / Algae RTH (Riffle or Snag) | M1: Index Period for Inverts and Algae | O1: Inverts - RTH | Q1: Inverts - QMH | S1: Algae - RTH | U1: Algae - Chl a / Biomass | W1: Fish | AB1: Habitat | AF1: SU Annual Comments: Unusual Sampling Circumstances
C2: Primary STAID | D2: Site name | O2: No. of Samples Planned | P2: Date Com-pleted (MM/DD/YY) | Q2: No. of Samples Planned | R2: Date Com-pleted (MM/DD/YY) | S2: No. of Samples Planned | T2: Date Com-pleted (MM/DD/YY) | U2: No. of Samples Planned | V2: Date Com-pleted (MM/DD/YY) | W2: Index Period | Y2: QA Plan Submitted (Yes/No) | Z2: No. of Samples Planned | AA2: Date Com-pleted (MM/DD/YY) | AB2: Index Period | AD2: No. of Samples Planned | AE2: Date Com-pleted (MM/DD/YY)
M3: Start Date | N3: End Date | P3: Reach A | R3: Reach A | T3: Reach A | V3: Reach A | W3: Start Date | X3: End Date | AB3: Start Date | AC3: End Date
B5: AZ | C5: 09471000 | D5: San Pedro River at Charleston, AZ | G5: rotate4 | H5: Reference | I5: 79 | J5: 2013 | K5: A | L5: Riffle | M5: 37561 | N5: 37605 | O5: 1 | Q5: 0 | S5: 1 | U5: 1 | W5: 37561 | X5: 37605 | Z5: 1 | AB5: 37561 | AC5: 37605 | AD5: 1 | AF5: Index pd shifted two weeks later than in Cycle 2 to reflect actual dates sampled. Sampling plan shown for the Fiscal Years in which samples are collected (i.e., Fall 2012 = FY2013)
B6: AZ | C6: 09505800 | D6: West Clear Creek near Camp Verde, AZ | G6: rotate4 | H6: Reference | I6: 23 | J6: 2013 | K6: A | L6: Riffle | M6: 37544 | N6: 37590 | O6: 1 | Q6: 0 | S6: 1 | U6: 1 | W6: 37544 | X6: 37590 | Z6: 1 | AB6: 37544 | AC6: 37590 | AD6: 1 | AF6: Sampling plan shown for the Fiscal Years in which samples are collected (i.e., Fall 2012 = FY2013)
B7: AR | C7: 07055646 | D7: Buffalo River near Boxley, AR | G7: rotate4 | H7: Reference | I7: 38 | J7: 2013 | K7: A | L7: Riffle | M7: 37483 | N7: 37529 | O7: 1 | Q7: 0 | S7: 1 | U7: 1 | W7: 37452 | X7: 37499 | Z7: 1 | AB7: 37452 | AC7: 37499 | AD7: 1
B8: AR | C8: 07060710 | D8: North Sylamore Creek near Fifty Six, AR | G8: rotate4 | H8: Reference | I8: 39 | J8: 2013 | K8: C | L8: Riffle | M8: 37483 | N8: 37529 | O8: 1 | Q8: 0 | S8: 1 | U8: 1 | W8: 37452 | X8: 37499 | Z8: 1 | AB8: 37452 | AC8: 37499 | AD8: 1
B9: CA | C9: 11274538 | D9: Orestimba Creek near Crows Landing, CA | G9: rotate4 | H9: Agricultural | I9: 5 | J9: 2013 | K9: A | L9: Snag | M9: 37483 | N9: 37529 | O9: 1 | Q9: 0 | S9: 1 | U9: 1 | W9: 37483 | X9: 37529 | Z9: 1 | AB9: 37483 | AC9: 37529 | AD9: 1
B10: CA | C10: 11335000 | D10: Cosumnes River at Michigan Bar, CA | G10: eco_only | H10: Reference | I10: 7 | J10: 2013 | K10: C | L10: Riffle | M10: 37483 | N10: 37529 | O10: 1 | Q10: 0 | S10: 1 | U10: 1 | W10: 37483 | X10: 37529 | Z10: 1 | AB10: 37483 | AC10: 37529 | AD10: 1
B11: CA | C11: 11049400 | D11: Santa Ana River above Seven Oaks Dam, CA | E11: 340843117032501 | F11: Santa Ana R nr Running Springs, CA | G11: eco_only | H11: Reference | I11: 8 | J11: 2013 | K11: A | L11: Riffle | M11: 37445 | N11: 37490 | O11: 1 | Q11: 0 | S11: 1 | U11: 1 | W11: 37445 | X11: 37490 | Z11: 1 | AB11: 37445 | AC11: 37490 | AD11: 1
B12: CO | C12: 06713500 | D12: Cherry Creek at Denver, CO | G12: rotate2 | H12: Urban | I12: 25 | J12: 2013 | K12: B | L12: Riffle | M12: 37452 | N12: 37499 | O12: 1 | Q12: 0 | S12: 1 | U12: 1 | W12: 37452 | X12: 37499 | Z12: 1 | AB12: 37452 | AC12: 37499 | AD12: 1
B13: CO | C13: 06879650 | D13: Kings Creek, KS | G13: HBN | H13: HBN | J13: 2013 | M13: 41044 | N13: 41090 | W13: 41044 | X13: 41090 | AB13: 41044 | AC13: 41090
B14: CT | C14: 01170100 | D14: Green River near Colrain, MA | E14: 01170095 | F14: Green River at Stewartville, MA | G14: rotate4 | H14: Reference | I14: 58 | J14: 2013 | K14: A | L14: Riffle | M14: 37469 | N14: 37514 | O14: 1 | Q14: 0 | S14: 1 | U14: 1 | W14: 37469 | X14: 37514 | Z14: 1 | AB14: 37469 | AC14: 37514 | AD14: 1
B15: CT | C15: 01209710 | D15: Norwalk River at Winnipauk,CT | G15: rotate4 | H15: Urban | I15: 59 | J15: 2013 | K15: A | L15: Riffle | M15: 37469 | N15: 37514 | O15: 1 | Q15: 0 | S15: 1 | U15: 1 | W15: 37469 | X15: 37514 | Z15: 1 | AB15: 37469 | AC15: 37514 | AD15: 1
B16: GA | C16: 2338523 | D16: Hillibahatchee Creek near Franklin, GA | G16: rotate4 | H16: Reference | I16: 45 | J16: 2013 | K16: B | L16: Riffle | M16: 37391 | N16: 37437 | O16: 1 | Q16: 0 | S16: 1 | U16: 1 | W16: 37500 | X16: 37544 | Z16: 1 | AB16: 37500 | AC16: 37544 | AD16: 1
B17: GA | C17: 02335870 | D17: Sope Creek near Marietta, GA | G17: rotate2 | H17: Urban | I17: 45 | J17: 2013 | K17: A | L17: Riffle | M17: 37391 | N17: 37437 | O17: 1 | Q17: 0 | S17: 1 | U17: 1 | W17: 37500 | X17: 37544 | Z17: 1 | AB17: 37500 | AC17: 37544 | AD17: 1
B18: ID | C18: 13092747 | D18: Rock Creek at Twin Falls, ID | G18: rotate4 | H18: Agricultural | I18: 12 | J18: 2013 | K18: A | L18: Riffle | M18: 37438 | N18: 37483 | O18: 1 | Q18: 0 | S18: 1 | U18: 1 | W18: 37438 | X18: 37483 | Z18: 1 | AB18: 37438 | AC18: 37483 | AD18: 1
B19: IN | C19: 394340085524601 | D19: Sugar Creek at New Palestine, IN | G19: rotate2 | H19: Agricultural | I19: 55 | J19: 2013 | K19: A | L19: Riffle | M19: 37452 | N19: 37499 | O19: 1 | Q19: 0 | S19: 1 | U19: 1 | W19: 37469 | X19: 37514 | Z19: 1 | AB19: 37452 | AC19: 37499 | AD19: 1
B20: IA | C20: 05451210 | D20: South Fork Iowa River near New Providence, IA | G20: rotate2 | H20: Agricultural | I20: 47 | J20: 2013 | K20: A | L20: Snag | M20: 37469 | N20: 37514 | O20: 1 | Q20: 0 | S20: 1 | U20: 1 | W20: 37483 | X20: 37529 | Z20: 1 | AB20: 37469 | AC20: 37514 | AD20: 1
B21: LA | C21: 08014500 | D21: Ouiska (Whisky) Chitto Creek near Oberlin, LA | G21: rotate4 | H21: Reference | I21: 35 | J21: 2013 | K21: A | L21: Snag | M21: 37452 | N21: 37499 | O21: 1 | Q21: 0 | S21: 1 | U21: 1 | W21: 37452 | X21: 37499 | Z21: 1 | AB21: 37452 | AC21: 37499 | AD21: 1
B22: MD | C22: 01610400 | D22: Waites Run near Wardensville, WV | G22: rotate4 | H22: Reference | I22: 67 | J22: 2013 | K22: B | L22: Riffle | M22: 37438 | N22: 37483 | O22: 1 | Q22: 0 | S22: 1 | U22: 1 | W22: 37438 | X22: 37483 | Z22: 1 | AB22: 37438 | AC22: 37483 | AD22: 1
B23: MD | C23: 01654000 | D23: Accotink Creek near Annandale, VA | G23: rotate2 | H23: Urban | I23: 45 | J23: 2013 | K23: A | L23: Riffle | M23: 37408 | N23: 37452 | O23: 1 | Q23: 0 | S23: 1 | U23: 1 | W23: 37469 | X23: 37514 | Z23: 1 | AB23: 37469 | AC23: 37514 | AD23: 1
B24: MN | C24: 05288705 | D24: Shingle Creek at Minneapolis, MN | G24: rotate2 | H24: Urban | I24: 51 | J24: 2013 | K24: B | L24: Snag | M24: 37483 | N24: 37529 | O24: 1 | Q24: 0 | S24: 1 | U24: 1 | W24: 37483 | X24: 37529 | Z24: 1 | AB24: 37483 | AC24: 37529 | AD24: 1
B25: MS | C25: 07288650 | D25: Bogue Phalia near Leland, MS | G25: dropped08 | H25: Agricultural | I25: 73 | J25: 2013 | K25: A | L25: Snag | M25: 40391 | N25: 40436 | O25: 1 | Q25: 0 | S25: 1 | U25: 1 | W25: 37452 | X25: 37499 | Z25: 1 | AB25: 37452 | AC25: 37499 | AD25: 1
B26: NE | C26: 06775900 | D26: Dismal River near Thedford, NE | G26: eco_only | H26: Reference | I26: 44 | J26: 2013 | K26: C | L26: Snag | M26: 37469 | N26: 37514 | O26: 1 | Q26: 0 | S26: 1 | U26: 1 | W26: 37469 | X26: 37514 | Z26: 1 | AB26: 37469 | AC26: 37514 | AD26: 1
B27: NE | C27: 06800000 | D27: Maple Creek near Nickerson, NE | G27: rotate2 | H27: Agricultural | I27: 47 | J27: 2013 | K27: C | L27: Snag | M27: 37469 | N27: 37514 | O27: 1 | Q27: 0 | S27: 1 | U27: 1 | W27: 37469 | X27: 37514 | Z27: 1 | AB27: 37469 | AC27: 37514 | AD27: 1
B28: NM | C28: 08227000 | D28: Saguache Creek near Saguache, CO | G28: eco_only | H28: Reference | I28: 21 | J28: 2013 | K28: A | L28: Riffle | M28: 37452 | N28: 37499 | O28: 1 | Q28: 0 | S28: 1 | U28: 1 | W28: 37452 | X28: 37499 | Z28: 1 | AB28: 37452 | AC28: 37499 | AD28: 1
... B30: NC | C30: 02091500 | D30: Contentnea Creek at Hookerton, NC | G30: rotate4 | H30: Agricultural | I30: 65 | J30: 2013 | K30: A | L30: Snag | M30: 37391 | N30: 37437 | O30: 1 | Q30: 0 | S30: 1 | U30: 1 | W30: 37500 | X30: 37544 | Z30: 1 | AB30: 37500 | AC30: 37544 | AD30: 1
B31: NC | C31: 2087580 | D31: Swift Creek near Apex, NC | G31: rotate2 | H31: Urban | I31: 65 | J31: 2013 | K31: C | L31: Riffle | M31: 37391 | N31: 37437 | O31: 1 | Q31: 0 | S31: 1 | U31: 1 | W31: 37500 | X31: 37544 | Z31: 1 | AB31: 37500 | AC31: 37544 | AD31: 1
B32: OH | C32: 04161820 | D32: Clinton River at Sterling Heights, MI | G32: rotate4 | H32: Urban | I32: 56 | J32: 2013 | K32: A | L32: Riffle | M32: 37469 | N32: 37514 | O32: 1 | Q32: 0 | S32: 1 | U32: 1 | W32: 37469 | X32: 37514 | Z32: 1 | AB32: 37469 | AC32: 37514 | AD32: 1
B33: OR | C33: 14201300 | D33: Zollner Creek near Mt. Angel, OR | G33: rotate4 | H33: Agricultural | I33: 3 | J33: 2013 | K33: A | L33: Snag | M33: 37483 | N33: 37529 | O33: 1 | Q33: 0 | S33: 1 | U33: 1 | W33: 37483 | X33: 37529 | Z33: 1 | AB33: 37483 | AC33: 37529 | AD33: 1
B34: OR | C34: 14206950 | D34: Fanno Creek at Durham, OR | G34: rotate2 | H34: Urban | I34: 3 | J34: 2013 | K34: A | L34: Riffle | M34: 37483 | N34: 37529 | O34: 1 | Q34: 0 | S34: 1 | U34: 1 | W34: 37483 | X34: 37529 | Z34: 1 | AB34: 37483 | AC34: 37529 | AD34: 1
B35: OR | C35: 14205400 | D35: E Fork Dairy Creek near Meachan Corner, OR | G35: rotate4 | H35: Reference | I35: 3 | J35: 2013 | K35: A | L35: Riffle | M35: 37483 | N35: 37529 | O35: 1 | Q35: 0 | S35: 1 | U35: 1 | W35: 37483 | X35: 37529 | Z35: 1 | AB35: 37483 | AC35: 37529 | AD35: 1
B36: SC | C36: 02172300 | D36: McTier Creek near Monetta, SC | G36: rotate4 | H36: Reference | I36: 65 | J36: 2013 | K36: A | L36: Snag | M36: 37391 | N36: 37437 | O36: 1 | Q36: 0 | S36: 1 | U36: 1 | W36: 37500 | X36: 37544 | Z36: 1 | AB36: 37391 | AC36: 37437 | AD36: 1
B37: TX | C37: 08057200 | D37: White Rock Creek at Dallas, TX | G37: rotate2 | H37: Urban | I37: 32 | J37: 2013 | K37: A | L37: Riffle | M37: 37438 | N37: 37483 | O37: 1 | Q37: 0 | S37: 1 | U37: 1 | W37: 37438 | X37: 37483 | Z37: 1 | AB37: 37438 | AC37: 37483 | AD37: 1
B38: TX | C38: 08195000 | D38: Frio River at Concan, TX | G38: eco_only | H38: Reference | I38: 30 | J38: 2013 | K38: B | L38: Riffle | M38: 37438 | N38: 37483 | O38: 1 | Q38: 0 | S38: 1 | U38: 1 | W38: 38899 | X38: 38944 | Z38: 1 | AB38: 38899 | AC38: 38944 | AD38: 1
B39: TX | C39: 07335700 | D39: Kiamichi River, OK | G39: HBN | H39: HBN | J39: 2013 | M39: 37438 | N39: 37483 | O39: 0 | Q39: 0 | S39: 0 | U39: 0 | W39: 37438 | X39: 37483 | Z39: 0 | AB39: 37438 | AC39: 37483 | AD39: 0 | AF39: could not sample in FY12 due to no flow; can not carry over funds into FY13. - dropped
B40: UT | C40: 10168000 | D40: Little Cottonwood Creek at Salt Lake City, UT | G40: rotate2 | H40: Urban | I40: 19 | J40: 2013 | K40: A | L40: Depositional | M40: 37452 | N40: 37864 | O40: 1 | Q40: 0 | S40: 1 | U40: 1 | W40: 37452 | X40: 37864 | Z40: 1 | AB40: 37452 | AC40: 37864 | AD40: 1
B41: UT | C41: 10172200 | D41: Red Butte Creek at Ft Douglas, UT | G41: rotate4 | H41: Reference | I41: 19 | J41: 2013 | K41: A | L41: Riffle | M41: 37452 | N41: 37864 | O41: 1 | Q41: 0 | S41: 1 | U41: 1 | Z41: 0 | AB41: 37452 | AC41: 37864 | AD41: 1 | AF41: No fish collected at this site (only fish present are those stocked by the State).
B42: WA | C42: 12505450 | D42: Granger Drain at Granger, WA | G42: rotate4 | H42: Agricultural | I42: 10 | J42: 2013 | K42: A | L42: Riffle | M42: 40391 | N42: 40436 | O42: 1 | Q42: 0 | S42: 1 | U42: 1 | W42: 40391 | X42: 40436 | Z42: 1 | AB42: 40391 | AC42: 40436 | AD42: 1
...

Sheet Sample counts
A1: SC Collecting Samples | B1: Suspended Sediment Samples | C1: SH 998/1201 Major Ion Samples | D1: SH 1674 Major Ions Blanks | E1: SH 2430/2431/2432 Nutrients Samples | F1: SH 452 Nutrient Blanks | G1: SH 1675 Nutrient Blanks | H1: LC 8096 uv 412 nm Blanks | I1: LC 8097 Dissolved Inorganic Carbon Blanks | J1: SH2437 Pesticide Samples | K1: SH2437 Pesticide Blanks | L1: LC 2172 Inverts RTH | M1: LC 2176 Inverts QMH | N1: Algae RTH | O1: SH 1632 Chl a
A2: AL | B2: ='NFSN Chem Sampling'!$P$7+'NFSN Chem Sampling'!$R$7 -> 34 | C2: ='NFSN Chem Sampling'!$T$7+'NFSN Chem Sampling'!$V$7 -> 34 | D2: ='NFSN Chem Sampling'!$X$7 -> 2 | E2: ='NFSN Chem Sampling'!$Z$7+'NFSN Chem Sampling'!$AB$7 -> 34 | F2: ='NFSN Chem Sampling'!$AD$7 -> 2 | G2: ='NFSN Chem Sampling'!$AF$7 -> 2 | H2: ='NFSN Chem Sampling'!$AH$7 -> 2 | I2: ='NFSN Chem Sampling'!$AJ$7 -> 2 | J2: ='NFSN Chem Sampling'!AL7+'NFSN Chem Sampling'!AP7+'NFSN Chem Sampling'!AR7 -> 36 | K2: ='NFSN Chem Sampling'!$AN$7 -> 2 | L2: 0 | M2: 0 | N2: 0 | O2: 0
A3: AK | B3: ='NFSN Chem Sampling'!$P$10+'NFSN Chem Sampling'!$R$10 -> 8 | C3: ='NFSN Chem Sampling'!$T$10+'NFSN Chem Sampling'!$V$10 -> 8 | D3: ='NFSN Chem Sampling'!$X$10 -> 0 | E3: ='NFSN Chem Sampling'!$Z$10+'NFSN Chem Sampling'!$AB$10 -> 8 | F3: ='NFSN Chem Sampling'!$AD$10 -> 0 | G3: ='NFSN Chem Sampling'!$AF$10 -> 0 | H3: ='NFSN Chem Sampling'!$AH$10 -> 0 | I3: ='NFSN Chem Sampling'!$AJ$10 -> 0 | J3: ='NFSN Chem Sampling'!AL10+'NFSN Chem Sampling'!AP10+'NFSN Chem Sampling'!AR10 -> 4 | K3: ='NFSN Chem Sampling'!$AN$10 -> 0 | L3: 0 | M3: 0 | N3: 0 | O3: 0
A4: AZ | B4: ='NFSN Chem Sampling'!$P$16+'NFSN Chem Sampling'!$R$16 -> 42 | C4: ='NFSN Chem Sampling'!$T$16+'NFSN Chem Sampling'!$V$16 -> 41 | D4: ='NFSN Chem Sampling'!$X$16 -> 3 | E4: ='NFSN Chem Sampling'!$Z$16+'NFSN Chem Sampling'!$AB$16 -> 41 | F4: ='NFSN Chem Sampling'!$AD$16 -> 3 | G4: ='NFSN Chem Sampling'!$AF$16 -> 3 | H4: ='NFSN Chem Sampling'!$AH$16 -> 3 | I4: ='NFSN Chem Sampling'!$AJ$16 -> 3 | J4: ='NFSN Chem Sampling'!AL16+'NFSN Chem Sampling'!AP16+'NFSN Chem Sampling'!AR16 -> 30 | K4: ='NFSN Chem Sampling'!$AN$16 -> 2 | L4: ='NFSN Eco Sampling'!$O$5+'NFSN Eco Sampling'!$O$6 -> 2 | M4: ='NFSN Eco Sampling'!$Q$5+'NFSN Eco Sampling'!$Q$6 -> 0 | N4: ='NFSN Eco Sampling'!$S$5+'NFSN Eco Sampling'!$S$6 -> 2 | O4: ='NFSN Eco Sampling'!$U$5+'NFSN Eco Sampling'!$U$6 -> 2
A5: AR | B5: ='NFSN Chem Sampling'!$P$21+'NFSN Chem Sampling'!$R$21 -> 29 | C5: ='NFSN Chem Sampling'!$T$21+'NFSN Chem Sampling'!$V$21 -> 28 | D5: ='NFSN Chem Sampling'!$X$21 -> 2 | E5: ='NFSN Chem Sampling'!$Z$21+'NFSN Chem Sampling'!$AB$21 -> 28 | F5: ='NFSN Chem Sampling'!$AD$21 -> 2 | G5: ='NFSN Chem Sampling'!$AF$21 -> 2 | H5: ='NFSN Chem Sampling'!$AH$21 -> 2 | I5: ='NFSN Chem Sampling'!$AJ$21 -> 2 | J5: ='NFSN Chem Sampling'!AL21+'NFSN Chem Sampling'!AP21+'NFSN Chem Sampling'!AR21 -> 16 | K5: ='NFSN Chem Sampling'!$AN$21 -> 1 | L5: ='NFSN Eco Sampling'!$O$7+'NFSN Eco Sampling'!$O$8 -> 2 | M5: ='NFSN Eco Sampling'!$Q$7+'NFSN Eco Sampling'!$Q$8 -> 0 | N5: ='NFSN Eco Sampling'!$S$7+'NFSN Eco Sampling'!$S$8 -> 2 | O5: ='NFSN Eco Sampling'!$U$7+'NFSN Eco Sampling'!$U$8 -> 2
A6: CA | B6: ='NFSN Chem Sampling'!$P$29+'NFSN Chem Sampling'!$R$29 -> 92 | C6: ='NFSN Chem Sampling'!$T$29+'NFSN Chem Sampling'!$V$29 -> 91 | D6: ='NFSN Chem Sampling'!$X$29 -> 6 | E6: ='NFSN Chem Sampling'!$Z$29+'NFSN Chem Sampling'!$AB$29 -> 92 | F6: ='NFSN Chem Sampling'!$AD$29 -> 7 | G6: ='NFSN Chem Sampling'!$AF$29 -> 7 | H6: ='NFSN Chem Sampling'!$AH$29 -> 6 | I6: ='NFSN Chem Sampling'!$AJ$29 -> 6 | J6: ='NFSN Chem Sampling'!AL29+'NFSN Chem Sampling'!AP29+'NFSN Chem Sampling'!AR29 -> 82 | K6: ='NFSN Chem Sampling'!$AN$29 -> 4 | L6: ='NFSN Eco Sampling'!$O$9+'NFSN Eco Sampling'!$O$10+'NFSN Eco Sampling'!$O$11 -> 3 | M6: ='NFSN Eco Sampling'!$Q$9+'NFSN Eco Sampling'!$Q$10+'NFSN Eco Sampling'!$Q$11 -> 0 | N6: ='NFSN Eco Sampling'!$S$9+'NFSN Eco Sampling'!$S$10+'NFSN Eco Sampling'!$S$11 -> 3 | O6: ='NFSN Eco Sampling'!$U$9+'NFSN Eco Sampling'!$U$10+'NFSN Eco Sampling'!$U$11 -> 3
A7: CO | B7: ='NFSN Chem Sampling'!$P$34+'NFSN Chem Sampling'!$R$34 -> 63 | C7: ='NFSN Chem Sampling'!$T$34+'NFSN Chem Sampling'!$V$34 -> 63 | D7: ='NFSN Chem Sampling'!$X$34 -> 3 | E7: ='NFSN Chem Sampling'!$Z$34+'NFSN Chem Sampling'!$AB$34 -> 64 | F7: ='NFSN Chem Sampling'!$AD$34 -> 4 | G7: ='NFSN Chem Sampling'!$AF$34 -> 4 | H7: ='NFSN Chem Sampling'!$AH$34 -> 4 | I7: ='NFSN Chem Sampling'!$AJ$34 -> 4 | J7: ='NFSN Chem Sampling'!AL34+'NFSN Chem Sampling'!AP34+'NFSN Chem Sampling'!AR34 -> 66 | K7: ='NFSN Chem Sampling'!$AN$34 -> 3 | L7: ='NFSN Eco Sampling'!$O$12 -> 1 | M7: ='NFSN Eco Sampling'!$Q$12 -> 0 | N7: ='NFSN Eco Sampling'!$S$12 -> 1 | O7: ='NFSN Eco Sampling'!$U$12 -> 1
A8: CT | B8: ='NFSN Chem Sampling'!$P$39+'NFSN Chem Sampling'!$R$39 -> 51 | C8: ='NFSN Chem Sampling'!$T$39+'NFSN Chem Sampling'!$V$39 -> 51 | D8: ='NFSN Chem Sampling'!$X$39 -> 2 | E8: ='NFSN Chem Sampling'!$Z$39+'NFSN Chem Sampling'!$AB$39 -> 52 | F8: ='NFSN Chem Sampling'!$AD$39 -> 3 | G8: ='NFSN Chem Sampling'!$AF$39 -> 3 | H8: ='NFSN Chem Sampling'!$AH$39 -> 3 | I8: ='NFSN Chem Sampling'!$AJ$39 -> 3 | J8: ='NFSN Chem Sampling'!AL39+'NFSN Chem Sampling'!AP39+'NFSN Chem Sampling'!AR39 -> 46 | K8: ='NFSN Chem Sampling'!$AN$39 -> 2 | L8: ='NFSN Eco Sampling'!$O$14+'NFSN Eco Sampling'!$O$15 -> 2 | M8: ='NFSN Eco Sampling'!$Q$14+'NFSN Eco Sampling'!$Q$15 -> 0 | N8: ='NFSN Eco Sampling'!$S$14+'NFSN Eco Sampling'!$S$15 -> 2 | O8: ='NFSN Eco Sampling'!$U$14+'NFSN Eco Sampling'!$U$15 -> 2
A9: FL | B9: ='NFSN Chem Sampling'!$P$42+'NFSN Chem Sampling'!$R$42 -> 15 | C9: ='NFSN Chem Sampling'!$T$42+'NFSN Chem Sampling'!$V$42 -> 15 | D9: ='NFSN Chem Sampling'!$X$42 -> 1 | E9: ='NFSN Chem Sampling'!$Z$42+'NFSN Chem Sampling'!$AB$42 -> 15 | F9: ='NFSN Chem Sampling'!$AD$42 -> 1 | G9: ='NFSN Chem Sampling'!$AF$42 -> 1 | H9: ='NFSN Chem Sampling'!$AH$42 -> 1 | I9: ='NFSN Chem Sampling'!$AJ$42 -> 1 | J9: ='NFSN Chem Sampling'!AL42+'NFSN Chem Sampling'!AP42+'NFSN Chem Sampling'!AR42 -> 16 | K9: ='NFSN Chem Sampling'!$AN$42 -> 1 | L9: 0 | M9: 0 | N9: 0 | O9: 0
A10: GA | B10: ='NFSN Chem Sampling'!$P$47+'NFSN Chem Sampling'!$R$47 -> 47 | C10: ='NFSN Chem Sampling'!$T$47+'NFSN Chem Sampling'!$V$47 -> 46 | D10: ='NFSN Chem Sampling'!$X$47 -> 3 | E10: ='NFSN Chem Sampling'!$Z$47+'NFSN Chem Sampling'!$AB$47 -> 47 | F10: ='NFSN Chem Sampling'!$AD$47 -> 4 | G10: ='NFSN Chem Sampling'!$AF$47 -> 4 | H10: ='NFSN Chem Sampling'!$AH$47 -> 4 | I10: ='NFSN Chem Sampling'!$AJ$47 -> 4 | J10: ='NFSN Chem Sampling'!AL47+'NFSN Chem Sampling'!AP47+'NFSN Chem Sampling'!AR47 -> 42 | K10: ='NFSN Chem Sampling'!$AN$47 -> 2 | L10: ='NFSN Eco Sampling'!$O$16+'NFSN Eco Sampling'!$O$17 -> 2 | M10: ='NFSN Eco Sampling'!$Q$16+'NFSN Eco Sampling'!$Q$17 -> 0 | N10: ='NFSN Eco Sampling'!$S$16+'NFSN Eco Sampling'!$S$17 -> 2 | O10: ='NFSN Eco Sampling'!$U$16+'NFSN Eco Sampling'!$U$17 -> 2
A11: ID | B11: ='NFSN Chem Sampling'!$P$51+'NFSN Chem Sampling'!$R$51 -> 40 | C11: ='NFSN Chem Sampling'!$T$51+'NFSN Chem Sampling'!$V$51 -> 40 | D11: ='NFSN Chem Sampling'!$X$51 -> 2 | E11: ='NFSN Chem Sampling'!$Z$51+'NFSN Chem Sampling'!$AB$51 -> 41 | F11: ='NFSN Chem Sampling'!$AD$51 -> 3 | G11: ='NFSN Chem Sampling'!$AF$51 -> 3 | H11: ='NFSN Chem Sampling'!$AH$51 -> 3 | I11: ='NFSN Chem Sampling'!$AJ$51 -> 3 | J11: ='NFSN Chem Sampling'!AL51+'NFSN Chem Sampling'!AP51+'NFSN Chem Sampling'!AR51 -> 42 | K11: ='NFSN Chem Sampling'!$AN$51 -> 2 | L11: ='NFSN Eco Sampling'!$O$18 -> 1 | M11: ='NFSN Eco Sampling'!$Q$18 -> 0 | N11: ='NFSN Eco Sampling'!$S$18 -> 1 | O11: ='NFSN Eco Sampling'!$U$18 -> 1
A12: IL | B12: ='NFSN Chem Sampling'!$P$54+'NFSN Chem Sampling'!$R$54 -> 15 | C12: ='NFSN Chem Sampling'!$T$54+'NFSN Chem Sampling'!$V$54 -> 15 | D12: ='NFSN Chem Sampling'!$X$54 -> 1 | E12: ='NFSN Chem Sampling'!$Z$54+'NFSN Chem Sampling'!$AB$54 -> 15 | F12: ='NFSN Chem Sampling'!$AD$54 -> 1 | G12: ='NFSN Chem Sampling'!$AF$54 -> 1 | H12: ='NFSN Chem Sampling'!$AH$54 -> 1 | I12: ='NFSN Chem Sampling'!$AJ$54 -> 1 | J12: ='NFSN Chem Sampling'!AL54+'NFSN Chem Sampling'!AP54+'NFSN Chem Sampling'!AR54 -> 16 | K12: ='NFSN Chem Sampling'!$AN$54 -> 1 | L12: 0 | M12: 0 | N12: 0 | O12: 0
A13: IN | B13: ='NFSN Chem Sampling'!$P$58+'NFSN Chem Sampling'!$R$58 -> 44 | C13: ='NFSN Chem Sampling'!$T$58+'NFSN Chem Sampling'!$V$58 -> 44 | D13: ='NFSN Chem Sampling'!$X$58 -> 2 | E13: ='NFSN Chem Sampling'!$Z$58+'NFSN Chem Sampling'!$AB$58 -> 45 | F13: ='NFSN Chem Sampling'!$AD$58 -> 3 | G13: ='NFSN Chem Sampling'!$AF$58 -> 3 | H13: ='NFSN Chem Sampling'!$AH$58 -> 3 | I13: ='NFSN Chem Sampling'!$AJ$58 -> 3 | J13: ='NFSN Chem Sampling'!AL58+'NFSN Chem Sampling'!AP58+'NFSN Chem Sampling'!AR58 -> 46 | K13: ='NFSN Chem Sampling'!$AN$58 -> 2 | L13: ='NFSN Eco Sampling'!$O$19 -> 1 | M13: ='NFSN Eco Sampling'!$Q$19 -> 0 | N13: ='NFSN Eco Sampling'!$S$19 -> 1 | O13: ='NFSN Eco Sampling'!$U$19 -> 1
A14: IA | B14: ='NFSN Chem Sampling'!$P$65+'NFSN Chem Sampling'!$R$65 -> 85 | C14: ='NFSN Chem Sampling'!$T$65+'NFSN Chem Sampling'!$V$65 -> 85 | D14: ='NFSN Chem Sampling'!$X$65 -> 5 | E14: ='NFSN Chem Sampling'!$Z$65+'NFSN Chem Sampling'!$AB$65 -> 86 | F14: ='NFSN Chem Sampling'!$AD$65 -> 6 | G14: ='NFSN Chem Sampling'!$AF$65 -> 6 | H14: ='NFSN Chem Sampling'!$AH$65 -> 6 | I14: ='NFSN Chem Sampling'!$AJ$65 -> 6 | J14: ='NFSN Chem Sampling'!AL65+'NFSN Chem Sampling'!AP65+'NFSN Chem Sampling'!AR65 -> 90 | K14: ='NFSN Chem Sampling'!$AN$65 -> 5 | L14: ='NFSN Eco Sampling'!$O$20 -> 1 | M14: ='NFSN Eco Sampling'!$Q$20 -> 0 | N14: ='NFSN Eco Sampling'!$S$20 -> 1 | O14: ='NFSN Eco Sampling'!$U$20 -> 1
A15: KS | B15: ='NFSN Chem Sampling'!$P$69+'NFSN Chem Sampling'!$R$69 -> 34 | C15: ='NFSN Chem Sampling'!$T$69+'NFSN Chem Sampling'!$V$69 -> 34 | D15: ='NFSN Chem Sampling'!$X$69 -> 2 | E15: ='NFSN Chem Sampling'!$Z$69+'NFSN Chem Sampling'!$AB$69 -> 34 | F15: ='NFSN Chem Sampling'!$AD$69 -> 2 | G15: ='NFSN Chem Sampling'!$AF$69 -> 2 | H15: ='NFSN Chem Sampling'!$AH$69 -> 2 | I15: ='NFSN Chem Sampling'!$AJ$69 -> 2 | J15: ='NFSN Chem Sampling'!AL69+'NFSN Chem Sampling'!AP69+'NFSN Chem Sampling'!AR69 -> 36 | K15: ='NFSN Chem Sampling'!$AN$69 -> 2 | L15: 0 | M15: 0 | N15: 0 | O15: 0
A16: KY | B16: ='NFSN Chem Sampling'!$P$75+'NFSN Chem Sampling'!$R$75 -> 60 | C16: ='NFSN Chem Sampling'!$T$75+'NFSN Chem Sampling'!$V$75 -> 60 | D16: ='NFSN Chem Sampling'!$X$75 -> 4 | E16: ='NFSN Chem Sampling'!$Z$75+'NFSN Chem Sampling'!$AB$75 -> 60 | F16: ='NFSN Chem Sampling'!$AD$75 -> 4 | G16: ='NFSN Chem Sampling'!$AF$75 -> 4 | H16: ='NFSN Chem Sampling'!$AH$75 -> 4 | I16: ='NFSN Chem Sampling'!$AJ$75 -> 4 | J16: ='NFSN Chem Sampling'!AL75+'NFSN Chem Sampling'!AP75+'NFSN Chem Sampling'!AR75 -> 64 | K16: ='NFSN Chem Sampling'!$AN$75 -> 4 | L16: 0 | M16: 0 | N16: 0 | O16: 0
A17: LA | B17: ='NFSN Chem Sampling'!$P$84+'NFSN Chem Sampling'!$R$84 -> 101 | C17: ='NFSN Chem Sampling'!$T$84+'NFSN Chem Sampling'!$V$84 -> 101 | D17: ='NFSN Chem Sampling'!$X$84 -> 6 | E17: ='NFSN Chem Sampling'!$Z$84+'NFSN Chem Sampling'!$AB$84 -> 101 | F17: ='NFSN Chem Sampling'!$AD$84 -> 6 | G17: ='NFSN Chem Sampling'!$AF$84 -> 6 | H17: ='NFSN Chem Sampling'!$AH$84 -> 6 | I17: ='NFSN Chem Sampling'!$AJ$84 -> 6 | J17: ='NFSN Chem Sampling'!AL84+'NFSN Chem Sampling'!AP84+'NFSN Chem Sampling'!AR84 -> 100 | K17: ='NFSN Chem Sampling'!$AN$84 -> 6 | L17: ='NFSN Eco Sampling'!$O$21 -> 1 | M17: ='NFSN Eco Sampling'!$Q$21 -> 0 | N17: ='NFSN Eco Sampling'!$S$21 -> 1 | O17: ='NFSN Eco Sampling'!$U$21 -> 1
A18: MD | B18: ='NFSN Chem Sampling'!$P$90+'NFSN Chem Sampling'!$R$90 -> 66 | C18: ='NFSN Chem Sampling'!$T$90+'NFSN Chem Sampling'!$V$90 -> 65 | D18: ='NFSN Chem Sampling'!$X$90 -> 4 | E18: ='NFSN Chem Sampling'!$Z$90+'NFSN Chem Sampling'!$AB$90 -> 66 | F18: ='NFSN Chem Sampling'!$AD$90 -> 5 | G18: ='NFSN Chem Sampling'!$AF$90 -> 5 | H18: ='NFSN Chem Sampling'!$AH$90 -> 5 | I18: ='NFSN Chem Sampling'!$AJ$90 -> 5 | J18: ='NFSN Chem Sampling'!AL90+'NFSN Chem Sampling'!AP90+'NFSN Chem Sampling'!AR90 -> 62 | K18: ='NFSN Chem Sampling'!$AN$90 -> 3 | L18: ='NFSN Eco Sampling'!$O$22+'NFSN Eco Sampling'!$O$23 -> 2 | M18: ='NFSN Eco Sampling'!$Q$22+'NFSN Eco Sampling'!$Q$23 -> 0 | N18: ='NFSN Eco Sampling'!$S$22+'NFSN Eco Sampling'!$S$23 -> 2 | O18: ='NFSN Eco Sampling'!$U$22+'NFSN Eco Sampling'!$U$23 -> 2
A19: MI | B19: ='NFSN Chem Sampling'!$P$93+'NFSN Chem Sampling'!$R$93 -> 25 | C19: ='NFSN Chem Sampling'!$T$93+'NFSN Chem Sampling'!$V$93 -> 25 | D19: ='NFSN Chem Sampling'!$X$93 -> 1 | E19: ='NFSN Chem Sampling'!$Z$93+'NFSN Chem Sampling'!$AB$93 -> 26 | F19: ='NFSN Chem Sampling'!$AD$93 -> 2 | G19: ='NFSN Chem Sampling'!$AF$93 -> 2 | H19: ='NFSN Chem Sampling'!$AH$93 -> 2 | I19: ='NFSN Chem Sampling'!$AJ$93 -> 2 | J19: ='NFSN Chem Sampling'!AL93+'NFSN Chem Sampling'!AP93+'NFSN Chem Sampling'!AR93 -> 26 | K19: ='NFSN Chem Sampling'!$AN$93 -> 1 | L19: 0 | M19: 0 | N19: 0 | O19: 0
A20: MN | B20: ='NFSN Chem Sampling'!$P$97+'NFSN Chem Sampling'!$R$97 -> 40 | C20: ='NFSN Chem Sampling'!$T$97+'NFSN Chem Sampling'!$V$97 -> 40 | D20: ='NFSN Chem Sampling'!$X$97 -> 2 | E20: ='NFSN Chem Sampling'!$Z$97+'NFSN Chem Sampling'!$AB$97 -> 41 | F20: ='NFSN Chem Sampling'!$AD$97 -> 3 | G20: ='NFSN Chem Sampling'!$AF$97 -> 3 | H20: ='NFSN Chem Sampling'!$AH$97 -> 3 | I20: ='NFSN Chem Sampling'!$AJ$97 -> 3 | J20: ='NFSN Chem Sampling'!AL97+'NFSN Chem Sampling'!AP97+'NFSN Chem Sampling'!AR97 -> 42 | K20: ='NFSN Chem Sampling'!$AN$119 -> 1 | L20: ='NFSN Eco Sampling'!$O$24 -> 1 | M20: ='NFSN Eco Sampling'!$Q$24 -> 0 | N20: ='NFSN Eco Sampling'!$S$24 -> 1 | O20: ='NFSN Eco Sampling'!$U$24 -> 1
A21: MS | B21: ='NFSN Chem Sampling'!$P$102+'NFSN Chem Sampling'!$R$102 -> 59 | C21: ='NFSN Chem Sampling'!$T$102+'NFSN Chem Sampling'!$V$102 -> 59 | D21: ='NFSN Chem Sampling'!$X$102 -> 3 | E21: ='NFSN Chem Sampling'!$Z$102+'NFSN Chem Sampling'!$AB$102 -> 60 | F21: ='NFSN Chem Sampling'!$AD$102 -> 4 | G21: ='NFSN Chem Sampling'!$AF$102 -> 4 | H21: ='NFSN Chem Sampling'!$AH$102 -> 4 | I21: ='NFSN Chem Sampling'!$AJ$102 -> 4 | J21: ='NFSN Chem Sampling'!AL102+'NFSN Chem Sampling'!AP102+'NFSN Chem Sampling'!AR102 -> 62 | K21: ='NFSN Chem Sampling'!$AN$102 -> 3 | L21: ='NFSN Eco Sampling'!$O$25 -> 1 | M21: ='NFSN Eco Sampling'!$Q$25 -> 0 | N21: ='NFSN Eco Sampling'!$S$25 -> 1 | O21: ='NFSN Eco Sampling'!$U$25 -> 1
A22: MO | B22: ='NFSN Chem Sampling'!$P$107+'NFSN Chem Sampling'!$R$107 -> 45 | C22: ='NFSN Chem Sampling'!$T$107+'NFSN Chem Sampling'!$V$107 -> 45 | D22: ='NFSN Chem Sampling'!$X$107 -> 3 | E22: ='NFSN Chem Sampling'!$Z$107+'NFSN Chem Sampling'!$AB$107 -> 45 | F22: ='NFSN Chem Sampling'!$AD$107 -> 3 | G22: ='NFSN Chem Sampling'!$AF$107 -> 3 | H22: ='NFSN Chem Sampling'!$AH$107 -> 3 | I22: ='NFSN Chem Sampling'!$AJ$107 -> 3 | J22: ='NFSN Chem Sampling'!AL107+'NFSN Chem Sampling'!AP107+'NFSN Chem Sampling'!AR107 -> 48 | K22: ='NFSN Chem Sampling'!$AN$107 -> 3 | L22: 0 | M22: 0 | N22: 0 | O22: 0
A23: NE | B23: ='NFSN Chem Sampling'!$P$113+'NFSN Chem Sampling'!$R$113 -> 66 | C23: ='NFSN Chem Sampling'!$T$113+'NFSN Chem Sampling'!$V$113 -> 66 | D23: ='NFSN Chem Sampling'!$X$113 -> 3 | E23: ='NFSN Chem Sampling'!$Z$113+'NFSN Chem Sampling'!$AB$113 -> 67 | F23: ='NFSN Chem Sampling'!$AD$113 -> 4 | G23: ='NFSN Chem Sampling'!$AF$113 -> 4 | H23: ='NFSN Chem Sampling'!$AH$113 -> 4 | I23: ='NFSN Chem Sampling'!$AJ$113 -> 4 | J23: ='NFSN Chem Sampling'!AL113+'NFSN Chem Sampling'!AP113+'NFSN Chem Sampling'!AR113 -> 62 | K23: ='NFSN Chem Sampling'!$AN$113 -> 3 | L23: ='NFSN Eco Sampling'!$O$26+'NFSN Eco Sampling'!$O$27 -> 2 | M23: ='NFSN Eco Sampling'!$Q$26+'NFSN Eco Sampling'!$Q$27 -> 0 | N23: ='NFSN Eco Sampling'!$S$26+'NFSN Eco Sampling'!$S$27 -> 2 | O23: ='NFSN Eco Sampling'!$U$26+'NFSN Eco Sampling'!$U$27 -> 2
A24: NV | B24: ='NFSN Chem Sampling'!$P$116+'NFSN Chem Sampling'!$R$116 -> 19 | C24: ='NFSN Chem Sampling'!$T$116+'NFSN Chem Sampling'!$V$116 -> 19 | D24: ='NFSN Chem Sampling'!$X$116 -> 1 | E24: ='NFSN Chem Sampling'!$Z$116+'NFSN Chem Sampling'!$AB$116 -> 19 | F24: ='NFSN Chem Sampling'!$AD$116 -> 1 | G24: ='NFSN Chem Sampling'!$AF$116 -> 1 | H24: ='NFSN Chem Sampling'!$AH$116 -> 1 | I24: ='NFSN Chem Sampling'!$AJ$116 -> 1 | J24: ='NFSN Chem Sampling'!AL116+'NFSN Chem Sampling'!AP116+'NFSN Chem Sampling'!AR116 -> 20 | K24: ='NFSN Chem Sampling'!$AN$116 -> 1 | L24: 0 | M24: 0 | N24: 0 | O24: 0
A25: NJ | B25: ='NFSN Chem Sampling'!$P$119+'NFSN Chem Sampling'!$R$119 -> 15 | C25: ='NFSN Chem Sampling'!$T$119+'NFSN Chem Sampling'!$V$119 -> 15 | D25: ='NFSN Chem Sampling'!$X$119 -> 1 | E25: ='NFSN Chem Sampling'!$Z$119+'NFSN Chem Sampling'!$AB$119 -> 15 | F25: ='NFSN Chem Sampling'!$AD$119 -> 1 | G25: ='NFSN Chem Sampling'!$AF$119 -> 1 | H25: ='NFSN Chem Sampling'!$AH$119 -> 1 | I25: ='NFSN Chem Sampling'!$AJ$119 -> 1 | J25: ='NFSN Chem Sampling'!AL119+'NFSN Chem Sampling'!AP119+'NFSN Chem Sampling'!AR119 -> 16 | K25: ='NFSN Chem Sampling'!$AN$119 -> 1 | L25: 0 | M25: 0 | N25: 0 | O25: 0
A26: NM | B26: ='NFSN Chem Sampling'!$P$123+'NFSN Chem Sampling'!$R$123 -> 22 | C26: ='NFSN Chem Sampling'!$T$123+'NFSN Chem Sampling'!$V$123 -> 21 | D26: ='NFSN Chem Sampling'!$X$123 -> 2 | E26: ='NFSN Chem Sampling'!$Z$123+'NFSN Chem Sampling'!$AB$123 -> 21 | F26: ='NFSN Chem Sampling'!$AD$123 -> 2 | G26: ='NFSN Chem Sampling'!$AF$123 -> 2 | H26: ='NFSN Chem Sampling'!$AH$123 -> 2 | I26: ='NFSN Chem Sampling'!$AJ$139 -> 1 | J26: ='NFSN Chem Sampling'!AL123+'NFSN Chem Sampling'!AP123+'NFSN Chem Sampling'!AR123 -> 16 | K26: ='NFSN Chem Sampling'!$AN$139 -> 1 | L26: ='NFSN Eco Sampling'!$O$28 -> 1 | M26: ='NFSN Eco Sampling'!$Q$28 -> 0 | N26: ='NFSN Eco Sampling'!$S$28 -> 1 | O26: ='NFSN Eco Sampling'!$U$28 -> 1
A27: NY | B27: ='NFSN Chem Sampling'!$P$128+'NFSN Chem Sampling'!$R$128 -> 55 | C27: ='NFSN Chem Sampling'!$T$128+'NFSN Chem Sampling'!$V$128 -> 55 | D27: ='NFSN Chem Sampling'!$X$128 -> 3 | E27: ='NFSN Chem Sampling'!$Z$128+'NFSN Chem Sampling'!$AB$128 -> 56 | F27: ='NFSN Chem Sampling'!$AD$128 -> 4 | G27: ='NFSN Chem Sampling'!$AF$128 -> 4 | H27: ='NFSN Chem Sampling'!$AH$128 -> 4 | I27: ='NFSN Chem Sampling'!$AJ$128 -> 4 | J27: ='NFSN Chem Sampling'!AL128+'NFSN Chem Sampling'!AP128+'NFSN Chem Sampling'!AR128 -> 58 | K27: ='NFSN Chem Sampling'!$AN$128 -> 3 | L27: ='NFSN Eco Sampling'!$O$29 -> 1 | M27: ='NFSN Eco Sampling'!$Q$29 -> 0 | N27: ='NFSN Eco Sampling'!$S$29 -> 1 | O27: ='NFSN Eco Sampling'!$U$29 -> 1
A28: NC | B28: ='NFSN Chem Sampling'!$P$133+'NFSN Chem Sampling'!$R$133 -> 69 | C28: ='NFSN Chem Sampling'!$T$133+'NFSN Chem Sampling'!$V$133 -> 69 | D28: ='NFSN Chem Sampling'!$X$133 -> 3 | E28: ='NFSN Chem Sampling'!$Z$133+'NFSN Chem Sampling'!$AB$133 -> 71 | F28: ='NFSN Chem Sampling'!$AD$133 -> 5 | G28: ='NFSN Chem Sampling'!$AF$133 -> 5 | H28: ='NFSN Chem Sampling'!$AH$133 -> 5 | I28: ='NFSN Chem Sampling'!$AJ$133 -> 5 | J28: ='NFSN Chem Sampling'!AL133+'NFSN Chem Sampling'!AP133+'NFSN Chem Sampling'!AR133 -> 72 | K28: ='NFSN Chem Sampling'!$AN$133 -> 3 | L28: ='NFSN Eco Sampling'!$O$30+'NFSN Eco Sampling'!$O$31 -> 2 | M28: ='NFSN Eco Sampling'!$Q$30+'NFSN Eco Sampling'!$Q$31 -> 0 | N28: ='NFSN Eco Sampling'!$S$30+'NFSN Eco Sampling'!$S$31 -> 2 | O28: ='NFSN Eco Sampling'!$U$30+'NFSN Eco Sampling'!$U$31 -> 2
A29: ND | B29: ='NFSN Chem Sampling'!$P$136+'NFSN Chem Sampling'!$R$136 -> 15 | C29: ='NFSN Chem Sampling'!$T$136+'NFSN Chem Sampling'!$V$136 -> 15 | D29: ='NFSN Chem Sampling'!$X$136 -> 1 | E29: ='NFSN Chem Sampling'!$Z$136+'NFSN Chem Sampling'!$AB$136 -> 15 | F29: ='NFSN Chem Sampling'!$AD$136 -> 1 | G29: ='NFSN Chem Sampling'!$AF$136 -> 1 | H29: ='NFSN Chem Sampling'!$AH$136 -> 1 | I29: ='NFSN Chem Sampling'!$AJ$136 -> 1 | J29: ='NFSN Chem Sampling'!AL136+'NFSN Chem Sampling'!AP136+'NFSN Chem Sampling'!AR136 -> 16 | K29: ='NFSN Chem Sampling'!$AN$136 -> 1 | L29: 0 | M29: 0 | N29: 0 | O29: 0
A30: OH | B30: ='NFSN Chem Sampling'!$P$139+'NFSN Chem Sampling'!$R$139 -> 19 | C30: ='NFSN Chem Sampling'!$T$139+'NFSN Chem Sampling'!$V$139 -> 19 | D30: ='NFSN Chem Sampling'!$X$139 -> 1 | E30: ='NFSN Chem Sampling'!$Z$139+'NFSN Chem Sampling'!$AB$139 -> 19 | F30: ='NFSN Chem Sampling'!$AD$139 -> 1 | G30: ='NFSN Chem Sampling'!$AF$139 -> 1 | H30: ='NFSN Chem Sampling'!$AH$139 -> 1 | I30: ='NFSN Chem Sampling'!$AJ$139 -> 1 | J30: ='NFSN Chem Sampling'!AL139+'NFSN Chem Sampling'!AP139+'NFSN Chem Sampling'!AR139 -> 20 | K30: ='NFSN Chem Sampling'!$AN$139 -> 1 | L30: ='NFSN Eco Sampling'!$O$32 -> 1 | M30: ='NFSN Eco Sampling'!$Q$32 -> 0 | N30: ='NFSN Eco Sampling'!$S$32 -> 1 | O30: ='NFSN Eco Sampling'!$U$32 -> 1
A31: OK | B31: ='NFSN Chem Sampling'!$P$142+'NFSN Chem Sampling'!$R$142 -> 19 | C31: ='NFSN Chem Sampling'!$T$142+'NFSN Chem Sampling'!$V$142 -> 19 | D31: ='NFSN Chem Sampling'!$X$142 -> 1 | E31: ='NFSN Chem Sampling'!$Z$142+'NFSN Chem Sampling'!$AB$142 -> 19 | F31: ='NFSN Chem Sampling'!$AD$142 -> 1 | G31: ='NFSN Chem Sampling'!$AF$142 -> 1 | H31: ='NFSN Chem Sampling'!$AH$142 -> 1 | I31: ='NFSN Chem Sampling'!$AJ$142 -> 1 | J31: ='NFSN Chem Sampling'!AL142+'NFSN Chem Sampling'!AP142+'NFSN Chem Sampling'!AR142 -> 20 | K31: ='NFSN Chem Sampling'!$AN$142 -> 1 | L31: 0 | M31: 0 | N31: 0 | O31: 0
A32: OR | B32: ='NFSN Chem Sampling'!$P$149+'NFSN Chem Sampling'!$R$149 -> 89 | C32: ='NFSN Chem Sampling'!$T$149+'NFSN Chem Sampling'!$V$149 -> 89 | D32: ='NFSN Chem Sampling'!$X$149 -> 4 | E32: ='NFSN Chem Sampling'!$Z$149+'NFSN Chem Sampling'!$AB$149 -> 91 | F32: ='NFSN Chem Sampling'!$AD$149 -> 6 | G32: ='NFSN Chem Sampling'!$AF$149 -> 6 | H32: ='NFSN Chem Sampling'!$AH$149 -> 6 | I32: ='NFSN Chem Sampling'!$AJ$149 -> 6 | J32: ='NFSN Chem Sampling'!AL149+'NFSN Chem Sampling'!AP149+'NFSN Chem Sampling'!AR149 -> 86 | K32: ='NFSN Chem Sampling'!$AN$149 -> 4 | L32: ='NFSN Eco Sampling'!$O$33+'NFSN Eco Sampling'!$O$34+'NFSN Eco Sampling'!$O$35 -> 3 | M32: ='NFSN Eco Sampling'!$Q$33+'NFSN Eco Sampling'!$Q$34+'NFSN Eco Sampling'!$Q$35 -> 0 | N32: ='NFSN Eco Sampling'!$S$33+'NFSN Eco Sampling'!$S$34+'NFSN Eco Sampling'!$S$35 -> 3 | O32: ='NFSN Eco Sampling'!$U$33+'NFSN Eco Sampling'!$U$34+'NFSN Eco Sampling'!$U$35 -> 3
A33: SC | B33: ='NFSN Chem Sampling'!$P$153+'NFSN Chem Sampling'!$R$153 -> 26 | C33: ='NFSN Chem Sampling'!$T$153+'NFSN Chem Sampling'!$V$153 -> 25 | D33: ='NFSN Chem Sampling'!$X$153 -> 2 | E33: ='NFSN Chem Sampling'!$Z$153+'NFSN Chem Sampling'!$AB$153 -> 25 | F33: ='NFSN Chem Sampling'!$AD$153 -> 2 | G33: ='NFSN Chem Sampling'!$AF$153 -> 2 | H33: ='NFSN Chem Sampling'!$AH$153 -> 2 | I33: ='NFSN Chem Sampling'!$AJ$153 -> 2 | J33: ='NFSN Chem Sampling'!AL153+'NFSN Chem Sampling'!AP153+'NFSN Chem Sampling'!AR153 -> 20 | K33: ='NFSN Chem Sampling'!$AN$153 -> 1 | L33: ='NFSN Eco Sampling'!$O$36 -> 1 | M33: ='NFSN Eco Sampling'!$Q$36 -> 0 | N33: ='NFSN Eco Sampling'!$S$36 -> 1 | O33: ='NFSN Eco Sampling'!$U$36 -> 1
A34: TX | B34: ='NFSN Chem Sampling'!$P$160+'NFSN Chem Sampling'!$R$160 -> 79 | C34: ='NFSN Chem Sampling'!$T$160+'NFSN Chem Sampling'!$V$160 -> 79 | D34: ='NFSN Chem Sampling'!$X$160 -> 4 | E34: ='NFSN Chem Sampling'!$Z$160+'NFSN Chem Sampling'!$AB$160 -> 80 | F34: ='NFSN Chem Sampling'!$AD$160 -> 5 | G34: ='NFSN Chem Sampling'!$AF$160 -> 5 | H34: ='NFSN Chem Sampling'!$AH$160 -> 5 | I34: ='NFSN Chem Sampling'!$AJ$160 -> 5 | J34: ='NFSN Chem Sampling'!AL160+'NFSN Chem Sampling'!AP160+'NFSN Chem Sampling'!AR160 -> 76 | K34: ='NFSN Chem Sampling'!$AN$160 -> 4 | L34: ='NFSN Eco Sampling'!$O$37+'NFSN Eco Sampling'!$O$38 -> 2 | M34: ='NFSN Eco Sampling'!$Q$37+'NFSN Eco Sampling'!$Q$38 -> 0 | N34: ='NFSN Eco Sampling'!$S$37+'NFSN Eco Sampling'!$S$38 -> 2 | O34: ='NFSN Eco Sampling'!$U$37+'NFSN Eco Sampling'!$U$38 -> 2
A35: UT | B35: ='NFSN Chem Sampling'!$P$165+'NFSN Chem Sampling'!$R$165 -> 51 | C35: ='NFSN Chem Sampling'!$T$165+'NFSN Chem Sampling'!$V$165 -> 50 | D35: ='NFSN Chem Sampling'!$X$165 -> 3 | E35: ='NFSN Chem Sampling'!$Z$165+'NFSN Chem Sampling'!$AB$165 -> 51 | F35: ='NFSN Chem Sampling'!$AD$165 -> 4 | G35: ='NFSN Chem Sampling'!$AF$165 -> 4 | H35: ='NFSN Chem Sampling'!$AH$165 -> 4 | I35: ='NFSN Chem Sampling'!$AJ$165 -> 4 | J35: ='NFSN Chem Sampling'!AL165+'NFSN Chem Sampling'!AP165+'NFSN Chem Sampling'!AR165 -> 46 | K35: ='NFSN Chem Sampling'!$AN$165 -> 2 | L35: ='NFSN Eco Sampling'!$O$40+'NFSN Eco Sampling'!$O$41 -> 2 | M35: ='NFSN Eco Sampling'!$Q$40+'NFSN Eco Sampling'!$Q$41 -> 0 | N35: ='NFSN Eco Sampling'!$S$40+'NFSN Eco Sampling'!$S$41 -> 2 | O35: ='NFSN Eco Sampling'!$U$40+'NFSN Eco Sampling'!$U$41 -> 2
A36: WA | B36: ='NFSN Chem Sampling'!$P$170+'NFSN Chem Sampling'!$R$170 -> 51 | C36: ='NFSN Chem Sampling'!$T$170+'NFSN Chem Sampling'!$V$170 -> 51 | D36: ='NFSN Chem Sampling'!$X$170 -> 2 | E36: ='NFSN Chem Sampling'!$Z$170+'NFSN Chem Sampling'!$AB$170 -> 52 | F36: ='NFSN Chem Sampling'!$AD$170 -> 3 | G36: ='NFSN Chem Sampling'!$AF$170 -> 3 | H36: ='NFSN Chem Sampling'!$AH$170 -> 3 | I36: ='NFSN Chem Sampling'!$AJ$170 -> 3 | J36: ='NFSN Chem Sampling'!AL170+'NFSN Chem Sampling'!AP170+'NFSN Chem Sampling'!AR170 -> 46 | K36: ='NFSN Chem Sampling'!$AN$170 -> 2 | L36: ='NFSN Eco Sampling'!$O$42+'NFSN Eco Sampling'!$O$43 -> 2 | M36: ='NFSN Eco Sampling'!$Q$42+'NFSN Eco Sampling'!$Q$43 -> 0 | N36: ='NFSN Eco Sampling'!$S$42+'NFSN Eco Sampling'!$S$43 -> 2 | O36: ='NFSN Eco Sampling'!$U$42+'NFSN Eco Sampling'!$U$43 -> 2
A37: WI | B37: ='NFSN Chem Sampling'!$P$173+'NFSN Chem Sampling'!$R$173 -> 7 | C37: ='NFSN Chem Sampling'!$T$173+'NFSN Chem Sampling'!$V$173 -> 6 | D37: ='NFSN Chem Sampling'!$X$173 -> 1 | E37: ='NFSN Chem Sampling'!$Z$173+'NFSN Chem Sampling'!$AB$173 -> 6 | F37: ='NFSN Chem Sampling'!$AD$173 -> 1 | G37: ='NFSN Chem Sampling'!$AF$173 -> 1 | H37: ='NFSN Chem Sampling'!$AH$173 -> 1 | I37: ='NFSN Chem Sampling'!$AJ$173 -> 1 | J37: ='NFSN Chem Sampling'!AL173+'NFSN Chem Sampling'!AP173+'NFSN Chem Sampling'!AR173 -> 0 | K37: ='NFSN Chem Sampling'!$AN$173 -> 0 | L37: ='NFSN Eco Sampling'!$O$44 -> 1 | M37: ='NFSN Eco Sampling'!$Q$44 -> 0 | N37: ='NFSN Eco Sampling'!$S$44 -> 1 | O37: ='NFSN Eco Sampling'!$U$44 -> 1
A38: WY | B38: ='NFSN Chem Sampling'!$P$177+'NFSN Chem Sampling'!$R$177 -> 22 | C38: ='NFSN Chem Sampling'!$T$177+'NFSN Chem Sampling'!$V$177 -> 22 | D38: ='NFSN Chem Sampling'!$X$177 -> 1 | E38: ='NFSN Chem Sampling'!$Z$177+'NFSN Chem Sampling'!$AB$177 -> 22 | F38: ='NFSN Chem Sampling'!$AD$177 -> 1 | G38: ='NFSN Chem Sampling'!$AF$177 -> 1 | H38: ='NFSN Chem Sampling'!$AH$177 -> 1 | I38: ='NFSN Chem Sampling'!$AJ$177 -> 1 | J38: ='NFSN Chem Sampling'!AL177+'NFSN Chem Sampling'!AP177+'NFSN Chem Sampling'!AR177 -> 16 | K38: ='NFSN Chem Sampling'!$AN$177 -> 1 | L38: ='NFSN Eco Sampling'!$O$45 -> 1 | M38: ='NFSN Eco Sampling'!$Q$45 -> 0 | N38: ='NFSN Eco Sampling'!$S$45 -> 1 | O38: ='NFSN Eco Sampling'!$U$45 -> 1
A39: TOTAL | B39: =SUM(B2:B38) -> 1619 | C39: =SUM(C2:C38) -> 1610 | D39: =SUM(D2:D38) -> 90 | E39: =SUM(E2:E38) -> 1630 | F39: =SUM(F2:F38) -> 110 | G39: =SUM(G2:G38) -> 110 | H39: =SUM(H2:H38) -> 109 | I39: =SUM(I2:I38) -> 108 | ... O39: =SUM(O2:O38) -> 39 | P39: =SUM(C39:O39) -> 5525
P40: TOTAL
...

Sheet Sample frequency
A1: STATION ID | B1: Station Name | F1: NUMBER OF SAMPLING TRIPS
C2: SC | D2: PROPOSED COST CENTER TO DO SAMPLING | E2: NUMBER OF SAMPLES IN 2013 | F2: OCT | G2: NOV | H2: DEC | I2: JAN | J2: FEB | K2: MAR | L2: APR | M2: MAY | N2: JUN | O2: JUL | P2: AUG | Q2: SEP | R2: Comments
A3: 15565447 | B3: Yukon River at Pilot Station, AK | C3: AK | D3: Anchorage, AK | E3: =SUM(F3:Q3) -> 7 | I3: 1 | L3: 1 | M3: 1 | N3: 1 | O3: 1 | P3: 1 | Q3: 1 | R3: Pest samples only collected June, July, August
A4: 02469762 | B4: Tombigbee River near Coffeeville, AL | C4: AL | D4: Montgomery, AL | E4: =SUM(F4:Q4) -> 18 | F4: 1 | G4: 2 | H4: 1 | I4: 2 | J4: 1 | K4: 2 | L4: 1 | M4: 2 | N4: 1 | O4: 2 | P4: 1 | Q4: 2
A5: 02470500 | B5: Mobile River at Mt. Vernon, AL | C5: AL | D5: Montgomery, AL | E5: =SUM(F5:Q5) -> 14 | F5: 1 | H5: 1 | I5: 1 | J5: 2 | K5: 2 | L5: 2 | M5: 2 | N5: 1 | O5: 1 | P5: 1
A6: 07055646 | B6: Buffalo River near Boxley, AR | C6: AR | D6: Little Rock, AR | E6: =SUM(F6:Q6) -> 6 | F6: 1 | H6: 1 | J6: 1 | L6: 1 | N6: 1 | P6: 1 | R6: Pesticide samples not collected at reference sites
A7: 07060710 | B7: North Sylamore Creek near Fifty Six, AR | C7: AR | D7: Little Rock, AR | E7: =SUM(F7:Q7) -> 6 | G7: 1 | I7: 1 | K7: 1 | M7: 1 | O7: 1 | Q7: 1 | R7: Pesticide samples not collected at reference sites
A8: 07263620 | B8: Arkansas River at David D Terry Lock and Dam below Little Rock, AR | C8: AR | D8: Little Rock, AR | E8: =SUM(F8:Q8) -> 14 | F8: 1 | H8: 1 | I8: 1 | J8: 1 | K8: 2 | L8: 2 | M8: 2 | N8: 2 | O8: 1 | P8: 1
A9: 09380000 | B9: Colorado River at Lees Ferry, AZ | C9: AZ | D9: Flagstaff, AZ | E9: =SUM(F9:Q9) -> 14 | F9: 1 | G9: 1 | H9: 1 | I9: 1 | J9: 2 | K9: 2 | L9: 2 | M9: 1 | N9: 1 | O9: 1 | P9: 1
A10: 09471000 | B10: San Pedro River at Charleston, AZ | C10: AZ | D10: Tucson, AZ | E10: =SUM(F10:Q10) -> 6 | G10: 1 | I10: 1 | K10: 1 | M10: 1 | O10: 1 | Q10: 1 | R10: Pesticide samples not collected at reference sites
A11: 09505800 | B11: West Clear Creek near Camp Verde, AZ | C11: AZ | D11: Tucson, AZ | E11: =SUM(F11:Q11) -> 6 | F11: 1 | H11: 1 | J11: 1 | L11: 1 | N11: 1 | P11: 1 | R11: Pesticide samples not collected at reference sites
A12: 09522000 | B12: Colorado River at NIB, above Morelos Dam, AZ | C12: AZ | D12: Yuma, AZ | E12: =SUM(F12:Q12) -> 12 | F12: 1 | H12: 1 | I12: 2 | J12: 2 | K12: 2 | L12: 2 | N12: 1 | P12: 1
A13: 11049400 | B13: Santa Ana River above Seven Oaks Dam, CA | C13: CA | D13: San Diego, CA | E13: =SUM(F13:Q13) -> 6 | F13: 1 | H13: 1 | J13: 1 | L13: 1 | N13: 1 | P13: 1 | R13: Pesticide samples not collected at reference sites
A14: 11074000 | B14: Santa Ana River below Prado Dam, CA | C14: CA | D14: San Diego, CA | E14: =SUM(F14:Q14) -> 18 | F14: 1 | G14: 1 | H14: 1 | I14: 2 | J14: 2 | K14: 2 | L14: 2 | M14: 2 | N14: 2 | O14: 1 | P14: 1 | Q14: 1
A15: 11274538 | B15: Orestimba Creek near Crows Landing, CA | C15: CA | D15: Sacramento, CA | E15: =SUM(F15:Q15) -> 24 | F15: 2 | G15: 2 | H15: 2 | I15: 2 | J15: 2 | K15: 2 | L15: 2 | M15: 2 | N15: 2 | O15: 2 | P15: 2 | Q15: 2
A16: 11303500 | B16: San Joaquin River near Vernalis, CA | C16: CA | D16: Sacramento, CA | E16: =SUM(F16:Q16) -> 18 | F16: 1 | G16: 1 | H16: 2 | I16: 2 | J16: 2 | K16: 1 | L16: 1 | M16: 2 | N16: 2 | O16: 2 | P16: 1 | Q16: 1
A17: 11335000 | B17: Cosumnes River at Michigan Bar, CA | C17: CA | D17: Sacramento, CA | E17: =SUM(F17:Q17) -> 6 | F17: 1 | H17: 1 | J17: 1 | L17: 1 | N17: 1 | P17: 1 | R17: Pesticide samples not collected at reference sites
A18: 11447650 | B18: Sacramento River at Freeport, CA | C18: CA | D18: Sacramento, CA | E18: =SUM(F18:Q18) -> 14 | F18: 1 | H18: 1 | I18: 2 | J18: 2 | K18: 1 | L18: 1 | M18: 2 | N18: 2 | O18: 1 | P18: 1
A19: 06713500 | B19: Cherry Creek at Denver, CO | C19: CO | D19: Lakewood, CO | E19: =SUM(F19:Q19) -> 24 | F19: 1 | G19: 1 | H19: 1 | I19: 1 | J19: 1 | K19: 1 | L19: 3 | M19: 3 | N19: 3 | O19: 3 | P19: 3 | Q19: 3
A20: 06754000 | B20: South Platte River near Kersey, CO | C20: CO | D20: Lakewood, CO | E20: =SUM(F20:Q20) -> 18 | F20: 1 | G20: 1 | H20: 1 | I20: 1 | J20: 1 | K20: 1 | L20: 2 | M20: 2 | N20: 2 | O20: 2 | P20: 2 | Q20: 2
A21: 09163500 | B21: Colorado River near Colorado-Utah state line | C21: CO | D21: Grand Junction, CO | E21: =SUM(F21:Q21) -> 18 | F21: 1 | G21: 1 | H21: 1 | I21: 1 | J21: 1 | K21: 2 | L21: 2 | M21: 2 | N21: 2 | O21: 2 | P21: 2 | Q21: 1
A22: 01170100 | B22: Green River near Colrain, MA | C22: CT | D22: East Hartford, CT | E22: =SUM(F22:Q22) -> 6 | F22: 1 | H22: 1 | J22: 1 | L22: 1 | N22: 1 | P22: 1 | R22: Pesticide samples not collected at reference sites
A23: 01184000 | B23: Connecticut River at Thompsonville, CT | C23: CT | D23: East Hartford, CT | E23: =SUM(F23:Q23) -> 18 | F23: 1 | G23: 1 | H23: 1 | I23: 1 | J23: 1 | K23: 2 | L23: 2 | M23: 2 | N23: 2 | O23: 2 | P23: 2 | Q23: 1
A24: 01209710 | B24: Norwalk River at Winnipauk,CT | C24: CT | D24: East Hartford, CT | E24: =SUM(F24:Q24) -> 24 | F24: 1 | G24: 1 | H24: 1 | I24: 1 | J24: 2 | K24: 2 | L24: 2 | M24: 3 | N24: 3 | O24: 3 | P24: 3 | Q24: 2
A25: 02359170 | B25: Apalachicola River near Sumatra, FL | C25: FL | D25: Tallahassee, FL | E25: =SUM(F25:Q25) -> 14 | F25: 1 | H25: 1 | I25: 1 | J25: 2 | K25: 2 | L25: 2 | M25: 2 | N25: 1 | O25: 1 | P25: 1
A26: 02226160 | B26: Altamaha River at Everett City, GA | C26: GA | D26: Atlanta, GA | E26: =SUM(F26:Q26) -> 14 | F26: 1 | H26: 1 | I26: 1 | J26: 2 | K26: 2 | L26: 2 | M26: 2 | N26: 1 | O26: 1 | P26: 1
A27: 02335870 | B27: Sope Creek near Marietta, GA | C27: GA | D27: Atlanta, GA | E27: =SUM(F27:Q27) -> 24 | F27: 2 | G27: 2 | H27: 2 | I27: 2 | J27: 2 | K27: 2 | L27: 2 | M27: 2 | N27: 2 | O27: 2 | P27: 2 | Q27: 2
A28: 02338523 | B28: Hillibahatchee Creek near Franklin, GA | C28: GA | D28: Atlanta, GA | E28: =SUM(F28:Q28) -> 6 | F28: 1 | H28: 1 | J28: 1 | L28: 1 | N28: 1 | P28: 1 | R28: Pesticide samples not collected at reference sites
A29: 05420500 | B29: Mississippi River at Clinton, IA | C29: IA | D29: Iowa City, IA | E29: =SUM(F29:Q29) -> 14 | F29: 1 | H29: 1 | J29: 1 | K29: 2 | L29: 2 | M29: 2 | N29: 2 | O29: 2 | P29: 1
A30: 05451210 | B30: South Fork Iowa River near New Providence, IA | C30: IA | D30: Iowa City, IA | E30: =SUM(F30:Q30) -> 24 | F30: 1 | G30: 1 | H30: 1 | I30: 1 | J30: 2 | K30: 2 | L30: 2 | M30: 3 | N30: 3 | O30: 3 | P30: 3 | Q30: 2
A31: 05465500 | B31: Iowa River at Wapello, IA | C31: IA | D31: Iowa City, IA | E31: =SUM(F31:Q31) -> 14 | F31: 1 | H31: 1 | J31: 1 | K31: 2 | L31: 2 | M31: 2 | N31: 2 | O31: 2 | P31: 1
A32: 05490500 | B32: Des Moines River at Keosauqua, IA | C32: IA | D32: Iowa City, IA | E32: =SUM(F32:Q32) -> 14 | F32: 1 | H32: 1 | J32: 1 | K32: 2 | L32: 2 | M32: 2 | N32: 2 | O32: 2 | P32: 1
A33: 05586100 | B33: Illinois River at Valley City, IL | C33: IL | D33: Urbana, IL | E33: =SUM(F33:Q33) -> 14 | F33: 1 | H33: 1 | J33: 1 | K33: 2 | L33: 2 | M33: 2 | N33: 2 | O33: 2 | P33: 1
A34: 06610000 | B34: Missouri River at Omaha, NE | C34: IA | D34: Council Bluffs, IA | E34: =SUM(F34:Q34) -> 14 | F34: 1 | H34: 1 | J34: 1 | K34: 2 | L34: 2 | M34: 2 | N34: 2 | O34: 2 | P34: 1
A35: 13092747 | B35: Rock Creek at Twin Falls, ID | C35: ID | D35: Boise, ID | E35: =SUM(F35:Q35) -> 24 | F35: 2 | G35: 2 | H35: 2 | I35: 2 | J35: 2 | K35: 2 | L35: 2 | M35: 2 | N35: 2 | O35: 2 | P35: 2 | Q35: 2
A36: 13154500 | B36: Snake River at King Hill, ID | C36: ID | D36: Boise, ID | E36: =SUM(F36:Q36) -> 14 | F36: 1 | H36: 1 | I36: 1 | J36: 1 | K36: 1 | L36: 2 | M36: 2 | N36: 2 | O36: 2 | P36: 1
A37: 03374100 | B37: White River at Hazleton, IN | C37: IN | D37: Indianapolis, IN | E37: =SUM(F37:Q37) -> 18 | F37: 1 | G37: 1 | H37: 1 | I37: 1 | J37: 1 | K37: 1 | L37: 1 | M37: 3 | N37: 3 | O37: 2 | P37: 2 | Q37: 1
A38: 394340085524601 | B38: Sugar Creek at New Palestine, IN | C38: IN | D38: Indianapolis, IN | E38: =SUM(F38:Q38) -> 24 | F38: 1 | G38: 1 | H38: 1 | I38: 1 | J38: 2 | K38: 2 | L38: 2 | M38: 3 | N38: 3 | O38: 3 | P38: 3 | Q38: 2
A39: 06892350 | B39: Kansas River at DeSoto, KS | C39: KS | D39: Lawrence, KS | E39: =SUM(F39:Q39) -> 14 | F39: 1 | H39: 1 | I39: 1 | J39: 1 | K39: 2 | L39: 2 | M39: 2 | N39: 2 | O39: 1 | P39: 1
A40: 07144100 | B40: Little Arkansas River near Sedgwick, KS | C40: KS | D40: Lawrence, KS | E40: =SUM(F40:Q40) -> 18 | F40: 1 | G40: 1 | H40: 1 | I40: 1 | J40: 1 | K40: 1 | L40: 1 | M40: 3 | N40: 3 | O40: 2 | P40: 2 | Q40: 1
