Workbook

Sheet NFSN Chem Sampling
A1: Last update | B1: Science Center (SC) Collecting Samples | C1: WY | D1: 41239 | F1: Cycle 2 Site Type | G1: Cycle 3 Site Type | H1: Cycle 3 Program | I1: Daily Streamflow | M1: Continuous QW monitoring | P1: Suspended Sediment (conc. + sand/fine) | T1: Major Ions (schedules 998/1201) | X1: Major Ions blanks (schedule 1674) | Z1: Nutrients (schedules 2430/2431/2432) | AD1: Nutrient blanks (SH 452- IBW) | AF1: Nutrient blanks (SH 1675 - OBW) | AH1: uv 412nm blanks (LC8096 - OBW) | AJ1: Dissolved Inorganic Carbon blanks (LC8097 - OBW) | AL1: Pesticides (schedule 2437) | AT1: Isotope samples (Ty Coplen) | AV1: DOC fractionation samples (George Aiken) | AX1: DNA samples (Byron Crump) | AZ1: Comments
D2: Primary STAID | E2: Site name | I2: Gage? | J2: Gross annual cost | K2: NAWQA share (%) | L2: Annual NAWQA cost | M2: Parameters | N2: Type | O2: Annual NAWQA cost | P2: Planned | Q2: Collected | R2: Planned reps | S2: Collected reps | T2: Planned (plus alkalinity) | U2: Collected (plus alkalinity) | V2: Planned reps | W2: Collected reps | X2: Planned blanks | Y2: Collected blanks | Z2: Planned | AA2: Collected | AB2: Planned reps | AC2: Collected reps | AD2: Planned blanks | AE2: Collected blanks | AF2: Planned blanks | AG2: Collected blanks | AH2: Planned blanks | AI2: Collected blanks | AJ2: Planned blanks | AK2: Collected blanks | AL2: Planned | AM2: Collected | AN2: Planned blanks | AO2: Collected blanks | AP2: Planned reps | AQ2: Collected reps | AR2: Planned spikes | AS2: Collected spikes | AT2: Planned | AU2: Collected | AV2: Planned | AW2: Collected | AX2: Planned | AY2: Collected | AZ2: Comments
B5: AL | C5: 2013 | D5: 02470500 | E5: Mobile River at Mt. Vernon, AL | F5: NASQAN | G5: Large River | H5: NASQAN | I5: yes | L5: =J5*K5/100 -> 0 | P5: 14 | R5: 1 | T5: 14 | V5: 1 | X5: 1 | Z5: 14 | AB5: 1 | AD5: 1 | AF5: 1 | AH5: 1 | AJ5: 1 | AL5: 14 | AN5: 1 | AP5: 1 | AR5: 1 | AT5: 14 | AX5: 14
B6: AL | C6: 2013 | D6: 02469762 | E6: Tombigbee River near Coffeeville, AL | F6: rotate4 | G6: Large River | H6: NAWQA | I6: yes | L6: =J6*K6/100 -> 0 | P6: 18 | R6: 1 | T6: 18 | V6: 1 | X6: 1 | Z6: 18 | AB6: 1 | AD6: 1 | AF6: 1 | AH6: 1 | AJ6: 1 | AL6: 18 | AN6: 1 | AP6: 1 | AR6: 1
B7: AL | E7: WSC sum | P7: =SUM(P5:P6) -> 32 | Q7: =SUM(Q5:Q6) -> 0 | R7: =SUM(R5:R6) -> 2 | S7: =SUM(S5:S6) -> 0 | T7: =SUM(T5:T6) -> 32 | U7: =SUM(U5:U6) -> 0 | V7: =SUM(V5:V6) -> 2 | W7: =SUM(W5:W6) -> 0 | ... AY7: =SUM(AY5:AY6) -> 0
B9: AK | C9: 2013 | D9: 15565447 | E9: Yukon River at Pilot Station, AK | F9: NASQAN | G9: Large River | H9: NASQAN | I9: yes | L9: =J9*K9/100 -> 0 | P9: 7 | R9: 1 | T9: 7 | V9: 1 | X9: 0 | Z9: 7 | AB9: 1 | AD9: 0 | AF9: 0 | AH9: 0 | AJ9: 0 | AL9: 3 | AR9: 1 | AT9: 7 | AX9: 7
B10: AK | E10: WSC sum | P10: =SUM(P8:P9) -> 7 | Q10: =SUM(Q8:Q9) -> 0 | R10: =SUM(R8:R9) -> 1 | S10: =SUM(S8:S9) -> 0 | T10: =SUM(T8:T9) -> 7 | U10: =SUM(U8:U9) -> 0 | V10: =SUM(V8:V9) -> 1 | W10: =SUM(W8:W9) -> 0 | ... AY10: =SUM(AY8:AY9) -> 0
B12: AZ | C12: 2013 | D12: 09380000 | E12: Colorado River at Lees Ferry, AZ | F12: N/A | G12: Large River | H12: NAWQA | I12: yes | L12: =J12*K12/100 -> 0 | M12: YES-COOP | P12: 14 | R12: 1 | T12: 14 | V12: 1 | X12: 1 | Z12: 14 | AB12: 1 | AD12: 1 | AF12: 1 | AH12: 1 | AJ12: 1 | AL12: 14 | AN12: 1 | AP12: 1 | AR12: 1 | AZ12: agreed to fund cgc email 20120910
B13: AZ | C13: 2013 | D13: 09522000 | E13: Colorado River at NIB | F13: NASQAN | G13: Large River | H13: NASQAN | I13: yes | L13: =J13*K13/100 -> 0 | P13: 12 | R13: 1 | T13: 12 | V13: 1 | X13: 1 | Z13: 12 | AB13: 1 | AD13: 1 | AF13: 1 | AH13: 1 | AJ13: 1 | AL13: 12 | AN13: 1 | AP13: 1 | AR13: 1 | AT13: 12 | AX13: 12
B14: AZ | C14: 2013 | D14: 09471000 | E14: San Pedro River at Charleston, AZ | F14: rotate4 | G14: Reference | H14: NAWQA | I14: yes | L14: =J14*K14/100 -> 0 | P14: 6 | R14: 1 | T14: 6 | V14: 0 | X14: 1 | Z14: 6 | AB14: 0 | AD14: 1 | AF14: 1 | AH14: 1 | AJ14: 1 | AL14: 0
B15: AZ | C15: 2013 | D15: 09505800 | E15: West Clear Creek near Camp Verde, AZ | F15: rotate4 | G15: Reference | H15: NAWQA | I15: yes | L15: =J15*K15/100 -> 0 | P15: 6 | R15: 1 | T15: 6 | V15: 1 | X15: 0 | Z15: 6 | AB15: 1 | AD15: 0 | AF15: 0 | AH15: 0 | AJ15: 0 | AL15: 0
B16: AZ | E16: WSC sum | P16: =SUM(P12:P15) -> 38 | Q16: =SUM(Q12:Q15) -> 0 | R16: =SUM(R12:R15) -> 4 | S16: =SUM(S12:S15) -> 0 | T16: =SUM(T12:T15) -> 38 | U16: =SUM(U12:U15) -> 0 | V16: =SUM(V12:V15) -> 3 | W16: =SUM(W12:W15) -> 0 | ... AY16: =SUM(AY12:AY15) -> 0
B18: AR | C18: 2013 | D18: 07263620 | E18: Arkansas River at Terry L&D below Little Rock, AR | F18: NASQAN | G18: Large River | H18: NASQAN | I18: yes | J18: 5510 | K18: 100 | L18: =J18*K18/100 -> 5510 | P18: 14 | R18: 1 | T18: 14 | V18: 1 | X18: 1 | Z18: 14 | AB18: 1 | AD18: 1 | AF18: 1 | AH18: 1 | AJ18: 1 | AL18: 14 | AN18: 1 | AP18: 1 | AR18: 1 | AT18: 14 | AX18: 14
B19: AR | C19: 2013 | D19: 07055646 | E19: Buffalo River near Boxley, AR | F19: rotate4 | G19: Reference | H19: NAWQA | I19: yes | L19: =J19*K19/100 -> 0 | P19: 6 | R19: 1 | T19: 6 | V19: 0 | X19: 1 | Z19: 6 | AB19: 0 | AD19: 1 | AF19: 1 | AH19: 1 | AJ19: 1 | AL19: 0
B20: AR | C20: 2013 | D20: 07060710 | E20: North Sylamore Creek near Fifty Six, AR | F20: rotate4/HBN | G20: Reference | H20: NAWQA | I20: yes | L20: =J20*K20/100 -> 0 | P20: 6 | R20: 1 | T20: 6 | V20: 1 | X20: 0 | Z20: 6 | AB20: 1 | AD20: 0 | AF20: 0 | AH20: 0 | AJ20: 0 | AL20: 0
B21: AR | E21: WSC sum | P21: =SUM(P18:P20) -> 26 | Q21: =SUM(Q18:Q20) -> 0 | R21: =SUM(R18:R20) -> 3 | S21: =SUM(S18:S20) -> 0 | T21: =SUM(T18:T20) -> 26 | U21: =SUM(U18:U20) -> 0 | V21: =SUM(V18:V20) -> 2 | W21: =SUM(W18:W20) -> 0 | ... AY21: =SUM(AY18:AY20) -> 0
B23: CA | C23: 2013 | D23: 11335000 | E23: Cosumnes River at Michigan Bar, CA | F23: eco_only | G23: Reference | H23: NAWQA | I23: yes | L23: =J23*K23/100 -> 0 | P23: 6 | R23: 1 | T23: 6 | V23: 1 | X23: 1 | Z23: 6 | AB23: 1 | AD23: 1 | AF23: 1 | AL23: 0
B24: CA | C24: 2013 | D24: 11274538 | E24: Orestimba Creek near Crows Landing, CA | F24: rotate4 | G24: Agriculture | H24: NAWQA | I24: yes | J24: 12200 | K24: 100 | L24: =J24*K24/100 -> 12200 | M24: YES-COOP | P24: 24 | R24: 1 | T24: 24 | V24: 1 | X24: 1 | Z24: 24 | AB24: 2 | AD24: 2 | AF24: 2 | AH24: 2 | AJ24: 2 | AL24: 24 | AN24: 1 | AP24: 1 | AR24: 1
B25: CA | C25: 2013 | D25: 11447650 | E25: Sacramento River a Freeport, CA | F25: rotate4/NASQAN | G25: Large River | H25: NAWQA | I25: yes | L25: =J25*K25/100 -> 0 | M25: YES-COOP | P25: 14 | R25: 1 | T25: 14 | V25: 1 | X25: 1 | Z25: 14 | AB25: 1 | AD25: 1 | AF25: 1 | AH25: 1 | AJ25: 1 | AL25: 14 | AN25: 1 | AP25: 1 | AR25: 1 | AT25: 14 | AX25: 14
B26: CA | C26: 2013 | D26: 11303500 | E26: San Joaquin River near Vernalis, CA | F26: agcore | G26: Large River | H26: NAWQA | I26: yes | L26: =J26*K26/100 -> 0 | P26: 18 | R26: 1 | T26: 18 | V26: 1 | X26: 1 | Z26: 18 | AB26: 1 | AD26: 1 | AF26: 1 | AH26: 1 | AJ26: 1 | AL26: 18 | AN26: 1 | AP26: 1 | AR26: 1 | AX26: 14
B27: CA | C27: 2013 | D27: 11049400 | E27: Santa Ana River above Seven Oaks Dam, CA | F27: eco_only | G27: Reference | H27: NAWQA | I27: no | L27: =J27*K27/100 -> 0 | P27: 6 | R27: 1 | T27: 6 | V27: 0 | X27: 1 | Z27: 6 | AB27: 0 | AD27: 1 | AF27: 1 | AH27: 1 | AJ27: 1 | AL27: 0
B28: CA | C28: 2013 | D28: 11074000 | E28: Santa Ana River below Prado Dam, CA | F28: urbcore | G28: Large River | H28: NAWQA | I28: yes | L28: =J28*K28/100 -> 0 | P28: 18 | R28: 1 | T28: 18 | V28: 1 | X28: 1 | Z28: 18 | AB28: 1 | AD28: 1 | AF28: 1 | AH28: 1 | AJ28: 1 | AL28: 18 | AN28: 1 | AP28: 1 | AR28: 1
B29: CA | E29: WSC sum | P29: =SUM(P23:P28) -> 86 | Q29: =SUM(Q23:Q28) -> 0 | R29: =SUM(R23:R28) -> 6 | S29: =SUM(S23:S28) -> 0 | T29: =SUM(T23:T28) -> 86 | U29: =SUM(U23:U28) -> 0 | V29: =SUM(V23:V28) -> 5 | W29: =SUM(W23:W28) -> 0 | ... AY29: =SUM(AY23:AY28) -> 0
B31: CO | C31: 2013 | D31: 06713500 | E31: Cherry Creek at Denver, CO | F31: rotate2 | G31: Urban | H31: NAWQA | I31: yes | L31: =J31*K31/100 -> 0 | P31: 24 | R31: 1 | T31: 24 | V31: 1 | X31: 1 | Z31: 24 | AB31: 2 | AD31: 2 | AF31: 2 | AH31: 2 | AJ31: 2 | AL31: 24 | AN31: 1 | AP31: 1 | AR31: 1
B32: CO | C32: 2013 | D32: 09163500 | E32: Colorado River near Colorado-Utah state line | F32: rotate4 | G32: Large River | H32: NAWQA | I32: yes | L32: =J32*K32/100 -> 0 | M32: YES-COOP | P32: 18 | R32: 1 | T32: 18 | V32: 1 | X32: 1 | Z32: 18 | AB32: 1 | AD32: 1 | AF32: 1 | AH32: 1 | AJ32: 1 | AL32: 18 | AN32: 1 | AP32: 1 | AR32: 1
B33: CO | C33: 2013 | D33: 06754000 | E33: South Platte River near Kersey, CO | F33: rotate4 | G33: Large River | H33: NAWQA | I33: yes | L33: =J33*K33/100 -> 0 | P33: 18 | R33: 1 | T33: 18 | V33: 1 | X33: 1 | Z33: 18 | AB33: 1 | AD33: 1 | AF33: 1 | AH33: 1 | AJ33: 1 | AL33: 18 | AN33: 1 | AP33: 1 | AR33: 1
B34: CO | E34: WSC sum | P34: =SUM(P31:P33) -> 60 | Q34: =SUM(Q31:Q33) -> 0 | R34: =SUM(R31:R33) -> 3 | S34: =SUM(S31:S33) -> 0 | T34: =SUM(T31:T33) -> 60 | U34: =SUM(U31:U33) -> 0 | V34: =SUM(V31:V33) -> 3 | W34: =SUM(W31:W33) -> 0 | ... AY34: =SUM(AY31:AY33) -> 0
B36: CT | C36: 2013 | D36: 01184000 | E36: Connecticut River at Thompsonville, CT | F36: rotate4 | G36: Large River | H36: NAWQA | I36: yes | L36: =J36*K36/100 -> 0 | P36: 18 | R36: 1 | T36: 18 | V36: 1 | X36: 1 | Z36: 18 | AB36: 1 | AD36: 1 | AF36: 1 | AH36: 1 | AJ36: 1 | AL36: 18 | AN36: 1 | AP36: 1 | AR36: 1
B37: CT | C37: 2013 | D37: 01170100 | E37: Green River near Colrain, MA | F37: rotate4 | G37: Reference | H37: NAWQA | I37: yes | L37: =J37*K37/100 -> 0 | P37: 6 | R37: 1 | T37: 6 | V37: 1 | X37: 0 | Z37: 6 | AB37: 1 | AD37: 0 | AF37: 0 | AH37: 0 | AJ37: 0 | AL37: 0
B38: CT | C38: 2013 | D38: 01209710 | E38: Norwalk River at Winnipauk,CT | F38: rotate4 | G38: Urban | H38: NAWQA | I38: yes | L38: =J38*K38/100 -> 0 | P38: 24 | R38: 1 | T38: 24 | V38: 1 | X38: 1 | Z38: 24 | AB38: 2 | AD38: 2 | AF38: 2 | AH38: 2 | AJ38: 2 | AL38: 24 | AN38: 1 | AP38: 1 | AR38: 1
B39: CT | E39: WSC sum | P39: =SUM(P36:P38) -> 48 | Q39: =SUM(Q36:Q38) -> 0 | R39: =SUM(R36:R38) -> 3 | S39: =SUM(S36:S38) -> 0 | T39: =SUM(T36:T38) -> 48 | U39: =SUM(U36:U38) -> 0 | V39: =SUM(V36:V38) -> 3 | W39: =SUM(W36:W38) -> 0 | ... AY39: =SUM(AY36:AY38) -> 0
B41: FL | C41: 2013 | D41: 02359170 | E41: Apalachicola River near Sumatra, FL | F41: NMN | G41: Large River | H41: NMN | I41: yes | L41: =J41*K41/100 -> 0 | P41: 14 | R41: 1 | T41: 14 | V41: 1 | X41: 1 | Z41: 14 | AB41: 1 | AD41: 1 | AF41: 1 | AH41: 1 | AJ41: 1 | AL41: 14 | AN41: 1 | AP41: 1 | AR41: 1 | AT41: 14 | AX41: 14
B42: FL | E42: WSC sum | P42: =SUM(P41) -> 14 | Q42: =SUM(Q40:Q41) -> 0 | R42: =SUM(R40:R41) -> 1 | S42: =SUM(S40:S41) -> 0 | T42: =SUM(T40:T41) -> 14 | U42: =SUM(U40:U41) -> 0 | V42: =SUM(V40:V41) -> 1 | W42: =SUM(W40:W41) -> 0 | X42: =SUM(X40:X41) -> 1 | ... AY42: =SUM(AY40:AY41) -> 0
B44: GA | C44: 2013 | D44: 02226160 | E44: Altamaha River at Everett City, GA | F44: NASQAN | G44: Large River | H44: NASQAN | I44: yes | J44: 24250 | K44: 100 | L44: =J44*K44/100 -> 24250 | P44: 14 | R44: 1 | T44: 14 | V44: 1 | X44: 1 | Z44: 14 | AB44: 1 | AD44: 1 | AF44: 1 | AH44: 1 | AJ44: 1 | AL44: 14 | AN44: 1 | AP44: 1 | AR44: 1 | AT44: 14 | AX44: 14
B45: GA | C45: 2013 | D45: 02338523 | E45: Hillibahatchee Creek near Franklin, GA | F45: rotate4 | G45: Reference | H45: NAWQA | I45: yes | J45: 14500 | K45: 100 | L45: =J45*K45/100 -> 14500 | P45: 6 | R45: 1 | T45: 6 | V45: 0 | X45: 1 | Z45: 6 | AB45: 0 | AD45: 1 | AF45: 1 | AH45: 1 | AJ45: 1 | AL45: 0
B46: GA | C46: 2013 | D46: 02335870 | E46: Sope Creek near Marietta, GA | F46: rotate2 | G46: Urban | H46: NAWQA | I46: yes | L46: =J46*K46/100 -> 0 | P46: 24 | R46: 1 | T46: 24 | V46: 1 | X46: 1 | Z46: 24 | AB46: 2 | AD46: 2 | AF46: 2 | AH46: 2 | AJ46: 2 | AL46: 24 | AN46: 1 | AP46: 1 | AR46: 1
B47: GA | E47: WSC sum | P47: =SUM(P44:P46) -> 44 | Q47: =SUM(Q44:Q46) -> 0 | R47: =SUM(R44:R46) -> 3 | S47: =SUM(S44:S46) -> 0 | T47: =SUM(T44:T46) -> 44 | U47: =SUM(U44:U46) -> 0 | V47: =SUM(V44:V46) -> 2 | W47: =SUM(W44:W46) -> 0 | ... AY47: =SUM(AY44:AY46) -> 0
B49: ID | C49: 2013 | D49: 13092747 | E49: Rock Creek at Twin Falls, ID | F49: rotate4 | G49: Agriculture | H49: NAWQA | I49: yes | J49: 17000 | K49: 100 | L49: =J49*K49/100 -> 17000 | P49: 24 | R49: 1 | T49: 24 | V49: 1 | X49: 1 | Z49: 24 | AB49: 2 | AD49: 2 | AF49: 2 | AH49: 2 | AJ49: 2 | AL49: 24 | AN49: 1 | AP49: 1 | AR49: 1
B50: ID | C50: 2013 | D50: 13154500 | E50: Snake River at King Hill, ID | F50: rotate4 | G50: Large River | H50: NAWQA | I50: yes | J50: 17000 | K50: 100 | L50: =J50*K50/100 -> 17000 | P50: 14 | R50: 1 | T50: 14 | V50: 1 | X50: 1 | Z50: 14 | AB50: 1 | AD50: 1 | AF50: 1 | AH50: 1 | AJ50: 1 | AL50: 14 | AN50: 1 | AP50: 1 | AR50: 1
B51: ID | E51: WSC sum | P51: =SUM(P49:P50) -> 38 | Q51: =SUM(Q49:Q50) -> 0 | R51: =SUM(R49:R50) -> 2 | S51: =SUM(S49:S50) -> 0 | T51: =SUM(T49:T50) -> 38 | U51: =SUM(U49:U50) -> 0 | V51: =SUM(V49:V50) -> 2 | W51: =SUM(W49:W50) -> 0 | ... AY51: =SUM(AY49:AY50) -> 0
B53: IL | C53: 2013 | D53: 05586100 | E53: Illinois River at Valley City, IL | F53: rotate 4/NASQAN | G53: Large River | H53: NAWQA | I53: yes | L53: =J53*K53/100 -> 0 | M53: YES-COOP | P53: 14 | R53: 1 | T53: 14 | V53: 1 | X53: 1 | Z53: 14 | AB53: 1 | AD53: 1 | AF53: 1 | AH53: 1 | AJ53: 1 | AL53: 14 | AN53: 1 | AP53: 1 | AR53: 1 | AT53: 14 | AX53: 14
B54: IL | E54: WSC sum | P54: =SUM(P53) -> 14 | Q54: =SUM(Q53) -> 0 | R54: =SUM(R53) -> 1 | S54: =SUM(S53) -> 0 | T54: =SUM(T53) -> 14 | U54: =SUM(U53) -> 0 | V54: =SUM(V53) -> 1 | W54: =SUM(W53) -> 0 | ... AY54: =SUM(AY53) -> 0
B56: IN | C56: 2013 | D56: 394340085524601 | E56: Sugar Creek at New Palestine, IN | F56: rotate2 | G56: Agriculture | H56: NAWQA | I56: yes | J56: 10250 | K56: 100 | L56: =J56*K56/100 -> 10250 | P56: 24 | R56: 1 | T56: 24 | V56: 1 | X56: 1 | Z56: 24 | AB56: 2 | AD56: 2 | AF56: 2 | AH56: 2 | AJ56: 2 | AL56: 24 | AN56: 1 | AP56: 1 | AR56: 1
B57: IN | C57: 2013 | D57: 03374100 | E57: White River at Hazleton, IN | F57: agcore/NASQAN | G57: Large River | H57: NAWQA | I57: yes | L57: =J57*K57/100 -> 0 | M57: YES-COOP | P57: 18 | R57: 1 | T57: 18 | V57: 1 | X57: 1 | Z57: 18 | AB57: 1 | AD57: 1 | AF57: 1 | AH57: 1 | AJ57: 1 | AL57: 18 | AN57: 1 | AP57: 1 | AR57: 1 | AT57: 18 | AX57: 18
B58: IN | E58: WSC sum | P58: =SUM(P56:P57) -> 42 | Q58: =SUM(Q56:Q57) -> 0 | R58: =SUM(R56:R57) -> 2 | S58: =SUM(S56:S57) -> 0 | T58: =SUM(T56:T57) -> 42 | U58: =SUM(U56:U57) -> 0 | V58: =SUM(V56:V57) -> 2 | W58: =SUM(W56:W57) -> 0 | ... AY58: =SUM(AY56:AY57) -> 0
B60: IA | C60: 2013 | D60: 05420500 | E60: Mississippi River at Clinton, IA | F60: NASQAN | G60: Large River | H60: NASQAN | I60: yes | L60: =J60*K60/100 -> 0 | P60: 14 | R60: 1 | T60: 14 | V60: 1 | X60: 1 | Z60: 14 | AB60: 1 | AD60: 1 | AF60: 1 | AH60: 1 | AJ60: 1 | AL60: 14 | AN60: 1 | AP60: 1 | AR60: 1 | AT60: 14 | AX60: 14
B61: IA | C61: 2013 | D61: 06610000 | E61: Missouri River at Omaha, NE | F61: NASQAN | G61: Large River | H61: NASQAN | P61: 14 | R61: 1 | T61: 14 | V61: 1 | X61: 1 | Z61: 14 | AB61: 1 | AD61: 1 | AF61: 1 | AH61: 1 | AJ61: 1 | AL61: 14 | AN61: 1 | AP61: 1 | AR61: 1 | AT61: 14 | AX61: 14
B62: IA | C62: 2013 | D62: 05490500 | E62: Des Moines River at Keosauqua, IA | F62: agcore | G62: Large River | H62: NASQAN | I62: yes | L62: =J62*K62/100 -> 0 | P62: 14 | R62: 1 | T62: 14 | V62: 1 | X62: 1 | Z62: 14 | AB62: 1 | AD62: 1 | AF62: 1 | AH62: 1 | AJ62: 1 | AL62: 14 | AN62: 1 | AP62: 1 | AR62: 1 | AT62: 14 | AX62: 14
B63: IA | C63: 2013 | D63: 05465500 | E63: Iowa River at Wapello, IA | F63: agcore | G63: Large River | H63: NASQAN | I63: yes | L63: =J63*K63/100 -> 0 | P63: 14 | R63: 1 | T63: 14 | V63: 1 | X63: 1 | Z63: 14 | AB63: 1 | AD63: 1 | AF63: 1 | AH63: 1 | AJ63: 1 | AL63: 14 | AN63: 1 | AP63: 1 | AR63: 1 | AT63: 14 | AX63: 14
B64: IA | C64: 2013 | D64: 05451210 | E64: South Fork Iowa River near New Providence, IA | F64: rotate2 | G64: Agriculture | H64: NAWQA | I64: yes | J64: 15700 | K64: 100 | L64: =J64*K64/100 -> 15700 | M64: YES-COOP | P64: 24 | R64: 1 | T64: 24 | V64: 1 | X64: 1 | Z64: 24 | AB64: 2 | AD64: 2 | AF64: 2 | AH64: 2 | AJ64: 2 | AL64: 24 | AN64: 1 | AP64: 1 | AR64: 1
B65: IA | E65: WSC sum | P65: =SUM(P60:P64) -> 80 | Q65: =SUM(Q60:Q64) -> 0 | R65: =SUM(R60:R64) -> 5 | S65: =SUM(S60:S64) -> 0 | T65: =SUM(T60:T64) -> 80 | U65: =SUM(U60:U64) -> 0 | V65: =SUM(V60:V64) -> 5 | W65: =SUM(W60:W64) -> 0 | ... AY65: =SUM(AY60:AY64) -> 0
B67: KS | C67: 2013 | D67: 06892350 | E67: Kansas River at DeSoto, KS | F67: N/A | G67: Large River | H67: NAWQA | I67: yes | L67: =J67*K67/100 -> 0 | M67: YES-COOP | P67: 14 | R67: 1 | T67: 14 | V67: 1 | X67: 1 | Z67: 14 | AB67: 1 | AD67: 1 | AF67: 1 | AH67: 1 | AJ67: 1 | AL67: 14 | AN67: 1 | AP67: 1 | AR67: 1 | AZ67: agreed to fund cgc email 20120910
B68: KS | C68: 2013 | D68: 07144100 | E68: Lower Arkansas River near Sedgwick, KS | F68: N/A | G68: Large River | H68: NAWQA | I68: yes | L68: =J68*K68/100 -> 0 | M68: YES-COOP | P68: 18 | R68: 1 | T68: 18 | V68: 1 | X68: 1 | Z68: 18 | AB68: 1 | AD68: 1 | AF68: 1 | AH68: 1 | AJ68: 1 | AL68: 18 | AN68: 1 | AP68: 1 | AR68: 1 | AZ68: agreed to fund cgc email 20120910
B69: KS | E69: WSC sum | P69: =SUM(P67:P68) -> 32 | Q69: =SUM(Q67:Q68) -> 0 | R69: =SUM(R67:R68) -> 2 | S69: =SUM(S67:S68) -> 0 | T69: =SUM(T67:T68) -> 32 | U69: =SUM(U67:U68) -> 0 | V69: =SUM(V67:V68) -> 2 | W69: =SUM(W67:W68) -> 0 | ... AY69: =SUM(AY67:AY68) -> 0
B71: KY | C71: 2013 | D71: 03303280 | E71: Ohio River at Cannelton Dam at Cannelton, IN | F71: NASQAN | G71: Large River | H71: NASQAN | I71: yes | J71: 13500 | K71: 100 | L71: =J71*K71/100 -> 13500 | P71: 14 | R71: 1 | T71: 14 | V71: 1 | X71: 1 | Z71: 14 | AB71: 1 | AD71: 1 | AF71: 1 | AH71: 1 | AJ71: 1 | AL71: 14 | AN71: 1 | AP71: 1 | AR71: 1 | AT71: 14 | AX71: 14
B72: KY | C72: 2013 | D72: 03378500 | E72: Wabash River at New Harmony, IN | F72: NASQAN | G72: Large River | H72: NASQAN | I72: yes | L72: =J72*K72/100 -> 0 | P72: 14 | R72: 1 | T72: 14 | V72: 1 | X72: 1 | Z72: 14 | AB72: 1 | AD72: 1 | AF72: 1 | AH72: 1 | AJ72: 1 | AL72: 14 | AN72: 1 | AP72: 1 | AR72: 1 | AT72: 14 | AX72: 14
B73: KY | C73: 2013 | D73: 03609750 | E73: Tennessee River at Highway 60 near Paducah, KY | F73: NASQAN | G73: Large River | H73: NASQAN | I73: yes | J73: 13500 | K73: 100 | L73: =J73*K73/100 -> 13500 | P73: 14 | R73: 1 | T73: 14 | V73: 1 | X73: 1 | Z73: 14 | AB73: 1 | AD73: 1 | AF73: 1 | AH73: 1 | AJ73: 1 | AL73: 14 | AN73: 1 | AP73: 1 | AR73: 1 | AT73: 14 | AX73: 14
B74: KY | C74: 2013 | D74: 03612500 | E74: Ohio River at Dam 53 near Grand Chain, IL | F74: NASQAN | G74: Large River | H74: NASQAN | I74: yes | L74: =J74*K74/100 -> 0 | M74: YES | P74: 14 | R74: 1 | T74: 14 | V74: 1 | X74: 1 | Z74: 14 | AB74: 1 | AD74: 1 | AF74: 1 | AH74: 1 | AJ74: 1 | AL74: 14 | AN74: 1 | AP74: 1 | AR74: 1 | AT74: 14 | AX74: 14
B75: KY | E75: WSC sum | P75: =SUM(P71:P74) -> 56 | Q75: =SUM(Q71:Q74) -> 0 | R75: =SUM(R71:R74) -> 4 | S75: =SUM(S71:S74) -> 0 | T75: =SUM(T71:T74) -> 56 | U75: =SUM(U71:U74) -> 0 | V75: =SUM(V71:V74) -> 4 | W75: =SUM(W71:W74) -> 0 | ... AY75: =SUM(AY71:AY74) -> 0
B77: LA | C77: 2013 | D77: 07373420 | E77: Mississippi River near St. Francisville, LA | F77: NASQAN | G77: Large River | H77: NASQAN | I77: yes | L77: =J77*K77/100 -> 0 | P77: 16 | R77: 1 | T77: 16 | V77: 1 | X77: 1 | Z77: 16 | AB77: 1 | AD77: 1 | AF77: 1 | AH77: 1 | AJ77: 1 | AL77: 16 | AN77: 1 | AP77: 1 | AR77: 1 | AT77: 14 | AX77: 14
B78: LA | C78: 2013 | D78: 07374000 | E78: Mississippi River at Baton Rouge, LA | F78: NASQAN | G78: Large River | H78: NASQAN | I78: yes | L78: =J78*K78/100 -> 0 | M78: YES | P78: 14 | R78: 1 | T78: 14 | V78: 1 | X78: 1 | Z78: 14 | AB78: 1 | AD78: 1 | AF78: 1 | AH78: 1 | AJ78: 1 | AL78: 14 | AN78: 1 | AP78: 1 | AR78: 1 | AT78: 14 | AX78: 14
B79: LA | C79: 2013 | D79: 07374525 | E79: Mississippi River at Belle Chasse, LA | F79: NASQAN | G79: Large River | H79: NASQAN | I79: yes | L79: =J79*K79/100 -> 0 | P79: 14 | R79: 1 | T79: 14 | V79: 1 | X79: 1 | Z79: 14 | AB79: 1 | AD79: 1 | AF79: 1 | AH79: 1 | AJ79: 1 | AL79: 14 | AN79: 1 | AP79: 1 | AR79: 1 | AT79: 14 | AX79: 14
B80: LA | C80: 2013 | D80: 07381495 | E80: Atchafalaya River at Melville, LA | F80: NASQAN | G80: Large River | H80: NASQAN | I80: yes | L80: =J80*K80/100 -> 0 | P80: 16 | R80: 1 | T80: 16 | V80: 1 | X80: 1 | Z80: 16 | AB80: 1 | AD80: 1 | AF80: 1 | AH80: 1 | AJ80: 1 | AL80: 16 | AN80: 1 | AP80: 1 | AR80: 1 | AT80: 14 | AX80: 14
B81: LA | C81: 2013 | D81: 07381590 | E81: Wax Lake Outlet at Calumet, LA | F81: NASQAN | G81: Large River | H81: NASQAN | I81: yes | L81: =J81*K81/100 -> 0 | P81: 14 | R81: 1 | T81: 14 | V81: 1 | X81: 1 | Z81: 14 | AB81: 1 | AD81: 1 | AF81: 1 | AH81: 1 | AJ81: 1 | AL81: 14 | AN81: 1 | AP81: 1 | AR81: 1 | AT81: 14 | AX81: 14
B82: LA | C82: 2013 | D82: 07381600 | E82: Lower Atchafalaya River at Morgan City, LA | F82: NASQAN | G82: Large River | H82: NASQAN | I82: yes | L82: =J82*K82/100 -> 0 | P82: 14 | R82: 1 | T82: 14 | V82: 1 | X82: 1 | Z82: 14 | AB82: 1 | AD82: 1 | AF82: 1 | AH82: 1 | AJ82: 1 | AL82: 14 | AN82: 1 | AP82: 1 | AR82: 1 | AT82: 14 | AX82: 14
B83: LA | C83: 2013 | D83: 08014500 | E83: Ouiska (Whiskey) Chitto Creek near Oberlin, LA | F83: rotate4 | G83: Reference | H83: NAWQA | I83: yes | L83: =J83*K83/100 -> 0 | P83: 6 | R83: 1 | T83: 6 | V83: 1 | X83: 0 | Z83: 6 | AB83: 1 | AD83: 0 | AF83: 0 | AH83: 0 | AJ83: 0 | AL83: 0
B84: LA | E84: WSC sum | P84: =SUM(P77:P83) -> 94 | Q84: =SUM(Q77:Q83) -> 0 | R84: =SUM(R77:R83) -> 7 | S84: =SUM(S77:S83) -> 0 | T84: =SUM(T77:T83) -> 94 | U84: =SUM(U77:U83) -> 0 | V84: =SUM(V77:V83) -> 7 | W84: =SUM(W77:W83) -> 0 | ... AY84: =SUM(AY77:AY83) -> 0
B86: MD | C86: 2013 | D86: 01578310 | E86: Susquehanna River at Conowingo, MD | F86: NASQAN | G86: Large River | H86: NASQAN | I86: yes | L86: =J86*K86/100 -> 0 | P86: 14 | R86: 1 | T86: 14 | V86: 1 | X86: 1 | Z86: 14 | AB86: 1 | AD86: 1 | AF86: 1 | AH86: 1 | AJ86: 1 | AL86: 14 | AN86: 1 | AP86: 1 | AR86: 1 | AT86: 14 | AX86: 14
B87: MD | C87: 2013 | D87: 01654000 | E87: Accotink Creek near Annandale, VA | F87: rotate2 | G87: Urban | H87: NAWQA | I87: yes | L87: =J87*K87/100 -> 0 | P87: 24 | R87: 1 | T87: 24 | V87: 1 | X87: 1 | Z87: 24 | AB87: 2 | AD87: 2 | AF87: 2 | AH87: 2 | AJ87: 2 | AL87: 24 | AN87: 1 | AP87: 1 | AR87: 1
B88: MD | C88: 2013 | D88: 01646580 | E88: Potomac River at Washington, DC | F88: agcore/NASQAN | G88: Large River | H88: NAWQA | I88: yes | L88: =J88*K88/100 -> 0 | M88: YES | P88: 18 | R88: 1 | T88: 18 | V88: 1 | X88: 1 | Z88: 18 | AB88: 1 | AD88: 1 | AF88: 1 | AH88: 1 | AJ88: 1 | AL88: 18 | AN88: 1 | AP88: 1 | AR88: 1
B89: MD | C89: 2013 | D89: 01610400 | E89: Waites Run near Wardensville, WV | F89: rotate4 | G89: Reference | H89: NAWQA | I89: yes | J89: 15300 | K89: 100 | L89: =J89*K89/100 -> 15300 | P89: 6 | R89: 1 | T89: 6 | V89: 0 | X89: 1 | Z89: 6 | AB89: 0 | AD89: 1 | AF89: 1 | AH89: 1 | AJ89: 1 | AL89: 0
B90: MD | E90: WSC sum | P90: =SUM(P86:P89) -> 62 | Q90: =SUM(Q86:Q89) -> 0 | R90: =SUM(R86:R89) -> 4 | S90: =SUM(S86:S89) -> 0 | T90: =SUM(T86:T89) -> 62 | U90: =SUM(U86:U89) -> 0 | V90: =SUM(V86:V89) -> 3 | W90: =SUM(W86:W89) -> 0 | ... AY90: =SUM(AY86:AY89) -> 0
B92: MI | C92: 2013 | D92: 04161820 | E92: Clinton River at Sterling Heights, MI | F92: rotate4 | G92: Urban | H92: NAWQA | I92: yes | J92: 16600 | K92: 100 | L92: =J92*K92/100 -> 16600 | P92: 24 | R92: 1 | T92: 24 | V92: 1 | X92: 1 | Z92: 24 | AB92: 2 | AD92: 2 | AF92: 2 | AH92: 2 | AJ92: 2 | AL92: 24 | AN92: 1 | AP92: 1 | AR92: 1
B93: MI | E93: WSC sum | P93: =SUM(P92:P92) -> 24 | Q93: =SUM(Q92:Q92) -> 0 | R93: =SUM(R92:R92) -> 1 | S93: =SUM(S92:S92) -> 0 | T93: =SUM(T92:T92) -> 24 | U93: =SUM(U92:U92) -> 0 | V93: =SUM(V92:V92) -> 1 | W93: =SUM(W92:W92) -> 0 | ... AY93: =SUM(AY92:AY92) -> 0
B95: MN | C95: 2013 | D95: 05288705 | E95: Shingle Creek at Minneapolis, MN | F95: rotate2 | G95: Urban | H95: NAWQA | I95: yes | J95: 12500 | K95: 100 | L95: =J95*K95/100 -> 12500 | P95: 24 | R95: 1 | T95: 24 | V95: 1 | X95: 1 | Z95: 24 | AB95: 2 | AD95: 2 | AF95: 2 | AH95: 2 | AJ95: 2 | AL95: 24 | AN95: 1 | AP95: 1 | AR95: 1 | AZ95: agreed to add site; cgc email 20120926
B96: MN | C96: 2013 | D96: 05331580 | E96: Mississippi River at Hastings, MN | F96: rotate4 | G96: Large River | H96: NAWQA | I96: yes | J96: 4800 | K96: 100 | L96: =J96*K96/100 -> 4800 | P96: 14 | R96: 1 | T96: 14 | V96: 1 | X96: 1 | Z96: 14 | AB96: 1 | AD96: 1 | AF96: 1 | AH96: 1 | AJ96: 1 | AL96: 14 | AN96: 1 | AP96: 1 | AR96: 1
B97: MN | E97: WSC sum | P97: =SUM(P95:P96) -> 38 | Q97: =SUM(Q95:Q96) -> 0 | R97: =SUM(R95:R96) -> 2 | S97: =SUM(S95:S96) -> 0 | T97: =SUM(T95:T96) -> 38 | U97: =SUM(U95:U96) -> 0 | V97: =SUM(V95:V96) -> 2 | W97: =SUM(W95:W96) -> 0 | ... AY97: =SUM(AY95:AY96) -> 0
B99: MS | C99: 2013 | D99: 322023090544500 | E99: Mississippi River above Vicksburg, MS | F99: NMN | G99: Large River | H99: NMN | I99: yes | J99: 3150 | K99: 100 | L99: =J99*K99/100 -> 3150 | P99: 14 | R99: 1 | T99: 14 | V99: 1 | X99: 1 | Z99: 14 | AB99: 1 | AD99: 1 | AF99: 1 | AH99: 1 | AJ99: 1 | AL99: 14 | AN99: 1 | AP99: 1 | AR99: 1 | AT99: 14 | AX99: 14
B100: MS | C100: 2013 | D100: 07288650 | E100: Bogue Phalia near Leland, MS | F100: ACT site | G100: Agriculture | H100: NAWQA | I100: yes | L100: =J100*K100/100 -> 0 | P100: 24 | R100: 1 | T100: 24 | V100: 1 | X100: 1 | Z100: 24 | AB100: 2 | AD100: 2 | AF100: 2 | AH100: 2 | AJ100: 2 | AL100: 24 | AN100: 1 | AP100: 1 | AR100: 1
B101: MS | C101: 2013 | D101: 07288955 | E101: Yazoo River near Long Lake, MS | F101: agcore/NASQAN | G101: Large River | H101: NAWQA | I101: yes | L101: =J101*K101/100 -> 0 | P101: 18 | R101: 1 | T101: 18 | V101: 1 | X101: 1 | Z101: 18 | AB101: 1 | AD101: 1 | AF101: 1 | AH101: 1 | AJ101: 1 | AL101: 18 | AN101: 1 | AP101: 1 | AR101: 1
B102: MS | E102: WSC sum | P102: =SUM(P99:P101) -> 56 | Q102: =SUM(Q99:Q101) -> 0 | R102: =SUM(R99:R101) -> 3 | S102: =SUM(S99:S101) -> 0 | T102: =SUM(T99:T101) -> 56 | U102: =SUM(U99:U101) -> 0 | V102: =SUM(V99:V101) -> 3 | W102: =SUM(W99:W101) -> 0 | ... AY102: =SUM(AY99:AY101) -> 0
B104: MO | C104: 2013 | D104: 07022000 | E104: Mississippi River at Thebes, IL | F104: NASQAN | G104: Large River | H104: NASQAN | I104: yes | L104: =J104*K104/100 -> 0 | P104: 14 | R104: 1 | T104: 14 | V104: 1 | X104: 1 | Z104: 14 | AB104: 1 | AD104: 1 | AF104: 1 | AH104: 1 | AJ104: 1 | AL104: 14 | AN104: 1 | AP104: 1 | AR104: 1 | AT104: 14 | AX104: 14
B105: MO | C105: 2013 | D105: 05587455 | E105: Mississippi River Below Grafton, IL | F105: NASQAN | G105: Large River | H105: NASQAN | I105: yes | L105: =J105*K105/100 -> 0 | P105: 14 | R105: 1 | T105: 14 | V105: 1 | X105: 1 | Z105: 14 | AB105: 1 | AD105: 1 | AF105: 1 | AH105: 1 | AJ105: 1 | AL105: 14 | AN105: 1 | AP105: 1 | AR105: 1 | AT105: 14 | AX105: 14 | AZ105: co-op site; will use S86, S1630, and S1904 in place of S2431
B106: MO | C106: 2013 | D106: 06934500 | E106: Missouri River at Hermann, MO | F106: NASQAN | G106: Large River | H106: NASQAN | I106: yes | L106: =J106*K106/100 -> 0 | M106: YES | P106: 14 | R106: 1 | T106: 14 | V106: 1 | X106: 1 | Z106: 14 | AB106: 1 | AD106: 1 | AF106: 1 | AH106: 1 | AJ106: 1 | AL106: 14 | AN106: 1 | AP106: 1 | AR106: 1 | AT106: 14 | AX106: 14
B107: MO | E107: WSC sum | P107: =SUM(P104:P106) -> 42 | Q107: =SUM(Q104:Q106) -> 0 | R107: =SUM(R104:R106) -> 3 | S107: =SUM(S104:S106) -> 0 | T107: =SUM(T104:T106) -> 42 | U107: =SUM(U106) -> 0 | V107: =SUM(V104:V106) -> 3 | W107: =SUM(W106) -> 0 | X107: =SUM(X104:X106) -> 3 | Y107: =SUM(Y106) -> 0 | Z107: =SUM(Z104:Z106) -> 42 | AA107: =SUM(AA106) -> 0 | AB107: =SUM(AB104:AB106) -> 3 | AC107: =SUM(AC106) -> 0 | AD107: =SUM(AD104:AD106) -> 3 | AE107: =SUM(AE106) -> 0 | AF107: =SUM(AF104:AF106) -> 3 | AG107: =SUM(AG106) -> 0 | AH107: =SUM(AH104:AH106) -> 3 | AI107: =SUM(AI106) -> 0 | AJ107: =SUM(AJ104:AJ106) -> 3 | AK107: =SUM(AK106) -> 0 | AL107: =SUM(AL104:AL106) -> 42 | AM107: =SUM(AM104:AM106) -> 0 | AN107: =SUM(AN104:AN106) -> 3 | AO107: =SUM(AO104:AO106) -> 0 | AP107: =SUM(AP104:AP106) -> 3 | AQ107: =SUM(AQ104:AQ106) -> 0 | AR107: =SUM(AR104:AR106) -> 3 | AS107: =SUM(AS106) -> 0 | AT107: =SUM(AT104:AT106) -> 42 | AU107: =SUM(AU104:AU106) -> 0 | AV107: =SUM(AV104:AV106) -> 0 | AW107: =SUM(AW104:AW106) -> 0 | AX107: =SUM(AX104:AX106) -> 42 | AY107: =SUM(AY104:AY106) -> 0
B109: NE | C109: 2013 | D109: 06775900 | E109: Dismal River near Thedford, NE | F109: eco_only | G109: Reference | H109: NAWQA | I109: yes | L109: =J109*K109/100 -> 0 | P109: 6 | R109: 1 | T109: 6 | V109: 1 | X109: 0 | Z109: 6 | AB109: 1 | AD109: 0 | AF109: 0 | AH109: 0 | AJ109: 0 | AL109: 0 | AR109: 0
B110: NE | C110: 2013 | D110: 06800500 | E110: Elkhorn River at Waterloo, NE | F110: rotate4 | G110: Large River | H110: NAWQA | I110: yes | L110: =J110*K110/100 -> 0 | M110: YES-COOP | P110: 18 | R110: 1 | T110: 18 | V110: 1 | X110: 1 | Z110: 18 | AB110: 1 | AD110: 1 | AF110: 1 | AH110: 1 | AJ110: 1 | AL110: 18 | AN110: 1 | AP110: 1 | AR110: 1
B111: NE | C111: 2013 | D111: 06800000 | E111: Maple Creek near Nickerson, NE | F111: rotate2 | G111: Agriculture | H111: NAWQA | I111: yes | L111: =J111*K111/100 -> 0 | P111: 24 | R111: 1 | T111: 24 | V111: 1 | X111: 1 | Z111: 24 | AB111: 2 | AD111: 2 | AF111: 2 | AH111: 2 | AJ111: 2 | AL111: 24 | AN111: 1 | AP111: 1 | AR111: 1
B112: NE | C112: 2013 | D112: 06805500 | E112: Platte River at Louisville, NE | F112: agcore/NASQAN | G112: Large River | H112: NAWQA | I112: yes | J112: 12200 | K112: 100 | L112: =J112*K112/100 -> 12200 | M112: YES-COOP | P112: 14 | R112: 1 | T112: 14 | V112: 1 | X112: 1 | Z112: 14 | AB112: 1 | AD112: 1 | AF112: 1 | AH112: 1 | AJ112: 1 | AL112: 14 | AN112: 1 | AP112: 1 | AR112: 1
B113: NE | E113: WSC sum | P113: =SUM(P109:P112) -> 62 | Q113: =SUM(Q109:Q112) -> 0 | R113: =SUM(R109:R112) -> 4 | S113: =SUM(S109:S112) -> 0 | T113: =SUM(T109:T112) -> 62 | U113: =SUM(U109:U112) -> 0 | V113: =SUM(V109:V112) -> 4 | W113: =SUM(W109:W112) -> 0 | ... AY113: =SUM(AY109:AY112) -> 0
B115: NV | C115: 2013 | D115: 10350340 | E115: Truckee River at Tracy, NV | F115: rotate4 | G115: Large River | H115: NAWQA | I115: yes | L115: =J115*K115/100 -> 0 | P115: 18 | R115: 1 | T115: 18 | V115: 1 | X115: 1 | Z115: 18 | AB115: 1 | AD115: 1 | AF115: 1 | AH115: 1 | AJ115: 1 | AL115: 18 | AN115: 1 | AP115: 1 | AR115: 1
B116: NV | E116: WSC sum | P116: =SUM(P115:P115) -> 18 | Q116: =SUM(Q115:Q115) -> 0 | R116: =SUM(R115:R115) -> 1 | S116: =SUM(S115:S115) -> 0 | T116: =SUM(T115:T115) -> 18 | U116: =SUM(U115:U115) -> 0 | V116: =SUM(V115:V115) -> 1 | W116: =SUM(W115:W115) -> 0 | ... AY116: =SUM(AY115:AY115) -> 0
B118: NJ | C118: 2013 | D118: 01463500 | E118: Delaware River at Trenton, NJ | F118: NMN/ rotate4 | G118: Large River | H118: NAWQA | I118: yes | L118: =J118*K118/100 -> 0 | M118: YES-COOP | P118: 14 | R118: 1 | T118: 14 | V118: 1 | X118: 1 | Z118: 14 | AB118: 1 | AD118: 1 | AF118: 1 | AH118: 1 | AJ118: 1 | AL118: 14 | AN118: 1 | AP118: 1 | AR118: 1 | AT118: 14 | AX118: 14
B119: NJ | E119: WSC sum | P119: =SUM(P118:P118) -> 14 | Q119: =SUM(Q118:Q118) -> 0 | R119: =SUM(R118:R118) -> 1 | S119: =SUM(S118:S118) -> 0 | T119: =SUM(T118:T118) -> 14 | U119: =SUM(U118:U118) -> 0 | V119: =SUM(V118:V118) -> 1 | W119: =SUM(W118:W118) -> 0 | ... AY119: =SUM(AY118:AY118) -> 0
B121: NM | C121: 2013 | D121: 08227000 | E121: Saguache Creek near Saguache, CO | F121: eco_only | G121: Reference | H121: NAWQA | I121: yes-COOP | L121: =J121*K121/100 -> 0 | P121: 6 | R121: 1 | T121: 6 | V121: 0 | X121: 1 | Z121: 6 | AB121: 0 | AD121: 1 | AF121: 1 | AH121: 1 | AJ121: 1 | AL121: 0 | AR121: 0 | AZ121: streamgage run by CO Div. of Water Resources (gurtz email 6/8/12)
B122: NM | C122: 2013 | D122: 08364000 | E122: Rio Grande at El Paso, TX | F122: agcore/NAWQA | G122: Large River | H122: NAWQA | I122: yes | L122: =J122*K122/100 -> 0 | M122: YES-COOP | P122: 14 | R122: 1 | T122: 14 | V122: 1 | X122: 1 | Z122: 14 | AB122: 1 | AD122: 1 | AF122: 1 | AH122: 1 | AJ122: 1 | AL122: 14 | AN122: 1 | AP122: 1 | AR122: 1
B123: NM | E123: WSC sum | P123: =SUM(P121:P122) -> 20 | Q123: =SUM(Q121:Q122) -> 0 | R123: =SUM(R121:R122) -> 2 | S123: =SUM(S121:S122) -> 0 | T123: =SUM(T121:T122) -> 20 | U123: =SUM(U121:U122) -> 0 | V123: =SUM(V121:V122) -> 1 | W123: =SUM(W121:W122) -> 0 | ... AY123: =SUM(AY121:AY122) -> 0
B125: NY | C125: 2013 | D125: 4264331 | E125: St. Lawrence River at Cornwall, Ontario | F125: NASQAN | G125: Large River | H125: NASQAN | I125: yes | L125: =J125*K125/100 -> 0 | P125: 14 | R125: 1 | T125: 14 | V125: 1 | X125: 1 | Z125: 14 | AB125: 1 | AD125: 1 | AF125: 1 | AH125: 1 | AJ125: 1 | AL125: 14 | AN125: 1 | AP125: 1 | AR125: 1 | AT125: 14 | AX125: 14
B126: NY | C126: 2013 | D126: 01349150 | E126: Canajoharie Creek near Canajoharie, NY | F126: rotate4 | G126: Agriculture | H126: NAWQA | I126: yes | J126: 15500 | K126: 100 | L126: =J126*K126/100 -> 15500 | P126: 24 | R126: 1 | T126: 24 | V126: 1 | X126: 1 | Z126: 24 | AB126: 2 | AD126: 2 | AF126: 2 | AH126: 2 | AJ126: 2 | AL126: 24 | AN126: 1 | AP126: 1 | AR126: 1
B127: NY | C127: 2013 | D127: 01372043 | E127: Hudson River near Poughkeepsie, NY | F127: NMN | G127: Large River | H127: NMN | I127: yes | L127: =J127*K127/100 -> 0 | P127: 14 | R127: 1 | T127: 14 | V127: 1 | X127: 1 | Z127: 14 | AB127: 1 | AD127: 1 | AF127: 1 | AH127: 1 | AJ127: 1 | AL127: 14 | AN127: 1 | AP127: 1 | AR127: 1 | AT127: 14 | AX127: 14
...

Sheet NFSN Eco Sampling
A1: Last Update | B1: SC | C1: 41179 | E1: Ecological STAID | F1: Ecological Site name | G1: Cycle 2 Site Type | H1: Cycle 3 Site Type | I1: Eco- region | J1: Fiscal year | K1: Reach Sampled (Primary Reach) | L1: Inv / Algae RTH (Riffle or Snag) | M1: Index Period for Inverts and Algae | O1: Inverts - RTH | Q1: Inverts - QMH | S1: Algae - RTH | U1: Algae - Chl a / Biomass | W1: Fish | AB1: Habitat | AF1: SU Annual Comments: Unusual Sampling Circumstances
C2: Primary STAID | D2: Site name | O2: No. of Samples Planned | P2: Date Com-pleted (MM/DD/YY) | Q2: No. of Samples Planned | R2: Date Com-pleted (MM/DD/YY) | S2: No. of Samples Planned | T2: Date Com-pleted (MM/DD/YY) | U2: No. of Samples Planned | V2: Date Com-pleted (MM/DD/YY) | W2: Index Period | Y2: QA Plan Submitted (Yes/No) | Z2: No. of Samples Planned | AA2: Date Com-pleted (MM/DD/YY) | AB2: Index Period | AD2: No. of Samples Planned | AE2: Date Com-pleted (MM/DD/YY)
M3: Start Date | N3: End Date | P3: Reach A | R3: Reach A | T3: Reach A | V3: Reach A | W3: Start Date | X3: End Date | AB3: Start Date | AC3: End Date
B5: AZ | C5: 09471000 | D5: San Pedro River at Charleston, AZ | G5: rotate4 | H5: Reference | I5: 79 | J5: 2013 | K5: A | L5: Riffle | M5: 37561 | N5: 37605 | O5: 1 | Q5: 0 | S5: 1 | U5: 1 | W5: 37561 | X5: 37605 | Z5: 1 | AB5: 37561 | AC5: 37605 | AD5: 1 | AF5: Index pd shifted two weeks later than in Cycle 2 to reflect actual dates sampled. Sampling plan shown for the Fiscal Years in which samples are collected (i.e., Fall 2012 = FY2013)
B6: AZ | C6: 09505800 | D6: West Clear Creek near Camp Verde, AZ | G6: rotate4 | H6: Reference | I6: 23 | J6: 2013 | K6: A | L6: Riffle | M6: 37544 | N6: 37590 | O6: 1 | Q6: 0 | S6: 1 | U6: 1 | W6: 37544 | X6: 37590 | Z6: 1 | AB6: 37544 | AC6: 37590 | AD6: 1 | AF6: Sampling plan shown for the Fiscal Years in which samples are collected (i.e., Fall 2012 = FY2013)
B7: AR | C7: 07055646 | D7: Buffalo River near Boxley, AR | G7: rotate4 | H7: Reference | I7: 38 | J7: 2013 | K7: A | L7: Riffle | M7: 37483 | N7: 37529 | O7: 1 | Q7: 0 | S7: 1 | U7: 1 | W7: 37452 | X7: 37499 | Z7: 1 | AB7: 37452 | AC7: 37499 | AD7: 1
B8: AR | C8: 07060710 | D8: North Sylamore Creek near Fifty Six, AR | G8: rotate4 | H8: Reference | I8: 39 | J8: 2013 | K8: C | L8: Riffle | M8: 37483 | N8: 37529 | O8: 1 | Q8: 0 | S8: 1 | U8: 1 | W8: 37452 | X8: 37499 | Z8: 1 | AB8: 37452 | AC8: 37499 | AD8: 1
B9: CA | C9: 11274538 | D9: Orestimba Creek near Crows Landing, CA | G9: rotate4 | H9: Agricultural | I9: 5 | J9: 2013 | K9: A | L9: Snag | M9: 37483 | N9: 37529 | O9: 1 | Q9: 0 | S9: 1 | U9: 1 | W9: 37483 | X9: 37529 | Z9: 1 | AB9: 37483 | AC9: 37529 | AD9: 1
B10: CA | C10: 11335000 | D10: Cosumnes River at Michigan Bar, CA | G10: eco_only | H10: Reference | I10: 7 | J10: 2013 | K10: C | L10: Riffle | M10: 37483 | N10: 37529 | O10: 1 | Q10: 0 | S10: 1 | U10: 1 | W10: 37483 | X10: 37529 | Z10: 1 | AB10: 37483 | AC10: 37529 | AD10: 1
B11: CA | C11: 11049400 | D11: Santa Ana River above Seven Oaks Dam, CA | E11: 340843117032501 | F11: Santa Ana R nr Running Springs, CA | G11: eco_only | H11: Reference | I11: 8 | J11: 2013 | K11: A | L11: Riffle | M11: 37445 | N11: 37490 | O11: 1 | Q11: 0 | S11: 1 | U11: 1 | W11: 37445 | X11: 37490 | Z11: 1 | AB11: 37445 | AC11: 37490 | AD11: 1
B12: CO | C12: 06713500 | D12: Cherry Creek at Denver, CO | G12: rotate2 | H12: Urban | I12: 25 | J12: 2013 | K12: B | L12: Riffle | M12: 37452 | N12: 37499 | O12: 1 | Q12: 0 | S12: 1 | U12: 1 | W12: 37452 | X12: 37499 | Z12: 1 | AB12: 37452 | AC12: 37499 | AD12: 1
B13: CO | C13: 06879650 | D13: Kings Creek, KS | G13: HBN | H13: HBN | J13: 2013 | M13: 41044 | N13: 41090 | W13: 41044 | X13: 41090 | AB13: 41044 | AC13: 41090
B14: CT | C14: 01170100 | D14: Green River near Colrain, MA | E14: 01170095 | F14: Green River at Stewartville, MA | G14: rotate4 | H14: Reference | I14: 58 | J14: 2013 | K14: A | L14: Riffle | M14: 37469 | N14: 37514 | O14: 1 | Q14: 0 | S14: 1 | U14: 1 | W14: 37469 | X14: 37514 | Z14: 1 | AB14: 37469 | AC14: 37514 | AD14: 1
B15: CT | C15: 01209710 | D15: Norwalk River at Winnipauk,CT | G15: rotate4 | H15: Urban | I15: 59 | J15: 2013 | K15: A | L15: Riffle | M15: 37469 | N15: 37514 | O15: 1 | Q15: 0 | S15: 1 | U15: 1 | W15: 37469 | X15: 37514 | Z15: 1 | AB15: 37469 | AC15: 37514 | AD15: 1
B16: GA | C16: 2338523 | D16: Hillibahatchee Creek near Franklin, GA | G16: rotate4 | H16: Reference | I16: 45 | J16: 2013 | K16: B | L16: Riffle | M16: 37391 | N16: 37437 | O16: 1 | Q16: 0 | S16: 1 | U16: 1 | W16: 37500 | X16: 37544 | Z16: 1 | AB16: 37500 | AC16: 37544 | AD16: 1
B17: GA | C17: 02335870 | D17: Sope Creek near Marietta, GA | G17: rotate2 | H17: Urban | I17: 45 | J17: 2013 | K17: A | L17: Riffle | M17: 37391 | N17: 37437 | O17: 1 | Q17: 0 | S17: 1 | U17: 1 | W17: 37500 | X17: 37544 | Z17: 1 | AB17: 37500 | AC17: 37544 | AD17: 1
B18: ID | C18: 13092747 | D18: Rock Creek at Twin Falls, ID | G18: rotate4 | H18: Agricultural | I18: 12 | J18: 2013 | K18: A | L18: Riffle | M18: 37438 | N18: 37483 | O18: 1 | Q18: 0 | S18: 1 | U18: 1 | W18: 37438 | X18: 37483 | Z18: 1 | AB18: 37438 | AC18: 37483 | AD18: 1
B19: IN | C19: 394340085524601 | D19: Sugar Creek at New Palestine, IN | G19: rotate2 | H19: Agricultural | I19: 55 | J19: 2013 | K19: A | L19: Riffle | M19: 37452 | N19: 37499 | O19: 1 | Q19: 0 | S19: 1 | U19: 1 | W19: 37469 | X19: 37514 | Z19: 1 | AB19: 37452 | AC19: 37499 | AD19: 1
B20: IA | C20: 05451210 | D20: South Fork Iowa River near New Providence, IA | G20: rotate2 | H20: Agricultural | I20: 47 | J20: 2013 | K20: A | L20: Snag | M20: 37469 | N20: 37514 | O20: 1 | Q20: 0 | S20: 1 | U20: 1 | W20: 37483 | X20: 37529 | Z20: 1 | AB20: 37469 | AC20: 37514 | AD20: 1
B21: LA | C21: 08014500 | D21: Ouiska (Whisky) Chitto Creek near Oberlin, LA | G21: rotate4 | H21: Reference | I21: 35 | J21: 2013 | K21: A | L21: Snag | M21: 37452 | N21: 37499 | O21: 1 | Q21: 0 | S21: 1 | U21: 1 | W21: 37452 | X21: 37499 | Z21: 1 | AB21: 37452 | AC21: 37499 | AD21: 1
B22: MD | C22: 01610400 | D22: Waites Run near Wardensville, WV | G22: rotate4 | H22: Reference | I22: 67 | J22: 2013 | K22: B | L22: Riffle | M22: 37438 | N22: 37483 | O22: 1 | Q22: 0 | S22: 1 | U22: 1 | W22: 37438 | X22: 37483 | Z22: 1 | AB22: 37438 | AC22: 37483 | AD22: 1
B23: MD | C23: 01654000 | D23: Accotink Creek near Annandale, VA | G23: rotate2 | H23: Urban | I23: 45 | J23: 2013 | K23: A | L23: Riffle | M23: 37408 | N23: 37452 | O23: 1 | Q23: 0 | S23: 1 | U23: 1 | W23: 37469 | X23: 37514 | Z23: 1 | AB23: 37469 | AC23: 37514 | AD23: 1
B24: MN | C24: 05288705 | D24: Shingle Creek at Minneapolis, MN | G24: rotate2 | H24: Urban | I24: 51 | J24: 2013 | K24: B | L24: Snag | M24: 37483 | N24: 37529 | O24: 1 | Q24: 0 | S24: 1 | U24: 1 | W24: 37483 | X24: 37529 | Z24: 1 | AB24: 37483 | AC24: 37529 | AD24: 1
B25: MS | C25: 07288650 | D25: Bogue Phalia near Leland, MS | G25: dropped08 | H25: Agricultural | I25: 73 | J25: 2013 | K25: A | L25: Snag | M25: 40391 | N25: 40436 | O25: 1 | Q25: 0 | S25: 1 | U25: 1 | W25: 37452 | X25: 37499 | Z25: 1 | AB25: 37452 | AC25: 37499 | AD25: 1
B26: NE | C26: 06775900 | D26: Dismal River near Thedford, NE | G26: eco_only | H26: Reference | I26: 44 | J26: 2013 | K26: C | L26: Snag | M26: 37469 | N26: 37514 | O26: 1 | Q26: 0 | S26: 1 | U26: 1 | W26: 37469 | X26: 37514 | Z26: 1 | AB26: 37469 | AC26: 37514 | AD26: 1
B27: NE | C27: 06800000 | D27: Maple Creek near Nickerson, NE | G27: rotate2 | H27: Agricultural | I27: 47 | J27: 2013 | K27: C | L27: Snag | M27: 37469 | N27: 37514 | O27: 1 | Q27: 0 | S27: 1 | U27: 1 | W27: 37469 | X27: 37514 | Z27: 1 | AB27: 37469 | AC27: 37514 | AD27: 1
B28: NM | C28: 08227000 | D28: Saguache Creek near Saguache, CO | G28: eco_only | H28: Reference | I28: 21 | J28: 2013 | K28: A | L28: Riffle | M28: 37452 | N28: 37499 | O28: 1 | Q28: 0 | S28: 1 | U28: 1 | W28: 37452 | X28: 37499 | Z28: 1 | AB28: 37452 | AC28: 37499 | AD28: 1
... B30: NC | C30: 02091500 | D30: Contentnea Creek at Hookerton, NC | G30: rotate4 | H30: Agricultural | I30: 65 | J30: 2013 | K30: A | L30: Snag | M30: 37391 | N30: 37437 | O30: 1 | Q30: 0 | S30: 1 | U30: 1 | W30: 37500 | X30: 37544 | Z30: 1 | AB30: 37500 | AC30: 37544 | AD30: 1
B31: NC | C31: 2087580 | D31: Swift Creek near Apex, NC | G31: rotate2 | H31: Urban | I31: 65 | J31: 2013 | K31: C | L31: Riffle | M31: 37391 | N31: 37437 | O31: 1 | Q31: 0 | S31: 1 | U31: 1 | W31: 37500 | X31: 37544 | Z31: 1 | AB31: 37500 | AC31: 37544 | AD31: 1
B32: OH | C32: 04161820 | D32: Clinton River at Sterling Heights, MI | G32: rotate4 | H32: Urban | I32: 56 | J32: 2013 | K32: A | L32: Riffle | M32: 37469 | N32: 37514 | O32: 1 | Q32: 0 | S32: 1 | U32: 1 | W32: 37469 | X32: 37514 | Z32: 1 | AB32: 37469 | AC32: 37514 | AD32: 1
B33: OR | C33: 14201300 | D33: Zollner Creek near Mt. Angel, OR | G33: rotate4 | H33: Agricultural | I33: 3 | J33: 2013 | K33: A | L33: Snag | M33: 37483 | N33: 37529 | O33: 1 | Q33: 0 | S33: 1 | U33: 1 | W33: 37483 | X33: 37529 | Z33: 1 | AB33: 37483 | AC33: 37529 | AD33: 1
B34: OR | C34: 14206950 | D34: Fanno Creek at Durham, OR | G34: rotate2 | H34: Urban | I34: 3 | J34: 2013 | K34: A | L34: Riffle | M34: 37483 | N34: 37529 | O34: 1 | Q34: 0 | S34: 1 | U34: 1 | W34: 37483 | X34: 37529 | Z34: 1 | AB34: 37483 | AC34: 37529 | AD34: 1
B35: OR | C35: 14205400 | D35: E Fork Dairy Creek near Meachan Corner, OR | G35: rotate4 | H35: Reference | I35: 3 | J35: 2013 | K35: A | L35: Riffle | M35: 37483 | N35: 37529 | O35: 1 | Q35: 0 | S35: 1 | U35: 1 | W35: 37483 | X35: 37529 | Z35: 1 | AB35: 37483 | AC35: 37529 | AD35: 1
B36: SC | C36: 02172300 | D36: McTier Creek near Monetta, SC | G36: rotate4 | H36: Reference | I36: 65 | J36: 2013 | K36: A | L36: Snag | M36: 37391 | N36: 37437 | O36: 1 | Q36: 0 | S36: 1 | U36: 1 | W36: 37500 | X36: 37544 | Z36: 1 | AB36: 37391 | AC36: 37437 | AD36: 1
B37: TX | C37: 08057200 | D37: White Rock Creek at Dallas, TX | G37: rotate2 | H37: Urban | I37: 32 | J37: 2013 | K37: A | L37: Riffle | M37: 37438 | N37: 37483 | O37: 1 | Q37: 0 | S37: 1 | U37: 1 | W37: 37438 | X37: 37483 | Z37: 1 | AB37: 37438 | AC37: 37483 | AD37: 1
B38: TX | C38: 08195000 | D38: Frio River at Concan, TX | G38: eco_only | H38: Reference | I38: 30 | J38: 2013 | K38: B | L38: Riffle | M38: 37438 | N38: 37483 | O38: 1 | Q38: 0 | S38: 1 | U38: 1 | W38: 38899 | X38: 38944 | Z38: 1 | AB38: 38899 | AC38: 38944 | AD38: 1
B39: TX | C39: 07335700 | D39: Kiamichi River, OK | G39: HBN | H39: HBN | J39: 2013 | M39: 37438 | N39: 37483 | O39: 0 | Q39: 0 | S39: 0 | U39: 0 | W39: 37438 | X39: 37483 | Z39: 0 | AB39: 37438 | AC39: 37483 | AD39: 0 | AF39: could not sample in FY12 due to no flow; can not carry over funds into FY13. - dropped
B40: UT | C40: 10168000 | D40: Little Cottonwood Creek at Salt Lake City, UT | G40: rotate2 | H40: Urban | I40: 19 | J40: 2013 | K40: A | L40: Depositional | M40: 37452 | N40: 37864 | O40: 1 | Q40: 0 | S40: 1 | U40: 1 | W40: 37452 | X40: 37864 | Z40: 1 | AB40: 37452 | AC40: 37864 | AD40: 1
B41: UT | C41: 10172200 | D41: Red Butte Creek at Ft Douglas, UT | G41: rotate4 | H41: Reference | I41: 19 | J41: 2013 | K41: A | L41: Riffle | M41: 37452 | N41: 37864 | O41: 1 | Q41: 0 | S41: 1 | U41: 1 | Z41: 0 | AB41: 37452 | AC41: 37864 | AD41: 1 | AF41: No fish collected at this site (only fish present are those stocked by the State).
B42: WA | C42: 12505450 | D42: Granger Drain at Granger, WA | G42: rotate4 | H42: Agricultural | I42: 10 | J42: 2013 | K42: A | L42: Riffle | M42: 40391 | N42: 40436 | O42: 1 | Q42: 0 | S42: 1 | U42: 1 | W42: 40391 | X42: 40436 | Z42: 1 | AB42: 40391 | AC42: 40436 | AD42: 1
B43: WA | C43: 12056500 | D43: North Fork Skokomish River near Hdsprt, WA | G43: eco_only | H43: Reference | I43: 1 | J43: 2013 | K43: A | L43: Riffle | M43: 37483 | N43: 37529 | O43: 1 | Q43: 0 | S43: 1 | U43: 1 | Z43: 0 | AB43: 37483 | AC43: 37529 | AD43: 1 | AF43: No fish collected at this site
B44: WI | C44: 04063700 | D44: Popple River near Fence, WI | G44: rotate4 | H44: Reference | I44: 50 | J44: 2013 | K44: A | L44: Riffle | M44: 37483 | N44: 37529 | O44: 1 | Q44: 0 | S44: 1 | U44: 1 | W44: 37469 | X44: 37514 | Z44: 1 | AB44: 37483 | AC44: 37529 | AD44: 1
B45: WY | C45: 06324970 | D45: Little Powder River near Weston, WY | G45: rotate4 | H45: Reference | I45: 43 | J45: 2013 | K45: A | L45: Riffle | M45: 38899 | N45: 38944 | O45: 1 | Q45: 0 | S45: 1 | U45: 1 | W45: 38899 | X45: 38944 | Z45: 1 | AB45: 38899 | AC45: 38944 | AD45: 1
H48: total counts | O48: =SUM(O5:O45) -> 39 | Q48: =SUM(Q5:Q45) -> 0 | S48: =SUM(S5:S45) -> 39 | U48: =SUM(U5:U45) -> 39 | Z48: =SUM(Z5:Z45) -> 37 | AD48: =SUM(AD5:AD45) -> 39

Sheet Sample counts
A1: SC Collecting Samples | B1: Suspended Sediment Samples | C1: SH 998/1201 Major Ion Samples | D1: SH 1674 Major Ions Blanks | E1: SH 2430/2431/2432 Nutrients Samples | F1: SH 452 Nutrient Blanks | G1: SH 1675 Nutrient Blanks | H1: LC 8096 uv 412 nm Blanks | I1: LC 8097 Dissolved Inorganic Carbon Blanks | J1: SH2437 Pesticide Samples | K1: SH2437 Pesticide Blanks | L1: LC 2172 Inverts RTH | M1: LC 2176 Inverts QMH | N1: Algae RTH | O1: SH 1632 Chl a
A2: AL | B2: ='NFSN Chem Sampling'!$P$7+'NFSN Chem Sampling'!$R$7 -> 34 | C2: ='NFSN Chem Sampling'!$T$7+'NFSN Chem Sampling'!$V$7 -> 34 | D2: ='NFSN Chem Sampling'!$X$7 -> 2 | E2: ='NFSN Chem Sampling'!$Z$7+'NFSN Chem Sampling'!$AB$7 -> 34 | F2: ='NFSN Chem Sampling'!$AD$7 -> 2 | G2: ='NFSN Chem Sampling'!$AF$7 -> 2 | H2: ='NFSN Chem Sampling'!$AH$7 -> 2 | I2: ='NFSN Chem Sampling'!$AJ$7 -> 2 | J2: ='NFSN Chem Sampling'!AL7+'NFSN Chem Sampling'!AP7+'NFSN Chem Sampling'!AR7 -> 36 | K2: ='NFSN Chem Sampling'!$AN$7 -> 2 | L2: 0 | M2: 0 | N2: 0 | O2: 0
A3: AK | B3: ='NFSN Chem Sampling'!$P$10+'NFSN Chem Sampling'!$R$10 -> 8 | C3: ='NFSN Chem Sampling'!$T$10+'NFSN Chem Sampling'!$V$10 -> 8 | D3: ='NFSN Chem Sampling'!$X$10 -> 0 | E3: ='NFSN Chem Sampling'!$Z$10+'NFSN Chem Sampling'!$AB$10 -> 8 | F3: ='NFSN Chem Sampling'!$AD$10 -> 0 | G3: ='NFSN Chem Sampling'!$AF$10 -> 0 | H3: ='NFSN Chem Sampling'!$AH$10 -> 0 | I3: ='NFSN Chem Sampling'!$AJ$10 -> 0 | J3: ='NFSN Chem Sampling'!AL10+'NFSN Chem Sampling'!AP10+'NFSN Chem Sampling'!AR10 -> 4 | K3: ='NFSN Chem Sampling'!$AN$10 -> 0 | L3: 0 | M3: 0 | N3: 0 | O3: 0
A4: AZ | B4: ='NFSN Chem Sampling'!$P$16+'NFSN Chem Sampling'!$R$16 -> 42 | C4: ='NFSN Chem Sampling'!$T$16+'NFSN Chem Sampling'!$V$16 -> 41 | D4: ='NFSN Chem Sampling'!$X$16 -> 3 | E4: ='NFSN Chem Sampling'!$Z$16+'NFSN Chem Sampling'!$AB$16 -> 41 | F4: ='NFSN Chem Sampling'!$AD$16 -> 3 | G4: ='NFSN Chem Sampling'!$AF$16 -> 3 | H4: ='NFSN Chem Sampling'!$AH$16 -> 3 | I4: ='NFSN Chem Sampling'!$AJ$16 -> 3 | J4: ='NFSN Chem Sampling'!AL16+'NFSN Chem Sampling'!AP16+'NFSN Chem Sampling'!AR16 -> 30 | K4: ='NFSN Chem Sampling'!$AN$16 -> 2 | L4: ='NFSN Eco Sampling'!$O$5+'NFSN Eco Sampling'!$O$6 -> 2 | M4: ='NFSN Eco Sampling'!$Q$5+'NFSN Eco Sampling'!$Q$6 -> 0 | N4: ='NFSN Eco Sampling'!$S$5+'NFSN Eco Sampling'!$S$6 -> 2 | O4: ='NFSN Eco Sampling'!$U$5+'NFSN Eco Sampling'!$U$6 -> 2
A5: AR | B5: ='NFSN Chem Sampling'!$P$21+'NFSN Chem Sampling'!$R$21 -> 29 | C5: ='NFSN Chem Sampling'!$T$21+'NFSN Chem Sampling'!$V$21 -> 28 | D5: ='NFSN Chem Sampling'!$X$21 -> 2 | E5: ='NFSN Chem Sampling'!$Z$21+'NFSN Chem Sampling'!$AB$21 -> 28 | F5: ='NFSN Chem Sampling'!$AD$21 -> 2 | G5: ='NFSN Chem Sampling'!$AF$21 -> 2 | H5: ='NFSN Chem Sampling'!$AH$21 -> 2 | I5: ='NFSN Chem Sampling'!$AJ$21 -> 2 | J5: ='NFSN Chem Sampling'!AL21+'NFSN Chem Sampling'!AP21+'NFSN Chem Sampling'!AR21 -> 16 | K5: ='NFSN Chem Sampling'!$AN$21 -> 1 | L5: ='NFSN Eco Sampling'!$O$7+'NFSN Eco Sampling'!$O$8 -> 2 | M5: ='NFSN Eco Sampling'!$Q$7+'NFSN Eco Sampling'!$Q$8 -> 0 | N5: ='NFSN Eco Sampling'!$S$7+'NFSN Eco Sampling'!$S$8 -> 2 | O5: ='NFSN Eco Sampling'!$U$7+'NFSN Eco Sampling'!$U$8 -> 2
A6: CA | B6: ='NFSN Chem Sampling'!$P$29+'NFSN Chem Sampling'!$R$29 -> 92 | C6: ='NFSN Chem Sampling'!$T$29+'NFSN Chem Sampling'!$V$29 -> 91 | D6: ='NFSN Chem Sampling'!$X$29 -> 6 | E6: ='NFSN Chem Sampling'!$Z$29+'NFSN Chem Sampling'!$AB$29 -> 92 | F6: ='NFSN Chem Sampling'!$AD$29 -> 7 | G6: ='NFSN Chem Sampling'!$AF$29 -> 7 | H6: ='NFSN Chem Sampling'!$AH$29 -> 6 | I6: ='NFSN Chem Sampling'!$AJ$29 -> 6 | J6: ='NFSN Chem Sampling'!AL29+'NFSN Chem Sampling'!AP29+'NFSN Chem Sampling'!AR29 -> 82 | K6: ='NFSN Chem Sampling'!$AN$29 -> 4 | L6: ='NFSN Eco Sampling'!$O$9+'NFSN Eco Sampling'!$O$10+'NFSN Eco Sampling'!$O$11 -> 3 | M6: ='NFSN Eco Sampling'!$Q$9+'NFSN Eco Sampling'!$Q$10+'NFSN Eco Sampling'!$Q$11 -> 0 | N6: ='NFSN Eco Sampling'!$S$9+'NFSN Eco Sampling'!$S$10+'NFSN Eco Sampling'!$S$11 -> 3 | O6: ='NFSN Eco Sampling'!$U$9+'NFSN Eco Sampling'!$U$10+'NFSN Eco Sampling'!$U$11 -> 3
A7: CO | B7: ='NFSN Chem Sampling'!$P$34+'NFSN Chem Sampling'!$R$34 -> 63 | C7: ='NFSN Chem Sampling'!$T$34+'NFSN Chem Sampling'!$V$34 -> 63 | D7: ='NFSN Chem Sampling'!$X$34 -> 3 | E7: ='NFSN Chem Sampling'!$Z$34+'NFSN Chem Sampling'!$AB$34 -> 64 | F7: ='NFSN Chem Sampling'!$AD$34 -> 4 | G7: ='NFSN Chem Sampling'!$AF$34 -> 4 | H7: ='NFSN Chem Sampling'!$AH$34 -> 4 | I7: ='NFSN Chem Sampling'!$AJ$34 -> 4 | J7: ='NFSN Chem Sampling'!AL34+'NFSN Chem Sampling'!AP34+'NFSN Chem Sampling'!AR34 -> 66 | K7: ='NFSN Chem Sampling'!$AN$34 -> 3 | L7: ='NFSN Eco Sampling'!$O$12 -> 1 | M7: ='NFSN Eco Sampling'!$Q$12 -> 0 | N7: ='NFSN Eco Sampling'!$S$12 -> 1 | O7: ='NFSN Eco Sampling'!$U$12 -> 1
A8: CT | B8: ='NFSN Chem Sampling'!$P$39+'NFSN Chem Sampling'!$R$39 -> 51 | C8: ='NFSN Chem Sampling'!$T$39+'NFSN Chem Sampling'!$V$39 -> 51 | D8: ='NFSN Chem Sampling'!$X$39 -> 2 | E8: ='NFSN Chem Sampling'!$Z$39+'NFSN Chem Sampling'!$AB$39 -> 52 | F8: ='NFSN Chem Sampling'!$AD$39 -> 3 | G8: ='NFSN Chem Sampling'!$AF$39 -> 3 | H8: ='NFSN Chem Sampling'!$AH$39 -> 3 | I8: ='NFSN Chem Sampling'!$AJ$39 -> 3 | J8: ='NFSN Chem Sampling'!AL39+'NFSN Chem Sampling'!AP39+'NFSN Chem Sampling'!AR39 -> 46 | K8: ='NFSN Chem Sampling'!$AN$39 -> 2 | L8: ='NFSN Eco Sampling'!$O$14+'NFSN Eco Sampling'!$O$15 -> 2 | M8: ='NFSN Eco Sampling'!$Q$14+'NFSN Eco Sampling'!$Q$15 -> 0 | N8: ='NFSN Eco Sampling'!$S$14+'NFSN Eco Sampling'!$S$15 -> 2 | O8: ='NFSN Eco Sampling'!$U$14+'NFSN Eco Sampling'!$U$15 -> 2
A9: FL | B9: ='NFSN Chem Sampling'!$P$42+'NFSN Chem Sampling'!$R$42 -> 15 | C9: ='NFSN Chem Sampling'!$T$42+'NFSN Chem Sampling'!$V$42 -> 15 | D9: ='NFSN Chem Sampling'!$X$42 -> 1 | E9: ='NFSN Chem Sampling'!$Z$42+'NFSN Chem Sampling'!$AB$42 -> 15 | F9: ='NFSN Chem Sampling'!$AD$42 -> 1 | G9: ='NFSN Chem Sampling'!$AF$42 -> 1 | H9: ='NFSN Chem Sampling'!$AH$42 -> 1 | I9: ='NFSN Chem Sampling'!$AJ$42 -> 1 | J9: ='NFSN Chem Sampling'!AL42+'NFSN Chem Sampling'!AP42+'NFSN Chem Sampling'!AR42 -> 16 | K9: ='NFSN Chem Sampling'!$AN$42 -> 1 | L9: 0 | M9: 0 | N9: 0 | O9: 0
A10: GA | B10: ='NFSN Chem Sampling'!$P$47+'NFSN Chem Sampling'!$R$47 -> 47 | C10: ='NFSN Chem Sampling'!$T$47+'NFSN Chem Sampling'!$V$47 -> 46 | D10: ='NFSN Chem Sampling'!$X$47 -> 3 | E10: ='NFSN Chem Sampling'!$Z$47+'NFSN Chem Sampling'!$AB$47 -> 47 | F10: ='NFSN Chem Sampling'!$AD$47 -> 4 | G10: ='NFSN Chem Sampling'!$AF$47 -> 4 | H10: ='NFSN Chem Sampling'!$AH$47 -> 4 | I10: ='NFSN Chem Sampling'!$AJ$47 -> 4 | J10: ='NFSN Chem Sampling'!AL47+'NFSN Chem Sampling'!AP47+'NFSN Chem Sampling'!AR47 -> 42 | K10: ='NFSN Chem Sampling'!$AN$47 -> 2 | L10: ='NFSN Eco Sampling'!$O$16+'NFSN Eco Sampling'!$O$17 -> 2 | M10: ='NFSN Eco Sampling'!$Q$16+'NFSN Eco Sampling'!$Q$17 -> 0 | N10: ='NFSN Eco Sampling'!$S$16+'NFSN Eco Sampling'!$S$17 -> 2 | O10: ='NFSN Eco Sampling'!$U$16+'NFSN Eco Sampling'!$U$17 -> 2
A11: ID | B11: ='NFSN Chem Sampling'!$P$51+'NFSN Chem Sampling'!$R$51 -> 40 | C11: ='NFSN Chem Sampling'!$T$51+'NFSN Chem Sampling'!$V$51 -> 40 | D11: ='NFSN Chem Sampling'!$X$51 -> 2 | E11: ='NFSN Chem Sampling'!$Z$51+'NFSN Chem Sampling'!$AB$51 -> 41 | F11: ='NFSN Chem Sampling'!$AD$51 -> 3 | G11: ='NFSN Chem Sampling'!$AF$51 -> 3 | H11: ='NFSN Chem Sampling'!$AH$51 -> 3 | I11: ='NFSN Chem Sampling'!$AJ$51 -> 3 | J11: ='NFSN Chem Sampling'!AL51+'NFSN Chem Sampling'!AP51+'NFSN Chem Sampling'!AR51 -> 42 | K11: ='NFSN Chem Sampling'!$AN$51 -> 2 | L11: ='NFSN Eco Sampling'!$O$18 -> 1 | M11: ='NFSN Eco Sampling'!$Q$18 -> 0 | N11: ='NFSN Eco Sampling'!$S$18 -> 1 | O11: ='NFSN Eco Sampling'!$U$18 -> 1
A12: IL | B12: ='NFSN Chem Sampling'!$P$54+'NFSN Chem Sampling'!$R$54 -> 15 | C12: ='NFSN Chem Sampling'!$T$54+'NFSN Chem Sampling'!$V$54 -> 15 | D12: ='NFSN Chem Sampling'!$X$54 -> 1 | E12: ='NFSN Chem Sampling'!$Z$54+'NFSN Chem Sampling'!$AB$54 -> 15 | F12: ='NFSN Chem Sampling'!$AD$54 -> 1 | G12: ='NFSN Chem Sampling'!$AF$54 -> 1 | H12: ='NFSN Chem Sampling'!$AH$54 -> 1 | I12: ='NFSN Chem Sampling'!$AJ$54 -> 1 | J12: ='NFSN Chem Sampling'!AL54+'NFSN Chem Sampling'!AP54+'NFSN Chem Sampling'!AR54 -> 16 | K12: ='NFSN Chem Sampling'!$AN$54 -> 1 | L12: 0 | M12: 0 | N12: 0 | O12: 0
A13: IN | B13: ='NFSN Chem Sampling'!$P$58+'NFSN Chem Sampling'!$R$58 -> 44 | C13: ='NFSN Chem Sampling'!$T$58+'NFSN Chem Sampling'!$V$58 -> 44 | D13: ='NFSN Chem Sampling'!$X$58 -> 2 | E13: ='NFSN Chem Sampling'!$Z$58+'NFSN Chem Sampling'!$AB$58 -> 45 | F13: ='NFSN Chem Sampling'!$AD$58 -> 3 | G13: ='NFSN Chem Sampling'!$AF$58 -> 3 | H13: ='NFSN Chem Sampling'!$AH$58 -> 3 | I13: ='NFSN Chem Sampling'!$AJ$58 -> 3 | J13: ='NFSN Chem Sampling'!AL58+'NFSN Chem Sampling'!AP58+'NFSN Chem Sampling'!AR58 -> 46 | K13: ='NFSN Chem Sampling'!$AN$58 -> 2 | L13: ='NFSN Eco Sampling'!$O$19 -> 1 | M13: ='NFSN Eco Sampling'!$Q$19 -> 0 | N13: ='NFSN Eco Sampling'!$S$19 -> 1 | O13: ='NFSN Eco Sampling'!$U$19 -> 1
A14: IA | B14: ='NFSN Chem Sampling'!$P$65+'NFSN Chem Sampling'!$R$65 -> 85 | C14: ='NFSN Chem Sampling'!$T$65+'NFSN Chem Sampling'!$V$65 -> 85 | D14: ='NFSN Chem Sampling'!$X$65 -> 5 | E14: ='NFSN Chem Sampling'!$Z$65+'NFSN Chem Sampling'!$AB$65 -> 86 | F14: ='NFSN Chem Sampling'!$AD$65 -> 6 | G14: ='NFSN Chem Sampling'!$AF$65 -> 6 | H14: ='NFSN Chem Sampling'!$AH$65 -> 6 | I14: ='NFSN Chem Sampling'!$AJ$65 -> 6 | J14: ='NFSN Chem Sampling'!AL65+'NFSN Chem Sampling'!AP65+'NFSN Chem Sampling'!AR65 -> 90 | K14: ='NFSN Chem Sampling'!$AN$65 -> 5 | L14: ='NFSN Eco Sampling'!$O$20 -> 1 | M14: ='NFSN Eco Sampling'!$Q$20 -> 0 | N14: ='NFSN Eco Sampling'!$S$20 -> 1 | O14: ='NFSN Eco Sampling'!$U$20 -> 1
A15: KS | B15: ='NFSN Chem Sampling'!$P$69+'NFSN Chem Sampling'!$R$69 -> 34 | C15: ='NFSN Chem Sampling'!$T$69+'NFSN Chem Sampling'!$V$69 -> 34 | D15: ='NFSN Chem Sampling'!$X$69 -> 2 | E15: ='NFSN Chem Sampling'!$Z$69+'NFSN Chem Sampling'!$AB$69 -> 34 | F15: ='NFSN Chem Sampling'!$AD$69 -> 2 | G15: ='NFSN Chem Sampling'!$AF$69 -> 2 | H15: ='NFSN Chem Sampling'!$AH$69 -> 2 | I15: ='NFSN Chem Sampling'!$AJ$69 -> 2 | J15: ='NFSN Chem Sampling'!AL69+'NFSN Chem Sampling'!AP69+'NFSN Chem Sampling'!AR69 -> 36 | K15: ='NFSN Chem Sampling'!$AN$69 -> 2 | L15: 0 | M15: 0 | N15: 0 | O15: 0
A16: KY | B16: ='NFSN Chem Sampling'!$P$75+'NFSN Chem Sampling'!$R$75 -> 60 | C16: ='NFSN Chem Sampling'!$T$75+'NFSN Chem Sampling'!$V$75 -> 60 | D16: ='NFSN Chem Sampling'!$X$75 -> 4 | E16: ='NFSN Chem Sampling'!$Z$75+'NFSN Chem Sampling'!$AB$75 -> 60 | F16: ='NFSN Chem Sampling'!$AD$75 -> 4 | G16: ='NFSN Chem Sampling'!$AF$75 -> 4 | H16: ='NFSN Chem Sampling'!$AH$75 -> 4 | I16: ='NFSN Chem Sampling'!$AJ$75 -> 4 | J16: ='NFSN Chem Sampling'!AL75+'NFSN Chem Sampling'!AP75+'NFSN Chem Sampling'!AR75 -> 64 | K16: ='NFSN Chem Sampling'!$AN$75 -> 4 | L16: 0 | M16: 0 | N16: 0 | O16: 0
A17: LA | B17: ='NFSN Chem Sampling'!$P$84+'NFSN Chem Sampling'!$R$84 -> 101 | C17: ='NFSN Chem Sampling'!$T$84+'NFSN Chem Sampling'!$V$84 -> 101 | D17: ='NFSN Chem Sampling'!$X$84 -> 6 | E17: ='NFSN Chem Sampling'!$Z$84+'NFSN Chem Sampling'!$AB$84 -> 101 | F17: ='NFSN Chem Sampling'!$AD$84 -> 6 | G17: ='NFSN Chem Sampling'!$AF$84 -> 6 | H17: ='NFSN Chem Sampling'!$AH$84 -> 6 | I17: ='NFSN Chem Sampling'!$AJ$84 -> 6 | J17: ='NFSN Chem Sampling'!AL84+'NFSN Chem Sampling'!AP84+'NFSN Chem Sampling'!AR84 -> 100 | K17: ='NFSN Chem Sampling'!$AN$84 -> 6 | L17: ='NFSN Eco Sampling'!$O$21 -> 1 | M17: ='NFSN Eco Sampling'!$Q$21 -> 0 | N17: ='NFSN Eco Sampling'!$S$21 -> 1 | O17: ='NFSN Eco Sampling'!$U$21 -> 1
A18: MD | B18: ='NFSN Chem Sampling'!$P$90+'NFSN Chem Sampling'!$R$90 -> 66 | C18: ='NFSN Chem Sampling'!$T$90+'NFSN Chem Sampling'!$V$90 -> 65 | D18: ='NFSN Chem Sampling'!$X$90 -> 4 | E18: ='NFSN Chem Sampling'!$Z$90+'NFSN Chem Sampling'!$AB$90 -> 66 | F18: ='NFSN Chem Sampling'!$AD$90 -> 5 | G18: ='NFSN Chem Sampling'!$AF$90 -> 5 | H18: ='NFSN Chem Sampling'!$AH$90 -> 5 | I18: ='NFSN Chem Sampling'!$AJ$90 -> 5 | J18: ='NFSN Chem Sampling'!AL90+'NFSN Chem Sampling'!AP90+'NFSN Chem Sampling'!AR90 -> 62 | K18: ='NFSN Chem Sampling'!$AN$90 -> 3 | L18: ='NFSN Eco Sampling'!$O$22+'NFSN Eco Sampling'!$O$23 -> 2 | M18: ='NFSN Eco Sampling'!$Q$22+'NFSN Eco Sampling'!$Q$23 -> 0 | N18: ='NFSN Eco Sampling'!$S$22+'NFSN Eco Sampling'!$S$23 -> 2 | O18: ='NFSN Eco Sampling'!$U$22+'NFSN Eco Sampling'!$U$23 -> 2
A19: MI | B19: ='NFSN Chem Sampling'!$P$93+'NFSN Chem Sampling'!$R$93 -> 25 | C19: ='NFSN Chem Sampling'!$T$93+'NFSN Chem Sampling'!$V$93 -> 25 | D19: ='NFSN Chem Sampling'!$X$93 -> 1 | E19: ='NFSN Chem Sampling'!$Z$93+'NFSN Chem Sampling'!$AB$93 -> 26 | F19: ='NFSN Chem Sampling'!$AD$93 -> 2 | G19: ='NFSN Chem Sampling'!$AF$93 -> 2 | H19: ='NFSN Chem Sampling'!$AH$93 -> 2 | I19: ='NFSN Chem Sampling'!$AJ$93 -> 2 | J19: ='NFSN Chem Sampling'!AL93+'NFSN Chem Sampling'!AP93+'NFSN Chem Sampling'!AR93 -> 26 | K19: ='NFSN Chem Sampling'!$AN$93 -> 1 | L19: 0 | M19: 0 | N19: 0 | O19: 0
A20: MN | B20: ='NFSN Chem Sampling'!$P$97+'NFSN Chem Sampling'!$R$97 -> 40 | C20: ='NFSN Chem Sampling'!$T$97+'NFSN Chem Sampling'!$V$97 -> 40 | D20: ='NFSN Chem Sampling'!$X$97 -> 2 | E20: ='NFSN Chem Sampling'!$Z$97+'NFSN Chem Sampling'!$AB$97 -> 41 | F20: ='NFSN Chem Sampling'!$AD$97 -> 3 | G20: ='NFSN Chem Sampling'!$AF$97 -> 3 | H20: ='NFSN Chem Sampling'!$AH$97 -> 3 | I20: ='NFSN Chem Sampling'!$AJ$97 -> 3 | J20: ='NFSN Chem Sampling'!AL97+'NFSN Chem Sampling'!AP97+'NFSN Chem Sampling'!AR97 -> 42 | K20: ='NFSN Chem Sampling'!$AN$119 -> 1 | L20: ='NFSN Eco Sampling'!$O$24 -> 1 | M20: ='NFSN Eco Sampling'!$Q$24 -> 0 | N20: ='NFSN Eco Sampling'!$S$24 -> 1 | O20: ='NFSN Eco Sampling'!$U$24 -> 1
A21: MS | B21: ='NFSN Chem Sampling'!$P$102+'NFSN Chem Sampling'!$R$102 -> 59 | C21: ='NFSN Chem Sampling'!$T$102+'NFSN Chem Sampling'!$V$102 -> 59 | D21: ='NFSN Chem Sampling'!$X$102 -> 3 | E21: ='NFSN Chem Sampling'!$Z$102+'NFSN Chem Sampling'!$AB$102 -> 60 | F21: ='NFSN Chem Sampling'!$AD$102 -> 4 | G21: ='NFSN Chem Sampling'!$AF$102 -> 4 | H21: ='NFSN Chem Sampling'!$AH$102 -> 4 | I21: ='NFSN Chem Sampling'!$AJ$102 -> 4 | J21: ='NFSN Chem Sampling'!AL102+'NFSN Chem Sampling'!AP102+'NFSN Chem Sampling'!AR102 -> 62 | K21: ='NFSN Chem Sampling'!$AN$102 -> 3 | L21: ='NFSN Eco Sampling'!$O$25 -> 1 | M21: ='NFSN Eco Sampling'!$Q$25 -> 0 | N21: ='NFSN Eco Sampling'!$S$25 -> 1 | O21: ='NFSN Eco Sampling'!$U$25 -> 1
A22: MO | B22: ='NFSN Chem Sampling'!$P$107+'NFSN Chem Sampling'!$R$107 -> 45 | C22: ='NFSN Chem Sampling'!$T$107+'NFSN Chem Sampling'!$V$107 -> 45 | D22: ='NFSN Chem Sampling'!$X$107 -> 3 | E22: ='NFSN Chem Sampling'!$Z$107+'NFSN Chem Sampling'!$AB$107 -> 45 | F22: ='NFSN Chem Sampling'!$AD$107 -> 3 | G22: ='NFSN Chem Sampling'!$AF$107 -> 3 | H22: ='NFSN Chem Sampling'!$AH$107 -> 3 | I22: ='NFSN Chem Sampling'!$AJ$107 -> 3 | J22: ='NFSN Chem Sampling'!AL107+'NFSN Chem Sampling'!AP107+'NFSN Chem Sampling'!AR107 -> 48 | K22: ='NFSN Chem Sampling'!$AN$107 -> 3 | L22: 0 | M22: 0 | N22: 0 | O22: 0
A23: NE | B23: ='NFSN Chem Sampling'!$P$113+'NFSN Chem Sampling'!$R$113 -> 66 | C23: ='NFSN Chem Sampling'!$T$113+'NFSN Chem Sampling'!$V$113 -> 66 | D23: ='NFSN Chem Sampling'!$X$113 -> 3 | E23: ='NFSN Chem Sampling'!$Z$113+'NFSN Chem Sampling'!$AB$113 -> 67 | F23: ='NFSN Chem Sampling'!$AD$113 -> 4 | G23: ='NFSN Chem Sampling'!$AF$113 -> 4 | H23: ='NFSN Chem Sampling'!$AH$113 -> 4 | I23: ='NFSN Chem Sampling'!$AJ$113 -> 4 | J23: ='NFSN Chem Sampling'!AL113+'NFSN Chem Sampling'!AP113+'NFSN Chem Sampling'!AR113 -> 62 | K23: ='NFSN Chem Sampling'!$AN$113 -> 3 | L23: ='NFSN Eco Sampling'!$O$26+'NFSN Eco Sampling'!$O$27 -> 2 | M23: ='NFSN Eco Sampling'!$Q$26+'NFSN Eco Sampling'!$Q$27 -> 0 | N23: ='NFSN Eco Sampling'!$S$26+'NFSN Eco Sampling'!$S$27 -> 2 | O23: ='NFSN Eco Sampling'!$U$26+'NFSN Eco Sampling'!$U$27 -> 2
A24: NV | B24: ='NFSN Chem Sampling'!$P$116+'NFSN Chem Sampling'!$R$116 -> 19 | C24: ='NFSN Chem Sampling'!$T$116+'NFSN Chem Sampling'!$V$116 -> 19 | D24: ='NFSN Chem Sampling'!$X$116 -> 1 | E24: ='NFSN Chem Sampling'!$Z$116+'NFSN Chem Sampling'!$AB$116 -> 19 | F24: ='NFSN Chem Sampling'!$AD$116 -> 1 | G24: ='NFSN Chem Sampling'!$AF$116 -> 1 | H24: ='NFSN Chem Sampling'!$AH$116 -> 1 | I24: ='NFSN Chem Sampling'!$AJ$116 -> 1 | J24: ='NFSN Chem Sampling'!AL116+'NFSN Chem Sampling'!AP116+'NFSN Chem Sampling'!AR116 -> 20 | K24: ='NFSN Chem Sampling'!$AN$116 -> 1 | L24: 0 | M24: 0 | N24: 0 | O24: 0
A25: NJ | B25: ='NFSN Chem Sampling'!$P$119+'NFSN Chem Sampling'!$R$119 -> 15 | C25: ='NFSN Chem Sampling'!$T$119+'NFSN Chem Sampling'!$V$119 -> 15 | D25: ='NFSN Chem Sampling'!$X$119 -> 1 | E25: ='NFSN Chem Sampling'!$Z$119+'NFSN Chem Sampling'!$AB$119 -> 15 | F25: ='NFSN Chem Sampling'!$AD$119 -> 1 | G25: ='NFSN Chem Sampling'!$AF$119 -> 1 | H25: ='NFSN Chem Sampling'!$AH$119 -> 1 | I25: ='NFSN Chem Sampling'!$AJ$119 -> 1 | J25: ='NFSN Chem Sampling'!AL119+'NFSN Chem Sampling'!AP119+'NFSN Chem Sampling'!AR119 -> 16 | K25: ='NFSN Chem Sampling'!$AN$119 -> 1 | L25: 0 | M25: 0 | N25: 0 | O25: 0
A26: NM | B26: ='NFSN Chem Sampling'!$P$123+'NFSN Chem Sampling'!$R$123 -> 22 | C26: ='NFSN Chem Sampling'!$T$123+'NFSN Chem Sampling'!$V$123 -> 21 | D26: ='NFSN Chem Sampling'!$X$123 -> 2 | E26: ='NFSN Chem Sampling'!$Z$123+'NFSN Chem Sampling'!$AB$123 -> 21 | F26: ='NFSN Chem Sampling'!$AD$123 -> 2 | G26: ='NFSN Chem Sampling'!$AF$123 -> 2 | H26: ='NFSN Chem Sampling'!$AH$123 -> 2 | I26: ='NFSN Chem Sampling'!$AJ$139 -> 1 | J26: ='NFSN Chem Sampling'!AL123+'NFSN Chem Sampling'!AP123+'NFSN Chem Sampling'!AR123 -> 16 | K26: ='NFSN Chem Sampling'!$AN$139 -> 1 | L26: ='NFSN Eco Sampling'!$O$28 -> 1 | M26: ='NFSN Eco Sampling'!$Q$28 -> 0 | N26: ='NFSN Eco Sampling'!$S$28 -> 1 | O26: ='NFSN Eco Sampling'!$U$28 -> 1
A27: NY | B27: ='NFSN Chem Sampling'!$P$128+'NFSN Chem Sampling'!$R$128 -> 55 | C27: ='NFSN Chem Sampling'!$T$128+'NFSN Chem Sampling'!$V$128 -> 55 | D27: ='NFSN Chem Sampling'!$X$128 -> 3 | E27: ='NFSN Chem Sampling'!$Z$128+'NFSN Chem Sampling'!$AB$128 -> 56 | F27: ='NFSN Chem Sampling'!$AD$128 -> 4 | G27: ='NFSN Chem Sampling'!$AF$128 -> 4 | H27: ='NFSN Chem Sampling'!$AH$128 -> 4 | I27: ='NFSN Chem Sampling'!$AJ$128 -> 4 | J27: ='NFSN Chem Sampling'!AL128+'NFSN Chem Sampling'!AP128+'NFSN Chem Sampling'!AR128 -> 58 | K27: ='NFSN Chem Sampling'!$AN$128 -> 3 | L27: ='NFSN Eco Sampling'!$O$29 -> 1 | M27: ='NFSN Eco Sampling'!$Q$29 -> 0 | N27: ='NFSN Eco Sampling'!$S$29 -> 1 | O27: ='NFSN Eco Sampling'!$U$29 -> 1
A28: NC | B28: ='NFSN Chem Sampling'!$P$133+'NFSN Chem Sampling'!$R$133 -> 69 | C28: ='NFSN Chem Sampling'!$T$133+'NFSN Chem Sampling'!$V$133 -> 69 | D28: ='NFSN Chem Sampling'!$X$133 -> 3 | E28: ='NFSN Chem Sampling'!$Z$133+'NFSN Chem Sampling'!$AB$133 -> 71 | F28: ='NFSN Chem Sampling'!$AD$133 -> 5 | G28: ='NFSN Chem Sampling'!$AF$133 -> 5 | H28: ='NFSN Chem Sampling'!$AH$133 -> 5 | I28: ='NFSN Chem Sampling'!$AJ$133 -> 5 | J28: ='NFSN Chem Sampling'!AL133+'NFSN Chem Sampling'!AP133+'NFSN Chem Sampling'!AR133 -> 72 | K28: ='NFSN Chem Sampling'!$AN$133 -> 3 | L28: ='NFSN Eco Sampling'!$O$30+'NFSN Eco Sampling'!$O$31 -> 2 | M28: ='NFSN Eco Sampling'!$Q$30+'NFSN Eco Sampling'!$Q$31 -> 0 | N28: ='NFSN Eco Sampling'!$S$30+'NFSN Eco Sampling'!$S$31 -> 2 | O28: ='NFSN Eco Sampling'!$U$30+'NFSN Eco Sampling'!$U$31 -> 2
A29: ND | B29: ='NFSN Chem Sampling'!$P$136+'NFSN Chem Sampling'!$R$136 -> 15 | C29: ='NFSN Chem Sampling'!$T$136+'NFSN Chem Sampling'!$V$136 -> 15 | D29: ='NFSN Chem Sampling'!$X$136 -> 1 | E29: ='NFSN Chem Sampling'!$Z$136+'NFSN Chem Sampling'!$AB$136 -> 15 | F29: ='NFSN Chem Sampling'!$AD$136 -> 1 | G29: ='NFSN Chem Sampling'!$AF$136 -> 1 | H29: ='NFSN Chem Sampling'!$AH$136 -> 1 | I29: ='NFSN Chem Sampling'!$AJ$136 -> 1 | J29: ='NFSN Chem Sampling'!AL136+'NFSN Chem Sampling'!AP136+'NFSN Chem Sampling'!AR136 -> 16 | K29: ='NFSN Chem Sampling'!$AN$136 -> 1 | L29: 0 | M29: 0 | N29: 0 | O29: 0
A30: OH | B30: ='NFSN Chem Sampling'!$P$139+'NFSN Chem Sampling'!$R$139 -> 19 | C30: ='NFSN Chem Sampling'!$T$139+'NFSN Chem Sampling'!$V$139 -> 19 | D30: ='NFSN Chem Sampling'!$X$139 -> 1 | E30: ='NFSN Chem Sampling'!$Z$139+'NFSN Chem Sampling'!$AB$139 -> 19 | F30: ='NFSN Chem Sampling'!$AD$139 -> 1 | G30: ='NFSN Chem Sampling'!$AF$139 -> 1 | H30: ='NFSN Chem Sampling'!$AH$139 -> 1 | I30: ='NFSN Chem Sampling'!$AJ$139 -> 1 | J30: ='NFSN Chem Sampling'!AL139+'NFSN Chem Sampling'!AP139+'NFSN Chem Sampling'!AR139 -> 20 | K30: ='NFSN Chem Sampling'!$AN$139 -> 1 | L30: ='NFSN Eco Sampling'!$O$32 -> 1 | M30: ='NFSN Eco Sampling'!$Q$32 -> 0 | N30: ='NFSN Eco Sampling'!$S$32 -> 1 | O30: ='NFSN Eco Sampling'!$U$32 -> 1
A31: OK | B31: ='NFSN Chem Sampling'!$P$142+'NFSN Chem Sampling'!$R$142 -> 19 | C31: ='NFSN Chem Sampling'!$T$142+'NFSN Chem Sampling'!$V$142 -> 19 | D31: ='NFSN Chem Sampling'!$X$142 -> 1 | E31: ='NFSN Chem Sampling'!$Z$142+'NFSN Chem Sampling'!$AB$142 -> 19 | F31: ='NFSN Chem Sampling'!$AD$142 -> 1 | G31: ='NFSN Chem Sampling'!$AF$142 -> 1 | H31: ='NFSN Chem Sampling'!$AH$142 -> 1 | I31: ='NFSN Chem Sampling'!$AJ$142 -> 1 | J31: ='NFSN Chem Sampling'!AL142+'NFSN Chem Sampling'!AP142+'NFSN Chem Sampling'!AR142 -> 20 | K31: ='NFSN Chem Sampling'!$AN$142 -> 1 | L31: 0 | M31: 0 | N31: 0 | O31: 0
A32: OR | B32: ='NFSN Chem Sampling'!$P$149+'NFSN Chem Sampling'!$R$149 -> 89 | C32: ='NFSN Chem Sampling'!$T$149+'NFSN Chem Sampling'!$V$149 -> 89 | D32: ='NFSN Chem Sampling'!$X$149 -> 4 | E32: ='NFSN Chem Sampling'!$Z$149+'NFSN Chem Sampling'!$AB$149 -> 91 | F32: ='NFSN Chem Sampling'!$AD$149 -> 6 | G32: ='NFSN Chem Sampling'!$AF$149 -> 6 | H32: ='NFSN Chem Sampling'!$AH$149 -> 6 | I32: ='NFSN Chem Sampling'!$AJ$149 -> 6 | J32: ='NFSN Chem Sampling'!AL149+'NFSN Chem Sampling'!AP149+'NFSN Chem Sampling'!AR149 -> 86 | K32: ='NFSN Chem Sampling'!$AN$149 -> 4 | L32: ='NFSN Eco Sampling'!$O$33+'NFSN Eco Sampling'!$O$34+'NFSN Eco Sampling'!$O$35 -> 3 | M32: ='NFSN Eco Sampling'!$Q$33+'NFSN Eco Sampling'!$Q$34+'NFSN Eco Sampling'!$Q$35 -> 0 | N32: ='NFSN Eco Sampling'!$S$33+'NFSN Eco Sampling'!$S$34+'NFSN Eco Sampling'!$S$35 -> 3 | O32: ='NFSN Eco Sampling'!$U$33+'NFSN Eco Sampling'!$U$34+'NFSN Eco Sampling'!$U$35 -> 3
A33: SC | B33: ='NFSN Chem Sampling'!$P$153+'NFSN Chem Sampling'!$R$153 -> 26 | C33: ='NFSN Chem Sampling'!$T$153+'NFSN Chem Sampling'!$V$153 -> 25 | D33: ='NFSN Chem Sampling'!$X$153 -> 2 | E33: ='NFSN Chem Sampling'!$Z$153+'NFSN Chem Sampling'!$AB$153 -> 25 | F33: ='NFSN Chem Sampling'!$AD$153 -> 2 | G33: ='NFSN Chem Sampling'!$AF$153 -> 2 | H33: ='NFSN Chem Sampling'!$AH$153 -> 2 | I33: ='NFSN Chem Sampling'!$AJ$153 -> 2 | J33: ='NFSN Chem Sampling'!AL153+'NFSN Chem Sampling'!AP153+'NFSN Chem Sampling'!AR153 -> 20 | K33: ='NFSN Chem Sampling'!$AN$153 -> 1 | L33: ='NFSN Eco Sampling'!$O$36 -> 1 | M33: ='NFSN Eco Sampling'!$Q$36 -> 0 | N33: ='NFSN Eco Sampling'!$S$36 -> 1 | O33: ='NFSN Eco Sampling'!$U$36 -> 1
A34: TX | B34: ='NFSN Chem Sampling'!$P$160+'NFSN Chem Sampling'!$R$160 -> 79 | C34: ='NFSN Chem Sampling'!$T$160+'NFSN Chem Sampling'!$V$160 -> 79 | D34: ='NFSN Chem Sampling'!$X$160 -> 4 | E34: ='NFSN Chem Sampling'!$Z$160+'NFSN Chem Sampling'!$AB$160 -> 80 | F34: ='NFSN Chem Sampling'!$AD$160 -> 5 | G34: ='NFSN Chem Sampling'!$AF$160 -> 5 | H34: ='NFSN Chem Sampling'!$AH$160 -> 5 | I34: ='NFSN Chem Sampling'!$AJ$160 -> 5 | J34: ='NFSN Chem Sampling'!AL160+'NFSN Chem Sampling'!AP160+'NFSN Chem Sampling'!AR160 -> 76 | K34: ='NFSN Chem Sampling'!$AN$160 -> 4 | L34: ='NFSN Eco Sampling'!$O$37+'NFSN Eco Sampling'!$O$38 -> 2 | M34: ='NFSN Eco Sampling'!$Q$37+'NFSN Eco Sampling'!$Q$38 -> 0 | N34: ='NFSN Eco Sampling'!$S$37+'NFSN Eco Sampling'!$S$38 -> 2 | O34: ='NFSN Eco Sampling'!$U$37+'NFSN Eco Sampling'!$U$38 -> 2
A35: UT | B35: ='NFSN Chem Sampling'!$P$165+'NFSN Chem Sampling'!$R$165 -> 51 | C35: ='NFSN Chem Sampling'!$T$165+'NFSN Chem Sampling'!$V$165 -> 50 | D35: ='NFSN Chem Sampling'!$X$165 -> 3 | E35: ='NFSN Chem Sampling'!$Z$165+'NFSN Chem Sampling'!$AB$165 -> 51 | F35: ='NFSN Chem Sampling'!$AD$165 -> 4 | G35: ='NFSN Chem Sampling'!$AF$165 -> 4 | H35: ='NFSN Chem Sampling'!$AH$165 -> 4 | I35: ='NFSN Chem Sampling'!$AJ$165 -> 4 | J35: ='NFSN Chem Sampling'!AL165+'NFSN Chem Sampling'!AP165+'NFSN Chem Sampling'!AR165 -> 46 | K35: ='NFSN Chem Sampling'!$AN$165 -> 2 | L35: ='NFSN Eco Sampling'!$O$40+'NFSN Eco Sampling'!$O$41 -> 2 | M35: ='NFSN Eco Sampling'!$Q$40+'NFSN Eco Sampling'!$Q$41 -> 0 | N35: ='NFSN Eco Sampling'!$S$40+'NFSN Eco Sampling'!$S$41 -> 2 | O35: ='NFSN Eco Sampling'!$U$40+'NFSN Eco Sampling'!$U$41 -> 2
A36: WA | B36: ='NFSN Chem Sampling'!$P$170+'NFSN Chem Sampling'!$R$170 -> 51 | C36: ='NFSN Chem Sampling'!$T$170+'NFSN Chem Sampling'!$V$170 -> 51 | D36: ='NFSN Chem Sampling'!$X$170 -> 2 | E36: ='NFSN Chem Sampling'!$Z$170+'NFSN Chem Sampling'!$AB$170 -> 52 | F36: ='NFSN Chem Sampling'!$AD$170 -> 3 | G36: ='NFSN Chem Sampling'!$AF$170 -> 3 | H36: ='NFSN Chem Sampling'!$AH$170 -> 3 | I36: ='NFSN Chem Sampling'!$AJ$170 -> 3 | J36: ='NFSN Chem Sampling'!AL170+'NFSN Chem Sampling'!AP170+'NFSN Chem Sampling'!AR170 -> 46 | K36: ='NFSN Chem Sampling'!$AN$170 -> 2 | L36: ='NFSN Eco Sampling'!$O$42+'NFSN Eco Sampling'!$O$43 -> 2 | M36: ='NFSN Eco Sampling'!$Q$42+'NFSN Eco Sampling'!$Q$43 -> 0 | N36: ='NFSN Eco Sampling'!$S$42+'NFSN Eco Sampling'!$S$43 -> 2 | O36: ='NFSN Eco Sampling'!$U$42+'NFSN Eco Sampling'!$U$43 -> 2
A37: WI | B37: ='NFSN Chem Sampling'!$P$173+'NFSN Chem Sampling'!$R$173 -> 7 | C37: ='NFSN Chem Sampling'!$T$173+'NFSN Chem Sampling'!$V$173 -> 6 | D37: ='NFSN Chem Sampling'!$X$173 -> 1 | E37: ='NFSN Chem Sampling'!$Z$173+'NFSN Chem Sampling'!$AB$173 -> 6 | F37: ='NFSN Chem Sampling'!$AD$173 -> 1 | G37: ='NFSN Chem Sampling'!$AF$173 -> 1 | H37: ='NFSN Chem Sampling'!$AH$173 -> 1 | I37: ='NFSN Chem Sampling'!$AJ$173 -> 1 | J37: ='NFSN Chem Sampling'!AL173+'NFSN Chem Sampling'!AP173+'NFSN Chem Sampling'!AR173 -> 0 | K37: ='NFSN Chem Sampling'!$AN$173 -> 0 | L37: ='NFSN Eco Sampling'!$O$44 -> 1 | M37: ='NFSN Eco Sampling'!$Q$44 -> 0 | N37: ='NFSN Eco Sampling'!$S$44 -> 1 | O37: ='NFSN Eco Sampling'!$U$44 -> 1
A38: WY | B38: ='NFSN Chem Sampling'!$P$177+'NFSN Chem Sampling'!$R$177 -> 22 | C38: ='NFSN Chem Sampling'!$T$177+'NFSN Chem Sampling'!$V$177 -> 22 | D38: ='NFSN Chem Sampling'!$X$177 -> 1 | E38: ='NFSN Chem Sampling'!$Z$177+'NFSN Chem Sampling'!$AB$177 -> 22 | F38: ='NFSN Chem Sampling'!$AD$177 -> 1 | G38: ='NFSN Chem Sampling'!$AF$177 -> 1 | H38: ='NFSN Chem Sampling'!$AH$177 -> 1 | I38: ='NFSN Chem Sampling'!$AJ$177 -> 1 | J38: ='NFSN Chem Sampling'!AL177+'NFSN Chem Sampling'!AP177+'NFSN Chem Sampling'!AR177 -> 16 | K38: ='NFSN Chem Sampling'!$AN$177 -> 1 | L38: ='NFSN Eco Sampling'!$O$45 -> 1 | M38: ='NFSN Eco Sampling'!$Q$45 -> 0 | N38: ='NFSN Eco Sampling'!$S$45 -> 1 | O38: ='NFSN Eco Sampling'!$U$45 -> 1
A39: TOTAL | B39: =SUM(B2:B38) -> 1619 | C39: =SUM(C2:C38) -> 1610 | D39: =SUM(D2:D38) -> 90 | E39: =SUM(E2:E38) -> 1630 | F39: =SUM(F2:F38) -> 110 | G39: =SUM(G2:G38) -> 110 | H39: =SUM(H2:H38) -> 109 | I39: =SUM(I2:I38) -> 108 | ... O39: =SUM(O2:O38) -> 39 | P39: =SUM(C39:O39) -> 5525
P40: TOTAL
A41: FY13 prices | B41: 80 | C41: 246.45 | D41: 285.47 | E41: 352.97 | F41: 33 | G41: 191.58 | H41: 20.9 | I41: 53.52 | J41: 773.72 | K41: 773.72 | L41: 1662.84 | M41: 1236.4 | N41: 973 | O41: 226.89
A42: Total cost | B42: =B39*B41 -> 129520 | C42: =C39*C41 -> 396784.5 | D42: =D39*D41 -> 25692.3 | E42: =E39*E41 -> 575341.1 | F42: =F39*F41 -> 3630 | G42: =G39*G41 -> 21073.8 | H42: =H39*H41 -> 2278.1 | I42: =I39*I41 -> 5780.16 | ... O42: =O39*O41 -> 8848.71 | P42: =SUM(C42:O42) -> 2411901
R43: NWQL Chem Totals | S43: Susp. Sed. Totals | T43: NWQL Chem + S.S. Totals | U43: Eco Totals | V43: Total NWQL | W43: All lab costs
A44: AL | B44: =B2*$B$41 -> 2720 | C44: =C2*$C$41 -> 8379.3 | D44: =D2*$D$41 -> 570.94 | E44: =E2*$E$41 -> 12000.98 | F44: =F2*$F$41 -> 66 | G44: =G2*$G$41 -> 383.16 | H44: =H2*$H$41 -> 41.8 | I44: =I2*$I$41 -> 107.04 | J44: =J2*$J$41 -> 27853.92 | K44: =K2*$K$41 -> 1547.44 | L44: =L2*$L$41 -> 0 | M44: =M2*$M$41 -> 0 | N44: =N2*$N$41 -> 0 | O44: =O2*$O$41 -> 0 | P44: =SUM(C44:O44) -> 50950.58 | Q44: AL | R44: =SUM(C44:K44) -> 50950.58 | S44: =SUM(B44:B44) -> 2720 | T44: =R44+S44 -> 53670.58 | U44: =SUM(L44:O44) -> 0 | V44: =R44+L44+M44+O44 -> 50950.58 | W44: =T44+U44 -> 53670.58
A45: AK | B45: =B3*$B$41 -> 640 | C45: =C3*$C$41 -> 1971.6 | D45: =D3*$D$41 -> 0 | E45: =E3*$E$41 -> 2823.76 | F45: =F3*$F$41 -> 0 | G45: =G3*$G$41 -> 0 | H45: =H3*$H$41 -> 0 | I45: =I3*$I$41 -> 0 | J45: =J3*$J$41 -> 3094.88 | K45: =K3*$K$41 -> 0 | L45: =L3*$L$41 -> 0 | M45: =M3*$M$41 -> 0 | N45: =N3*$N$41 -> 0 | O45: =O3*$O$41 -> 0 | P45: =SUM(C45:O45) -> 7890.24 | Q45: AK | R45: =SUM(C45:K45) -> 7890.24 | S45: =SUM(B45:B45) -> 640 | T45: =R45+S45 -> 8530.24 | U45: =SUM(L45:O45) -> 0 | V45: =R45+L45+M45+O45 -> 7890.24 | W45: =T45+U45 -> 8530.24
A46: AZ | B46: =B4*$B$41 -> 3360 | C46: =C4*$C$41 -> 10104.45 | D46: =D4*$D$41 -> 856.41 | E46: =E4*$E$41 -> 14471.77 | F46: =F4*$F$41 -> 99 | G46: =G4*$G$41 -> 574.74 | H46: =H4*$H$41 -> 62.7 | I46: =I4*$I$41 -> 160.56 | J46: =J4*$J$41 -> 23211.6 | K46: =K4*$K$41 -> 1547.44 | L46: =L4*$L$41 -> 3325.68 | M46: =M4*$M$41 -> 0 | N46: =N4*$N$41 -> 1946 | O46: =O4*$O$41 -> 453.78 | P46: =SUM(C46:O46) -> 56814.13 | Q46: AZ | R46: =SUM(C46:K46) -> 51088.67 | S46: =SUM(B46:B46) -> 3360 | T46: =R46+S46 -> 54448.67 | U46: =SUM(L46:O46) -> 5725.46 | V46: =R46+L46+M46+O46 -> 54868.13 | W46: =T46+U46 -> 60174.13
A47: AR | B47: =B5*$B$41 -> 2320 | C47: =C5*$C$41 -> 6900.6 | D47: =D5*$D$41 -> 570.94 | E47: =E5*$E$41 -> 9883.16 | F47: =F5*$F$41 -> 66 | G47: =G5*$G$41 -> 383.16 | H47: =H5*$H$41 -> 41.8 | I47: =I5*$I$41 -> 107.04 | J47: =J5*$J$41 -> 12379.52 | K47: =K5*$K$41 -> 773.72 | L47: =L5*$L$41 -> 3325.68 | M47: =M5*$M$41 -> 0 | N47: =N5*$N$41 -> 1946 | O47: =O5*$O$41 -> 453.78 | P47: =SUM(C47:O47) -> 36831.4 | Q47: AR | R47: =SUM(C47:K47) -> 31105.94 | S47: =SUM(B47:B47) -> 2320 | T47: =R47+S47 -> 33425.94 | U47: =SUM(L47:O47) -> 5725.46 | V47: =R47+L47+M47+O47 -> 34885.4 | W47: =T47+U47 -> 39151.4
A48: CA | B48: =B6*$B$41 -> 7360 | C48: =C6*$C$41 -> 22426.95 | D48: =D6*$D$41 -> 1712.82 | E48: =E6*$E$41 -> 32473.24 | F48: =F6*$F$41 -> 231 | G48: =G6*$G$41 -> 1341.06 | H48: =H6*$H$41 -> 125.4 | I48: =I6*$I$41 -> 321.12 | J48: =J6*$J$41 -> 63445.04 | K48: =K6*$K$41 -> 3094.88 | L48: =L6*$L$41 -> 4988.52 | M48: =M6*$M$41 -> 0 | N48: =N6*$N$41 -> 2919 | O48: =O6*$O$41 -> 680.67 | P48: =SUM(C48:O48) -> 133759.7 | Q48: CA | R48: =SUM(C48:K48) -> 125171.51 | S48: =SUM(B48:B48) -> 7360 | T48: =R48+S48 -> 132531.51 | U48: =SUM(L48:O48) -> 8588.19 | V48: =R48+L48+M48+O48 -> 130840.7 | W48: =T48+U48 -> 141119.7
A49: CO | B49: =B7*$B$41 -> 5040 | C49: =C7*$C$41 -> 15526.35 | D49: =D7*$D$41 -> 856.41 | E49: =E7*$E$41 -> 22590.08 | F49: =F7*$F$41 -> 132 | G49: =G7*$G$41 -> 766.32 | H49: =H7*$H$41 -> 83.6 | I49: =I7*$I$41 -> 214.08 | J49: =J7*$J$41 -> 51065.52 | K49: =K7*$K$41 -> 2321.16 | L49: =L7*$L$41 -> 1662.84 | M49: =M7*$M$41 -> 0 | N49: =N7*$N$41 -> 973 | O49: =O7*$O$41 -> 226.89 | P49: =SUM(C49:O49) -> 96418.25 | Q49: CO | R49: =SUM(C49:K49) -> 93555.52 | S49: =SUM(B49:B49) -> 5040 | T49: =R49+S49 -> 98595.52 | U49: =SUM(L49:O49) -> 2862.73 | V49: =R49+L49+M49+O49 -> 95445.25 | W49: =T49+U49 -> 101458.25
A50: CT | B50: =B8*$B$41 -> 4080 | C50: =C8*$C$41 -> 12568.95 | D50: =D8*$D$41 -> 570.94 | E50: =E8*$E$41 -> 18354.44 | F50: =F8*$F$41 -> 99 | G50: =G8*$G$41 -> 574.74 | H50: =H8*$H$41 -> 62.7 | I50: =I8*$I$41 -> 160.56 | J50: =J8*$J$41 -> 35591.12 | K50: =K8*$K$41 -> 1547.44 | L50: =L8*$L$41 -> 3325.68 | M50: =M8*$M$41 -> 0 | N50: =N8*$N$41 -> 1946 | O50: =O8*$O$41 -> 453.78 | P50: =SUM(C50:O50) -> 75255.35 | Q50: CT | R50: =SUM(C50:K50) -> 69529.89 | S50: =SUM(B50:B50) -> 4080 | T50: =R50+S50 -> 73609.89 | U50: =SUM(L50:O50) -> 5725.46 | V50: =R50+L50+M50+O50 -> 73309.35 | W50: =T50+U50 -> 79335.35
A51: FL | B51: =B9*$B$41 -> 1200 | C51: =C9*$C$41 -> 3696.75 | D51: =D9*$D$41 -> 285.47 | E51: =E9*$E$41 -> 5294.55 | F51: =F9*$F$41 -> 33 | G51: =G9*$G$41 -> 191.58 | H51: =H9*$H$41 -> 20.9 | I51: =I9*$I$41 -> 53.52 | J51: =J9*$J$41 -> 12379.52 | K51: =K9*$K$41 -> 773.72 | L51: =L9*$L$41 -> 0 | M51: =M9*$M$41 -> 0 | N51: =N9*$N$41 -> 0 | O51: =O9*$O$41 -> 0 | P51: =SUM(C51:O51) -> 22729.01 | Q51: FL | R51: =SUM(C51:K51) -> 22729.01 | S51: =SUM(B51:B51) -> 1200 | T51: =R51+S51 -> 23929.01 | U51: =SUM(L51:O51) -> 0 | V51: =R51+L51+M51+O51 -> 22729.01 | W51: =T51+U51 -> 23929.01
A52: GA | B52: =B10*$B$41 -> 3760 | C52: =C10*$C$41 -> 11336.7 | D52: =D10*$D$41 -> 856.41 | E52: =E10*$E$41 -> 16589.59 | F52: =F10*$F$41 -> 132 | G52: =G10*$G$41 -> 766.32 | H52: =H10*$H$41 -> 83.6 | I52: =I10*$I$41 -> 214.08 | J52: =J10*$J$41 -> 32496.24 | K52: =K10*$K$41 -> 1547.44 | L52: =L10*$L$41 -> 3325.68 | M52: =M10*$M$41 -> 0 | N52: =N10*$N$41 -> 1946 | O52: =O10*$O$41 -> 453.78 | P52: =SUM(C52:O52) -> 69747.84 | Q52: GA | R52: =SUM(C52:K52) -> 64022.38 | S52: =SUM(B52:B52) -> 3760 | T52: =R52+S52 -> 67782.38 | U52: =SUM(L52:O52) -> 5725.46 | V52: =R52+L52+M52+O52 -> 67801.84 | W52: =T52+U52 -> 73507.84
A53: ID | B53: =B11*$B$41 -> 3200 | C53: =C11*$C$41 -> 9858 | D53: =D11*$D$41 -> 570.94 | E53: =E11*$E$41 -> 14471.77 | F53: =F11*$F$41 -> 99 | G53: =G11*$G$41 -> 574.74 | H53: =H11*$H$41 -> 62.7 | I53: =I11*$I$41 -> 160.56 | J53: =J11*$J$41 -> 32496.24 | K53: =K11*$K$41 -> 1547.44 | L53: =L11*$L$41 -> 1662.84 | M53: =M11*$M$41 -> 0 | N53: =N11*$N$41 -> 973 | O53: =O11*$O$41 -> 226.89 | P53: =SUM(C53:O53) -> 62704.12 | Q53: ID | R53: =SUM(C53:K53) -> 59841.39 | S53: =SUM(B53:B53) -> 3200 | T53: =R53+S53 -> 63041.39 | U53: =SUM(L53:O53) -> 2862.73 | V53: =R53+L53+M53+O53 -> 61731.12 | W53: =T53+U53 -> 65904.12
A54: IL | B54: =B12*$B$41 -> 1200 | C54: =C12*$C$41 -> 3696.75 | D54: =D12*$D$41 -> 285.47 | E54: =E12*$E$41 -> 5294.55 | F54: =F12*$F$41 -> 33 | G54: =G12*$G$41 -> 191.58 | H54: =H12*$H$41 -> 20.9 | I54: =I12*$I$41 -> 53.52 | J54: =J12*$J$41 -> 12379.52 | K54: =K12*$K$41 -> 773.72 | L54: =L12*$L$41 -> 0 | M54: =M12*$M$41 -> 0 | N54: =N12*$N$41 -> 0 | O54: =O12*$O$41 -> 0 | P54: =SUM(C54:O54) -> 22729.01 | Q54: IL | R54: =SUM(C54:K54) -> 22729.01 | S54: =SUM(B54:B54) -> 1200 | T54: =R54+S54 -> 23929.01 | U54: =SUM(L54:O54) -> 0 | V54: =R54+L54+M54+O54 -> 22729.01 | W54: =T54+U54 -> 23929.01
A55: IN | B55: =B13*$B$41 -> 3520 | C55: =C13*$C$41 -> 10843.8 | D55: =D13*$D$41 -> 570.94 | E55: =E13*$E$41 -> 15883.65 | F55: =F13*$F$41 -> 99 | G55: =G13*$G$41 -> 574.74 | H55: =H13*$H$41 -> 62.7 | I55: =I13*$I$41 -> 160.56 | J55: =J13*$J$41 -> 35591.12 | K55: =K13*$K$41 -> 1547.44 | L55: =L13*$L$41 -> 1662.84 | M55: =M13*$M$41 -> 0 | N55: =N13*$N$41 -> 973 | O55: =O13*$O$41 -> 226.89 | P55: =SUM(C55:O55) -> 68196.68 | Q55: IN | R55: =SUM(C55:K55) -> 65333.95 | S55: =SUM(B55:B55) -> 3520 | T55: =R55+S55 -> 68853.95 | U55: =SUM(L55:O55) -> 2862.73 | V55: =R55+L55+M55+O55 -> 67223.68 | W55: =T55+U55 -> 71716.68
... A80: WY | B80: =B38*$B$41 -> 1760 | C80: =C38*$C$41 -> 5421.9 | D80: =D38*$D$41 -> 285.47 | E80: =E38*$E$41 -> 7765.34 | F80: =F38*$F$41 -> 33 | G80: =G38*$G$41 -> 191.58 | H80: =H38*$H$41 -> 20.9 | I80: =I38*$I$41 -> 53.52 | J80: =J38*$J$41 -> 12379.52 | K80: =K38*$K$41 -> 773.72 | L80: =L38*$L$41 -> 1662.84 | M80: =M38*$M$41 -> 0 | N80: =N38*$N$41 -> 973 | O80: =O38*$O$41 -> 226.89 | P80: =SUM(C80:O80) -> 29787.68 | Q80: WY | R80: =SUM(C80:K80) -> 26924.95 | S80: =SUM(B80:B80) -> 1760 | T80: =R80+S80 -> 28684.95 | U80: =SUM(L80:O80) -> 2862.73 | V80: =R80+L80+M80+O80 -> 28814.68 | W80: =T80+U80 -> 31547.68
B82: =SUM(B44:B80) -> 129520 | C82: =SUM(C44:C80) -> 396784.5 | D82: =SUM(D44:D80) -> 25692.3 | E82: =SUM(E44:E80) -> 575341.1 | F82: =SUM(F44:F80) -> 3630 | G82: =SUM(G44:G80) -> 21073.8 | H82: =SUM(H44:H80) -> 2278.1 | I82: =SUM(I44:I80) -> 5780.16 | ... P82: =SUM(P44:P80) -> 2411901 | R82: =SUM(R44:R80) -> 2300254.5 | S82: =SUM(S44:S80) -> 129520 | T82: =SUM(T44:T80) -> 2429774.5 | U82: =SUM(U44:U80) -> 111646.47 | V82: =SUM(V44:V80) -> 2373954 | W82: =SUM(W44:W80) -> 2541421

Sheet Sample frequency
A1: STATION ID | B1: Station Name | F1: NUMBER OF SAMPLING TRIPS
C2: SC | D2: PROPOSED COST CENTER TO DO SAMPLING | E2: NUMBER OF SAMPLES IN 2013 | F2: OCT | G2: NOV | H2: DEC | I2: JAN | J2: FEB | K2: MAR | L2: APR | M2: MAY | N2: JUN | O2: JUL | P2: AUG | Q2: SEP | R2: Comments
A3: 15565447 | B3: Yukon River at Pilot Station, AK | C3: AK | D3: Anchorage, AK | E3: =SUM(F3:Q3) -> 7 | I3: 1 | L3: 1 | M3: 1 | N3: 1 | O3: 1 | P3: 1 | Q3: 1 | R3: Pest samples only collected June, July, August
A4: 02469762 | B4: Tombigbee River near Coffeeville, AL | C4: AL | D4: Montgomery, AL | E4: =SUM(F4:Q4) -> 18 | F4: 1 | G4: 2 | H4: 1 | I4: 2 | J4: 1 | K4: 2 | L4: 1 | M4: 2 | N4: 1 | O4: 2 | P4: 1 | Q4: 2
A5: 02470500 | B5: Mobile River at Mt. Vernon, AL | C5: AL | D5: Montgomery, AL | E5: =SUM(F5:Q5) -> 14 | F5: 1 | H5: 1 | I5: 1 | J5: 2 | K5: 2 | L5: 2 | M5: 2 | N5: 1 | O5: 1 | P5: 1
A6: 07055646 | B6: Buffalo River near Boxley, AR | C6: AR | D6: Little Rock, AR | E6: =SUM(F6:Q6) -> 6 | F6: 1 | H6: 1 | J6: 1 | L6: 1 | N6: 1 | P6: 1 | R6: Pesticide samples not collected at reference sites
A7: 07060710 | B7: North Sylamore Creek near Fifty Six, AR | C7: AR | D7: Little Rock, AR | E7: =SUM(F7:Q7) -> 6 | G7: 1 | I7: 1 | K7: 1 | M7: 1 | O7: 1 | Q7: 1 | R7: Pesticide samples not collected at reference sites
A8: 07263620 | B8: Arkansas River at David D Terry Lock and Dam below Little Rock, AR | C8: AR | D8: Little Rock, AR | E8: =SUM(F8:Q8) -> 14 | F8: 1 | H8: 1 | I8: 1 | J8: 1 | K8: 2 | L8: 2 | M8: 2 | N8: 2 | O8: 1 | P8: 1
A9: 09380000 | B9: Colorado River at Lees Ferry, AZ | C9: AZ | D9: Flagstaff, AZ | E9: =SUM(F9:Q9) -> 14 | F9: 1 | G9: 1 | H9: 1 | I9: 1 | J9: 2 | K9: 2 | L9: 2 | M9: 1 | N9: 1 | O9: 1 | P9: 1
A10: 09471000 | B10: San Pedro River at Charleston, AZ | C10: AZ | D10: Tucson, AZ | E10: =SUM(F10:Q10) -> 6 | G10: 1 | I10: 1 | K10: 1 | M10: 1 | O10: 1 | Q10: 1 | R10: Pesticide samples not collected at reference sites
A11: 09505800 | B11: West Clear Creek near Camp Verde, AZ | C11: AZ | D11: Tucson, AZ | E11: =SUM(F11:Q11) -> 6 | F11: 1 | H11: 1 | J11: 1 | L11: 1 | N11: 1 | P11: 1 | R11: Pesticide samples not collected at reference sites
A12: 09522000 | B12: Colorado River at NIB, above Morelos Dam, AZ | C12: AZ | D12: Yuma, AZ | E12: =SUM(F12:Q12) -> 12 | F12: 1 | H12: 1 | I12: 2 | J12: 2 | K12: 2 | L12: 2 | N12: 1 | P12: 1
A13: 11049400 | B13: Santa Ana River above Seven Oaks Dam, CA | C13: CA | D13: San Diego, CA | E13: =SUM(F13:Q13) -> 6 | F13: 1 | H13: 1 | J13: 1 | L13: 1 | N13: 1 | P13: 1 | R13: Pesticide samples not collected at reference sites
A14: 11074000 | B14: Santa Ana River below Prado Dam, CA | C14: CA | D14: San Diego, CA | E14: =SUM(F14:Q14) -> 18 | F14: 1 | G14: 1 | H14: 1 | I14: 2 | J14: 2 | K14: 2 | L14: 2 | M14: 2 | N14: 2 | O14: 1 | P14: 1 | Q14: 1
A15: 11274538 | B15: Orestimba Creek near Crows Landing, CA | C15: CA | D15: Sacramento, CA | E15: =SUM(F15:Q15) -> 24 | F15: 2 | G15: 2 | H15: 2 | I15: 2 | J15: 2 | K15: 2 | L15: 2 | M15: 2 | N15: 2 | O15: 2 | P15: 2 | Q15: 2
A16: 11303500 | B16: San Joaquin River near Vernalis, CA | C16: CA | D16: Sacramento, CA | E16: =SUM(F16:Q16) -> 18 | F16: 1 | G16: 1 | H16: 2 | I16: 2 | J16: 2 | K16: 1 | L16: 1 | M16: 2 | N16: 2 | O16: 2 | P16: 1 | Q16: 1
A17: 11335000 | B17: Cosumnes River at Michigan Bar, CA | C17: CA | D17: Sacramento, CA | E17: =SUM(F17:Q17) -> 6 | F17: 1 | H17: 1 | J17: 1 | L17: 1 | N17: 1 | P17: 1 | R17: Pesticide samples not collected at reference sites
A18: 11447650 | B18: Sacramento River at Freeport, CA | C18: CA | D18: Sacramento, CA | E18: =SUM(F18:Q18) -> 14 | F18: 1 | H18: 1 | I18: 2 | J18: 2 | K18: 1 | L18: 1 | M18: 2 | N18: 2 | O18: 1 | P18: 1
A19: 06713500 | B19: Cherry Creek at Denver, CO | C19: CO | D19: Lakewood, CO | E19: =SUM(F19:Q19) -> 24 | F19: 1 | G19: 1 | H19: 1 | I19: 1 | J19: 1 | K19: 1 | L19: 3 | M19: 3 | N19: 3 | O19: 3 | P19: 3 | Q19: 3
A20: 06754000 | B20: South Platte River near Kersey, CO | C20: CO | D20: Lakewood, CO | E20: =SUM(F20:Q20) -> 18 | F20: 1 | G20: 1 | H20: 1 | I20: 1 | J20: 1 | K20: 1 | L20: 2 | M20: 2 | N20: 2 | O20: 2 | P20: 2 | Q20: 2
A21: 09163500 | B21: Colorado River near Colorado-Utah state line | C21: CO | D21: Grand Junction, CO | E21: =SUM(F21:Q21) -> 18 | F21: 1 | G21: 1 | H21: 1 | I21: 1 | J21: 1 | K21: 2 | L21: 2 | M21: 2 | N21: 2 | O21: 2 | P21: 2 | Q21: 1
A22: 01170100 | B22: Green River near Colrain, MA | C22: CT | D22: East Hartford, CT | E22: =SUM(F22:Q22) -> 6 | F22: 1 | H22: 1 | J22: 1 | L22: 1 | N22: 1 | P22: 1 | R22: Pesticide samples not collected at reference sites
A23: 01184000 | B23: Connecticut River at Thompsonville, CT | C23: CT | D23: East Hartford, CT | E23: =SUM(F23:Q23) -> 18 | F23: 1 | G23: 1 | H23: 1 | I23: 1 | J23: 1 | K23: 2 | L23: 2 | M23: 2 | N23: 2 | O23: 2 | P23: 2 | Q23: 1
A24: 01209710 | B24: Norwalk River at Winnipauk,CT | C24: CT | D24: East Hartford, CT | E24: =SUM(F24:Q24) -> 24 | F24: 1 | G24: 1 | H24: 1 | I24: 1 | J24: 2 | K24: 2 | L24: 2 | M24: 3 | N24: 3 | O24: 3 | P24: 3 | Q24: 2
A25: 02359170 | B25: Apalachicola River near Sumatra, FL | C25: FL | D25: Tallahassee, FL | E25: =SUM(F25:Q25) -> 14 | F25: 1 | H25: 1 | I25: 1 | J25: 2 | K25: 2 | L25: 2 | M25: 2 | N25: 1 | O25: 1 | P25: 1
A26: 02226160 | B26: Altamaha River at Everett City, GA | C26: GA | D26: Atlanta, GA | E26: =SUM(F26:Q26) -> 14 | F26: 1 | H26: 1 | I26: 1 | J26: 2 | K26: 2 | L26: 2 | M26: 2 | N26: 1 | O26: 1 | P26: 1
A27: 02335870 | B27: Sope Creek near Marietta, GA | C27: GA | D27: Atlanta, GA | E27: =SUM(F27:Q27) -> 24 | F27: 2 | G27: 2 | H27: 2 | I27: 2 | J27: 2 | K27: 2 | L27: 2 | M27: 2 | N27: 2 | O27: 2 | P27: 2 | Q27: 2
A28: 02338523 | B28: Hillibahatchee Creek near Franklin, GA | C28: GA | D28: Atlanta, GA | E28: =SUM(F28:Q28) -> 6 | F28: 1 | H28: 1 | J28: 1 | L28: 1 | N28: 1 | P28: 1 | R28: Pesticide samples not collected at reference sites
A29: 05420500 | B29: Mississippi River at Clinton, IA | C29: IA | D29: Iowa City, IA | E29: =SUM(F29:Q29) -> 14 | F29: 1 | H29: 1 | J29: 1 | K29: 2 | L29: 2 | M29: 2 | N29: 2 | O29: 2 | P29: 1
A30: 05451210 | B30: South Fork Iowa River near New Providence, IA | C30: IA | D30: Iowa City, IA | E30: =SUM(F30:Q30) -> 24 | F30: 1 | G30: 1 | H30: 1 | I30: 1 | J30: 2 | K30: 2 | L30: 2 | M30: 3 | N30: 3 | O30: 3 | P30: 3 | Q30: 2
A31: 05465500 | B31: Iowa River at Wapello, IA | C31: IA | D31: Iowa City, IA | E31: =SUM(F31:Q31) -> 14 | F31: 1 | H31: 1 | J31: 1 | K31: 2 | L31: 2 | M31: 2 | N31: 2 | O31: 2 | P31: 1
A32: 05490500 | B32: Des Moines River at Keosauqua, IA | C32: IA | D32: Iowa City, IA | E32: =SUM(F32:Q32) -> 14 | F32: 1 | H32: 1 | J32: 1 | K32: 2 | L32: 2 | M32: 2 | N32: 2 | O32: 2 | P32: 1
A33: 05586100 | B33: Illinois River at Valley City, IL | C33: IL | D33: Urbana, IL | E33: =SUM(F33:Q33) -> 14 | F33: 1 | H33: 1 | J33: 1 | K33: 2 | L33: 2 | M33: 2 | N33: 2 | O33: 2 | P33: 1
A34: 06610000 | B34: Missouri River at Omaha, NE | C34: IA | D34: Council Bluffs, IA | E34: =SUM(F34:Q34) -> 14 | F34: 1 | H34: 1 | J34: 1 | K34: 2 | L34: 2 | M34: 2 | N34: 2 | O34: 2 | P34: 1
A35: 13092747 | B35: Rock Creek at Twin Falls, ID | C35: ID | D35: Boise, ID | E35: =SUM(F35:Q35) -> 24 | F35: 2 | G35: 2 | H35: 2 | I35: 2 | J35: 2 | K35: 2 | L35: 2 | M35: 2 | N35: 2 | O35: 2 | P35: 2 | Q35: 2
A36: 13154500 | B36: Snake River at King Hill, ID | C36: ID | D36: Boise, ID | E36: =SUM(F36:Q36) -> 14 | F36: 1 | H36: 1 | I36: 1 | J36: 1 | K36: 1 | L36: 2 | M36: 2 | N36: 2 | O36: 2 | P36: 1
A37: 03374100 | B37: White River at Hazleton, IN | C37: IN | D37: Indianapolis, IN | E37: =SUM(F37:Q37) -> 18 | F37: 1 | G37: 1 | H37: 1 | I37: 1 | J37: 1 | K37: 1 | L37: 1 | M37: 3 | N37: 3 | O37: 2 | P37: 2 | Q37: 1
A38: 394340085524601 | B38: Sugar Creek at New Palestine, IN | C38: IN | D38: Indianapolis, IN | E38: =SUM(F38:Q38) -> 24 | F38: 1 | G38: 1 | H38: 1 | I38: 1 | J38: 2 | K38: 2 | L38: 2 | M38: 3 | N38: 3 | O38: 3 | P38: 3 | Q38: 2
A39: 06892350 | B39: Kansas River at DeSoto, KS | C39: KS | D39: Lawrence, KS | E39: =SUM(F39:Q39) -> 14 | F39: 1 | H39: 1 | I39: 1 | J39: 1 | K39: 2 | L39: 2 | M39: 2 | N39: 2 | O39: 1 | P39: 1
A40: 07144100 | B40: Little Arkansas River near Sedgwick, KS | C40: KS | D40: Lawrence, KS | E40: =SUM(F40:Q40) -> 18 | F40: 1 | G40: 1 | H40: 1 | I40: 1 | J40: 1 | K40: 1 | L40: 1 | M40: 3 | N40: 3 | O40: 2 | P40: 2 | Q40: 1
A41: 03303280 | B41: Ohio River at Cannelton Dam at Cannelton, IN | C41: KY | D41: Murray, KY | E41: =SUM(F41:Q41) -> 14 | F41: 1 | H41: 1 | I41: 2 | J41: 2 | K41: 2 | L41: 2 | M41: 2 | N41: 1 | P41: 1
A42: 03378500 | B42: Wabash River at New Harmony, IN | C42: KY | D42: Murray, KY | E42: =SUM(F42:Q42) -> 14 | F42: 1 | H42: 1 | I42: 2 | J42: 2 | K42: 2 | L42: 2 | M42: 1 | N42: 1 | O42: 1 | P42: 1
A43: 03609750 | B43: Tennessee River at Highway 60 near Paducah, KY | C43: KY | D43: Murray, KY | E43: =SUM(F43:Q43) -> 14 | F43: 1 | H43: 1 | I43: 2 | J43: 2 | K43: 2 | L43: 2 | M43: 1 | N43: 1 | O43: 1 | P43: 1
A44: 03612500 | B44: Ohio River at Dam 53 near Grand Chain, IL | C44: KY | D44: Murray, KY | E44: =SUM(F44:Q44) -> 14 | F44: 1 | H44: 1 | I44: 2 | J44: 2 | K44: 2 | L44: 2 | M44: 1 | N44: 1 | O44: 1 | P44: 1
A45: 07373420 | B45: Mississippi River near St. Francisville, LA | C45: LA | D45: Baton Rouge, LA | E45: =SUM(F45:Q45) -> 16 | F45: 1 | H45: 1 | I45: 1 | J45: 2 | K45: 2 | L45: 2 | M45: 2 | N45: 2 | O45: 2 | P45: 1
A46: 07374000 | B46: Mississippi River at Baton Rouge, LA | C46: LA | D46: Baton Rouge, LA | E46: =SUM(F46:Q46) -> 14 | F46: 1 | H46: 1 | I46: 1 | J46: 1 | K46: 2 | L46: 2 | M46: 2 | N46: 2 | O46: 1 | P46: 1
A47: 07374525 | B47: Mississippi River at Belle Chasse, LA | C47: LA | D47: Baton Rouge, LA | E47: =SUM(F47:Q47) -> 14 | F47: 1 | H47: 1 | I47: 1 | J47: 1 | K47: 2 | L47: 2 | M47: 2 | N47: 2 | O47: 1 | P47: 1
A48: 07381495 | B48: Atchafalaya River at Melville, LA | C48: LA | D48: Baton Rouge, LA | E48: =SUM(F48:Q48) -> 16 | F48: 1 | H48: 1 | I48: 1 | J48: 2 | K48: 2 | L48: 2 | M48: 2 | N48: 2 | O48: 2 | P48: 1
A49: 07381590 | B49: Wax Lake Outlet at Calumet, LA | C49: LA | D49: Baton Rouge, LA | E49: =SUM(F49:Q49) -> 14 | F49: 1 | H49: 1 | I49: 1 | J49: 1 | K49: 1 | L49: 2 | M49: 2 | N49: 2 | O49: 2 | P49: 1
A50: 07381600 | B50: Southern Atchafalaya River at Morgan City, LA | C50: LA | D50: Baton Rouge, LA | E50: =SUM(F50:Q50) -> 14 | F50: 1 | H50: 1 | I50: 1 | J50: 1 | K50: 1 | L50: 2 | M50: 2 | N50: 2 | O50: 2 | P50: 1
A51: 08014500 | B51: Whisky Chitto Creek near Oberlin, LA | C51: LA | D51: Baton Rouge, LA | E51: =SUM(F51:Q51) -> 6 | G51: 1 | I51: 1 | K51: 1 | M51: 1 | O51: 1 | Q51: 1 | R51: Pesticide samples not collected at reference sites
A52: 01578310 | B52: Susquehanna River at Conowingo, MD | C52: MD | D52: Baltimore, MD | E52: =SUM(F52:Q52) -> 14 | F52: 1 | H52: 1 | I52: 2 | J52: 2 | K52: 2 | L52: 2 | M52: 2 | N52: 1 | P52: 1
A53: 01610400 | B53: Waites Run near Wardensville, WV | C53: MD | D53: Baltimore, MD | E53: =SUM(F53:Q53) -> 6 | F53: 1 | H53: 1 | J53: 1 | L53: 1 | N53: 1 | P53: 1 | R53: Pesticide samples not collected at reference sites
A54: 01646580 | B54: Potomac River at Chain Bridge at Washington, DC | C54: MD | D54: Baltimore, MD | E54: =SUM(F54:Q54) -> 18 | F54: 1 | G54: 1 | H54: 1 | I54: 1 | J54: 2 | K54: 2 | L54: 2 | M54: 2 | N54: 2 | O54: 2 | P54: 1 | Q54: 1
A55: 01654000 | B55: Accotink Creek near Annandale, VA | C55: MD | D55: Baltimore, MD | E55: =SUM(F55:Q55) -> 24 | F55: 1 | G55: 1 | H55: 1 | I55: 1 | J55: 2 | K55: 2 | L55: 2 | M55: 3 | N55: 3 | O55: 3 | P55: 3 | Q55: 2
A56: 04161820 | B56: Clinton River at Sterling Heights, MI | C56: MI | D56: Lansing, MI | E56: =SUM(F56:Q56) -> 24 | F56: 1 | G56: 1 | H56: 1 | I56: 1 | J56: 2 | K56: 2 | L56: 2 | M56: 3 | N56: 3 | O56: 3 | P56: 3 | Q56: 2
A57: 05288705 | B57: Shingle Creek at Minneapolis, MN | C57: MN | D57: Mounds View, MN | E57: =SUM(F57:Q57) -> 24 | F57: 1 | G57: 1 | H57: 1 | I57: 1 | J57: 2 | K57: 2 | L57: 2 | M57: 3 | N57: 3 | O57: 3 | P57: 3 | Q57: 2
A58: 05331580 | B58: Mississippi River at Hastings, MN | C58: MN | D58: Mounds View, MN | E58: =SUM(F58:Q58) -> 14 | F58: 1 | H58: 1 | I58: 1 | J58: 1 | K58: 1 | L58: 2 | M58: 2 | N58: 2 | O58: 2 | P58: 1
A59: 05587455 | B59: Mississippi River Below Grafton, IL | C59: MO | D59: Rolla, MO | E59: =SUM(F59:Q59) -> 14 | F59: 1 | G59: 1 | H59: 1 | I59: 1 | J59: 1 | K59: 1 | L59: 2 | M59: 2 | N59: 1 | O59: 1 | P59: 1 | Q59: 1
A60: 06934500 | B60: Missouri River at Hermann, MO | C60: MO | D60: Rolla, MO | E60: =SUM(F60:Q60) -> 14 | F60: 1 | H60: 1 | J60: 1 | K60: 2 | L60: 2 | M60: 2 | N60: 2 | O60: 2 | P60: 1
A61: 07022000 | B61: Mississippi River at Thebes, IL | C61: MO | D61: Rolla, MO | E61: =SUM(F61:Q61) -> 14 | F61: 1 | H61: 1 | J61: 1 | K61: 2 | L61: 2 | M61: 2 | N61: 2 | O61: 2 | P61: 1
A62: 07288650 | B62: Bogue Phalia near Leland, MS | C62: MS | D62: Jackson, MS | E62: =SUM(F62:Q62) -> 24 | F62: 2 | G62: 1 | H62: 1 | I62: 1 | J62: 1 | K62: 2 | L62: 2 | M62: 3 | N62: 3 | O62: 3 | P62: 3 | Q62: 2
A63: 07288955 | B63: Yazoo River below Steele Bayou near Long Lake, MS | C63: MS | D63: Jackson, MS | E63: =SUM(F63:Q63) -> 18 | F63: 1 | G63: 1 | H63: 1 | I63: 2 | J63: 2 | K63: 2 | L63: 2 | M63: 2 | N63: 2 | O63: 1 | P63: 1 | Q63: 1
A64: 322023090544500 | B64: Mississippi River above Vicksburg, MS | C64: MS | D64: Jackson, MS | E64: =SUM(F64:Q64) -> 14 | F64: 1 | H64: 1 | I64: 1 | J64: 1 | K64: 2 | L64: 2 | M64: 2 | N64: 2 | O64: 1 | P64: 1
A65: 02087580 | B65: Swift Creek near Apex, NC | C65: NC | D65: Raleigh, NC | E65: =SUM(F65:Q65) -> 24 | F65: 2 | G65: 2 | H65: 2 | I65: 2 | J65: 2 | K65: 2 | L65: 2 | M65: 2 | N65: 2 | O65: 2 | P65: 2 | Q65: 2
A66: 02089500 | B66: Neuse River at Kinston, NC | C66: NC | D66: Raleigh, NC | E66: =SUM(F66:Q66) -> 18 | F66: 1 | G66: 2 | H66: 1 | I66: 2 | J66: 1 | K66: 2 | L66: 1 | M66: 2 | N66: 1 | O66: 2 | P66: 1 | Q66: 2
A67: 02091500 | B67: Contentnea Creek at Hookerton, NC | C67: NC | D67: Raleigh, NC | E67: =SUM(F67:Q67) -> 24 | F67: 2 | G67: 2 | H67: 2 | I67: 2 | J67: 2 | K67: 2 | L67: 2 | M67: 2 | N67: 2 | O67: 2 | P67: 2 | Q67: 2
A68: 05082500 | B68: Red River of the North at Grand Forks, ND | C68: ND | D68: Grand Forks, ND | E68: =SUM(F68:Q68) -> 14 | F68: 1 | G68: 1 | H68: 1 | I68: 1 | J68: 1 | K68: 1 | L68: 2 | M68: 2 | N68: 1 | O68: 1 | P68: 1 | Q68: 1
A69: 06775900 | B69: Dismal River near Thedford, NE | C69: NE | D69: Lincoln, NE | E69: =SUM(F69:Q69) -> 6 | F69: 1 | H69: 1 | J69: 1 | L69: 1 | N69: 1 | P69: 1 | R69: Pesticide samples not collected at reference sites
A70: 06800000 | B70: Maple Creek near Nickerson, NE | C70: NE | D70: Lincoln, NE | E70: =SUM(F70:Q70) -> 24 | F70: 1 | G70: 1 | H70: 1 | I70: 1 | J70: 2 | K70: 2 | L70: 2 | M70: 3 | N70: 3 | O70: 3 | P70: 3 | Q70: 2
A71: 06800500 | B71: Elkhorn River at Waterloo, NE | C71: NE | D71: Lincoln, NE | E71: =SUM(F71:Q71) -> 18 | F71: 1 | G71: 1 | H71: 1 | I71: 1 | J71: 1 | K71: 2 | L71: 2 | M71: 2 | N71: 2 | O71: 2 | P71: 2 | Q71: 1
A72: 06805500 | B72: Platte River at Louisville, NE | C72: NE | D72: Lincoln, NE | E72: =SUM(F72:Q72) -> 14 | F72: 1 | H72: 1 | I72: 1 | J72: 1 | K72: 1 | L72: 1 | M72: 2 | N72: 2 | O72: 2 | P72: 2
A73: 01463500 | B73: Delaware River at Trenton, NJ | C73: NJ | D73: Trenton, NJ | E73: =SUM(F73:Q73) -> 14 | F73: 1 | H73: 1 | I73: 1 | J73: 2 | K73: 2 | L73: 2 | M73: 2 | N73: 1 | O73: 1 | P73: 1
A74: 08227000 | B74: Saguache Creek near Saguache, CO | C74: NM | D74: Albuquerque, NM | E74: =SUM(F74:Q74) -> 6 | F74: 1 | H74: 1 | J74: 1 | L74: 1 | N74: 1 | P74: 1 | R74: Pesticide samples not collected at reference sites
A75: 08364000 | B75: Rio Grande at El Paso, TX | C75: NM | D75: Albuquerque, NM | E75: =SUM(F75:Q75) -> 14 | F75: 1 | G75: 1 | H75: 1 | I75: 1 | J75: 1 | K75: 1 | L75: 1 | M75: 1 | N75: 1 | O75: 2 | P75: 2 | Q75: 1
A76: 10350340 | B76: Truckee River at Tracy, NV | C76: NV | D76: Carson City, NV | E76: =SUM(F76:Q76) -> 18 | F76: 1 | G76: 2 | H76: 2 | I76: 2 | J76: 2 | K76: 2 | L76: 2 | M76: 1 | N76: 1 | O76: 1 | P76: 1 | Q76: 1
A77: 01349150 | B77: Canajoharie Creek near Canajoharie, NY | C77: NY | D77: Troy, NY | E77: =SUM(F77:Q77) -> 24 | F77: 1 | G77: 1 | H77: 1 | I77: 1 | J77: 2 | K77: 2 | L77: 2 | M77: 3 | N77: 3 | O77: 3 | P77: 3 | Q77: 2
A78: 01372043 | B78: Hudson River near Poughkeepsie, NY | C78: NY | D78: Troy, NY | E78: =SUM(F78:Q78) -> 14 | F78: 1 | H78: 1 | I78: 1 | J78: 2 | K78: 2 | L78: 2 | M78: 2 | N78: 1 | O78: 1 | P78: 1
A79: 04264331 | B79: St. Lawrence River at Cornwall, Ontario, near Massena, NY | C79: NY | D79: Troy, NY | E79: =SUM(F79:Q79) -> 14 | F79: 1 | H79: 1 | I79: 1 | J79: 2 | K79: 2 | L79: 2 | M79: 2 | N79: 1 | O79: 1 | P79: 1
A80: 04193500 | B80: Maumee River at Waterville, OH | C80: OH | D80: Columbus, OH | E80: =SUM(F80:Q80) -> 18 | F80: 1 | G80: 1 | H80: 1 | I80: 1 | J80: 1 | K80: 1 | L80: 1 | M80: 3 | N80: 3 | O80: 2 | P80: 2 | Q80: 1
A81: 07241550 | B81: North Canadian River near Harrah, OK | C81: OK | D81: Oklahoma City, OK | E81: =SUM(F81:Q81) -> 18 | F81: 1 | G81: 1 | H81: 1 | I81: 1 | J81: 1 | K81: 1 | L81: 1 | M81: 3 | N81: 3 | O81: 2 | P81: 2 | Q81: 1
A82: 14201300 | B82: Zollner Creek near Mt. Angel, OR | C82: OR | D82: Portland, OR | E82: =SUM(F82:Q82) -> 24 | F82: 2 | G82: 2 | H82: 2 | I82: 2 | J82: 2 | K82: 2 | L82: 2 | M82: 2 | N82: 2 | O82: 2 | P82: 2 | Q82: 2
A83: 14205400 | B83: East Fork Dairy Creek near Meachan Corner, OR | C83: OR | D83: Portland, OR | E83: =SUM(F83:Q83) -> 6 | G83: 1 | I83: 1 | K83: 1 | M83: 1 | O83: 1 | Q83: 1 | R83: Pesticide samples not collected at reference sites
A84: 14206950 | B84: Fanno Creek at Durham, OR | C84: OR | D84: Portland, OR | E84: =SUM(F84:Q84) -> 24 | F84: 2 | G84: 2 | H84: 2 | I84: 2 | J84: 2 | K84: 2 | L84: 2 | M84: 2 | N84: 2 | O84: 2 | P84: 2 | Q84: 2
A85: 14211720 | B85: Willamette River at Portland, OR | C85: OR | D85: Portland, OR | E85: =SUM(F85:Q85) -> 18 | F85: 1 | G85: 2 | H85: 2 | I85: 2 | J85: 1 | K85: 2 | L85: 1 | M85: 2 | N85: 1 | O85: 2 | P85: 1 | Q85: 1
A86: 14246900 | B86: Columbia River near Beaver Army Terminal, OR | C86: OR | D86: Portland, OR | E86: =SUM(F86:Q86) -> 12 | F86: 1 | H86: 2 | I86: 2 | J86: 2 | K86: 1 | L86: 1 | M86: 1 | N86: 1 | P86: 1
A87: 02172300 | B87: McTier Creek near Monetta, SC | C87: SC | D87: Columbia, SC | E87: =SUM(F87:Q87) -> 6 | F87: 1 | H87: 1 | J87: 1 | L87: 1 | N87: 1 | P87: 1 | R87: Pesticide samples not collected at reference sites
A88: 02175000 | B88: Edisto River near Givhans, SC | C88: SC | D88: Columbia, SC | E88: =SUM(F88:Q88) -> 18 | F88: 1 | G88: 2 | H88: 1 | I88: 2 | J88: 1 | K88: 2 | L88: 1 | M88: 2 | N88: 1 | O88: 2 | P88: 1 | Q88: 2
A89: 08057200 | B89: White Rock Creek at Dallas, TX | C89: TX | D89: Austin, TX | E89: =SUM(F89:Q89) -> 24 | F89: 2 | G89: 2 | H89: 2 | I89: 2 | J89: 2 | K89: 2 | L89: 2 | M89: 2 | N89: 2 | O89: 2 | P89: 2 | Q89: 2
A90: 08057410 | B90: Trinity River below Dallas, TX | C90: TX | D90: Austin, TX | E90: =SUM(F90:Q90) -> 18 | F90: 1 | G90: 1 | H90: 1 | I90: 1 | J90: 1 | K90: 1 | L90: 2 | M90: 2 | N90: 2 | O90: 2 | P90: 2 | Q90: 2
A91: 08116650 | B91: Brazos River near Rosharon, TX | C91: TX | D91: The Woodlands, TX | E91: =SUM(F91:Q91) -> 14 | F91: 1 | H91: 1 | I91: 1 | J91: 1 | K91: 1 | L91: 2 | M91: 2 | N91: 2 | O91: 2 | P91: 1
A92: 08195000 | B92: Frio River at Concan, TX | C92: TX | D92: Austin, TX | E92: =SUM(F92:Q92) -> 6 | F92: 1 | H92: 1 | J92: 1 | L92: 1 | N92: 1 | P92: 1 | R92: Pesticide samples not collected at reference sites
A93: 08475000 | B93: Rio Grande near Brownsville, TX | C93: TX | D93: San Antonio, TX | E93: =SUM(F93:Q93) -> 12 | F93: 1 | G93: 1 | H93: 1 | J93: 1 | L93: 1 | N93: 1 | O93: 2 | P93: 2 | Q93: 2
A94: 10168000 | B94: Little Cottonwood Creek at Salt Lake City, UT | C94: UT | D94: West Valley City, UT | E94: =SUM(F94:Q94) -> 24 | F94: 2 | G94: 2 | H94: 2 | I94: 2 | J94: 2 | K94: 2 | L94: 2 | M94: 2 | N94: 2 | O94: 2 | P94: 2 | Q94: 2
A95: 10171000 | B95: Jordan River at Salt Lake City, UT | C95: UT | D95: West Valley City, UT | E95: =SUM(F95:Q95) -> 18 | F95: 1 | G95: 1 | H95: 1 | I95: 1 | J95: 1 | K95: 2 | L95: 2 | M95: 2 | N95: 2 | O95: 2 | P95: 2 | Q95: 1
A96: 10172200 | B96: Red Butte Creek at Fort Douglas, UT | C96: UT | D96: West Valley City, UT | E96: =SUM(F96:Q96) -> 6 | G96: 1 | I96: 1 | K96: 1 | M96: 1 | O96: 1 | Q96: 1 | R96: Pesticide samples not collected at reference sites
A97: 12056500 | B97: North Fork Skokomish River near Hdsprt, WA | C97: WA | D97: Tacoma, WA | E97: =SUM(F97:Q97) -> 6 | F97: 1 | H97: 1 | J97: 1 | L97: 1 | N97: 1 | P97: 1 | R97: Pesticide samples not collected at reference sites
A98: 12505450 | B98: Granger Drain at Granger, WA | C98: WA | D98: Kennewick, WA | E98: =SUM(F98:Q98) -> 24 | F98: 1 | G98: 1 | H98: 1 | I98: 1 | J98: 2 | K98: 2 | L98: 2 | M98: 3 | N98: 3 | O98: 3 | P98: 3 | Q98: 2
A99: 12510500 | B99: Yakima River at Kiona, WA | C99: WA | D99: Kennewick, WA | E99: =SUM(F99:Q99) -> 18 | F99: 1 | G99: 1 | H99: 1 | I99: 1 | J99: 1 | K99: 2 | L99: 2 | M99: 2 | N99: 2 | O99: 2 | P99: 2 | Q99: 1
A100: 04063700 | B100: Popple River near Fence, WI | C100: WI | D100: Rinelander, WI | E100: =SUM(F100:Q100) -> 6 | F100: 1 | H100: 1 | J100: 1 | L100: 1 | N100: 1 | P100: 1 | R100: Pesticide samples not collected at reference sites
...

Sheet Definitions
A1: Field Name | B1: Data type | C1: Restrictions | D1: Field Definition
A2: NSFN Chem Sampling
A3: Last update | B3: Date | C3: mm/dd/yy
A4: Primary STAID | B4: Text | C4: 8 or 15 digits, include leading 0 | D4: Primary NWIS station identification number for this site.
A5: Site name | B5: Text | D5: NAWQA site name (generally same as or similar to NWIS station name)
A6: Site group | B6: Text | D6: Redesigned Cycle II site category
A7: Network category | B7: Text | C7: Integrator, Agricultural, Urban, Reference, Drinking-water
A8: Fiscal year | B8: Number | D8: Water year for which annual sampling information applies
A9: Daily Streamflow - Gage? | B9: Text | C9: yes or no | D9: Continuous streamflow measured
A10: Daily Streamflow - Gross annual cost | B10: $ | D10: Gross cost for streamflow gage maintanance plus record compilation, review and publication
A11: Daily Streamflow - NAWQA share (%) | B11: Percent | C11: 0 - 100 | D11: Percent of the gross annual streamflow gage cost paid by the study unit
A12: QW monitor - Parameters | B12: Text | C12: T, SC, DO, &/or pH | D12: Continuous monitoring of Temperature, SC, DO, and/or pH?
A13: QW monitor - Type | B13: Text | D13: In-stream probe unit and (if used) on-shore data logger
A14: QW monitor - Annual NAWQA cost | B14: $ | D14: Gross NAWQA cost for 1 year of monitoring
A15: Constituents, by group: | B15: Suspended Sediment Major Ions Nutrients Pesticides (schedule 2437)
A16: Planned | B16: Number | C16: max 3 digits | D16: Planned number of environmental samples
A17: Collected | B17: Number | C17: max 3 digits | D17: Number of environmental samples collected as of last update (column A)
A18: Planned blanks | B18: Number | C18: max 3 digits | D18: Planned number of blank samples
A19: Collected blanks | B19: Number | C19: max 3 digits | D19: Number of blank samples collected as of last update (column A)
A21: Planned reps | B21: Number | C21: max 3 digits | D21: Planned number of duplicate samples
A22: Collected reps | B22: Number | C22: max 3 digits | D22: Number of duplicate samples collected as of last update (column A)
A23: Planned spikes | B23: Number | C23: max 3 digits | D23: Planned number of spike samples
A24: Collected spikes | B24: Number | C24: max 3 digits | D24: Actual number of spike samples collected as of last update (column A)
A26: SU Annual Comments: Unusual Sampling Circumstances | B26: Text | D26: Brief description of conditions that caused a deviation from the planned sampling for the year
A27: NFSN Eco Sampling
A28: Last update | B28: Date | C28: mm/dd/yy
A29: SC | B29: Text | C29: 2 character Science Center
A30: Primary STAID | B30: Text | C30: 8 or 15 digits, include leading 0. | D30: Primary NWIS station identification number for this site.
A31: Site name | B31: Text | D31: NAWQA site name (generally same as or similar to NWIS station name)
A32: Ecological STAID | B32: Text | C32: 8 or 15 digits, include leading 0. | D32: NWIS station identification number for ecological sampling location.
A33: Site name | B33: Text | D33: NAWQA site name for ecological sampling location
A34: Cycle 2 Site Type | B34: Text | C34: rotate2, rotate4, or eco_only
A35: Cycle 3 Site Type | B35: Text | C35: Integrator, Agricultural, Urban, Reference
A36: Ecoregion | B36: Number | C36: 1 or 2 digits | D36: Omernik Level III ecoregion (1987, revised 2002)
A37: Fiscal year | B37: Number | D37: Fiscal/Water year for which annual sampling information applies
A38: Reach Sampled (Primary Reach) | B38: Text | C38: 1 character | D38: Letter designation of the primary sampling reach (typically, A, B, or C)
A39: Inv / Algae RTH (Riffle or Snag) | B39: Text | C39: Riffle, Snag, Depositional | D39: Targeted habitat (typically, Riffle or Snag) for collection of invertebrate and algae samples
A40: Components: | B40: Inverts and Algae -- Invertebrates - RTH Invertebrates - QMH Algae - RTH Algae - Chl a / Biomass Fish Habitat
A41: Index Period - Start Date | B41: Date | C41: DD-MMM | D41: Beginning date of 6-week period for sampling to be conducted each year
A42: Index Period - End Date | B42: Date | C42: DD-MMM | D42: Ending date of 6-week period for sampling to be conducted each year
A43: QA Plan Submitted (Fish) | B43: Text | C43: Yes or No | D43: 'Yes' means Fish QA Plan has been reviewed/updated for the current fiscal year and submitted to Ecological National Synthesis
A44: No. of Samples Planned | B44: Number | C44: Max 1 digit | D44: No. samples planned: normally = "No. of Eco Reaches Planned" or zero; blank if this sample type was not part of the overall design that year)
A45: Date Completed - (MM/DD/YY) | B45: Date | C45: MM/DD/YY | D45: Actual date that sample was collected
A46: SU Annual Comments: Unusual Sampling Circumstances | B46: Text | D46: Brief description of conditions (if any) that caused a deviation from the planned sampling for the year
