Workbook

Sheet chem site information
A1: CYCLE II SU | B1: Science Center (SC) | C1: STATION ID | D1: STATION NAME | E1: CYCLE II SITE (145) | F1: CYCLE II SITE (84) | G1: CYCLE II SITE TYPE | H1: CYCLE II SITE SAMPLING SCHEDULE | I1: SAMPLED FOR ECOLOGY Cycle II | J1: SAMPLED FOR ECOLOGY Cycle III | K1: PROPOSED COST CENTER TO DO SAMPLING | L1: NUMBER OF SAMPLES IN 2013 | M1: SITE OFFICE | N1: SITE SIZE | O1: LOW FLOW SITE TYPE | P1: HIGH FLOW SITE TYPE | Q1: Comments
A2: MOBL | B2: AL | C2: 0242354750 | D2: Cahaba Valley Creek at Pelham, AL | E2: Y | F2: Y | G2: Urban | H2: rotate2 | I2: Y | J2: Y | K2: Montgomery, AL | L2: 24 | M2: Montgomery, AL | N2: small | O2: wading | P2: bridge
A3: NASQAN | B3: AL | C3: 02470500 | D3: Mobile River at Mt. Vernon, AL | E3: N | F3: N | G3: NA | H3: NA | I3: N | J3: N | K3: Montgomery, AL | L3: 14 | M3: Montgomery, AL | N3: large | O3: boat | P3: boat
A4: MOBL | B4: AL | C4: 02469762 | D4: Tombigbee River near Coffeeville, AL | E4: Y | F4: Y | G4: Integ | H4: rotate4 | I4: N | J4: N | K4: Montgomery, AL | L4: 18 | M4: Montgomery, AL | N4: large | O4: boat | P4: boat
A5: NASQAN | B5: AK | C5: 15565447 | D5: Yukon River at Pilot Station, AK | E5: N | F5: N | G5: NA | H5: NA | I5: N | J5: N | K5: Anchorage, AK | L5: 7 | M5: Anchorage, AK | N5: large | O5: boat | P5: boat
A6: CAZB | B6: AZ | C6: 09471000 | D6: San Pedro River at Charleston, AZ | E6: Y | F6: N | G6: Ref | H6: rotate4 | I6: N | J6: Y | K6: Tucson, AZ | L6: 6 | M6: Tucson, AZ | N6: small | O6: wading | P6: bridge
A7: CAZB | B7: AZ | C7: 09505800 | D7: West Clear Creek near Camp Verde, AZ | E7: Y | F7: Y | G7: Ref | H7: rotate4 | I7: Y | J7: Y | K7: Tucson, AZ | L7: 6 | M7: Tucson, AZ | N7: small | O7: wading | P7: cableway
A8: CO-OP | B8: AZ | C8: 09380000 | D8: Colorado River at Lees Ferry, AZ | E8: N | F8: N | G8: NA | H8: NA | I8: N | J8: N | K8: Tucson, AZ | L8: 0 | M8: Flagstaff, AZ | N8: large | O8: boat | P8: cableway
A9: NASQAN | B9: AZ | C9: 09522000 | D9: Colorado River at NIB | E9: N | F9: N | G9: NA | H9: NA | I9: N | J9: N | K9: Tucson, AZ | L9: 12 | M9: Yuma, AZ | N9: large | O9: boat | P9: cableway
A10: NASQAN | B10: AR | C10: 07263620 | D10: Arkansas River at Terry L&D below Little Rock, AR | E10: N | F10: N | G10: NA | H10: NA | I10: N | J10: N | K10: Little Rock, AR | L10: 14 | M10: Little Rock, AR | N10: large | O10: boat | P10: boat
A11: OZRK | B11: AR | C11: 07055646 | D11: Buffalo River near Boxley, AR | E11: Y | F11: N | G11: Ref | H11: rotate4 | I11: N | J11: Y | K11: Little Rock, AR | L11: 6 | M11: Little Rock, AR | N11: medium | O11: wading | P11: bridge
A12: OZRK | B12: AR | C12: 07060710 | D12: North Sylamore Creek near Fifty Six, AR | E12: Y | F12: Y | G12: Ref | H12: rotate4 | I12: Y | J12: Y | K12: Little Rock, AR | L12: 6 | M12: Little Rock, AR | N12: small | O12: wading | P12: bridge
A13: NASQAN/SACR | B13: CA | C13: 11447650 | D13: Sacramento River at Freeport, CA | E13: Y | F13: Y | G13: Integ | H13: rotate4 | I13: N | J13: N | K13: Sacramento, CA | L13: 14 | M13: Sacramento, CA | N13: large | O13: bridge | P13: bridge
... A37: NASQAN | B37: IA | C37: 05420500 | D37: Mississippi River at Clinton, IA | E37: N | F37: N | G37: NA | H37: NA | I37: N | J37: N | K37: Iowa City, IA | L37: 14 | M37: Iowa City, IA | N37: large | O37: boat | P37: boat
A38: NASQAN | B38: IA | C38: 06610000 | D38: Missouri River at Omaha, NE | G38: NA | H38: NA | I38: N | J38: N | K38: Iowa City, IA | L38: 14 | M38: Council Bluffs, IA | N38: large | O38: boat | P38: boat
A39: CO-OP | B39: KS | C39: 06892350 | D39: Kansas River at DeSoto, KS | E39: N | F39: N | G39: NA | H39: NA | I39: N | J39: N | K39: Lawrence, KS | L39: 0 | N39: large
A40: CO-OP | B40: KS | C40: 07144100 | D40: Lower Arkansas River near Sedgwick, KS | E40: N | F40: N | G40: NA | H40: NA | I40: N | J40: N | K40: Lawrence, KS | L40: 0 | N40: large
A41: NASQAN | B41: KY | C41: 03303280 | D41: Ohio River at Cannelton Dam at Cannelton, IN | E41: N | F41: N | G41: NA | H41: NA | I41: N | J41: N | K41: Louisville, KY | L41: 14 | M41: Murray, KY | N41: large | O41: boat | P41: boat
A42: NASQAN | B42: KY | C42: 03378500 | D42: Wabash River at New Harmony, IN | E42: N | F42: N | G42: NA | H42: NA | I42: N | J42: N | K42: Louisville, KY | L42: 14 | M42: Murray, KY | N42: large | O42: boat | P42: boat
A43: NASQAN | B43: KY | C43: 03609750 | D43: Tennessee River at Highway 60 near Paducah, KY | E43: N | F43: N | G43: NA | H43: NA | I43: N | J43: N | K43: Louisville, KY | L43: 14 | M43: Murray, KY | N43: large | O43: boat | P43: boat
A44: NASQAN | B44: KY | C44: 03612500 | D44: Ohio River at Dam 53 near Grand Chain, IL | E44: N | F44: N | G44: NA | H44: NA | I44: N | J44: N | K44: Louisville, KY | L44: 14 | M44: Murray, KY | N44: large | O44: boat | P44: boat
A45: ACAD | B45: LA | C45: 08014500 | D45: Ouiska (Whiskey) Chitto Creek near Oberlin, LA | E45: Y | F45: Y | G45: Ref | H45: rotate4 | I45: Y | J45: Y | K45: Baton Rouge, LA | L45: 6 | M45: Baton Rouge, LA | N45: medium | O45: wading | P45: bridge
A46: NASQAN | B46: LA | C46: 07373420 | D46: Mississippi River near St. Francisville, LA | G46: NA | H46: NA | I46: N | J46: N | K46: Baton Rouge, LA | L46: 16 | M46: Baton Rouge, LA | N46: large | O46: boat | P46: boat
A47: NASQAN | B47: LA | C47: 07374000 | D47: Mississippi River at Baton Rouge, LA | E47: N | F47: N | G47: NA | H47: NA | I47: N | J47: N | K47: Baton Rouge, LA | L47: 14 | M47: Baton Rouge, LA | N47: large | O47: boat | P47: boat
A48: NASQAN | B48: LA | C48: 07374525 | D48: Mississippi River at Belle Chasse, LA | E48: N | F48: N | G48: NA | H48: NA | I48: N | J48: N | K48: Baton Rouge, LA | L48: 14 | M48: Baton Rouge, LA | N48: large | O48: boat | P48: boat
A49: NASQAN | B49: LA | C49: 07381495 | D49: Atchafalaya River at Melville, LA | E49: N | F49: N | G49: NA | H49: NA | I49: N | J49: N | K49: Baton Rouge, LA | L49: 16 | M49: Baton Rouge, LA | N49: large | O49: boat | P49: boat
A50: NASQAN | B50: LA | C50: 07381590 | D50: Wax Lake Outlet at Calumet, LA | E50: N | F50: N | G50: NA | H50: NA | I50: N | J50: N | K50: Baton Rouge, LA | L50: 14 | M50: Baton Rouge, LA | N50: large | O50: boat | P50: boat
A51: NASQAN | B51: LA | C51: 07381600 | D51: Lower Atchafalaya River at Morgan City, LA | E51: N | F51: N | G51: NA | H51: NA | I51: N | J51: N | K51: Baton Rouge, LA | L51: 14 | M51: Baton Rouge, LA | N51: large | O51: boat | P51: boat
A52: NASQAN | B52: MD | C52: 01578310 | D52: Susquehanna River at Conowingo, MD | E52: Y | F52: N | G52: NA | H52: NA | I52: N | J52: N | K52: Baltimore, MD | L52: 12 | M52: Baltimore, MD | N52: large | O52: dam | P52: dam
A53: PODL | B53: MD | C53: 01610400 | D53: Waites Run near Wardensville, WV | E53: Y | F53: Y | G53: Ref | H53: rotate4 | I53: Y | J53: Y | K53: Baltimore, MD | L53: 6 | M53: Frostburg, MD | N53: small | O53: wading | P53: bridge
A54: NASQAN/PODL | B54: MD | C54: 01646580 | D54: Potomac River at Washington, DC | E54: Y | F54: Y | G54: Integ | H54: agcore | I54: N | J54: N | K54: Baltimore, MD | L54: 18 | M54: Frostburg, MD | N54: medium | O54: wading | P54: bridge
A55: PODL | B55: MD | C55: 01654000 | D55: Accotink Creek near Annandale, VA | E55: Y | F55: Y | G55: Urban | H55: rotate2 | I55: Y | J55: Y | K55: Baltimore, MD | L55: 24 | M55: Frostburg, MD | N55: small | O55: wading | P55: bridge
A56: LERI | B56: MI | C56: 04161820 | D56: Clinton River at Sterling Heights, MI | E56: Y | F56: Y | G56: Urban | H56: rotate4 | I56: Y | J56: Y | K56: East Lansing, MI | L56: 24 | M56: Lansing, MI | N56: small | O56: wading | P56: bridge
A57: UMIS | B57: MN | C57: 05331580 | D57: Mississippi River at Hastings, MN | E57: Y | F57: N | G57: Integ | H57: rotate4 | I57: N | J57: N | K57: Mounds View, MN | L57: 14 | M57: Mounds View, MN | N57: large | O57: boat | P57: boat
A58: MISE | B58: MS | C58: 07288650 | D58: Bogue Phalia near Leland, MS | E58: Y | F58: Y | G58: Ag | H58: dropped in 2008 | I58: N | J58: Y | K58: Jackson, MS | L58: 24 | M58: Jackson, MS | N58: medium | O58: bridge | P58: bridge
... A67: NASQAN/CNBR | B67: NE | C67: 06805500 | D67: Platte River at Louisville, NE | E67: Y | F67: Y | G67: Integ | H67: agcore | I67: N | J67: N | K67: Lincoln, NE | L67: 14 | M67: Lincoln, NE | N67: large | O67: bridge | P67: bridge
A68: NVBR | B68: NV | C68: 10350340 | D68: Truckee River at Tracy, NV | E68: Y | F68: Y | H68: rotate4 | I68: N | J68: N | K68: Carson City, NV | L68: 18 | M68: Carson City, NV | N68: large | O68: bridge | P68: bridge
A69: NMN/DELR | B69: NJ | C69: 01463500 | D69: Delaware River at Trenton, NJ | E69: Y | F69: Y | G69: Integ | H69: rotate4 | I69: N | J69: N | K69: West Trenton, NJ | L69: 14 | M69: Trenton, NJ | N69: large | O69: bridge | P69: bridge
A70: RIOG | B70: NM | C70: 08227000 | D70: Saguache Creek near Saguache, CO | E70: Y | F70: N | G70: Ref | H70: eco_only | I70: Y | J70: Y | K70: Albuquerque, NM | L70: 6 | M70: Alberquerque, NM | N70: small | O70: wading | P70: wading
A71: RIOG | B71: NM | C71: 08364000 | D71: Rio Grande at El Paso, TX | E71: Y | F71: Y | G71: Integ | H71: agcore | I71: N | J71: N | K71: Albuquerque, NM | L71: 14 | M71: Alberquerque, NM | N71: medium | O71: bridge | P71: cableway
A72: HDSN | B72: NY | C72: 01349150 | D72: Canajoharie Creek near Canajoharie, NY | E72: Y | F72: Y | G72: Ag | H72: rotate4 | I72: Y | J72: Y | K72: Troy, NY | L72: 24 | M72: Troy, NY | N72: small | O72: wading | P72: bridge
A73: NASQAN | B73: NY | C73: 4264331 | D73: St. Lawrence River at Cornwall, Ontario | E73: N | F73: N | G73: NA | H73: NA | I73: N | J73: N | K73: Troy, NY | L73: 14 | M73: Troy, NY | N73: large | O73: dam | P73: dam
A74: NMN | B74: NY | C74: 01372043 | D74: Hudson River near Poughkeepsie, NY | E74: N | F74: N | G74: NA | H74: NA | I74: N | J74: N | K74: Troy, NY | L74: 14 | M74: Troy, NY | N74: large | O74: boat | P74: boat
A75: ALBE | B75: NC | C75: 02087580 | D75: Swift Creek near Apex, NC | E75: Y | F75: Y | G75: Urban | H75: rotate2 | I75: Y | J75: Y | K75: Raleigh, NC | L75: 24 | M75: Raleigh, NC | N75: small | O75: wading | P75: bridge
A76: ALBE | B76: NC | C76: 02089500 | D76: Neuse River at Kinston, NC | E76: Y | F76: Y | G76: Integ | H76: agcore | I76: N | J76: N | K76: Raleigh, NC | L76: 18 | M76: Raleigh, NC | N76: medium | O76: bridge | P76: bridge
A77: ALBE | B77: NC | C77: 02091500 | D77: Contentnea Creek at Hookerton, NC | E77: Y | F77: Y | G77: Ag | H77: rotate4 | I77: Y | J77: Y | K77: Raleigh, NC | L77: 24 | M77: Raleigh, NC | N77: medium | O77: bridge | P77: bridge
A78: CO-OP | B78: ND | C78: 05082500 | D78: Red River of the North at Grand Forks, ND | E78: Y | F78: N | G78: NA | H78: NA | I78: N | J78: N | K78: Mounds View, MN? | L78: 0 | N78: large
A79: LERI | B79: OH | C79: 04193500 | D79: Maumee River at Waterville, OH | E79: Y | F79: Y | G79: Integ | H79: rotate4 | I79: N | J79: N | K79: Columbus, OH | L79: 18 | M79: Columbus, OH | N79: large | O79: wading | P79: bridge
A80: CO-OP | B80: OK | C80: 07241550 | D80: North Canadian River near Harrah, OK | E80: N | F80: N | G80: NA | H80: NA | I80: N | J80: N | K80: Oklahoma City, OK | L80: 0 | N80: large
A81: WILL | B81: OR | C81: 14201300 | D81: Zollner Creek near Mt. Angel, OR | E81: Y | F81: Y | G81: Ag | H81: rotate4 | I81: N | J81: N | K81: Portland, OR | L81: 24 | M81: Portland, OR | N81: small | O81: wading | P81: bridge
A82: WILL | B82: OR | C82: 14205400 | D82: East Fork Dairy Creek near Meachan Corner, OR | E82: Y | F82: Y | G82: Ref | H82: rotate4 | I82: Y | J82: Y | K82: Portland, OR | L82: 6 | M82: Portland, OR | N82: small | O82: wading | P82: bridge
A83: WILL | B83: OR | C83: 14206950 | D83: Fanno Creek at Durham, OR | E83: Y | F83: Y | G83: Urban | H83: rotate2 | I83: Y | J83: Y | K83: Portland, OR | L83: 24 | M83: Portland, OR | N83: small | O83: wading | P83: bridge
A84: WILL | B84: OR | C84: 14211720 | D84: Willamette River at Portland, OR | E84: Y | F84: Y | G84: Integ | H84: agcore | I84: N | J84: N | K84: Portland, OR | L84: 18 | M84: Portland, OR | N84: large | O84: boat | P84: boat
A85: NASQAN | B85: OR | C85: 14246900 | D85: Columbia River near Beaver Army Terminal, OR | E85: N | F85: N | G85: NA | H85: NA | I85: N | J85: N | K85: Portland, OR | L85: 12 | M85: Portland, OR | N85: large | O85: boat | P85: boat
A86: SANT | B86: SC | C86: 02172300 | D86: McTier Creek near Monetta, SC | E86: Y | F86: Y | G86: Ref | H86: rotate4 | I86: Y | J86: Y | K86: Columbia, SC | L86: 6 | M86: Columbia, SC | N86: small | O86: wading | P86: bridge
A87: SANT | B87: SC | C87: 02175000 | D87: Edisto River near Givhans, SC | E87: Y | F87: Y | G87: Integ | H87: rotate4 | I87: N | J87: N | K87: Columbia, SC | L87: 18 | M87: Columbia, SC | N87: medium | O87: bridge | P87: bridge
A88: TRIN | B88: TX | C88: 08057200 | D88: White Rock Creek at Dallas, TX | E88: Y | F88: Y | G88: Urban | H88: rotate2 | I88: Y | J88: Y | K88: Austin, TX | L88: 24 | M88: Austin, TX | N88: small | O88: wading | P88: bridge
A89: TRIN | B89: TX | C89: 08057410 | D89: Trinity River below Dallas, TX | E89: Y | F89: Y | G89: Integ | H89: urbcore | I89: N | J89: N | K89: Austin, TX | L89: 18 | M89: Austin, TX | N89: large | O89: bridge | P89: bridge
A90: NMN | B90: TX | C90: 08116650 | D90: Brazos River near Rosharon, TX | E90: N | F90: N | G90: NA | H90: NA | I90: N | J90: N | K90: Austin, TX | L90: 14 | M90: The Woodlands, TX | N90: large | O90: wading | P90: boat
A91: SCTX | B91: TX | C91: 08195000 | D91: Frio River at Concan, TX | E91: Y | F91: N | G91: Ref | H91: eco_only | I91: Y | J91: Y | K91: Austin, TX | L91: 6 | M91: San Antonio, TX | N91: small | O91: wading | P91: bridge
A92: NASQAN | B92: TX | C92: 08475000 | D92: Rio Grande near Brownsville, TX | E92: N | F92: N | G92: NA | H92: NA | I92: N | J92: N | K92: Austin, TX | L92: 12 | M92: Corpus Christi, TX | N92: large | O92: wading | P92: cableway
... A101: YELL | B101: WY | C101: 06329500 | D101: Yellowstone River near Sidney, MT | E101: Y | F101: Y | G101: Integ | H101: rotate4 | I101: N | J101: N | K101: Cheyenne, WY | L101: 14 | M101: Butte, MT | N101: large | O101: cableway | P101: cableway

Sheet FY13 chem site costs
A1: SC | B1: STATION ID | C1: STATION NAME | D1: CYCLE 3 SITE TYPE | E1: FY13 sample collection site target NAWQA | F1: FY13 sample collection site target NASQAN | G1: FY13 sample collection site target NMN | H1: FY13 streamgaging site target NAWQA | I1: FY13 streamgaging site target NASQAN | J1: FY13 streamgaging site target NMN
A2: AL | B2: 0242354750 | C2: Cahaba Valley Creek at Pelham, AL | D2: Urban | E2: 84000 | F2: 0 | G2: 0 | H2: 16536 | I2: 0 | J2: 0
A3: AL | B3: 02470500 | C3: Mobile River at Mt. Vernon, AL | D3: Coastal Rivers | E3: 0 | F3: 77700 | G3: 0 | H3: 0 | I3: 0 | J3: 0
A4: AL | B4: 02469762 | C4: Tombigbee River near Coffeeville, AL | D4: Large Inland Rivers | E4: 86400 | F4: 0 | G4: 0 | H4: 0 | I4: 0 | J4: 0
A5: AK | B5: 15565447 | C5: Yukon River at Pilot Station, AK | D5: Coastal Rivers | E5: 0 | F5: 76100 | G5: 0 | H5: 0 | I5: 0 | J5: 0
A6: AZ | B6: 09471000 | C6: San Pedro River at Charleston, AZ | D6: reference | E6: 22500 | F6: 0 | G6: 0 | H6: 0 | I6: 0 | J6: 0
A7: AZ | B7: 09505800 | C7: West Clear Creek near Camp Verde, AZ | D7: reference | E7: 27800 | F7: 0 | G7: 0 | H7: 0 | I7: 0 | J7: 0
A8: AZ | B8: 09380000 | C8: Colorado River at Lees Ferry, AZ | D8: Large Inland Rivers | E8: 0 | F8: 0 | G8: 0 | H8: 0 | I8: 0 | J8: 0
A9: AZ | B9: 09522000 | C9: Colorado River at NIB | D9: Large River | E9: 0 | F9: 47800 | G9: 0 | H9: 0 | I9: 0 | J9: 0
A10: AR | B10: 07263620 | C10: Arkansas River at Terry L&D below Little Rock, AR | D10: Large Inland Rivers | E10: 0 | F10: 62100 | G10: 0 | H10: 0 | I10: 5510 | J10: 0
A11: AR | B11: 07055646 | C11: Buffalo River near Boxley, AR | D11: reference | E11: 22800 | F11: 0 | G11: 0 | H11: 0 | I11: 0 | J11: 0
A12: AR | B12: 07060710 | C12: North Sylamore Creek near Fifty Six, AR | D12: reference | E12: 15800 | F12: 0 | G12: 0 | H12: 0 | I12: 0 | J12: 0
A13: CA | B13: 11447650 | C13: Sacramento River at Freeport, CA | D13: Coastal Rivers | E13: 69400 | F13: 0 | G13: 0 | H13: 0 | I13: 0 | J13: 0
... A72: NY | B72: 01349150 | C72: Canajoharie Creek near Canajoharie, NY | D72: Agriculture | E72: 111600 | F72: 0 | G72: 0 | H72: 15496 | I72: 0 | J72: 0
A73: NY | B73: 4264331 | C73: St. Lawrence River at Cornwall, Ontario | D73: Large Inland Rivers | E73: 0 | F73: 54400 | G73: 0 | H73: 0 | I73: 0 | J73: 0
A74: NY | B74: 01372043 | C74: Hudson River near Poughkeepsie, NY | D74: Coastal Rivers | E74: 0 | F74: 0 | G74: 66400 | H74: 0 | I74: 0 | J74: 0
A75: NC | B75: 02087580 | C75: Swift Creek near Apex, NC | D75: Urban | E75: 72700 | F75: 0 | G75: 0 | H75: 14628 | I75: 0 | J75: 0
A76: NC | B76: 02089500 | C76: Neuse River at Kinston, NC | D76: Large Inland Rivers | E76: 78500 | F76: 0 | G76: 0 | H76: 0 | I76: 0 | J76: 0
A77: NC | B77: 02091500 | C77: Contentnea Creek at Hookerton, NC | D77: Agriculture | E77: 78700 | F77: 0 | G77: 0 | H77: 0 | I77: 0 | J77: 0
A78: ND | B78: 05082500 | C78: Red River of the North at Grand Forks, ND | D78: Large Inland Rivers | E78: 0 | F78: 0 | G78: 0 | H78: 0 | I78: 0 | J78: 0
A79: OH | B79: 04193500 | C79: Maumee River at Waterville, OH | D79: Large Inland Rivers | E79: 83300 | F79: 0 | G79: 0 | H79: 0 | I79: 0 | J79: 0
A80: OK | B80: 07241550 | C80: North Canadian River near Harrah, OK | D80: Large Inland Rivers | E80: 0 | F80: 0 | G80: 0 | H80: 0 | I80: 0 | J80: 0
A81: OR | B81: 14201300 | C81: Zollner Creek near Mt. Angel, OR | D81: Agriculture | E81: 93700 | F81: 0 | G81: 0 | H81: 17700 | I81: 0 | J81: 0
A82: OR | B82: 14205400 | C82: East Fork Dairy Creek near Meachan Corner, OR | D82: reference | E82: 24300 | F82: 0 | G82: 0 | H82: 17700 | I82: 0 | J82: 0
A83: OR | B83: 14206950 | C83: Fanno Creek at Durham, OR | D83: urban | E83: 81700 | F83: 0 | G83: 0 | H83: 8850 | I83: 0 | J83: 0
A84: OR | B84: 14211720 | C84: Willamette River at Portland, OR | D84: Large Inland Rivers | E84: 85200 | F84: 0 | G84: 0 | H84: 0 | I84: 0 | J84: 0
A85: OR | B85: 14246900 | C85: Columbia River near Beaver Army Terminal, OR | D85: Coastal Rivers | E85: 0 | F85: 63400 | G85: 0 | H85: 0 | I85: 0 | J85: 0
... A101: WY | B101: 06329500 | C101: Yellowstone River near Sidney, MT | D101: Large Inland Rivers | E101: 88600 | F101: 0 | G101: 0 | H101: 0 | I101: 0 | J101: 0
F102: =SUM(F2:F101) -> 1445800 | G102: =SUM(G2:G101) -> 233900 | H102: =SUM(H2:H101) -> 272026 | I102: =SUM(I2:I101) -> 56760 | J102: =SUM(J2:J101) -> 3150
E103: =SUM(E2:E101) -> 4419500

Sheet Eco site information
M1: Cycle 3 Sampling Schedule
A2: sc | B2: Station number | C2: Station name | D2: PROPOSED COST CENTER TO DO SAMPLING | E2: Cycle III site type | F2: Eco-region | G2: RTH (Snag or Riffle) | H2: RT Miles to Site | I2: RT Travel Time to Site (hrs) | J2: Fish Rela-tive Rich- ness | K2: Fish Rich- ness factor | L2: Area (sq km) | M2: 2013 | N2: 2014 | O2: 2015 | P2: 2016 | Q2: 2017 | R2: 2018 | S2: 2019 | T2: 2020 | U2: 2021 | V2: 2022
A3: AL | B3: 242354750 | C3: Cahaba Valley Creek at Pelham, AL | D3: Montgomery, AL | E3: Urban | F3: 67 | G3: Riffle | H3: 194 | I3: 3 | J3: Hi | K3: =IF(J3="Lo",0.8,IF(J3="Med",1,(IF(J3="Hi",1.2,"error")))) -> 1.2 | L3: 66.1 | M3: IAFH | N3: IAFH | O3: IAFH | P3: IAFH | Q3: IAFH | R3: IAFH | S3: IAFH | T3: IAFH | U3: IAFH | V3: IAFH
A4: AZ | B4: 09471000 | C4: San Pedro River at Charleston, AZ | D4: Tucson, AZ | E4: Reference | F4: 79 | G4: Riffle | H4: 170 | I4: 3.2 | J4: Med | K4: =IF(J4="Lo",0.8,IF(J4="Med",1,(IF(J4="Hi",1.2,"error")))) -> 1 | M4: IAFH | N4: IAFH | O4: IAFH | P4: IAFH | Q4: IAFH | R4: IAFH | S4: IAFH | T4: IAFH | U4: IAFH | V4: IAFH
A5: AZ | B5: 9505800 | C5: West Clear Creek near Camp Verde, AZ | D5: Tucson, AZ | E5: Reference | F5: 23 | G5: Riffle | H5: 460 | I5: 7 | J5: Lo | K5: =IF(J5="Lo",0.8,IF(J5="Med",1,(IF(J5="Hi",1.2,"error")))) -> 0.8 | L5: 615 | M5: IAFH | N5: IAFH | O5: IAFH | P5: IAFH | Q5: IAFH | R5: IAFH | S5: IAFH | T5: IAFH | U5: IAFH | V5: IAFH
A6: AR | B6: 07055646 | C6: Buffalo River near Boxley, AR | D6: Little Rock, AR | E6: Reference | F6: 38 | G6: Riffle | H6: 380 | I6: 8.2 | J6: Hi | K6: =IF(J6="Lo",0.8,IF(J6="Med",1,(IF(J6="Hi",1.2,"error")))) -> 1.2 | M6: IAFH | N6: IAFH | O6: IAFH | P6: IAFH | Q6: IAFH | R6: IAFH | S6: IAFH | T6: IAFH | U6: IAFH | V6: IAFH
A7: AR | B7: 7060710 | C7: North Sylamore Creek near Fifty Six, AR | D7: Little Rock, AR | E7: Reference | F7: 39 | G7: Riffle | H7: 260 | I7: 6.2 | J7: Med | K7: =IF(J7="Lo",0.8,IF(J7="Med",1,(IF(J7="Hi",1.2,"error")))) -> 1 | L7: 150 | M7: IAFH | N7: IAFH | O7: IAFH | P7: IAFH | Q7: IAFH | R7: IAFH | S7: IAFH | T7: IAFH | U7: IAFH | V7: IAFH
A8: CA | B8: 11274538 | C8: Orestimba Creek near Crows Landing, CA | D8: Sacramento, CA | E8: Agriculture | F8: 5 | G8: Snag | H8: 240 | I8: 3.6 | J8: Lo | K8: =IF(J8="Lo",0.8,IF(J8="Med",1,(IF(J8="Hi",1.2,"error")))) -> 0.8 | L8: 27.9 | M8: IAFH | N8: IAFH | O8: IAFH | P8: IAFH | Q8: IAFH | R8: IAFH | S8: IAFH | T8: IAFH | U8: IAFH | V8: IAFH
A9: CA | B9: 11335000 | C9: Cosumnes River at Michigan Bar, CA | D9: Sacramento, CA | E9: Reference | F9: 7 | G9: Riffle | H9: 82 | I9: 1.8 | J9: Lo | K9: =IF(J9="Lo",0.8,IF(J9="Med",1,(IF(J9="Hi",1.2,"error")))) -> 0.8 | M9: IAFH | N9: IAFH | O9: IAFH | P9: IAFH | Q9: IAFH | R9: IAFH | S9: IAFH | T9: IAFH | U9: IAFH | V9: IAFH
A10: CA | B10: 11049400 | C10: Santa Ana River above Seven Oaks Dam, CA | D10: San Diego, CA | E10: Reference | F10: 8 | G10: Riffle | H10: 240 | I10: 4 | J10: Med | K10: =IF(J10="Lo",0.8,IF(J10="Med",1,(IF(J10="Hi",1.2,"error")))) -> 1 | L10: 452 | M10: IAFH | N10: IAFH | O10: IAFH | P10: IAFH | Q10: IAFH | R10: IAFH | S10: IAFH | T10: IAFH | U10: IAFH | V10: IAFH
A11: CO | B11: 6713500 | C11: Cherry Creek at Denver, CO | D11: Lakewood, CO | E11: Urban | F11: 25 | G11: Riffle | H11: 28 | I11: 0.8 | J11: Lo | K11: =IF(J11="Lo",0.8,IF(J11="Med",1,(IF(J11="Hi",1.2,"error")))) -> 0.8 | L11: 1060 | M11: IAFH | N11: IAFH | O11: IAFH | P11: IAFH | Q11: IAFH | R11: IAFH | S11: IAFH | T11: IAFH | U11: IAFH | V11: IAFH
A12: CT | B12: 1170100 | C12: Green River near Colrain, MA | D12: East Hartford, CT | E12: Reference | F12: 58 | G12: Riffle | H12: 174 | I12: 3.2 | J12: Lo | K12: =IF(J12="Lo",0.8,IF(J12="Med",1,(IF(J12="Hi",1.2,"error")))) -> 0.8 | L12: 107 | M12: IAFH | N12: IAFH | O12: IAFH | P12: IAFH | Q12: IAFH | R12: IAFH | S12: IAFH | T12: IAFH | U12: IAFH | V12: IAFH
A13: CT | B13: 1209710 | C13: Norwalk River at Winnipauk,CT | D13: East Hartford, CT | E13: Urban | F13: 59 | G13: Riffle | H13: 158 | I13: 3 | J13: Med | K13: =IF(J13="Lo",0.8,IF(J13="Med",1,(IF(J13="Hi",1.2,"error")))) -> 1 | L13: 85.1 | M13: IAFH | N13: IAFH | O13: IAFH | P13: IAFH | Q13: IAFH | R13: IAFH | S13: IAFH | T13: IAFH | U13: IAFH | V13: IAFH
A14: GA | B14: 2335870 | C14: Sope Creek near Marietta, GA | D14: Atlanta, GA | E14: Urban | F14: 45 | G14: Riffle | H14: 58 | I14: 1.2 | J14: Med | K14: =IF(J14="Lo",0.8,IF(J14="Med",1,(IF(J14="Hi",1.2,"error")))) -> 1 | L14: 79.5 | M14: IAFH | N14: IAFH | O14: IAFH | P14: IAFH | Q14: IAFH | R14: IAFH | S14: IAFH | T14: IAFH | U14: IAFH | V14: IAFH
A15: GA | B15: 2338523 | C15: Hillibahatchee Creek near Franklin, GA | D15: Atlanta, GA | E15: Reference | F15: 45 | G15: Riffle | H15: 180 | I15: 3.6 | J15: Med | K15: =IF(J15="Lo",0.8,IF(J15="Med",1,(IF(J15="Hi",1.2,"error")))) -> 1 | L15: 43.5 | M15: IAFH | N15: IAFH | O15: IAFH | P15: IAFH | Q15: IAFH | R15: IAFH | S15: IAFH | T15: IAFH | U15: IAFH | V15: IAFH
A16: ID | B16: 13092747 | C16: Rock Creek at Twin Falls, ID | D16: Boise, ID | E16: Agriculture | F16: 12 | G16: Riffle | H16: 300 | I16: 4.4 | J16: Lo | K16: =IF(J16="Lo",0.8,IF(J16="Med",1,(IF(J16="Hi",1.2,"error")))) -> 0.8 | L16: 623 | M16: IAFH | N16: IAFH | O16: IAFH | P16: IAFH | Q16: IAFH | R16: IAFH | S16: IAFH | T16: IAFH | U16: IAFH | V16: IAFH
A17: IN | B17: 394340085524601 | C17: Sugar Creek at New Palestine, IN | D17: Indianapolis, IN | E17: Agriculture | F17: 55 | G17: Riffle | H17: 80 | I17: 1.8 | J17: Hi | K17: =IF(J17="Lo",0.8,IF(J17="Med",1,(IF(J17="Hi",1.2,"error")))) -> 1.2 | L17: 246 | M17: IAFH | N17: IAFH | O17: IAFH | P17: IAFH | Q17: IAFH | R17: IAFH | S17: IAFH | T17: IAFH | U17: IAFH | V17: IAFH
A18: IA | B18: 5451210 | C18: South Fork Iowa River near New Providence, IA | D18: Iowa City, IA | E18: Agriculture | F18: 47 | G18: Snag | H18: 320 | I18: 5.6 | J18: Hi | K18: =IF(J18="Lo",0.8,IF(J18="Med",1,(IF(J18="Hi",1.2,"error")))) -> 1.2 | L18: 581 | M18: IAFH | N18: IAFH | O18: IAFH | P18: IAFH | Q18: IAFH | R18: IAFH | S18: IAFH | T18: IAFH | U18: IAFH | V18: IAFH
A19: LA | B19: 8014500 | C19: Ouiska (Whiskey) Chitto Creek near Oberlin, LA | D19: Baton Rouge, LA | E19: Reference | F19: 35 | G19: Snag | H19: 340 | I19: 5.6 | J19: Med | K19: =IF(J19="Lo",0.8,IF(J19="Med",1,(IF(J19="Hi",1.2,"error")))) -> 1 | L19: 1310 | M19: IAFH | N19: IAFH | O19: IAFH | P19: IAFH | Q19: IAFH | R19: IAFH | S19: IAFH | T19: IAFH | U19: IAFH | V19: IAFH
A20: MD | B20: 1610400 | C20: Waites Run near Wardensville, WV | D20: Baltimore, MD | E20: Reference | F20: 67 | G20: Riffle | H20: 320 | I20: 6.4 | J20: Med | K20: =IF(J20="Lo",0.8,IF(J20="Med",1,(IF(J20="Hi",1.2,"error")))) -> 1 | L20: 32.6 | M20: IAFH | N20: IAFH | O20: IAFH | P20: IAFH | Q20: IAFH | R20: IAFH | S20: IAFH | T20: IAFH | U20: IAFH | V20: IAFH
A21: MD | B21: 1654000 | C21: Accotink Creek near Annandale, VA | D21: Baltimore, MD | E21: Urban | F21: 45 | G21: Riffle | H21: 154 | I21: 2.8 | J21: Med | K21: =IF(J21="Lo",0.8,IF(J21="Med",1,(IF(J21="Hi",1.2,"error")))) -> 1 | L21: 60.7 | M21: IAFH | N21: IAFH | O21: IAFH | P21: IAFH | Q21: IAFH | R21: IAFH | S21: IAFH | T21: IAFH | U21: IAFH | V21: IAFH
A22: MS | B22: 07288650 | C22: Bogue Phalia near Leland, MS | D22: Jackson, MS | E22: Agriculture | F22: 73 | G22: Snag | H22: 250 | I22: 4.5 | J22: Hi | K22: =IF(J22="Lo",0.8,IF(J22="Med",1,(IF(J22="Hi",1.2,"error")))) -> 1.2 | M22: IAFH | N22: IAFH | O22: IAFH | P22: IAFH | Q22: IAFH | R22: IAFH | S22: IAFH | T22: IAFH | U22: IAFH | V22: IAFH
A23: NE | B23: 6775900 | C23: Dismal River near Thedford, NE | D23: Lincoln, NE | E23: Reference | F23: 44 | G23: Snag | H23: 660 | I23: 10.2 | J23: Med | K23: =IF(J23="Lo",0.8,IF(J23="Med",1,(IF(J23="Hi",1.2,"error")))) -> 1 | L23: 2500 | M23: IAFH | N23: IAFH | O23: IAFH | P23: IAFH | Q23: IAFH | R23: IAFH | S23: IAFH | T23: IAFH | U23: IAFH | V23: IAFH
A24: NE | B24: 6800000 | C24: Maple Creek near Nickerson, NE | D24: Lincoln, NE | E24: Agriculture | F24: 47 | G24: Snag | H24: 194 | I24: 3.4 | J24: Med | K24: =IF(J24="Lo",0.8,IF(J24="Med",1,(IF(J24="Hi",1.2,"error")))) -> 1 | L24: 955 | M24: IAFH | N24: IAFH | O24: IAFH | P24: IAFH | Q24: IAFH | R24: IAFH | S24: IAFH | T24: IAFH | U24: IAFH | V24: IAFH
A25: NM | B25: 8227000 | C25: Saguache Creek near Saguache, CO | D25: Albuquerque, NM | E25: Reference | F25: 21 | G25: Riffle | H25: 560 | I25: 10.6 | J25: Lo | K25: =IF(J25="Lo",0.8,IF(J25="Med",1,(IF(J25="Hi",1.2,"error")))) -> 0.8 | L25: 1330 | M25: IAFH | N25: IAFH | O25: IAFH | P25: IAFH | Q25: IAFH | R25: IAFH | S25: IAFH | T25: IAFH | U25: IAFH | V25: IAFH
A26: NY | B26: 1349150 | C26: Canajoharie Creek near Canajoharie, NY | D26: Troy, NY | E26: Agriculture | F26: 83 | G26: Riffle | H26: 140 | I26: 2.4 | J26: Med | K26: =IF(J26="Lo",0.8,IF(J26="Med",1,(IF(J26="Hi",1.2,"error")))) -> 1 | L26: 155 | M26: IAFH | N26: IAFH | O26: IAFH | P26: IAFH | Q26: IAFH | R26: IAFH | S26: IAFH | T26: IAFH | U26: IAFH | V26: IAFH
A27: NC | B27: 2087580 | C27: Swift Creek near Apex, NC | D27: Raleigh, NC | E27: Urban | F27: 65 | G27: Riffle | H27: 40 | I27: 0.8 | J27: Med | K27: =IF(J27="Lo",0.8,IF(J27="Med",1,(IF(J27="Hi",1.2,"error")))) -> 1 | L27: 53.9 | M27: IAFH | N27: IAFH | O27: IAFH | P27: IAFH | Q27: IAFH | R27: IAFH | S27: IAFH | T27: IAFH | U27: IAFH | V27: IAFH
A28: NC | B28: 2091500 | C28: Contentnea Creek at Hookerton, NC | D28: Raleigh, NC | E28: Agriculture | F28: 65 | G28: Snag | H28: 200 | I28: 3.8 | J28: Hi | K28: =IF(J28="Lo",0.8,IF(J28="Med",1,(IF(J28="Hi",1.2,"error")))) -> 1.2 | L28: 1910 | M28: IAFH | N28: IAFH | O28: IAFH | P28: IAFH | Q28: IAFH | R28: IAFH | S28: IAFH | T28: IAFH | U28: IAFH | V28: IAFH
A29: OH | B29: 4161820 | C29: Clinton River at Sterling Heights, MI | D29: Columbus, OH | E29: Urban | F29: 56 | G29: Riffle | H29: 200 | I29: 3.4 | J29: Hi | K29: =IF(J29="Lo",0.8,IF(J29="Med",1,(IF(J29="Hi",1.2,"error")))) -> 1.2 | L29: 803 | M29: IAFH | N29: IAFH | O29: IAFH | P29: IAFH | Q29: IAFH | R29: IAFH | S29: IAFH | T29: IAFH | U29: IAFH | V29: IAFH
A30: OR | B30: 14201300 | C30: Zollner Creek near Mt. Angel, OR | D30: Portland, OR | E30: Agriculture | F30: 3 | G30: Snag | H30: 80 | I30: 2 | J30: Med | K30: =IF(J30="Lo",0.8,IF(J30="Med",1,(IF(J30="Hi",1.2,"error")))) -> 1 | M30: IAFH | N30: IAFH | O30: IAFH | P30: IAFH | Q30: IAFH | R30: IAFH | S30: IAFH | T30: IAFH | U30: IAFH | V30: IAFH
A31: OR | B31: 14205400 | C31: East Fork Dairy Creek near Meachan Corner, OR | D31: Portland, OR | E31: Reference | F31: 3 | G31: Riffle | H31: 90 | I31: 2.2 | J31: Lo | K31: =IF(J31="Lo",0.8,IF(J31="Med",1,(IF(J31="Hi",1.2,"error")))) -> 0.8 | L31: 32.9 | M31: IAFH | N31: IAFH | O31: IAFH | P31: IAFH | Q31: IAFH | R31: IAFH | S31: IAFH | T31: IAFH | U31: IAFH | V31: IAFH
A32: OR | B32: 14206950 | C32: Fanno Creek at Durham, OR | D32: Portland, OR | E32: Urban | F32: 3 | G32: Riffle | H32: 50 | I32: 1.2 | J32: Lo | K32: =IF(J32="Lo",0.8,IF(J32="Med",1,(IF(J32="Hi",1.2,"error")))) -> 0.8 | L32: 80.7 | M32: IAFH | N32: IAFH | O32: IAFH | P32: IAFH | Q32: IAFH | R32: IAFH | S32: IAFH | T32: IAFH | U32: IAFH | V32: IAFH
A33: SC | B33: 2172300 | C33: McTier Creek near Monetta, SC | D33: Columbia, SC | E33: Reference | F33: 65 | G33: Snag | H33: 108 | I33: 1.8 | J33: Med | K33: =IF(J33="Lo",0.8,IF(J33="Med",1,(IF(J33="Hi",1.2,"error")))) -> 1 | L33: 40.4 | M33: IAFH | N33: IAFH | O33: IAFH | P33: IAFH | Q33: IAFH | R33: IAFH | S33: IAFH | T33: IAFH | U33: IAFH | V33: IAFH
A34: TX | B34: 8057200 | C34: White Rock Creek at Dallas, TX | D34: Austin, TX | E34: Urban | F34: 32(pr w /29) | G34: Riffle | H34: 440 | I34: 7 | J34: Hi | K34: =IF(J34="Lo",0.8,IF(J34="Med",1,(IF(J34="Hi",1.2,"error")))) -> 1.2 | L34: 173 | M34: IAFH | N34: IAFH | O34: IAFH | P34: IAFH | Q34: IAFH | R34: IAFH | S34: IAFH | T34: IAFH | U34: IAFH | V34: IAFH
A35: TX | B35: 8195000 | C35: Frio River at Concan, TX | D35: Austin, TX | E35: Reference | F35: 30 | G35: Riffle | H35: 380 | I35: 7.6 | J35: Med | K35: =IF(J35="Lo",0.8,IF(J35="Med",1,(IF(J35="Hi",1.2,"error")))) -> 1 | L35: 1030 | M35: IAFH | N35: IAFH | O35: IAFH | P35: IAFH | Q35: IAFH | R35: IAFH | S35: IAFH | T35: IAFH | U35: IAFH | V35: IAFH
A36: UT | B36: 10168000 | C36: Little Cottonwood Creek at Salt Lake City, UT | D36: West Valley City, UT | E36: Urban | F36: 19 | G36: Depos. | H36: 24 | I36: 0.8 | J36: Lo | K36: =IF(J36="Lo",0.8,IF(J36="Med",1,(IF(J36="Hi",1.2,"error")))) -> 0.8 | L36: 117 | M36: IAFH | N36: IAFH | O36: IAFH | P36: IAFH | Q36: IAFH | R36: IAFH | S36: IAFH | T36: IAFH | U36: IAFH | V36: IAFH
A37: UT | B37: 10172200 | C37: **Red Butte Creek at Fort Douglas, UT | D37: West Valley City, UT | E37: Reference | F37: 19 | G37: Riffle | H37: 34 | I37: 1.2 | J37: Med | K37: =IF(J37="Lo",0.8,IF(J37="Med",1,(IF(J37="Hi",1.2,"error")))) -> 1 | L37: 18.7 | M37: IAH | N37: IAH | O37: IAH | P37: IAH | Q37: IAH | R37: IAH | S37: IAH | T37: IAH | U37: IAH | V37: IAH
A38: WA | B38: 12056500 | C38: *North Fork Skokomish River near Hoodsport, WA | D38: Tacoma, WA | E38: Reference | F38: 1 | G38: Riffle | H38: 156 | I38: 2.8 | J38: Lo | K38: =IF(J38="Lo",0.8,IF(J38="Med",1,(IF(J38="Hi",1.2,"error")))) -> 0.8 | L38: 147 | M38: IAH | N38: IAH | O38: IAH | P38: IAH | Q38: IAH | R38: IAH | S38: IAH | T38: IAH | U38: IAH | V38: IAH
A39: WA | B39: 12505450 | C39: Granger Drain at Granger, WA | D39: Tacoma, WA | E39: Agriculture | F39: 10 | G39: Riffle | H39: 360 | I39: 6 | J39: Lo | K39: =IF(J39="Lo",0.8,IF(J39="Med",1,(IF(J39="Hi",1.2,"error")))) -> 0.8 | L39: 160 | M39: IAFH | N39: IAFH | O39: IAFH | P39: IAFH | Q39: IAFH | R39: IAFH | S39: IAFH | T39: IAFH | U39: IAFH | V39: IAFH
A40: WI | B40: 4063700 | C40: Popple River near Fence, WI | D40: Madison, WI | E40: Reference | F40: 50 | G40: Riffle | H40: 580 | I40: 10.6 | J40: Med | K40: =IF(J40="Lo",0.8,IF(J40="Med",1,(IF(J40="Hi",1.2,"error")))) -> 1 | L40: 363 | M40: IAFH | N40: IAFH | O40: IAFH | P40: IAFH | Q40: IAFH | R40: IAFH | S40: IAFH | T40: IAFH | U40: IAFH | V40: IAFH
A41: WY | B41: 6324970 | C41: Little Powder River near Weston, WY | D41: Cheyenne, WY | E41: Reference | F41: 43 | G41: Riffle | H41: 600 | I41: 8.8 | J41: Med | K41: =IF(J41="Lo",0.8,IF(J41="Med",1,(IF(J41="Hi",1.2,"error")))) -> 1 | L41: 3200 | M41: IAFH | N41: IAFH | O41: IAFH | P41: IAFH | Q41: IAFH | R41: IAFH | S41: IAFH | T41: IAFH | U41: IAFH | V41: IAFH
C42: *Fish not collected by USGS due to endangered species issues; annual Fish collections at NF Skokomish by U. Washington (otherwise would be odd FY)
C43: **Fish not collected due to permit issues (otherwise would be even FY)

Sheet FY13 Eco site costs
F1: FY13 $ (Net) | O1: FY13 $ GROSS
A2: SC | B2: Station number | C2: Station name | D2: PROPOSED COST CENTER TO DO SAMPLING | E2: Cycle3 site type | F2: Eco Field Labor Cost (inc 22.4% lv assess) | G2: Eco Field Travel Cost (per diem) | H2: Eco Vehicle costs | I2: Eco Supply costs | J2: Eco Office Labor Costs (inc 22.4% lv assess) | K2: Eco QA / Mgt Labor Costs (inc 22.4% lv assess) | L2: Eco WSC net cost incl 10% contingency | M2: Dist Direct Cost | N2: Over-head Cost | O2: Eco WSC Total Cost
A3: AL | B3: 242354750 | C3: Cahaba Valley Creek at Pelham, AL | D3: Montgomery, AL | E3: Urban | F3: 3987.5335 | G3: 0 | H3: 1293.6 | I3: 780.615 | J3: 2646.0184 | K3: 719.55738 | L3: 10370.057 | M3: 0 | N3: 2825.8405 | O3: 13195.897
A4: AZ | B4: 09471000 | C4: San Pedro River at Charleston, AZ | D4: Tucson, AZ | E4: Reference | F4: 3955.4367 | G4: 1111.88 | H4: 1188 | I4: 780.615 | J4: 2646.0184 | K4: 719.55738 | L4: 11441.658 | M4: 1372.999 | N4: 3549.7882 | O4: 16364.445
A5: AZ | B5: 9505800 | C5: West Clear Creek near Camp Verde, AZ | D5: Tucson, AZ | E5: Reference | F5: 5113.3313 | G5: 476.52 | H5: 2464 | I5: 780.615 | J5: 2646.0184 | K5: 719.55738 | L5: 13420.046 | M5: 1610.4056 | N5: 4163.5855 | O5: 19194.037
A6: AR | B6: 07055646 | C6: Buffalo River near Boxley, AR | D6: Little Rock, AR | E6: Reference | F6: 6186.4168 | G6: 1111.88 | H6: 2112 | I6: 780.615 | J6: 2646.0184 | K6: 719.55738 | L6: 14912.136 | M6: 0 | N6: 7608.172 | O6: 22520.308
A7: AR | B7: 7060710 | C7: North Sylamore Creek near Fifty Six, AR | D7: Little Rock, AR | E7: Reference | F7: 5160.9695 | G7: 1111.88 | H7: 1584 | I7: 780.615 | J7: 2646.0184 | K7: 719.55738 | L7: 13203.344 | M7: 0 | N7: 6736.3463 | O7: 19939.691
A8: CA | B8: 11274538 | C8: Orestimba Creek near Crows Landing, CA | D8: Sacramento, CA | E8: Agriculture | F8: 4116.3055 | G8: 476.52 | H8: 1496 | I8: 780.615 | J8: 2811.9704 | K8: 766.15056 | L8: 11492.318 | M8: 520.60199 | N8: 5508.8847 | O8: 17521.804
A9: CA | B9: 11335000 | C9: Cosumnes River at Michigan Bar, CA | D9: Sacramento, CA | E9: Reference | F9: 3293.5116 | G9: 0 | H9: 800.8 | I9: 780.615 | J9: 2811.9704 | K9: 766.15056 | L9: 9298.3523 | M9: 421.21536 | N9: 4457.1993 | O9: 14176.767
A10: CA | B10: 11049400 | C10: Santa Ana River above Seven Oaks Dam, CA | D10: San Diego, CA | E10: Reference | F10: 4507.2967 | G10: 476.52 | H10: 1496 | I10: 780.615 | J10: 2811.9704 | K10: 766.15056 | L10: 11922.408 | M10: 540.08508 | N10: 5715.05 | O10: 18177.543
A11: CO | B11: 6713500 | C11: Cherry Creek at Denver, CO | D11: Lakewood, CO | E11: Urban | F11: 2904.5797 | G11: 0 | H11: 563.2 | I11: 780.615 | J11: 2818.7593 | K11: 768.08574 | L11: 8618.7637 | M11: 0 | N11: 5092.5689 | O11: 13711.333
A12: CT | B12: 1170100 | C12: Green River near Colrain, MA | D12: East Hartford, CT | E12: Reference | F12: 3942.8865 | G12: 0 | H12: 1205.6 | I12: 780.615 | J12: 2886.6488 | K12: 787.13982 | L12: 10563.179 | M12: 0 | N12: 5548.9436 | O12: 16112.123
A13: CT | B13: 1209710 | C13: Norwalk River at Winnipauk,CT | D13: East Hartford, CT | E13: Urban | F13: 4111.4206 | G13: 0 | H13: 1135.2 | I13: 780.615 | J13: 2886.6488 | K13: 787.13982 | L13: 10671.127 | M13: 0 | N13: 5605.6495 | O13: 16276.776
A14: GA | B14: 2335870 | C14: Sope Creek near Marietta, GA | D14: Atlanta, GA | E14: Urban | F14: 3220.9936 | G14: 0 | H14: 695.2 | I14: 780.615 | J14: 2752.3785 | K14: 749.32938 | L14: 9018.3682 | M14: 0 | N14: 2901.3894 | O14: 11919.758
A15: GA | B15: 2338523 | C15: Hillibahatchee Creek near Franklin, GA | D15: Atlanta, GA | E15: Reference | F15: 4258.7542 | G15: 476.52 | H15: 1232 | I15: 780.615 | J15: 2752.3785 | K15: 749.32938 | L15: 11274.557 | M15: 0 | N15: 3627.2504 | O15: 14901.807
A16: ID | B16: 13092747 | C16: Rock Creek at Twin Falls, ID | D16: Boise, ID | E16: Agriculture | F16: 4164.3169 | G16: 476.52 | H16: 1760 | I16: 780.615 | J16: 2646.0184 | K16: 719.55738 | L16: 11601.73 | M16: 0 | N16: 6601.3846 | O16: 18203.115
A17: IN | B17: 394340085524601 | C17: Sugar Creek at New Palestine, IN | D17: Indianapolis, IN | E17: Agriculture | F17: 3555.6682 | G17: 0 | H17: 792 | I17: 780.615 | J17: 2657.3333 | K17: 722.68344 | L17: 9359.13 | M17: 0 | N17: 4592.5251 | O17: 13951.655
A18: IA | B18: 5451210 | C18: South Fork Iowa River near New Providence, IA | D18: Iowa City, IA | E18: Agriculture | F18: 5045.841 | G18: 476.52 | H18: 1848 | I18: 780.615 | J18: 2646.0184 | K18: 719.55738 | L18: 12668.207 | M18: 0 | N18: 4432.6056 | O18: 17100.813
... A21: MD | B21: 1654000 | C21: Accotink Creek near Annandale, VA | D21: Baltimore, MD | E21: Urban | F21: 3983.6324 | G21: 0 | H21: 1117.6 | I21: 780.615 | J21: 2853.4584 | K21: 777.9105 | L21: 10464.538 | M21: 0 | N21: 5755.4959 | O21: 16220.034
A22: MS | B22: 07288650 | C22: Bogue Phalia near Leland, MS | D22: Jackson, MS | E22: Agriculture | F22: 4699.593 | G22: 1111.88 | H22: 1540 | I22: 780.615 | J22: 2646.0184 | K22: 719.55738 | L22: 12647.43 | M22: 0 | N22: 4744.051 | O22: 17391.481
A23: NE | B23: 6775900 | C23: Dismal River near Thedford, NE | D23: Lincoln, NE | E23: Reference | F23: 6768.3466 | G23: 1111.88 | H23: 3344 | I23: 780.615 | J23: 2646.0184 | K23: 719.55738 | L23: 16907.459 | M23: 0 | N23: 9551.5309 | O23: 26458.99
A24: NE | B24: 6800000 | C24: Maple Creek near Nickerson, NE | D24: Lincoln, NE | E24: Agriculture | F24: 3899.8541 | G24: 0 | H24: 1293.6 | I24: 780.615 | J24: 2646.0184 | K24: 719.55738 | L24: 10273.609 | M24: 0 | N24: 5803.8702 | O24: 16077.48
A25: NM | B25: 8227000 | C25: Saguache Creek near Saguache, CO | D25: Albuquerque, NM | E25: Reference | F25: 6064.3747 | G25: 1111.88 | H25: 2640 | I25: 780.615 | J25: 2646.0184 | K25: 719.55738 | L25: 15358.69 | M25: 767.9345 | N25: 7385.9941 | O25: 23512.619
A26: NY | B26: 1349150 | C26: Canajoharie Creek near Canajoharie, NY | D26: Troy, NY | E26: Agriculture | F26: 3542.5525 | G26: 0 | H26: 1056 | I26: 780.615 | J26: 2646.0184 | K26: 719.55738 | L26: 9619.2177 | M26: 1154.3061 | N26: 4740.3505 | O26: 15513.874
A27: NC | B27: 2087580 | C27: Swift Creek near Apex, NC | D27: Raleigh, NC | E27: Urban | F27: 2947.2932 | G27: 0 | H27: 616 | I27: 780.615 | J27: 2646.0184 | K27: 719.55738 | L27: 8480.4324 | M27: 0 | N27: 3324.4143 | O27: 11804.847
A28: NC | B28: 2091500 | C28: Contentnea Creek at Hookerton, NC | D28: Raleigh, NC | E28: Agriculture | F28: 4388.831 | G28: 476.52 | H28: 1320 | I28: 780.615 | J28: 2646.0184 | K28: 719.55738 | L28: 11364.696 | M28: 0 | N28: 4455.0745 | O28: 15819.77
A29: OH | B29: 4161820 | C29: Clinton River at Sterling Heights, MI | D29: Columbus, OH | E29: Urban | F29: 6249.1501 | G29: 1111.88 | H29: 2376 | I29: 780.615 | J29: 2707.8732 | K29: 736.974 | L29: 15358.742 | M29: 0 | N29: 9061.6575 | O29: 24420.399
A30: OR | B30: 14201300 | C30: Zollner Creek near Mt. Angel, OR | D30: Portland, OR | E30: Agriculture | F30: 3564.1058 | G30: 0 | H30: 792 | I30: 780.615 | J30: 2773.4997 | K30: 755.43264 | L30: 9532.2185 | M30: 0 | N30: 5218.2224 | O30: 14750.441
A31: OR | B31: 14205400 | C31: East Fork Dairy Creek near Meachan Corner, OR | D31: Portland, OR | E31: Reference | F31: 3409.5365 | G31: 0 | H31: 836 | I31: 780.615 | J31: 2773.4997 | K31: 755.43264 | L31: 9410.5923 | M31: 0 | N31: 5151.6405 | O31: 14562.233
A32: OR | B32: 14206950 | C32: Fanno Creek at Durham, OR | D32: Portland, OR | E32: Urban | F32: 3018.6648 | G32: 0 | H32: 660 | I32: 780.615 | J32: 2773.4997 | K32: 755.43264 | L32: 8787.0333 | M32: 0 | N32: 4810.2857 | O32: 13597.319
A33: SC | B33: 2172300 | C33: McTier Creek near Monetta, SC | D33: Columbia, SC | E33: Reference | F33: 3319.3303 | G33: 0 | H33: 915.2 | I33: 780.615 | J33: 2646.0184 | K33: 719.55738 | L33: 9218.7932 | M33: 0 | N33: 3890.6073 | O33: 13109.4
A34: TX | B34: 8057200 | C34: White Rock Creek at Dallas, TX | D34: Austin, TX | E34: Urban | F34: 5328.327 | G34: 0 | H34: 2376 | I34: 780.615 | J34: 2646.0184 | K34: 719.55738 | L34: 13035.57 | M34: 0 | N34: 6993.8438 | O34: 20029.413
A35: TX | B35: 8195000 | C35: Frio River at Concan, TX | D35: Austin, TX | E35: Reference | F35: 5723.5515 | G35: 1111.88 | H35: 2112 | I35: 780.615 | J35: 2646.0184 | K35: 719.55738 | L35: 14402.985 | M35: 0 | N35: 7727.4893 | O35: 22130.474
A36: UT | B36: 10168000 | C36: Little Cottonwood Creek at Salt Lake City, UT | D36: West Valley City, UT | E36: Urban | F36: 2725.5345 | G36: 0 | H36: 545.6 | I36: 780.615 | J36: 2646.0184 | K36: 719.55738 | L36: 8159.0578 | M36: 2039.7644 | N36: 2345.7291 | O36: 12544.551
A37: UT | B37: 10172200 | C37: Red Butte Creek at Fort Douglas, UT | D37: West Valley City, UT | E37: Reference | F37: 1721.2038 | G37: 0 | H37: 294.8 | I37: 455.62 | J37: 1433.26 | K37: 479.70492 | L37: 4823.0476 | M37: 1205.7619 | N37: 1386.6262 | O37: 7415.4357
A38: WA | B38: 12056500 | C38: North Fork Skokomish River near Hoodsport, WA | D38: Tacoma, WA | E38: Reference | F38: 2080.8119 | G38: 0 | H38: 563.2 | I38: 455.62 | J38: 1518.6561 | K38: 509.27844 | L38: 5640.3231 | M38: 0 | N38: 2494.5457 | O38: 8134.8688
A39: WA | B39: 12505450 | C39: Granger Drain at Granger, WA | D39: Tacoma, WA | E39: Agriculture | F39: 5033.6571 | G39: 476.52 | H39: 2024 | I39: 780.615 | J39: 2803.6728 | K39: 763.91766 | L39: 13070.621 | M39: 0 | N39: 5780.7435 | O39: 18851.364
A40: WI | B40: 4063700 | C40: Popple River near Fence, WI | D40: Madison, WI | E40: Reference | F40: 6929.0843 | G40: 1111.88 | H40: 2992 | I40: 780.615 | J40: 2646.0184 | K40: 719.55738 | L40: 16697.071 | M40: 0 | N40: 5334.0462 | O40: 22031.117
A41: WY | B41: 6324970 | C41: Little Powder River near Weston, WY | D41: Cheyenne, WY | E41: Reference | F41: 6205.7646 | G41: 1111.88 | H41: 3080 | I41: 780.615 | J41: 2646.0184 | K41: 719.55738 | L41: 15998.219 | M41: 2140.5617 | N41: 8340.9369 | O41: 26479.718
N42: Total for FY13 = | O42: =SUM(O3:O41) -> 667544.85

Sheet SW sites
A1: SC | B1: 41085 | E1: Type | F1: NAWQA SW STATUS Sample Analyses cost (by SC) | G1: NASQAN Sample Analyses cost (by SC) | H1: NMN Sample Analyses cost (by SC) | I1: NAWQA SW STATUS QW Gross Sampling costs | J1: NASQAN QW Gross Sampling costs | K1: NMN QW Gross Sampling costs | L1: NAWQA SW STATUS Gross Stream gaging costs | M1: NASQAN Gross Stream gaging costs | N1: NMN Gross Stream gaging costs | O1: NAWQA SW STATUS Ecology Sampling Gross Costs | P1: NAWQA SW STATUS Ecology Lab Analysis Costs
B2: Station | C2: Site name | D2: Network | Q2: comments
A4: AL | B4: 0242354750 | C4: Cahaba Valley Creek at Pelham, AL | D4: NAWQA | E4: Urban | F4: 70392 | G4: 24486 | I4: ='FY13 chem site costs'!E2 -> 84000 | J4: ='FY13 chem site costs'!F2 -> 0 | K4: ='FY13 chem site costs'!G2 -> 0 | L4: ='FY13 chem site costs'!H2 -> 16536 | M4: ='FY13 chem site costs'!I2 -> 0 | N4: ='FY13 chem site costs'!J2 -> 0 | O4: ='FY13 Eco site costs'!O3 -> 13195.897 | P4: 2902.04
A5: AL | B5: 02470500 | C5: Mobile River at Mt. Vernon, AL | D5: NASQAN | E5: Large River | I5: ='FY13 chem site costs'!E3 -> 0 | J5: ='FY13 chem site costs'!F3 -> 77700 | K5: ='FY13 chem site costs'!G3 -> 0 | L5: ='FY13 chem site costs'!H3 -> 0 | M5: ='FY13 chem site costs'!I3 -> 0 | N5: ='FY13 chem site costs'!J3 -> 0 | O5: 0
A6: AL | B6: 02469762 | C6: Tombigbee River near Coffeeville, AL | D6: NAWQA | E6: Large River | I6: ='FY13 chem site costs'!E4 -> 86400 | J6: ='FY13 chem site costs'!F4 -> 0 | K6: ='FY13 chem site costs'!G4 -> 0 | L6: ='FY13 chem site costs'!H4 -> 0 | M6: ='FY13 chem site costs'!I4 -> 0 | N6: ='FY13 chem site costs'!J4 -> 0 | O6: 0
A7: AK | B7: 15565447 | C7: Yukon River at Pilot Station, AK | D7: NASQAN | E7: Large River | G7: 8469.2 | I7: ='FY13 chem site costs'!E5 -> 0 | J7: ='FY13 chem site costs'!F5 -> 76100 | K7: ='FY13 chem site costs'!G5 -> 0 | L7: ='FY13 chem site costs'!H5 -> 0 | M7: ='FY13 chem site costs'!I5 -> 0 | N7: ='FY13 chem site costs'!J5 -> 0 | O7: 0
A8: AZ | B8: 09471000 | C8: San Pedro River at Charleston, AZ | D8: NAWQA | E8: reference | F8: 8853 | G8: 21524 | I8: ='FY13 chem site costs'!E6 -> 22500 | J8: ='FY13 chem site costs'!F6 -> 0 | K8: ='FY13 chem site costs'!G6 -> 0 | L8: ='FY13 chem site costs'!H6 -> 0 | M8: ='FY13 chem site costs'!I6 -> 0 | N8: ='FY13 chem site costs'!J6 -> 0 | O8: ='FY13 Eco site costs'!O4 -> 16364.445 | P8: 2902.04
A9: AZ | B9: 09505800 | C9: West Clear Creek near Camp Verde, AZ | D9: NAWQA | E9: reference | I9: ='FY13 chem site costs'!E7 -> 27800 | J9: ='FY13 chem site costs'!F7 -> 0 | K9: ='FY13 chem site costs'!G7 -> 0 | L9: ='FY13 chem site costs'!H7 -> 0 | M9: ='FY13 chem site costs'!I7 -> 0 | N9: ='FY13 chem site costs'!J7 -> 0 | O9: ='FY13 Eco site costs'!O5 -> 19194.037 | P9: 2902.04
A10: AZ | B10: 09380000 | C10: Colorado River at Lees Ferry, AZ | D10: Co-op | E10: Large River | I10: ='FY13 chem site costs'!E8 -> 0 | J10: ='FY13 chem site costs'!F8 -> 0 | K10: ='FY13 chem site costs'!G8 -> 0 | L10: ='FY13 chem site costs'!H8 -> 0 | M10: ='FY13 chem site costs'!I8 -> 0 | N10: ='FY13 chem site costs'!J8 -> 0 | O10: 0
A11: AZ | B11: 09522000 | C11: Colorado River at NIB | D11: NASQAN | E11: Large River | I11: ='FY13 chem site costs'!E9 -> 0 | J11: ='FY13 chem site costs'!F9 -> 47800 | K11: ='FY13 chem site costs'!G9 -> 0 | L11: ='FY13 chem site costs'!H9 -> 0 | M11: ='FY13 chem site costs'!I9 -> 0 | N11: ='FY13 chem site costs'!J9 -> 0 | O11: 0
A12: AR | B12: 07263620 | C12: Arkansas River at Terry L&D below Little Rock, AR | D12: NASQAN | E12: Large River | F12: 8853 | G12: 24486 | I12: ='FY13 chem site costs'!E10 -> 0 | J12: ='FY13 chem site costs'!F10 -> 62100 | K12: ='FY13 chem site costs'!G10 -> 0 | L12: ='FY13 chem site costs'!H10 -> 0 | M12: ='FY13 chem site costs'!I10 -> 5510 | N12: ='FY13 chem site costs'!J10 -> 0 | O12: 0
A13: AR | B13: 07055646 | C13: Buffalo River near Boxley, AR | D13: NAWQA | E13: reference | I13: ='FY13 chem site costs'!E11 -> 22800 | J13: ='FY13 chem site costs'!F11 -> 0 | K13: ='FY13 chem site costs'!G11 -> 0 | L13: ='FY13 chem site costs'!H11 -> 0 | M13: ='FY13 chem site costs'!I11 -> 0 | N13: ='FY13 chem site costs'!J11 -> 0 | O13: ='FY13 Eco site costs'!O6 -> 22520.308 | P13: 2902.04
A14: AR | B14: 07060710 | C14: North Sylamore Creek near Fifty Six, AR | D14: NAWQA | E14: reference | I14: ='FY13 chem site costs'!E12 -> 15800 | J14: ='FY13 chem site costs'!F12 -> 0 | K14: ='FY13 chem site costs'!G12 -> 0 | L14: ='FY13 chem site costs'!H12 -> 0 | M14: ='FY13 chem site costs'!I12 -> 0 | N14: ='FY13 chem site costs'!J12 -> 0 | O14: ='FY13 Eco site costs'!O7 -> 19939.691 | P14: 2902.04
A15: CA | B15: 11447650 | C15: Sacramento River a Freeport, CA | D15: NAWQA | E15: Large River | F15: 134580.13 | I15: ='FY13 chem site costs'!E13 -> 69400 | J15: ='FY13 chem site costs'!F13 -> 0 | K15: ='FY13 chem site costs'!G13 -> 0 | L15: ='FY13 chem site costs'!H13 -> 0 | M15: ='FY13 chem site costs'!I13 -> 0 | N15: ='FY13 chem site costs'!J13 -> 0 | O15: 0
A16: CA | B16: 11274538 | C16: Orestimba Creek near Crows Landing, CA | D16: NAWQA | E16: Agriculture | I16: ='FY13 chem site costs'!E14 -> 107500 | J16: ='FY13 chem site costs'!F14 -> 0 | K16: ='FY13 chem site costs'!G14 -> 0 | L16: ='FY13 chem site costs'!H14 -> 10584 | M16: ='FY13 chem site costs'!I14 -> 0 | N16: ='FY13 chem site costs'!J14 -> 0 | O16: ='FY13 Eco site costs'!O8 -> 17521.804 | P16: 2902.04
A17: CA | B17: 11303500 | C17: San Joaquin River near Vernalis, CA | D17: NAWQA | E17: Large River | I17: ='FY13 chem site costs'!E15 -> 86300 | J17: ='FY13 chem site costs'!F15 -> 0 | K17: ='FY13 chem site costs'!G15 -> 0 | L17: ='FY13 chem site costs'!H15 -> 0 | M17: ='FY13 chem site costs'!I15 -> 0 | N17: ='FY13 chem site costs'!J15 -> 0 | O17: 0
A18: CA | B18: 11335000 | C18: Cosumnes River at Michigan Bar, CA | D18: NAWQA | E18: reference | I18: ='FY13 chem site costs'!E16 -> 26300 | J18: ='FY13 chem site costs'!F16 -> 0 | K18: ='FY13 chem site costs'!G16 -> 0 | L18: ='FY13 chem site costs'!H16 -> 0 | M18: ='FY13 chem site costs'!I16 -> 0 | N18: ='FY13 chem site costs'!J16 -> 0 | O18: ='FY13 Eco site costs'!O9 -> 14176.767 | P18: 2902.04
A19: CA | B19: 11049400 | C19: Santa Ana River above Seven Oaks Dam, CA | D19: NAWQA | E19: reference | I19: ='FY13 chem site costs'!E17 -> 22500 | J19: ='FY13 chem site costs'!F17 -> 0 | K19: ='FY13 chem site costs'!G17 -> 0 | L19: ='FY13 chem site costs'!H17 -> 0 | M19: ='FY13 chem site costs'!I17 -> 0 | N19: ='FY13 chem site costs'!J17 -> 0 | O19: ='FY13 Eco site costs'!O10 -> 18177.543 | P19: 2902.04
A20: CA | B20: 11074000 | C20: Santa Ana River below Prado Dam, CA | D20: NAWQA | E20: Large River | I20: ='FY13 chem site costs'!E18 -> 67500 | J20: ='FY13 chem site costs'!F18 -> 0 | K20: ='FY13 chem site costs'!G18 -> 0 | L20: ='FY13 chem site costs'!H18 -> 0 | M20: ='FY13 chem site costs'!I18 -> 0 | N20: ='FY13 chem site costs'!J18 -> 0 | O20: 0
A21: CO | B21: 06713500 | C21: Cherry Creek at Denver, CO | D21: NAWQA | E21: Urban | F21: 100802.2 | I21: ='FY13 chem site costs'!E19 -> 86900 | J21: ='FY13 chem site costs'!F19 -> 0 | K21: ='FY13 chem site costs'!G19 -> 0 | L21: ='FY13 chem site costs'!H19 -> 0 | M21: ='FY13 chem site costs'!I19 -> 0 | N21: ='FY13 chem site costs'!J19 -> 0 | O21: ='FY13 Eco site costs'!O11 -> 13711.333 | P21: 2902.04
A22: CO | B22: 06754000 | C22: South Platte River near Kersey, CO | D22: NAWQA | E22: Large River | I22: ='FY13 chem site costs'!E20 -> 83800 | J22: ='FY13 chem site costs'!F20 -> 0 | K22: ='FY13 chem site costs'!G20 -> 0 | L22: ='FY13 chem site costs'!H20 -> 0 | M22: ='FY13 chem site costs'!I20 -> 0 | N22: ='FY13 chem site costs'!J20 -> 0 | O22: 0
A23: CO | B23: 09163500 | C23: Colorado River near Colorado-Utah state line | D23: NAWQA | E23: Large River | I23: ='FY13 chem site costs'!E21 -> 77600 | J23: ='FY13 chem site costs'!F21 -> 0 | K23: ='FY13 chem site costs'!G21 -> 0 | L23: ='FY13 chem site costs'!H21 -> 0 | M23: ='FY13 chem site costs'!I21 -> 0 | N23: ='FY13 chem site costs'!J21 -> 0 | O23: 0
A24: CT | B24: 01170100 | C24: Green River near Colrain, MA | D24: NAWQA | E24: reference | F24: 74846.13 | I24: ='FY13 chem site costs'!E22 -> 26400 | J24: ='FY13 chem site costs'!F22 -> 0 | K24: ='FY13 chem site costs'!G22 -> 0 | L24: ='FY13 chem site costs'!H22 -> 0 | M24: ='FY13 chem site costs'!I23 -> 0 | N24: ='FY13 chem site costs'!J23 -> 0 | O24: ='FY13 Eco site costs'!O12 -> 16112.123 | P24: 2902.04
A25: CT | B25: 01184000 | C25: Connecticut River at Thompsonville, CT | D25: NAWQA | E25: Large River | I25: ='FY13 chem site costs'!E23 -> 87400 | J25: ='FY13 chem site costs'!F23 -> 0 | K25: ='FY13 chem site costs'!G23 -> 0 | L25: ='FY13 chem site costs'!H23 -> 0 | M25: ='FY13 chem site costs'!I24 -> 0 | N25: ='FY13 chem site costs'!J24 -> 0 | O25: 0
A26: CT | B26: 01209710 | C26: Norwalk River at Winnipauk,CT | D26: NAWQA | E26: Urban | I26: ='FY13 chem site costs'!E24 -> 83300 | J26: ='FY13 chem site costs'!F24 -> 0 | K26: ='FY13 chem site costs'!G24 -> 0 | L26: ='FY13 chem site costs'!H24 -> 0 | M26: ='FY13 chem site costs'!I25 -> 0 | N26: ='FY13 chem site costs'!J25 -> 0 | O26: ='FY13 Eco site costs'!O13 -> 16276.776 | P26: 2902.04
A27: FL | B27: 02359170 | C27: Apalachicola River near Sumatra, FL | D27: NMN | E27: Large River | H27: 24486.06 | I27: ='FY13 chem site costs'!E25 -> 0 | J27: ='FY13 chem site costs'!F25 -> 0 | K27: ='FY13 chem site costs'!G25 -> 53700 | L27: ='FY13 chem site costs'!H25 -> 0 | M27: ='FY13 chem site costs'!I26 -> 0 | N27: ='FY13 chem site costs'!J25 -> 0 | O27: 0
A28: GA | B28: 02335870 | C28: Sope Creek near Marietta, GA | D28: NAWQA | E28: Urban | F28: 44381 | G28: 24486 | I28: ='FY13 chem site costs'!E26 -> 81800 | J28: ='FY13 chem site costs'!F26 -> 0 | K28: ='FY13 chem site costs'!G26 -> 0 | L28: ='FY13 chem site costs'!H26 -> 0 | M28: ='FY13 chem site costs'!I26 -> 0 | N28: ='FY13 chem site costs'!J26 -> 0 | O28: ='FY13 Eco site costs'!O14 -> 11919.758 | P28: 2902.04
A29: GA | B29: 02338523 | C29: Hillibahatchee Creek near Franklin, GA | D29: NAWQA | E29: reference | I29: ='FY13 chem site costs'!E27 -> 39200 | J29: ='FY13 chem site costs'!F27 -> 0 | K29: ='FY13 chem site costs'!G27 -> 0 | L29: ='FY13 chem site costs'!H27 -> 14516 | M29: ='FY13 chem site costs'!I27 -> 0 | N29: ='FY13 chem site costs'!J27 -> 0 | O29: ='FY13 Eco site costs'!O15 -> 14901.807 | P29: 2902.04
A30: GA | B30: 02226160 | C30: Altamaha River at Everett City, GA | D30: NASQAN | E30: Large River | I30: ='FY13 chem site costs'!E28 -> 0 | J30: ='FY13 chem site costs'!F28 -> 67200 | K30: ='FY13 chem site costs'!G28 -> 0 | L30: ='FY13 chem site costs'!H28 -> 0 | M30: ='FY13 chem site costs'!I28 -> 24250 | N30: ='FY13 chem site costs'!J28 -> 0 | O30: 0
A31: ID | B31: 13092747 | C31: Rock Creek at Twin Falls, ID | D31: NAWQA | E31: Agriculture | F31: 64468.06 | I31: ='FY13 chem site costs'!E29 -> 92400 | J31: ='FY13 chem site costs'!F29 -> 0 | K31: ='FY13 chem site costs'!G29 -> 0 | L31: ='FY13 chem site costs'!H29 -> 16955 | M31: ='FY13 chem site costs'!I30 -> 0 | N31: ='FY13 chem site costs'!J30 -> 0 | O31: ='FY13 Eco site costs'!O16 -> 18203.115 | P31: 2902.04
A32: ID | B32: 13154500 | C32: Snake River at King Hill, ID | D32: NAWQA | E32: Large River | I32: ='FY13 chem site costs'!E30 -> 55400 | J32: ='FY13 chem site costs'!F30 -> 0 | K32: ='FY13 chem site costs'!G30 -> 0 | L32: ='FY13 chem site costs'!H30 -> 16955 | M32: ='FY13 chem site costs'!I31 -> 0 | N32: ='FY13 chem site costs'!J31 -> 0 | O32: 0
A33: IL | B33: 05586100 | C33: Illinois River at Valley City, IL | D33: NASQAN | E33: Large River | F33: 24486 | I33: ='FY13 chem site costs'!E31 -> 85400 | J33: ='FY13 chem site costs'!F31 -> 0 | K33: ='FY13 chem site costs'!G31 -> 0 | L33: ='FY13 chem site costs'!H31 -> 0 | M33: ='FY13 chem site costs'!I31 -> 0 | N33: ='FY13 chem site costs'!J31 -> 0 | O33: 0
A34: IN | B34: 03374100 | C34: White River at Hazleton, IN | D34: NAWQA | E34: Large River | F34: 70392.1 | I34: ='FY13 chem site costs'!E32 -> 100300 | J34: ='FY13 chem site costs'!F32 -> 0 | K34: ='FY13 chem site costs'!G32 -> 0 | L34: ='FY13 chem site costs'!H32 -> 0 | M34: ='FY13 chem site costs'!I33 -> 0 | N34: ='FY13 chem site costs'!J33 -> 0 | O34: 0
A35: IN | B35: 394340085524601 | C35: Sugar Creek at New Palestine, IN | D35: NAWQA | E35: Agriculture | I35: ='FY13 chem site costs'!E33 -> 102100 | J35: ='FY13 chem site costs'!F33 -> 0 | K35: ='FY13 chem site costs'!G33 -> 0 | L35: ='FY13 chem site costs'!H33 -> 10262 | M35: ='FY13 chem site costs'!I34 -> 0 | N35: ='FY13 chem site costs'!J34 -> 0 | O35: ='FY13 Eco site costs'!O17 -> 13951.655 | P35: 2902
A36: IA | B36: 05451210 | C36: South Fork Iowa River near New Providence, IA | D36: NAWQA | E36: Agriculture | F36: 88954.12 | G36: 48972.12 | I36: ='FY13 chem site costs'!E34 -> 89600 | J36: ='FY13 chem site costs'!F34 -> 0 | K36: ='FY13 chem site costs'!G34 -> 0 | L36: ='FY13 chem site costs'!H34 -> 15008 | M36: ='FY13 chem site costs'!I34 -> 0 | N36: ='FY13 chem site costs'!J34 -> 0 | O36: ='FY13 Eco site costs'!O18 -> 17100.813 | P36: 2902.04
A37: IA | B37: 05465500 | C37: Iowa River at Wapello, IA | D37: NAWQA | E37: Large River | I37: ='FY13 chem site costs'!E35 -> 43100 | J37: ='FY13 chem site costs'!F35 -> 0 | K37: ='FY13 chem site costs'!G35 -> 0 | L37: ='FY13 chem site costs'!H35 -> 0 | M37: ='FY13 chem site costs'!I35 -> 0 | N37: ='FY13 chem site costs'!J35 -> 0 | O37: 0
A38: IA | B38: 05490500 | C38: Des Moines at Keosauqua, IA | D38: NAWQA | E38: Large River | I38: ='FY13 chem site costs'!E36 -> 43100 | J38: ='FY13 chem site costs'!F36 -> 0 | K38: ='FY13 chem site costs'!G36 -> 0 | L38: ='FY13 chem site costs'!H36 -> 0 | M38: ='FY13 chem site costs'!I36 -> 0 | N38: ='FY13 chem site costs'!J36 -> 0 | O38: 0
A39: IA | B39: 05420500 | C39: Mississippi River at Clinton, IA | D39: NASQAN | E39: Large River | I39: ='FY13 chem site costs'!E37 -> 0 | J39: ='FY13 chem site costs'!F37 -> 64900 | K39: ='FY13 chem site costs'!G37 -> 0 | L39: ='FY13 chem site costs'!H37 -> 0 | M39: ='FY13 chem site costs'!I37 -> 0 | N39: ='FY13 chem site costs'!J37 -> 0 | O39: 0
A40: IA | B40: 06610000 | C40: Missouri River at Omaha, NE | D40: NASQAN | E40: Large River | I40: ='FY13 chem site costs'!E38 -> 0 | J40: ='FY13 chem site costs'!F38 -> 65200 | K40: ='FY13 chem site costs'!G38 -> 0 | L40: ='FY13 chem site costs'!H38 -> 0 | M40: ='FY13 chem site costs'!I38 -> 0 | N40: ='FY13 chem site costs'!J38 -> 0 | O40: 0
A41: KS | B41: 06892350 | C41: Kansas River at DeSoto, KS | D41: Co-op | E41: Large River | F41: 0 | I41: ='FY13 chem site costs'!E39 -> 0 | J41: ='FY13 chem site costs'!F39 -> 0 | K41: ='FY13 chem site costs'!G39 -> 0 | L41: ='FY13 chem site costs'!H39 -> 0 | M41: ='FY13 chem site costs'!I40 -> 0 | N41: ='FY13 chem site costs'!J40 -> 0 | O41: 0
A42: KS | B42: 07144100 | C42: Lower Arkansas River near Sedgwick, KS | D42: Co-op | E42: Large River | I42: ='FY13 chem site costs'!E40 -> 0 | J42: ='FY13 chem site costs'!F40 -> 0 | K42: ='FY13 chem site costs'!G40 -> 0 | L42: ='FY13 chem site costs'!H40 -> 0 | M42: ='FY13 chem site costs'!I41 -> 0 | N42: ='FY13 chem site costs'!J41 -> 0 | O42: 0
A43: KY | B43: 03303280 | C43: Ohio River at Cannelton Dam at Cannelton, IN | D43: NASQAN | E43: Large River | G43: 97944.24 | I43: ='FY13 chem site costs'!E41 -> 0 | J43: ='FY13 chem site costs'!F41 -> 55500 | K43: ='FY13 chem site costs'!G41 -> 0 | L43: ='FY13 chem site costs'!H41 -> 0 | M43: ='FY13 chem site costs'!I41 -> 0 | N43: ='FY13 chem site costs'!J41 -> 0 | O43: 0
A44: KY | B44: 03378500 | C44: Wabash River at New Harmony, IN | D44: NASQAN | E44: Large River | I44: ='FY13 chem site costs'!E42 -> 0 | J44: ='FY13 chem site costs'!F42 -> 59800 | K44: ='FY13 chem site costs'!G42 -> 0 | L44: ='FY13 chem site costs'!H42 -> 0 | M44: ='FY13 chem site costs'!I42 -> 0 | N44: ='FY13 chem site costs'!J42 -> 0 | O44: 0
A45: KY | B45: 03609750 | C45: Tennessee River at Highway 60 near Paducah, KY | D45: NASQAN | E45: Large River | I45: ='FY13 chem site costs'!E43 -> 0 | J45: ='FY13 chem site costs'!F43 -> 43500 | K45: ='FY13 chem site costs'!G43 -> 0 | L45: ='FY13 chem site costs'!H43 -> 0 | M45: ='FY13 chem site costs'!I43 -> 0 | N45: ='FY13 chem site costs'!J43 -> 0 | O45: 0
A46: KY | B46: 03612500 | C46: Ohio River at Dam 53 near Grand Chain, IL | D46: NASQAN | E46: Large River | I46: ='FY13 chem site costs'!E44 -> 0 | J46: ='FY13 chem site costs'!F44 -> 49700 | K46: ='FY13 chem site costs'!G44 -> 0 | L46: ='FY13 chem site costs'!H44 -> 0 | M46: ='FY13 chem site costs'!I44 -> 27000 | N46: ='FY13 chem site costs'!J44 -> 0 | O46: 0
A47: LA | B47: 08014500 | C47: Whisky Chitto Creek near Oberlin, LA | D47: NAWQA | E47: reference | F47: 4399 | G47: 152895 | I47: ='FY13 chem site costs'!E45 -> 24000 | J47: ='FY13 chem site costs'!F45 -> 0 | K47: ='FY13 chem site costs'!G45 -> 0 | L47: ='FY13 chem site costs'!H45 -> 0 | M47: ='FY13 chem site costs'!I46 -> 0 | N47: ='FY13 chem site costs'!J46 -> 0 | O47: ='FY13 Eco site costs'!O19 -> 21212.055 | P47: 2902.04
A48: LA | B48: 07373420 | C48: Mississippi River near St. Francisville, LA | D48: NASQAN | E48: Large River | I48: ='FY13 chem site costs'!E46 -> 0 | J48: ='FY13 chem site costs'!F46 -> 96400 | K48: ='FY13 chem site costs'!G46 -> 0 | L48: ='FY13 chem site costs'!H47 -> 0 | M48: ='FY13 chem site costs'!I46 -> 0 | N48: ='FY13 chem site costs'!J47 -> 0 | O48: 0
A49: LA | B49: 07374000 | C49: Mississippi River at Baton Rouge, LA | D49: NASQAN | E49: Large River | I49: ='FY13 chem site costs'!E47 -> 0 | J49: ='FY13 chem site costs'!F47 -> 42000 | K49: ='FY13 chem site costs'!G47 -> 0 | L49: ='FY13 chem site costs'!H48 -> 0 | M49: ='FY13 chem site costs'!I47 -> 0 | N49: ='FY13 chem site costs'!J48 -> 0 | O49: 0
A50: LA | B50: 07374525 | C50: Mississippi River at Belle Chasse, LA | D50: NASQAN | E50: Large River | I50: ='FY13 chem site costs'!E48 -> 0 | J50: ='FY13 chem site costs'!F48 -> 83900 | K50: ='FY13 chem site costs'!G48 -> 0 | L50: ='FY13 chem site costs'!H49 -> 0 | M50: ='FY13 chem site costs'!I48 -> 0 | N50: ='FY13 chem site costs'!J49 -> 0 | O50: 0
A51: LA | B51: 07381495 | C51: Atchafalaya River at Melville, LA | D51: NASQAN | E51: Large River | I51: ='FY13 chem site costs'!E49 -> 0 | J51: ='FY13 chem site costs'!F49 -> 96400 | K51: ='FY13 chem site costs'!G49 -> 0 | L51: ='FY13 chem site costs'!H50 -> 0 | M51: ='FY13 chem site costs'!I49 -> 0 | N51: ='FY13 chem site costs'!J50 -> 0 | O51: 0
A52: LA | B52: 07381590 | C52: Wax Lake Outlet at Calumet, LA | D52: NASQAN | E52: Large River | I52: ='FY13 chem site costs'!E50 -> 0 | J52: ='FY13 chem site costs'!F50 -> 42000 | K52: ='FY13 chem site costs'!G50 -> 0 | L52: ='FY13 chem site costs'!H51 -> 0 | M52: ='FY13 chem site costs'!I50 -> 0 | N52: ='FY13 chem site costs'!J51 -> 0 | O52: 0
A53: LA | B53: 07381600 | C53: Lower Atchafalaya River at Morgan City, LA | D53: NASQAN | E53: Large River | I53: ='FY13 chem site costs'!E51 -> 0 | J53: ='FY13 chem site costs'!F51 -> 42000 | K53: ='FY13 chem site costs'!G51 -> 0 | L53: ='FY13 chem site costs'!H52 -> 0 | M53: ='FY13 chem site costs'!I51 -> 0 | N53: ='FY13 chem site costs'!J52 -> 0 | O53: 0
A54: MD | B54: 01578310 | C54: Susquehanna River at Conowingo, MD | D54: NASQAN | E54: Large River | F54: 74791 | G54: 21524 | I54: ='FY13 chem site costs'!E52 -> 0 | J54: ='FY13 chem site costs'!F52 -> 11900 | K54: ='FY13 chem site costs'!G52 -> 0 | L54: ='FY13 chem site costs'!H52 -> 0 | M54: ='FY13 chem site costs'!I52 -> 0 | N54: ='FY13 chem site costs'!J52 -> 0 | O54: 0
A55: MD | B55: 01610400 | C55: Waites Run near Wardensville, WV | D55: NAWQA | E55: reference | I55: ='FY13 chem site costs'!E53 -> 27200 | J55: ='FY13 chem site costs'!F53 -> 0 | K55: ='FY13 chem site costs'!G53 -> 0 | L55: ='FY13 chem site costs'!H53 -> 15300 | M55: ='FY13 chem site costs'!I53 -> 0 | N55: ='FY13 chem site costs'!J53 -> 0 | O55: ='FY13 Eco site costs'!O20 -> 22209.097 | P55: 2902.04
A56: MD | B56: 01646580 | C56: Potomac River at Washington, DC | D56: NAWQA | E56: Large River | I56: ='FY13 chem site costs'!E54 -> 74800 | J56: ='FY13 chem site costs'!F54 -> 0 | K56: ='FY13 chem site costs'!G54 -> 0 | L56: ='FY13 chem site costs'!H54 -> 0 | M56: ='FY13 chem site costs'!I54 -> 0 | N56: ='FY13 chem site costs'!J54 -> 0 | O56: 0
A57: MD | B57: 01654000 | C57: Accotink Creek near Annandale, VA | D57: NAWQA | E57: Urban | I57: ='FY13 chem site costs'!E55 -> 83000 | J57: ='FY13 chem site costs'!F55 -> 0 | K57: ='FY13 chem site costs'!G55 -> 0 | L57: ='FY13 chem site costs'!H55 -> 0 | M57: ='FY13 chem site costs'!I55 -> 0 | N57: ='FY13 chem site costs'!J55 -> 0 | O57: ='FY13 Eco site costs'!O21 -> 16220.034 | P57: 2902.04
A58: MI/OH | B58: 04161820 | C58: Clinton River at Sterling Heights, MI | D58: NAWQA | E58: Urban | F58: 39982 | I58: ='FY13 chem site costs'!E56 -> 97000 | J58: ='FY13 chem site costs'!F56 -> 0 | K58: ='FY13 chem site costs'!G56 -> 0 | L58: ='FY13 chem site costs'!H56 -> 16000 | M58: ='FY13 chem site costs'!I57 -> 0 | N58: ='FY13 chem site costs'!J57 -> 0 | O58: ='FY13 Eco site costs'!O29 -> 24420.399 | P58: 2902.04
A59: MN | B59: 05331580 | C59: Mississippi River at Hastings, MN | D59: NAWQA | E59: Large River | F59: 24486.06 | I59: ='FY13 chem site costs'!E57 -> 46100 | J59: ='FY13 chem site costs'!F57 -> 0 | K59: ='FY13 chem site costs'!G57 -> 0 | L59: ='FY13 chem site costs'!H57 -> 4800 | M59: ='FY13 chem site costs'!I57 -> 0 | N59: ='FY13 chem site costs'!J57 -> 0 | O59: 0
A60: MS | B60: 07288650 | C60: Bogue Phalia near Leland, MS | D60: NAWQA | E60: Agriculture | F60: 70392.1 | H60: 24486 | I60: ='FY13 chem site costs'!E58 -> 92600 | J60: ='FY13 chem site costs'!F58 -> 0 | K60: ='FY13 chem site costs'!G58 -> 0 | L60: ='FY13 chem site costs'!H58 -> 0 | M60: ='FY13 chem site costs'!I58 -> 0 | N60: ='FY13 chem site costs'!J58 -> 0 | O60: ='FY13 Eco site costs'!O22 -> 17391.481 | P60: 2902.04
A61: MS | B61: 07288955 | C61: Yazoo River near Long Lake, MS | D61: NAWQA | E61: Large River | I61: ='FY13 chem site costs'!E59 -> 71500 | J61: ='FY13 chem site costs'!F59 -> 0 | K61: ='FY13 chem site costs'!G59 -> 0 | L61: ='FY13 chem site costs'!H59 -> 0 | M61: ='FY13 chem site costs'!I59 -> 0 | N61: ='FY13 chem site costs'!J59 -> 0 | O61: 0
A62: MS | B62: 322023090544500 | C62: Mississippi River above Vicksburg, MS | D62: NMN | E62: Large River | I62: ='FY13 chem site costs'!E60 -> 0 | J62: ='FY13 chem site costs'!F60 -> 0 | K62: ='FY13 chem site costs'!G60 -> 54000 | L62: ='FY13 chem site costs'!H60 -> 0 | M62: ='FY13 chem site costs'!I60 -> 0 | N62: ='FY13 chem site costs'!J60 -> 3150 | O62: 0
A63: MO | B63: 07022000 | C63: Mississippi River at Thebes, IL | D63: NASQAN | E63: Large River | G63: 68060 | I63: ='FY13 chem site costs'!E61 -> 0 | J63: ='FY13 chem site costs'!F61 -> 89300 | K63: ='FY13 chem site costs'!G61 -> 0 | L63: ='FY13 chem site costs'!H61 -> 0 | M63: ='FY13 chem site costs'!I61 -> 0 | N63: ='FY13 chem site costs'!J61 -> 0 | O63: 0
A64: MO | B64: 05587455 | C64: Mississippi River Below Grafton, IL | D64: NASQAN | E64: Large River | I64: ='FY13 chem site costs'!E62 -> 0 | J64: ='FY13 chem site costs'!F62 -> 7300 | K64: ='FY13 chem site costs'!G62 -> 0 | L64: ='FY13 chem site costs'!H62 -> 0 | M64: ='FY13 chem site costs'!I62 -> 0 | N64: ='FY13 chem site costs'!J62 -> 0 | O64: 0
A65: MO | B65: 06934500 | C65: Missouri River at Hermann, MO | D65: NASQAN | E65: Large River | I65: ='FY13 chem site costs'!E63 -> 0 | J65: ='FY13 chem site costs'!F63 -> 72300 | K65: ='FY13 chem site costs'!G63 -> 0 | L65: ='FY13 chem site costs'!H63 -> 0 | M65: ='FY13 chem site costs'!I63 -> 0 | N65: ='FY13 chem site costs'!J63 -> 0 | O65: 0
A66: NE | B66: 06775900 | C66: Dismal River near Thedford, NE | D66: NAWQA | E66: reference | F66: 99332.19 | I66: ='FY13 chem site costs'!E64 -> 26400 | J66: ='FY13 chem site costs'!F64 -> 0 | K66: ='FY13 chem site costs'!G64 -> 0 | L66: ='FY13 chem site costs'!H64 -> 0 | M66: ='FY13 chem site costs'!I64 -> 0 | N66: ='FY13 chem site costs'!J64 -> 0 | O66: ='FY13 Eco site costs'!O23 -> 26458.99 | P66: 2902.04
A67: NE | B67: 06800000 | C67: Maple Creek near Nickerson, NE | D67: NAWQA | E67: Agriculture | I67: ='FY13 chem site costs'!E65 -> 77600 | J67: ='FY13 chem site costs'!F65 -> 0 | K67: ='FY13 chem site costs'!G65 -> 0 | L67: ='FY13 chem site costs'!H65 -> 0 | M67: ='FY13 chem site costs'!I65 -> 0 | N67: ='FY13 chem site costs'!J65 -> 0 | O67: ='FY13 Eco site costs'!O24 -> 16077.48 | P67: 2902.04
A68: NE | B68: 06800500 | C68: Elkhorn River at Waterloo, NE | D68: NAWQA | E68: Large River | I68: ='FY13 chem site costs'!E66 -> 68700 | J68: ='FY13 chem site costs'!F66 -> 0 | K68: ='FY13 chem site costs'!G66 -> 0 | L68: ='FY13 chem site costs'!H66 -> 0 | M68: ='FY13 chem site costs'!I66 -> 0 | N68: ='FY13 chem site costs'!J66 -> 0 | O68: 0
A69: NE | B69: 06805500 | C69: Platte River at Louisville, NE | D69: NAWQA | E69: Large River | I69: ='FY13 chem site costs'!E67 -> 58000 | J69: ='FY13 chem site costs'!F67 -> 0 | K69: ='FY13 chem site costs'!G67 -> 0 | L69: ='FY13 chem site costs'!H67 -> 12093 | M69: ='FY13 chem site costs'!I67 -> 0 | N69: ='FY13 chem site costs'!J67 -> 0 | O69: 0
A70: NV | B70: 10350340 | C70: Truckee River at Tracy, NV | D70: NAWQA | E70: Large River | F70: 30410.1 | I70: ='FY13 chem site costs'!E68 -> 62800 | J70: ='FY13 chem site costs'!F68 -> 0 | K70: ='FY13 chem site costs'!G68 -> 0 | L70: ='FY13 chem site costs'!H68 -> 0 | M70: ='FY13 chem site costs'!I68 -> 0 | N70: ='FY13 chem site costs'!J68 -> 0 | O70: 0
A71: NJ | B71: 01463500 | C71: Delaware River at Trenton, NJ | D71: NAWQA | E71: Large River | F71: 24486 | I71: ='FY13 chem site costs'!E69 -> 62800 | J71: ='FY13 chem site costs'!F69 -> 0 | K71: ='FY13 chem site costs'!G69 -> 0 | L71: ='FY13 chem site costs'!H69 -> 0 | M71: ='FY13 chem site costs'!I69 -> 0 | N71: ='FY13 chem site costs'!J69 -> 0 | O71: 0
A72: NM | B72: 08227000 | C72: Saguache Creek near Saguache, CO | D72: NAWQA | E72: reference | F72: 27195.83 | I72: ='FY13 chem site costs'!E70 -> 27000 | J72: ='FY13 chem site costs'!F70 -> 0 | K72: ='FY13 chem site costs'!G70 -> 0 | L72: ='FY13 chem site costs'!H70 -> 0 | M72: ='FY13 chem site costs'!I70 -> 0 | N72: ='FY13 chem site costs'!J70 -> 0 | O72: ='FY13 Eco site costs'!O25 -> 23512.619 | P72: 2902.04
A73: NM | B73: 08364000 | C73: Rio Grande at El Paso, TX | D73: NAWQA | E73: Large River | I73: ='FY13 chem site costs'!E71 -> 69200 | J73: ='FY13 chem site costs'!F71 -> 0 | K73: ='FY13 chem site costs'!G71 -> 0 | L73: ='FY13 chem site costs'!G71 -> 0 | M73: ='FY13 chem site costs'!H71 -> 0 | N73: ='FY13 chem site costs'!I71 -> 0 | O73: 0
A74: NY | B74: 01349150 | C74: Canajoharie Creek near Canajoharie, NY | D74: NAWQA | E74: Agriculture | F74: 39982 | G74: 24486 | H74: 24486 | I74: ='FY13 chem site costs'!E72 -> 111600 | J74: ='FY13 chem site costs'!F72 -> 0 | K74: ='FY13 chem site costs'!G72 -> 0 | L74: ='FY13 chem site costs'!H72 -> 15496 | M74: ='FY13 chem site costs'!I72 -> 0 | N74: ='FY13 chem site costs'!J72 -> 0 | O74: ='FY13 Eco site costs'!O26 -> 15513.874 | P74: 2902.04
A75: NY | B75: 01372043 | C75: Hudson River near Poughkeepsie, NY | D75: NMN | E75: Large River | I75: ='FY13 chem site costs'!E74 -> 0 | J75: ='FY13 chem site costs'!F74 -> 0 | K75: ='FY13 chem site costs'!G74 -> 66400 | L75: ='FY13 chem site costs'!H73 -> 0 | M75: ='FY13 chem site costs'!I73 -> 0 | N75: ='FY13 chem site costs'!J73 -> 0 | O75: 0
A76: NY | B76: 4264331 | C76: St. Lawrence River at Cornwall, Ontario | D76: NASQAN | E76: Large River | I76: ='FY13 chem site costs'!E73 -> 0 | J76: ='FY13 chem site costs'!F73 -> 54400 | K76: ='FY13 chem site costs'!G73 -> 0 | L76: ='FY13 chem site costs'!H74 -> 0 | M76: ='FY13 chem site costs'!I74 -> 0 | N76: ='FY13 chem site costs'!J74 -> 0 | O76: 0
A77: NC | B77: 02087580 | C77: Swift Creek near Apex, NC | D77: NAWQA | E77: Urban | F77: 110374.1 | I77: ='FY13 chem site costs'!E75 -> 72700 | J77: ='FY13 chem site costs'!F75 -> 0 | K77: ='FY13 chem site costs'!G75 -> 0 | L77: ='FY13 chem site costs'!H75 -> 14628 | M77: ='FY13 chem site costs'!I75 -> 0 | N77: ='FY13 chem site costs'!J75 -> 0 | O77: ='FY13 Eco site costs'!O27 -> 11804.847 | P77: 2902.04
A78: NC | B78: 02089500 | C78: Neuse River at Kinston, NC | D78: NAWQA | E78: Large River | I78: ='FY13 chem site costs'!E76 -> 78500 | J78: ='FY13 chem site costs'!F76 -> 0 | K78: ='FY13 chem site costs'!G76 -> 0 | L78: ='FY13 chem site costs'!H76 -> 0 | M78: ='FY13 chem site costs'!I76 -> 0 | N78: ='FY13 chem site costs'!J76 -> 0 | O78: 0
A79: NC | B79: 02091500 | C79: Contentnea Creek at Hookerton, NC | D79: NAWQA | E79: Agriculture | I79: ='FY13 chem site costs'!E77 -> 78700 | J79: ='FY13 chem site costs'!F77 -> 0 | K79: ='FY13 chem site costs'!G77 -> 0 | L79: ='FY13 chem site costs'!H77 -> 0 | M79: ='FY13 chem site costs'!I77 -> 0 | N79: ='FY13 chem site costs'!J77 -> 0 | O79: ='FY13 Eco site costs'!O28 -> 15819.77 | P79: 2902.04
A80: ND | B80: 05082500 | C80: Red River of the North at Grand Forks, ND | D80: Co-op | E80: Large River | F80: 0 | I80: ='FY13 chem site costs'!E78 -> 0 | J80: ='FY13 chem site costs'!F78 -> 0 | K80: ='FY13 chem site costs'!G78 -> 0 | L80: ='FY13 chem site costs'!H78 -> 0 | M80: ='FY13 chem site costs'!I78 -> 0 | N80: ='FY13 chem site costs'!J78 -> 0 | O80: 0
A81: OH | B81: 04193500 | C81: Maumee River at Waterville, OH | D81: NAWQA | E81: Large River | F81: 30410.1 | I81: ='FY13 chem site costs'!E79 -> 83300 | J81: ='FY13 chem site costs'!F79 -> 0 | K81: ='FY13 chem site costs'!G79 -> 0 | L81: ='FY13 chem site costs'!H79 -> 0 | M81: ='FY13 chem site costs'!I79 -> 0 | N81: ='FY13 chem site costs'!J79 -> 0 | O81: 0
A82: OK | B82: 07241550 | C82: North Canadian River near Harrah, OK | D82: Co-op | E82: Large River | F82: 0 | I82: ='FY13 chem site costs'!E80 -> 0 | J82: ='FY13 chem site costs'!F80 -> 0 | K82: ='FY13 chem site costs'!G80 -> 0 | L82: ='FY13 chem site costs'!H80 -> 0 | M82: ='FY13 chem site costs'!I80 -> 0 | N82: ='FY13 chem site costs'!J80 -> 0 | O82: 0
A83: OR | B83: 14201300 | C83: Zollner Creek near Mt. Angel, OR | D83: NAWQA | E83: Agriculture | F83: 114828 | G83: 21524 | I83: ='FY13 chem site costs'!E81 -> 93700 | J83: ='FY13 chem site costs'!F81 -> 0 | K83: ='FY13 chem site costs'!G81 -> 0 | L83: ='FY13 chem site costs'!H81 -> 17700 | M83: ='FY13 chem site costs'!I81 -> 0 | N83: ='FY13 chem site costs'!J81 -> 0 | O83: ='FY13 Eco site costs'!O30 -> 14750.441 | P83: 2902
A84: OR | B84: 14205400 | C84: E Fork Dairy Creek near Meachan Corner, OR | D84: NAWQA | E84: reference | I84: ='FY13 chem site costs'!E82 -> 24300 | J84: ='FY13 chem site costs'!F82 -> 0 | K84: ='FY13 chem site costs'!G82 -> 0 | L84: ='FY13 chem site costs'!H82 -> 17700 | M84: ='FY13 chem site costs'!I82 -> 0 | N84: ='FY13 chem site costs'!J82 -> 0 | O84: ='FY13 Eco site costs'!O31 -> 14562.233 | P84: 2902
A85: OR | B85: 14206950 | C85: Fanno Creek at Durham, OR | D85: NAWQA | E85: urban | I85: ='FY13 chem site costs'!E83 -> 81700 | J85: ='FY13 chem site costs'!F83 -> 0 | K85: ='FY13 chem site costs'!G83 -> 0 | L85: ='FY13 chem site costs'!H83 -> 8850 | M85: ='FY13 chem site costs'!I83 -> 0 | N85: ='FY13 chem site costs'!J83 -> 0 | O85: ='FY13 Eco site costs'!O32 -> 13597.319 | P85: 2902.04
A86: OR | B86: 14211720 | C86: Willamette River at Portland, OR | D86: NAWQA | E86: Large River | I86: ='FY13 chem site costs'!E84 -> 85200 | J86: ='FY13 chem site costs'!F84 -> 0 | K86: ='FY13 chem site costs'!G84 -> 0 | L86: ='FY13 chem site costs'!H84 -> 0 | M86: ='FY13 chem site costs'!I84 -> 0 | N86: ='FY13 chem site costs'!J84 -> 0 | O86: 0
A87: OR | B87: 14246900 | C87: Columbia River near Beaver Army Terminal, OR | D87: NASQAN | E87: Large River | I87: ='FY13 chem site costs'!E85 -> 0 | J87: ='FY13 chem site costs'!F85 -> 63400 | K87: ='FY13 chem site costs'!G85 -> 0 | L87: ='FY13 chem site costs'!H85 -> 0 | M87: ='FY13 chem site costs'!I85 -> 0 | N87: ='FY13 chem site costs'!J85 -> 0 | O87: 0
A88: SC | B88: 02172300 | C88: McTier Creek near Monetta, SC | D88: NAWQA | E88: reference | F88: 34809.31 | I88: ='FY13 chem site costs'!E86 -> 20600 | J88: ='FY13 chem site costs'!F86 -> 0 | K88: ='FY13 chem site costs'!G86 -> 0 | L88: ='FY13 chem site costs'!H86 -> 17212 | M88: ='FY13 chem site costs'!I86 -> 0 | N88: ='FY13 chem site costs'!J86 -> 0 | O88: ='FY13 Eco site costs'!O33 -> 13109.4 | P88: 2902.04
A89: SC | B89: 02175000 | C89: Edisto River near Givhans, SC | D89: NAWQA | E89: Large River | I89: ='FY13 chem site costs'!E87 -> 100800 | J89: ='FY13 chem site costs'!F87 -> 0 | K89: ='FY13 chem site costs'!G87 -> 0 | L89: ='FY13 chem site costs'!H87 -> 0 | M89: ='FY13 chem site costs'!I87 -> 0 | N89: ='FY13 chem site costs'!J87 -> 0 | O89: 0
A90: TX | B90: 08057200 | C90: White Rock Creek at Dallas, TX | D90: NAWQA | E90: urban | F90: 74811 | G90: 21559 | H90: 24486 | I90: ='FY13 chem site costs'!E88 -> 135100 | J90: ='FY13 chem site costs'!F88 -> 0 | K90: ='FY13 chem site costs'!G88 -> 0 | L90: ='FY13 chem site costs'!H88 -> 0 | M90: ='FY13 chem site costs'!I88 -> 0 | N90: ='FY13 chem site costs'!J88 -> 0 | O90: ='FY13 Eco site costs'!O34 -> 20029.413 | P90: 2902.04
A91: TX | B91: 08057410 | C91: Trinity River below Dallas, TX | D91: NAWQA | E91: Large River | I91: ='FY13 chem site costs'!E89 -> 100100 | J91: ='FY13 chem site costs'!F89 -> 0 | K91: ='FY13 chem site costs'!G89 -> 0 | L91: ='FY13 chem site costs'!H89 -> 0 | M91: ='FY13 chem site costs'!I89 -> 0 | N91: ='FY13 chem site costs'!J89 -> 0 | O91: 0
A92: TX | B92: 08116650 | C92: Brazos River near Rosharon, TX | D92: NMN | E92: Large River | I92: ='FY13 chem site costs'!E90 -> 0 | J92: ='FY13 chem site costs'!F90 -> 0 | K92: ='FY13 chem site costs'!G90 -> 59800 | L92: ='FY13 chem site costs'!H90 -> 0 | M92: ='FY13 chem site costs'!I90 -> 0 | N92: ='FY13 chem site costs'!J90 -> 0 | O92: 0
A93: TX | B93: 08195000 | C93: Frio River at Concan, TX | D93: NAWQA | E93: reference | I93: ='FY13 chem site costs'!E91 -> 27000 | J93: ='FY13 chem site costs'!F91 -> 0 | K93: ='FY13 chem site costs'!G91 -> 0 | L93: ='FY13 chem site costs'!H91 -> 0 | M93: ='FY13 chem site costs'!I91 -> 0 | N93: ='FY13 chem site costs'!J91 -> 0 | O93: ='FY13 Eco site costs'!O35 -> 22130.474 | P93: 2902.04
A94: TX | B94: 08475000 | C94: Rio Grande near Brownsville, TX | D94: NASQAN | E94: Large River | I94: ='FY13 chem site costs'!E92 -> 0 | J94: ='FY13 chem site costs'!F92 -> 75000 | K94: ='FY13 chem site costs'!G92 -> 0 | L94: ='FY13 chem site costs'!H92 -> 0 | M94: ='FY13 chem site costs'!I92 -> 0 | N94: ='FY13 chem site costs'!J92 -> 0 | O94: 0
A95: UT | B95: 10168000 | C95: Little Cottonwood Creek at Salt Lake City, UT | D95: NAWQA | E95: urban | F95: 74791.31 | I95: ='FY13 chem site costs'!E93 -> 74600 | J95: ='FY13 chem site costs'!F93 -> 0 | K95: ='FY13 chem site costs'!G93 -> 0 | L95: ='FY13 chem site costs'!H93 -> 15913 | M95: ='FY13 chem site costs'!I93 -> 0 | N95: ='FY13 chem site costs'!J93 -> 0 | O95: ='FY13 Eco site costs'!O36 -> 12544.551 | P95: 2902.04
A96: UT | B96: 10171000 | C96: Jordan River at Salt Lake City, UT | D96: NAWQA | E96: Large River | I96: ='FY13 chem site costs'!E94 -> 58500 | J96: ='FY13 chem site costs'!F94 -> 0 | K96: ='FY13 chem site costs'!G94 -> 0 | L96: ='FY13 chem site costs'!H94 -> 0 | M96: ='FY13 chem site costs'!I94 -> 0 | N96: ='FY13 chem site costs'!J94 -> 0 | O96: 0
A97: UT | B97: 10172200 | C97: Red Butte Creek at Ft Douglas, UT | D97: NAWQA | E97: reference | I97: ='FY13 chem site costs'!E95 -> 19900 | J97: ='FY13 chem site costs'!F95 -> 0 | K97: ='FY13 chem site costs'!G95 -> 0 | L97: ='FY13 chem site costs'!H95 -> 0 | M97: ='FY13 chem site costs'!I95 -> 0 | N97: ='FY13 chem site costs'!J95 -> 0 | O97: ='FY13 Eco site costs'!O37 -> 7415.4357 | P97: 2902.04
A98: WA | B98: 12056500 | C98: North Fork Skokomish River near Hdsprt, WA | D98: NAWQA | E98: reference | F98: 74846.13 | I98: ='FY13 chem site costs'!E96 -> 27600 | J98: ='FY13 chem site costs'!F96 -> 0 | K98: ='FY13 chem site costs'!G96 -> 0 | L98: ='FY13 chem site costs'!H96 -> 0 | M98: ='FY13 chem site costs'!I96 -> 0 | N98: ='FY13 chem site costs'!J96 -> 0 | O98: ='FY13 Eco site costs'!O38 -> 8134.8688 | P98: 2902.04
A99: WA | B99: 12505450 | C99: Granger Drain at Granger, WA | D99: NAWQA | E99: Agriculture | I99: ='FY13 chem site costs'!E97 -> 133200 | J99: ='FY13 chem site costs'!F97 -> 0 | K99: ='FY13 chem site costs'!G97 -> 0 | L99: ='FY13 chem site costs'!H97 -> 15518 | M99: ='FY13 chem site costs'!I97 -> 0 | N99: ='FY13 chem site costs'!J97 -> 0 | O99: ='FY13 Eco site costs'!O39 -> 18851.364 | P99: 2902.04
A100: WA | B100: 12510500 | C100: Yakima River at Kiona, WA | D100: NAWQA | E100: Large River | I100: ='FY13 chem site costs'!E98 -> 79500 | J100: ='FY13 chem site costs'!F98 -> 0 | K100: ='FY13 chem site costs'!G98 -> 0 | L100: ='FY13 chem site costs'!H98 -> 0 | M100: ='FY13 chem site costs'!I98 -> 0 | N100: ='FY13 chem site costs'!J98 -> 0 | O100: 0
A101: WI | B101: 04063700 | C101: Popple River near Fence, WI | D101: NAWQA | E101: reference | F101: 4399.21 | I101: ='FY13 chem site costs'!E99 -> 25300 | J101: ='FY13 chem site costs'!F99 -> 0 | K101: ='FY13 chem site costs'!G99 -> 0 | L101: ='FY13 chem site costs'!H99 -> 0 | M101: ='FY13 chem site costs'!I99 -> 0 | N101: ='FY13 chem site costs'!J99 -> 0 | O101: ='FY13 Eco site costs'!O40 -> 22031.117 | P101: 2902.04
...

Sheet FY13 sampling by SC
A1: 41082
B2: NAWQA SW Chemistry | E2: NASQAN Chemistry | H2: NMN Chemistry | K2: NAWQA Ecology | M2: NAWQA SW Status Total | P2: NASQAN Total | S2: NMN Total
A3: SC | B3: Sampling & Data Review | C3: Lab Analysis (includes QC) | D3: Streamflow Gaging | E3: Sampling & Data Review | F3: Lab Analysis (includes QC) | G3: Streamflow Gaging | H3: Sampling & Data Review | I3: Lab Analysis (includes QC) | J3: Streamflow Gaging | K3: Sampling & Data Review | L3: Lab Analysis (includes QC) | M3: Lab Analysis | N3: SC Costs | O3: TOTAL | P3: Lab Analysis | Q3: WSC Costs | R3: TOTAL | S3: Lab Analysis | T3: WSC Costs | U3: TOTAL
A4: AL | B4: =SUM('SW sites'!I4:'SW sites'!I6) -> 170400 | C4: =SUM('SW sites'!F4:'SW sites'!F6) -> 70392 | D4: =SUM('SW sites'!L4:'SW sites'!L6) -> 16536 | E4: =SUM('SW sites'!J4:'SW sites'!J6) -> 77700 | F4: =SUM('SW sites'!G4:'SW sites'!G6) -> 24486 | G4: =SUM('SW sites'!M4:'SW sites'!M6) -> 0 | H4: =SUM('SW sites'!K4:'SW sites'!K6) -> 0 | I4: =SUM('SW sites'!H4:'SW sites'!H6) -> 0 | J4: =SUM('SW sites'!N4:'SW sites'!N6) -> 0 | K4: =SUM('SW sites'!O4:'SW sites'!O6) -> 13195.897 | L4: 2902.04 | M4: =C4+L4 -> 73294.04 | N4: =B4+K4+D4 -> 200131.9 | O4: =M4+N4 -> 273425.94 | P4: =F4 -> 24486 | Q4: =E4+G4 -> 77700 | R4: =P4+Q4 -> 102186 | S4: =I4 -> 0 | T4: =H4+J4 -> 0 | U4: =S4+T4 -> 0
A5: AK | B5: =SUM('SW sites'!I7) -> 0 | C5: =SUM('SW sites'!F7) -> 0 | D5: =SUM('SW sites'!L7) -> 0 | E5: =SUM('SW sites'!J7) -> 76100 | F5: =SUM('SW sites'!G7) -> 8469.2 | G5: =SUM('SW sites'!M7) -> 0 | H5: =SUM('SW sites'!K7) -> 0 | I5: =SUM('SW sites'!H7) -> 0 | J5: =SUM('SW sites'!N7) -> 0 | K5: =SUM('SW sites'!O7) -> 0 | L5: 0 | M5: =C5+L5 -> 0 | N5: =B5+K5+D5 -> 0 | O5: =M5+N5 -> 0 | P5: =F5 -> 8469.2 | Q5: =E5+G5 -> 76100 | R5: =P5+Q5 -> 84569.2 | S5: =I5 -> 0 | T5: =H5+J5 -> 0 | U5: =S5+T5 -> 0
A6: AZ | B6: =SUM('SW sites'!I8:'SW sites'!I11) -> 50300 | C6: =SUM('SW sites'!F8:'SW sites'!F11) -> 8853 | D6: =SUM('SW sites'!L8:'SW sites'!L11) -> 0 | E6: =SUM('SW sites'!J8:'SW sites'!J11) -> 47800 | F6: =SUM('SW sites'!G8:'SW sites'!G11) -> 21524 | G6: =SUM('SW sites'!M8:'SW sites'!M11) -> 0 | H6: =SUM('SW sites'!K8:'SW sites'!K11) -> 0 | I6: =SUM('SW sites'!H8:'SW sites'!H11) -> 0 | J6: =SUM('SW sites'!N8:'SW sites'!N11) -> 0 | K6: =SUM('SW sites'!O8:'SW sites'!O11) -> 35558.483 | L6: 5804.08 | M6: =C6+L6 -> 14657.08 | N6: =B6+K6+D6 -> 85858.483 | O6: =M6+N6 -> 100515.56 | P6: =F6 -> 21524 | Q6: =E6+G6 -> 47800 | R6: =P6+Q6 -> 69324 | S6: =I6 -> 0 | T6: =H6+J6 -> 0 | U6: =S6+T6 -> 0
A7: AR | B7: =SUM('SW sites'!I12:'SW sites'!I14) -> 38600 | C7: =SUM('SW sites'!F12:'SW sites'!F14) -> 8853 | D7: =SUM('SW sites'!L12:'SW sites'!L14) -> 0 | E7: =SUM('SW sites'!J12:'SW sites'!J14) -> 62100 | F7: =SUM('SW sites'!G12:'SW sites'!G14) -> 24486 | G7: =SUM('SW sites'!M12:'SW sites'!M14) -> 5510 | H7: =SUM('SW sites'!K12:'SW sites'!K14) -> 0 | I7: =SUM('SW sites'!H12:'SW sites'!H14) -> 0 | J7: =SUM('SW sites'!N12:'SW sites'!N14) -> 0 | K7: =SUM('SW sites'!O12:'SW sites'!O14) -> 42459.999 | L7: 5804.08 | M7: =C7+L7 -> 14657.08 | N7: =B7+K7+D7 -> 81059.999 | O7: =M7+N7 -> 95717.079 | P7: =F7 -> 24486 | Q7: =E7+G7 -> 67610 | R7: =P7+Q7 -> 92096 | S7: =I7 -> 0 | T7: =H7+J7 -> 0 | U7: =S7+T7 -> 0
A8: CA | B8: =SUM('SW sites'!I15:'SW sites'!I20) -> 379500 | C8: =SUM('SW sites'!F15:'SW sites'!F20) -> 134580.13 | D8: =SUM('SW sites'!L15:'SW sites'!L20) -> 10584 | E8: =SUM('SW sites'!J15:'SW sites'!J20) -> 0 | F8: =SUM('SW sites'!G15:'SW sites'!G20) -> 0 | G8: =SUM('SW sites'!M15:'SW sites'!M20) -> 0 | H8: =SUM('SW sites'!K15:'SW sites'!K20) -> 0 | I8: =SUM('SW sites'!H15:'SW sites'!H20) -> 0 | J8: =SUM('SW sites'!N15:'SW sites'!N20) -> 0 | K8: =SUM('SW sites'!O15:'SW sites'!O20) -> 49876.114 | L8: 8706.12 | M8: =C8+L8 -> 143286.25 | N8: =B8+K8+D8 -> 439960.11 | O8: =M8+N8 -> 583246.36 | P8: =F8 -> 0 | Q8: =E8+G8 -> 0 | R8: =P8+Q8 -> 0 | S8: =I8 -> 0 | T8: =H8+J8 -> 0 | U8: =S8+T8 -> 0
A9: CO | B9: =SUM('SW sites'!I21:'SW sites'!I23) -> 248300 | C9: =SUM('SW sites'!F21:'SW sites'!F23) -> 100802.2 | D9: =SUM('SW sites'!L21:'SW sites'!L23) -> 0 | E9: =SUM('SW sites'!J21:'SW sites'!J23) -> 0 | F9: =SUM('SW sites'!G21:'SW sites'!G23) -> 0 | G9: =SUM('SW sites'!M21:'SW sites'!M23) -> 0 | H9: =SUM('SW sites'!K21:'SW sites'!K23) -> 0 | I9: =SUM('SW sites'!H21:'SW sites'!H23) -> 0 | J9: =SUM('SW sites'!N21:'SW sites'!N23) -> 0 | K9: =SUM('SW sites'!O21:'SW sites'!O23) -> 13711.333 | L9: 2902.04 | M9: =C9+L9 -> 103704.24 | N9: =B9+K9+D9 -> 262011.33 | O9: =M9+N9 -> 365715.57 | P9: =F9 -> 0 | Q9: =E9+G9 -> 0 | R9: =P9+Q9 -> 0 | S9: =I9 -> 0 | T9: =H9+J9 -> 0 | U9: =S9+T9 -> 0
A10: CT | B10: =SUM('SW sites'!I24:'SW sites'!I26) -> 197100 | C10: =SUM('SW sites'!F24:'SW sites'!F26) -> 74846.13 | D10: =SUM('SW sites'!L24:'SW sites'!L26) -> 0 | E10: =SUM('SW sites'!J24:'SW sites'!J26) -> 0 | F10: =SUM('SW sites'!G24:'SW sites'!G26) -> 0 | G10: =SUM('SW sites'!M24:'SW sites'!M26) -> 0 | H10: =SUM('SW sites'!K24:'SW sites'!K26) -> 0 | I10: =SUM('SW sites'!H24:'SW sites'!H26) -> 0 | J10: =SUM('SW sites'!N24:'SW sites'!N26) -> 0 | K10: =SUM('SW sites'!O24:'SW sites'!O26) -> 32388.899 | L10: 5804.08 | M10: =C10+L10 -> 80650.21 | N10: =B10+K10+D10 -> 229488.9 | O10: =M10+N10 -> 310139.11 | P10: =F10 -> 0 | Q10: =E10+G10 -> 0 | R10: =P10+Q10 -> 0 | S10: =I10 -> 0 | T10: =H10+J10 -> 0 | U10: =S10+T10 -> 0
A11: FL | B11: =SUM('SW sites'!I27) -> 0 | C11: =SUM('SW sites'!F27) -> 0 | D11: =SUM('SW sites'!L27) -> 0 | E11: =SUM('SW sites'!J27) -> 0 | F11: =SUM('SW sites'!G27) -> 0 | G11: =SUM('SW sites'!M27) -> 0 | H11: =SUM('SW sites'!K27) -> 53700 | I11: =SUM('SW sites'!H27) -> 24486.06 | J11: =SUM('SW sites'!N27) -> 0 | K11: =SUM('SW sites'!O27) -> 0 | L11: 0 | M11: =C11+L11 -> 0 | N11: =B11+K11+D11 -> 0 | O11: =M11+N11 -> 0 | P11: =F11 -> 0 | Q11: =E11+G11 -> 0 | R11: =P11+Q11 -> 0 | S11: =I11 -> 24486.06 | T11: =H11+J11 -> 53700 | U11: =S11+T11 -> 78186.06
A12: GA | B12: =SUM('SW sites'!I28:'SW sites'!I30) -> 121000 | C12: =SUM('SW sites'!F28:'SW sites'!F30) -> 44381 | D12: =SUM('SW sites'!L28:'SW sites'!L30) -> 14516 | E12: =SUM('SW sites'!J28:'SW sites'!J30) -> 67200 | F12: =SUM('SW sites'!G28:'SW sites'!G30) -> 24486 | G12: =SUM('SW sites'!M28:'SW sites'!M30) -> 24250 | H12: =SUM('SW sites'!K28:'SW sites'!K30) -> 0 | I12: =SUM('SW sites'!H28:'SW sites'!H30) -> 0 | J12: =SUM('SW sites'!N28:'SW sites'!N30) -> 0 | K12: =SUM('SW sites'!O28:'SW sites'!O30) -> 26821.565 | L12: 5804.08 | M12: =C12+L12 -> 50185.08 | N12: =B12+K12+D12 -> 162337.56 | O12: =M12+N12 -> 212522.64 | P12: =F12 -> 24486 | Q12: =E12+G12 -> 91450 | R12: =P12+Q12 -> 115936 | S12: =I12 -> 0 | T12: =H12+J12 -> 0 | U12: =S12+T12 -> 0
A13: ID | B13: =SUM('SW sites'!I31:'SW sites'!I32) -> 147800 | C13: =SUM('SW sites'!F31:'SW sites'!F32) -> 64468.06 | D13: =SUM('SW sites'!L31:'SW sites'!L32) -> 33910 | E13: =SUM('SW sites'!J31:'SW sites'!J32) -> 0 | F13: =SUM('SW sites'!G31:'SW sites'!G32) -> 0 | G13: =SUM('SW sites'!M31:'SW sites'!M32) -> 0 | H13: =SUM('SW sites'!K31:'SW sites'!K32) -> 0 | I13: =SUM('SW sites'!H31:'SW sites'!H32) -> 0 | J13: =SUM('SW sites'!N31:'SW sites'!N32) -> 0 | K13: =SUM('SW sites'!O31:'SW sites'!O32) -> 18203.115 | L13: 2902.04 | M13: =C13+L13 -> 67370.1 | N13: =B13+K13+D13 -> 199913.12 | O13: =M13+N13 -> 267283.22 | P13: =F13 -> 0 | Q13: =E13+G13 -> 0 | R13: =P13+Q13 -> 0 | S13: =I13 -> 0 | T13: =H13+J13 -> 0 | U13: =S13+T13 -> 0
A14: IL | B14: =SUM('SW sites'!I33) -> 85400 | C14: =SUM('SW sites'!F33) -> 24486 | D14: =SUM('SW sites'!L33) -> 0 | E14: =SUM('SW sites'!J33) -> 0 | F14: =SUM('SW sites'!G33) -> 0 | G14: =SUM('SW sites'!M33) -> 0 | H14: =SUM('SW sites'!K33) -> 0 | I14: =SUM('SW sites'!H33) -> 0 | J14: =SUM('SW sites'!N33) -> 0 | K14: =SUM('SW sites'!O33) -> 0 | L14: 0 | M14: =C14+L14 -> 24486 | N14: =B14+K14+D14 -> 85400 | O14: =M14+N14 -> 109886 | P14: =F14 -> 0 | Q14: =E14+G14 -> 0 | R14: =P14+Q14 -> 0 | S14: =I14 -> 0 | T14: =H14+J14 -> 0 | U14: =S14+T14 -> 0
A15: IN | B15: =SUM('SW sites'!I34:'SW sites'!I35) -> 202400 | C15: =SUM('SW sites'!F34:'SW sites'!F35) -> 70392.1 | D15: =SUM('SW sites'!L34:'SW sites'!L35) -> 10262 | E15: =SUM('SW sites'!J34:'SW sites'!J35) -> 0 | F15: =SUM('SW sites'!G34:'SW sites'!G35) -> 0 | G15: =SUM('SW sites'!M34:'SW sites'!M35) -> 0 | H15: =SUM('SW sites'!K34:'SW sites'!K35) -> 0 | I15: =SUM('SW sites'!H34:'SW sites'!H35) -> 0 | J15: =SUM('SW sites'!N34:'SW sites'!N35) -> 0 | K15: =SUM('SW sites'!O34:'SW sites'!O35) -> 13951.655 | L15: 2902.04 | M15: =C15+L15 -> 73294.14 | N15: =B15+K15+D15 -> 226613.66 | O15: =M15+N15 -> 299907.8 | P15: =F15 -> 0 | Q15: =E15+G15 -> 0 | R15: =P15+Q15 -> 0 | S15: =I15 -> 0 | T15: =H15+J15 -> 0 | U15: =S15+T15 -> 0
A16: IA | B16: =SUM('SW sites'!I36:'SW sites'!I40) -> 175800 | C16: =SUM('SW sites'!F36:'SW sites'!F40) -> 88954.12 | D16: =SUM('SW sites'!L36:'SW sites'!L40) -> 15008 | E16: =SUM('SW sites'!J36:'SW sites'!J40) -> 130100 | F16: =SUM('SW sites'!G36:'SW sites'!G40) -> 48972.12 | G16: =SUM('SW sites'!M36:'SW sites'!M40) -> 0 | H16: =SUM('SW sites'!K36:'SW sites'!K40) -> 0 | I16: =SUM('SW sites'!H36:'SW sites'!H40) -> 0 | J16: =SUM('SW sites'!N36:'SW sites'!N40) -> 0 | K16: =SUM('SW sites'!O36:'SW sites'!O40) -> 17100.813 | L16: 2902.04 | M16: =C16+L16 -> 91856.16 | N16: =B16+K16+D16 -> 207908.81 | O16: =M16+N16 -> 299764.97 | P16: =F16 -> 48972.12 | Q16: =E16+G16 -> 130100 | R16: =P16+Q16 -> 179072.12 | S16: =I16 -> 0 | T16: =H16+J16 -> 0 | U16: =S16+T16 -> 0
A17: KS | B17: =SUM('SW sites'!I41:'SW sites'!I42) -> 0 | C17: =SUM('SW sites'!F41:'SW sites'!F42) -> 0 | D17: =SUM('SW sites'!L41:'SW sites'!L42) -> 0 | E17: =SUM('SW sites'!J41:'SW sites'!J42) -> 0 | F17: =SUM('SW sites'!G41:'SW sites'!G42) -> 0 | G17: =SUM('SW sites'!M41:'SW sites'!M42) -> 0 | H17: =SUM('SW sites'!K41:'SW sites'!K42) -> 0 | I17: =SUM('SW sites'!H41:'SW sites'!H42) -> 0 | J17: =SUM('SW sites'!N41:'SW sites'!N42) -> 0 | K17: =SUM('SW sites'!O41:'SW sites'!O42) -> 0 | L17: 0 | M17: =C17+L17 -> 0 | N17: =B17+K17+D17 -> 0 | O17: =M17+N17 -> 0 | P17: =F17 -> 0 | Q17: =E17+G17 -> 0 | R17: =P17+Q17 -> 0 | S17: =I17 -> 0 | T17: =H17+J17 -> 0 | U17: =S17+T17 -> 0
A18: KY | B18: =SUM('SW sites'!I43:'SW sites'!I46) -> 0 | C18: =SUM('SW sites'!F43:'SW sites'!F46) -> 0 | D18: =SUM('SW sites'!L43:'SW sites'!L46) -> 0 | E18: =SUM('SW sites'!J43:'SW sites'!J46) -> 208500 | F18: =SUM('SW sites'!G43:'SW sites'!G46) -> 97944.24 | G18: =SUM('SW sites'!M43:'SW sites'!M46) -> 27000 | H18: =SUM('SW sites'!K43:'SW sites'!K46) -> 0 | I18: =SUM('SW sites'!H43:'SW sites'!H46) -> 0 | J18: =SUM('SW sites'!N43:'SW sites'!N46) -> 0 | K18: =SUM('SW sites'!O43:'SW sites'!O46) -> 0 | L18: 0 | M18: =C18+L18 -> 0 | N18: =B18+K18+D18 -> 0 | O18: =M18+N18 -> 0 | P18: =F18 -> 97944.24 | Q18: =E18+G18 -> 235500 | R18: =P18+Q18 -> 333444.24 | S18: =I18 -> 0 | T18: =H18+J18 -> 0 | U18: =S18+T18 -> 0
A19: LA | B19: =SUM('SW sites'!I47:'SW sites'!I53) -> 24000 | C19: =SUM('SW sites'!F47:'SW sites'!F53) -> 4399 | D19: =SUM('SW sites'!L47:'SW sites'!L53) -> 0 | E19: =SUM('SW sites'!J47:'SW sites'!J53) -> 402700 | F19: =SUM('SW sites'!G47:'SW sites'!G53) -> 152895 | G19: =SUM('SW sites'!M47:'SW sites'!M53) -> 0 | H19: =SUM('SW sites'!K47:'SW sites'!K53) -> 0 | I19: =SUM('SW sites'!H47:'SW sites'!H53) -> 0 | J19: =SUM('SW sites'!N47:'SW sites'!N53) -> 0 | K19: =SUM('SW sites'!O47:'SW sites'!O53) -> 21212.055 | L19: 2902.04 | M19: =C19+L19 -> 7301.04 | N19: =B19+K19+D19 -> 45212.055 | O19: =M19+N19 -> 52513.095 | P19: =F19 -> 152895 | Q19: =E19+G19 -> 402700 | R19: =P19+Q19 -> 555595 | S19: =I19 -> 0 | T19: =H19+J19 -> 0 | U19: =S19+T19 -> 0
A20: MD | B20: =SUM('SW sites'!I54:'SW sites'!I57) -> 185000 | C20: =SUM('SW sites'!F54:'SW sites'!F57) -> 74791 | D20: =SUM('SW sites'!L54:'SW sites'!L57) -> 15300 | E20: =SUM('SW sites'!J54:'SW sites'!J57) -> 11900 | F20: =SUM('SW sites'!G54:'SW sites'!G57) -> 21524 | G20: =SUM('SW sites'!M54:'SW sites'!M57) -> 0 | H20: =SUM('SW sites'!K54:'SW sites'!K57) -> 0 | I20: =SUM('SW sites'!H54:'SW sites'!H57) -> 0 | J20: =SUM('SW sites'!N54:'SW sites'!N57) -> 0 | K20: =SUM('SW sites'!O54:'SW sites'!O57) -> 38429.131 | L20: 5804.08 | M20: =C20+L20 -> 80595.08 | N20: =B20+K20+D20 -> 238729.13 | O20: =M20+N20 -> 319324.21 | P20: =F20 -> 21524 | Q20: =E20+G20 -> 11900 | R20: =P20+Q20 -> 33424 | S20: =I20 -> 0 | T20: =H20+J20 -> 0 | U20: =S20+T20 -> 0
A21: MI | B21: =SUM('SW sites'!I58) -> 97000 | C21: =SUM('SW sites'!F58) -> 39982 | D21: =SUM('SW sites'!L58) -> 16000 | E21: =SUM('SW sites'!J58) -> 0 | F21: =SUM('SW sites'!G58) -> 0 | G21: =SUM('SW sites'!M58) -> 0 | H21: =SUM('SW sites'!K58) -> 0 | I21: =SUM('SW sites'!H58) -> 0 | J21: =SUM('SW sites'!N58) -> 0 | K21: 0 | L21: 0 | M21: =C21+L21 -> 39982 | N21: =B21+K21+D21 -> 113000 | O21: =M21+N21 -> 152982 | P21: =F21 -> 0 | Q21: =E21+G21 -> 0 | R21: =P21+Q21 -> 0 | S21: =I21 -> 0 | T21: =H21+J21 -> 0 | U21: =S21+T21 -> 0
A22: MN | B22: =SUM('SW sites'!I59) -> 46100 | C22: =SUM('SW sites'!F59) -> 24486.06 | D22: =SUM('SW sites'!L59) -> 4800 | E22: =SUM('SW sites'!J59) -> 0 | F22: =SUM('SW sites'!G59) -> 0 | G22: =SUM('SW sites'!M59) -> 0 | H22: =SUM('SW sites'!K59) -> 0 | I22: =SUM('SW sites'!H59) -> 0 | J22: =SUM('SW sites'!N59) -> 0 | K22: =SUM('SW sites'!O59) -> 0 | L22: 0 | M22: =C22+L22 -> 24486.06 | N22: =B22+K22+D22 -> 50900 | O22: =M22+N22 -> 75386.06 | P22: =F22 -> 0 | Q22: =E22+G22 -> 0 | R22: =P22+Q22 -> 0 | S22: =I22 -> 0 | T22: =H22+J22 -> 0 | U22: =S22+T22 -> 0
A23: MS | B23: =SUM('SW sites'!I60:'SW sites'!I62) -> 164100 | C23: =SUM('SW sites'!F60:'SW sites'!F62) -> 70392.1 | D23: =SUM('SW sites'!L60:'SW sites'!L62) -> 0 | E23: =SUM('SW sites'!J60:'SW sites'!J62) -> 0 | F23: =SUM('SW sites'!G60:'SW sites'!G62) -> 0 | G23: =SUM('SW sites'!M60:'SW sites'!M62) -> 0 | H23: =SUM('SW sites'!K60:'SW sites'!K62) -> 54000 | I23: =SUM('SW sites'!H60:'SW sites'!H62) -> 24486 | J23: =SUM('SW sites'!N60:'SW sites'!N62) -> 3150 | K23: =SUM('SW sites'!O60:'SW sites'!O62) -> 17391.481 | L23: 2902.04 | M23: =C23+L23 -> 73294.14 | N23: =B23+K23+D23 -> 181491.48 | O23: =M23+N23 -> 254785.62 | P23: =F23 -> 0 | Q23: =E23+G23 -> 0 | R23: =P23+Q23 -> 0 | S23: =I23 -> 24486 | T23: =H23+J23 -> 57150 | U23: =S23+T23 -> 81636
A24: MO | B24: =SUM('SW sites'!I63:'SW sites'!I65) -> 0 | C24: =SUM('SW sites'!F63:'SW sites'!F65) -> 0 | D24: =SUM('SW sites'!L63:'SW sites'!L65) -> 0 | E24: =SUM('SW sites'!J63:'SW sites'!J65) -> 168900 | F24: =SUM('SW sites'!G63:'SW sites'!G65) -> 68060 | G24: =SUM('SW sites'!M63:'SW sites'!M65) -> 0 | H24: =SUM('SW sites'!K63:'SW sites'!K65) -> 0 | I24: =SUM('SW sites'!H63:'SW sites'!H65) -> 0 | J24: =SUM('SW sites'!N63:'SW sites'!N65) -> 0 | K24: =SUM('SW sites'!O63:'SW sites'!O65) -> 0 | L24: 0 | M24: =C24+L24 -> 0 | N24: =B24+K24+D24 -> 0 | O24: =M24+N24 -> 0 | P24: =F24 -> 68060 | Q24: =E24+G24 -> 168900 | R24: =P24+Q24 -> 236960 | S24: =I24 -> 0 | T24: =H24+J24 -> 0 | U24: =S24+T24 -> 0
A25: NE | B25: =SUM('SW sites'!I66:'SW sites'!I69) -> 230700 | C25: =SUM('SW sites'!F66:'SW sites'!F69) -> 99332.19 | D25: =SUM('SW sites'!L66:'SW sites'!L69) -> 12093 | E25: =SUM('SW sites'!J66:'SW sites'!J69) -> 0 | F25: =SUM('SW sites'!G66:'SW sites'!G69) -> 0 | G25: =SUM('SW sites'!M66:'SW sites'!M69) -> 0 | H25: =SUM('SW sites'!K66:'SW sites'!K69) -> 0 | I25: =SUM('SW sites'!H66:'SW sites'!H69) -> 0 | J25: =SUM('SW sites'!N66:'SW sites'!N69) -> 0 | K25: =SUM('SW sites'!O66:'SW sites'!O69) -> 42536.47 | L25: 5804.08 | M25: =C25+L25 -> 105136.27 | N25: =B25+K25+D25 -> 285329.47 | O25: =M25+N25 -> 390465.74 | P25: =F25 -> 0 | Q25: =E25+G25 -> 0 | R25: =P25+Q25 -> 0 | S25: =I25 -> 0 | T25: =H25+J25 -> 0 | U25: =S25+T25 -> 0
A26: NV | B26: =SUM('SW sites'!I70) -> 62800 | C26: =SUM('SW sites'!F70) -> 30410.1 | D26: =SUM('SW sites'!L70) -> 0 | E26: =SUM('SW sites'!J70) -> 0 | F26: =SUM('SW sites'!G70) -> 0 | G26: =SUM('SW sites'!M70) -> 0 | H26: =SUM('SW sites'!K70) -> 0 | I26: =SUM('SW sites'!H70) -> 0 | J26: =SUM('SW sites'!N70) -> 0 | K26: =SUM('SW sites'!O70) -> 0 | L26: 0 | M26: =C26+L26 -> 30410.1 | N26: =B26+K26+D26 -> 62800 | O26: =M26+N26 -> 93210.1 | P26: =F26 -> 0 | Q26: =E26+G26 -> 0 | R26: =P26+Q26 -> 0 | S26: =I26 -> 0 | T26: =H26+J26 -> 0 | U26: =S26+T26 -> 0
A27: NJ | B27: =SUM('SW sites'!I71) -> 62800 | C27: =SUM('SW sites'!F71) -> 24486 | D27: =SUM('SW sites'!L71) -> 0 | E27: =SUM('SW sites'!J71) -> 0 | F27: =SUM('SW sites'!G71) -> 0 | G27: =SUM('SW sites'!M71) -> 0 | H27: =SUM('SW sites'!K71) -> 0 | I27: =SUM('SW sites'!H71) -> 0 | J27: =SUM('SW sites'!N71) -> 0 | K27: =SUM('SW sites'!O71) -> 0 | L27: 0 | M27: =C27+L27 -> 24486 | N27: =B27+K27+D27 -> 62800 | O27: =M27+N27 -> 87286 | P27: =F27 -> 0 | Q27: =E27+G27 -> 0 | R27: =P27+Q27 -> 0 | S27: =I27 -> 0 | T27: =H27+J27 -> 0 | U27: =S27+T27 -> 0
A28: NM | B28: =SUM('SW sites'!I72:'SW sites'!I73) -> 96200 | C28: =SUM('SW sites'!F72:'SW sites'!F73) -> 27195.83 | D28: =SUM('SW sites'!L72:'SW sites'!L73) -> 0 | E28: =SUM('SW sites'!J72:'SW sites'!J73) -> 0 | F28: =SUM('SW sites'!G72:'SW sites'!G73) -> 0 | G28: =SUM('SW sites'!M72:'SW sites'!M73) -> 0 | H28: =SUM('SW sites'!K72:'SW sites'!K73) -> 0 | I28: =SUM('SW sites'!H72:'SW sites'!H73) -> 0 | J28: =SUM('SW sites'!N72:'SW sites'!N73) -> 0 | K28: =SUM('SW sites'!O72:'SW sites'!O73) -> 23512.619 | L28: 2902.04 | M28: =C28+L28 -> 30097.87 | N28: =B28+K28+D28 -> 119712.62 | O28: =M28+N28 -> 149810.49 | P28: =F28 -> 0 | Q28: =E28+G28 -> 0 | R28: =P28+Q28 -> 0 | S28: =I28 -> 0 | T28: =H28+J28 -> 0 | U28: =S28+T28 -> 0
A29: NY | B29: =SUM('SW sites'!I74:'SW sites'!I76) -> 111600 | C29: =SUM('SW sites'!F74:'SW sites'!F76) -> 39982 | D29: =SUM('SW sites'!L74:'SW sites'!L76) -> 15496 | E29: =SUM('SW sites'!J74:'SW sites'!J76) -> 54400 | F29: =SUM('SW sites'!G74:'SW sites'!G76) -> 24486 | G29: =SUM('SW sites'!M74:'SW sites'!M76) -> 0 | H29: =SUM('SW sites'!K74:'SW sites'!K76) -> 66400 | I29: =SUM('SW sites'!H74:'SW sites'!H76) -> 24486 | J29: =SUM('SW sites'!N74:'SW sites'!N76) -> 0 | K29: =SUM('SW sites'!O74:'SW sites'!O76) -> 15513.874 | L29: 2902.04 | M29: =C29+L29 -> 42884.04 | N29: =B29+K29+D29 -> 142609.87 | O29: =M29+N29 -> 185493.91 | P29: =F29 -> 24486 | Q29: =E29+G29 -> 54400 | R29: =P29+Q29 -> 78886 | S29: =I29 -> 24486 | T29: =H29+J29 -> 66400 | U29: =S29+T29 -> 90886
A30: NC | B30: =SUM('SW sites'!I77:'SW sites'!I79) -> 229900 | C30: =SUM('SW sites'!F77:'SW sites'!F79) -> 110374.1 | D30: =SUM('SW sites'!L77:'SW sites'!L79) -> 14628 | E30: =SUM('SW sites'!J77:'SW sites'!J79) -> 0 | F30: =SUM('SW sites'!G77:'SW sites'!G79) -> 0 | G30: =SUM('SW sites'!M77:'SW sites'!M79) -> 0 | H30: =SUM('SW sites'!K77:'SW sites'!K79) -> 0 | I30: =SUM('SW sites'!H77:'SW sites'!H79) -> 0 | J30: =SUM('SW sites'!N77:'SW sites'!N79) -> 0 | K30: =SUM('SW sites'!O77:'SW sites'!O79) -> 27624.617 | L30: 5804.08 | M30: =C30+L30 -> 116178.18 | N30: =B30+K30+D30 -> 272152.62 | O30: =M30+N30 -> 388330.8 | P30: =F30 -> 0 | Q30: =E30+G30 -> 0 | R30: =P30+Q30 -> 0 | S30: =I30 -> 0 | T30: =H30+J30 -> 0 | U30: =S30+T30 -> 0
A31: ND | B31: =SUM('SW sites'!I80) -> 0 | C31: =SUM('SW sites'!F80) -> 0 | D31: =SUM('SW sites'!L80) -> 0 | E31: =SUM('SW sites'!J80) -> 0 | F31: =SUM('SW sites'!G80) -> 0 | G31: =SUM('SW sites'!M80) -> 0 | H31: =SUM('SW sites'!K80) -> 0 | I31: =SUM('SW sites'!H80) -> 0 | J31: =SUM('SW sites'!N80) -> 0 | K31: =SUM('SW sites'!O80) -> 0 | L31: 0 | M31: =C31+L31 -> 0 | N31: =B31+K31+D31 -> 0 | O31: =M31+N31 -> 0 | P31: =F31 -> 0 | Q31: =E31+G31 -> 0 | R31: =P31+Q31 -> 0 | S31: =I31 -> 0 | T31: =H31+J31 -> 0 | U31: =S31+T31 -> 0
A32: OH | B32: =SUM('SW sites'!I81) -> 83300 | C32: =SUM('SW sites'!F81) -> 30410.1 | D32: =SUM('SW sites'!L81) -> 0 | E32: =SUM('SW sites'!J81) -> 0 | F32: =SUM('SW sites'!G58) -> 0 | G32: =SUM('SW sites'!M58) -> 0 | H32: =SUM('SW sites'!K81) -> 0 | I32: =SUM('SW sites'!H81) -> 0 | J32: =SUM('SW sites'!N81) -> 0 | K32: =SUM('SW sites'!O58) -> 24420.399 | L32: 2902.04 | M32: =C32+L32 -> 33312.14 | N32: =B32+K32+D32 -> 107720.4 | O32: =M32+N32 -> 141032.54 | P32: =F32 -> 0 | Q32: =E32+G32 -> 0 | R32: =P32+Q32 -> 0 | S32: =I32 -> 0 | T32: =H32+J32 -> 0 | U32: =S32+T32 -> 0
A33: OK | B33: =SUM('SW sites'!I82) -> 0 | C33: =SUM('SW sites'!F82) -> 0 | D33: =SUM('SW sites'!L82) -> 0 | E33: =SUM('SW sites'!J82) -> 0 | F33: =SUM('SW sites'!G82) -> 0 | G33: =SUM('SW sites'!M82) -> 0 | H33: =SUM('SW sites'!K82) -> 0 | I33: =SUM('SW sites'!H82) -> 0 | J33: =SUM('SW sites'!N82) -> 0 | K33: =SUM('SW sites'!O82) -> 0 | L33: 0 | M33: =C33+L33 -> 0 | N33: =B33+K33+D33 -> 0 | O33: =M33+N33 -> 0 | P33: =F33 -> 0 | Q33: =E33+G33 -> 0 | R33: =P33+Q33 -> 0 | S33: =I33 -> 0 | T33: =H33+J33 -> 0 | U33: =S33+T33 -> 0
A34: OR | B34: =SUM('SW sites'!I83:'SW sites'!I87) -> 284900 | C34: =SUM('SW sites'!F83:'SW sites'!F87) -> 114828 | D34: =SUM('SW sites'!L83:'SW sites'!L87) -> 44250 | E34: =SUM('SW sites'!J83:'SW sites'!J87) -> 63400 | F34: =SUM('SW sites'!G83:'SW sites'!G87) -> 21524 | G34: =SUM('SW sites'!M83:'SW sites'!M87) -> 0 | H34: =SUM('SW sites'!K83:'SW sites'!K87) -> 0 | I34: =SUM('SW sites'!H83:'SW sites'!H87) -> 0 | J34: =SUM('SW sites'!N83:'SW sites'!N87) -> 0 | K34: =SUM('SW sites'!O83:'SW sites'!O87) -> 42909.993 | L34: 8706.12 | M34: =C34+L34 -> 123534.12 | N34: =B34+K34+D34 -> 372059.99 | O34: =M34+N34 -> 495594.11 | P34: =F34 -> 21524 | Q34: =E34+G34 -> 63400 | R34: =P34+Q34 -> 84924 | S34: =I34 -> 0 | T34: =H34+J34 -> 0 | U34: =S34+T34 -> 0
A35: SC | B35: =SUM('SW sites'!I88:'SW sites'!I89) -> 121400 | C35: =SUM('SW sites'!F88:'SW sites'!F89) -> 34809.31 | D35: =SUM('SW sites'!L88:'SW sites'!L89) -> 17212 | E35: =SUM('SW sites'!J88:'SW sites'!J89) -> 0 | F35: =SUM('SW sites'!G88:'SW sites'!G89) -> 0 | G35: =SUM('SW sites'!M88:'SW sites'!M89) -> 0 | H35: =SUM('SW sites'!K88:'SW sites'!K89) -> 0 | I35: =SUM('SW sites'!H88:'SW sites'!H89) -> 0 | J35: =SUM('SW sites'!N88:'SW sites'!N89) -> 0 | K35: =SUM('SW sites'!O88:'SW sites'!O89) -> 13109.4 | L35: 2902.04 | M35: =C35+L35 -> 37711.35 | N35: =B35+K35+D35 -> 151721.4 | O35: =M35+N35 -> 189432.75 | P35: =F35 -> 0 | Q35: =E35+G35 -> 0 | R35: =P35+Q35 -> 0 | S35: =I35 -> 0 | T35: =H35+J35 -> 0 | U35: =S35+T35 -> 0
A36: TX | B36: =SUM('SW sites'!I90:'SW sites'!I94) -> 262200 | C36: =SUM('SW sites'!F90:'SW sites'!F94) -> 74811 | D36: =SUM('SW sites'!L90:'SW sites'!L94) -> 0 | E36: =SUM('SW sites'!J90:'SW sites'!J94) -> 75000 | F36: =SUM('SW sites'!G90:'SW sites'!G94) -> 21559 | G36: =SUM('SW sites'!M90:'SW sites'!M94) -> 0 | H36: =SUM('SW sites'!K90:'SW sites'!K94) -> 59800 | I36: =SUM('SW sites'!H90:'SW sites'!H94) -> 24486 | J36: =SUM('SW sites'!N90:'SW sites'!N94) -> 0 | K36: =SUM('SW sites'!O90:'SW sites'!O94) -> 42159.887 | L36: 5804.08 | M36: =C36+L36 -> 80615.08 | N36: =B36+K36+D36 -> 304359.89 | O36: =M36+N36 -> 384974.97 | P36: =F36 -> 21559 | Q36: =E36+G36 -> 75000 | R36: =P36+Q36 -> 96559 | S36: =I36 -> 24486 | T36: =H36+J36 -> 59800 | U36: =S36+T36 -> 84286
A37: UT | B37: =SUM('SW sites'!I95:'SW sites'!I97) -> 153000 | C37: =SUM('SW sites'!F95:'SW sites'!F97) -> 74791.31 | D37: =SUM('SW sites'!L95:'SW sites'!L97) -> 15913 | E37: =SUM('SW sites'!J95:'SW sites'!J97) -> 0 | F37: =SUM('SW sites'!G95:'SW sites'!G97) -> 0 | G37: =SUM('SW sites'!M95:'SW sites'!M97) -> 0 | H37: =SUM('SW sites'!K95:'SW sites'!K97) -> 0 | I37: =SUM('SW sites'!H95:'SW sites'!H97) -> 0 | J37: =SUM('SW sites'!N95:'SW sites'!N97) -> 0 | K37: =SUM('SW sites'!O95:'SW sites'!O97) -> 19959.987 | L37: 5804.08 | M37: =C37+L37 -> 80595.39 | N37: =B37+K37+D37 -> 188872.99 | O37: =M37+N37 -> 269468.38 | P37: =F37 -> 0 | Q37: =E37+G37 -> 0 | R37: =P37+Q37 -> 0 | S37: =I37 -> 0 | T37: =H37+J37 -> 0 | U37: =S37+T37 -> 0
A38: WA | B38: =SUM('SW sites'!I98:'SW sites'!I100) -> 240300 | C38: =SUM('SW sites'!F98:'SW sites'!F100) -> 74846.13 | D38: =SUM('SW sites'!L98:'SW sites'!L100) -> 15518 | E38: =SUM('SW sites'!J98:'SW sites'!J100) -> 0 | F38: =SUM('SW sites'!G98:'SW sites'!G100) -> 0 | G38: =SUM('SW sites'!M98:'SW sites'!M100) -> 0 | H38: =SUM('SW sites'!K98:'SW sites'!K100) -> 0 | I38: =SUM('SW sites'!H98:'SW sites'!H100) -> 0 | J38: =SUM('SW sites'!N98:'SW sites'!N100) -> 0 | K38: =SUM('SW sites'!O98:'SW sites'!O100) -> 26986.233 | L38: 5804.08 | M38: =C38+L38 -> 80650.21 | N38: =B38+K38+D38 -> 282804.23 | O38: =M38+N38 -> 363454.44 | P38: =F38 -> 0 | Q38: =E38+G38 -> 0 | R38: =P38+Q38 -> 0 | S38: =I38 -> 0 | T38: =H38+J38 -> 0 | U38: =S38+T38 -> 0
A39: WI | B39: =SUM('SW sites'!I101) -> 25300 | C39: =SUM('SW sites'!F101) -> 4399.21 | D39: =SUM('SW sites'!L101) -> 0 | E39: =SUM('SW sites'!J101) -> 0 | F39: =SUM('SW sites'!G101) -> 0 | G39: =SUM('SW sites'!M101) -> 0 | H39: =SUM('SW sites'!K101) -> 0 | I39: =SUM('SW sites'!H101) -> 0 | J39: =SUM('SW sites'!N101) -> 0 | K39: =SUM('SW sites'!O101) -> 22031.117 | L39: 2902.04 | M39: =C39+L39 -> 7301.25 | N39: =B39+K39+D39 -> 47331.117 | O39: =M39+N39 -> 54632.367 | P39: =F39 -> 0 | Q39: =E39+G39 -> 0 | R39: =P39+Q39 -> 0 | S39: =I39 -> 0 | T39: =H39+J39 -> 0 | U39: =S39+T39 -> 0
A40: WY | B40: =SUM('SW sites'!I102:'SW sites'!I103) -> 122300 | C40: =SUM('SW sites'!F102:'SW sites'!F103) -> 28940.09 | D40: =SUM('SW sites'!L102:'SW sites'!L103) -> 0 | E40: =SUM('SW sites'!J102:'SW sites'!J103) -> 0 | F40: =SUM('SW sites'!G102:'SW sites'!G103) -> 0 | G40: =SUM('SW sites'!M102:'SW sites'!M103) -> 0 | H40: =SUM('SW sites'!K102:'SW sites'!K103) -> 0 | I40: =SUM('SW sites'!H102:'SW sites'!H103) -> 0 | J40: =SUM('SW sites'!N102:'SW sites'!N103) -> 0 | K40: =SUM('SW sites'!O102:'SW sites'!O103) -> 26479.718 | L40: 2902.04 | M40: =C40+L40 -> 31842.13 | N40: =B40+K40+D40 -> 148779.72 | O40: =M40+N40 -> 180621.85 | P40: =F40 -> 0 | Q40: =E40+G40 -> 0 | R40: =P40+Q40 -> 0 | S40: =I40 -> 0 | T40: =H40+J40 -> 0 | U40: =S40+T40 -> 0
B42: =SUM(B4:B40) -> 4419500 | C42: =SUM(C4:C40) -> 1674673.3 | D42: =SUM(D4:D40) -> 272026 | E42: =SUM(E4:E40) -> 1445800 | F42: =SUM(F4:F40) -> 560415.56 | G42: =SUM(G4:G40) -> 56760 | H42: =SUM(H4:H40) -> 233900 | I42: =SUM(I4:I40) -> 97944.06 | ... U42: =SUM(U4:U40) -> 334994.06

Sheet Reports
A1: 41082 | F1: FY13 | G1: FY13 | H1: FY13 | I1: FY13 | J1: FY13 | K1: FY13 | L1: FY13
A2: Report Number | B2: Person's Name | C2: SC | D2: Comments | F2: Salary+Benefits | G2: Travel (air fare, lodging, per diem) | H2: Percent FTE | I2: Publication costs | J2: Other costs | K2: Brief description of other costs | L2: Total Gross Costs
F3: (Gross) | G3: Total | I3: Total | J3: Total | L3: Gross
A5: MRB1-2 SPARROW Circular | B5: Anne Hoos | C5: TN | D5: Author | L5: =F5+G5+I5+J5 -> 0 | M5: FY13 funds required to complete report will be determined by Charlie Crawford after discussions with lead author.
A6: MRB1-2 SPARROW Circular | B6: Richard Moore | C6: NH | D6: Author | L6: =F6+G6+I6+J6 -> 0
A7: MRB1-2 SPARROW Circular | B7: Ana Garcia | C7: NC | D7: Author | L7: =F7+G7+I7+J7 -> 0
A8: MRB1-2 SPARROW Circular | B8: Craig Johnston | C8: NH | D8: GIS | L8: =F8+G8+I8+J8 -> 0
A9: MRB1-2 SPARROW Circular | B9: Scott Ator | C9: MD | D9: Author | L9: =F9+G9+I9+J9 -> 0
A10: MRB1-2 SPARROW Circular | B10: Editor | C10: TN | D10: EPN | L10: =F10+G10+I10+J10 -> 0
A11: MRB1-2 SPARROW Circular | B11: Graphic designer | C11: TN | D11: EPN | L11: =F11+G11+I11+J11 -> 0
A13: MRB1-2 SPARROW Circular | B13: FY TOTALS | F13: =SUM(F5:F12) -> 0 | G13: =SUM(G5:G12) -> 0 | H13: =SUM(H5:H12) -> 0 | I13: =SUM(I5:I12) -> 0 | J13: =SUM(J5:J12) -> 0 | L13: =SUM(L5:L12) -> 0
A15: Century of Trends | B15: Valerie Kelly | C15: OR | D15: Author | L15: =F15+G15+I15+J15 -> 0 | M15: FY13 funds required to complete report will be determined by Charlie Crawford after discussions with lead author.
L16: =F16+G16+I16+J16 -> 0
L17: =F17+G17+I17+J17 -> 0
L18: =F18+G18+I18+J18 -> 0
A20: Century of Trends | B20: FY TOTALS | F20: =SUM(F15:F19) -> 0 | G20: =SUM(G15:G19) -> 0 | H20: =SUM(H15:H19) -> 0 | I20: =SUM(I15:I19) -> 0 | J20: =SUM(J15:J19) -> 0 | L20: =SUM(L15:L19) -> 0
A22: Mississippi RB SPARROW Circular | B22: Dale Robertson | C22: WI | D22: Author | L22: =SUM(L1:L21)/2 -> 0 | M22: FY13 funds required to complete report will be determined by Charlie Crawford after discussions with lead author.
A25: Mississippi RB SPARROW Circular | B25: FY TOTALS | F25: =SUM(F22:F24) -> 0 | G25: =SUM(G22:G24) -> 0 | H25: =SUM(H22:H24) -> 0 | I25: =SUM(I22:I24) -> 0 | J25: =SUM(J22:J24) -> 0 | K25: =SUM(K22:K24) -> 0 | L25: =SUM(L22:L24) -> 0

Sheet Targets sorted by SC
A1: Science Center | B1: SW Monitoring and Status Assessment Team | C1: SW Monitoring Data Collection Sum | D1: NASQAN Data Collection | E1: NASQAN Sample Analyses | F1: NASQAN Stream Gaging | G1: NMN Data Collection | H1: NMN Sample Analyses | I1: NMN Stream Gaging | J1: NAWQA SW Status QW Data Collection | K1: NAWQA SW Status QW Sample Analyses | L1: NAWQA SW Status Stream Gaging | M1: NAWQA ECO Data Collection | N1: NAWQA ECO Sample Analyses | O1: NAWQA SWS&T Reports
A2: AL | C2: =D2+G2+J2+M2 -> 261295.9 | D2: =SUM('FY13 sampling by SC'!E4) -> 77700 | E2: =SUM('FY13 sampling by SC'!F4) -> 24486 | F2: =SUM('FY13 sampling by SC'!G4) -> 0 | G2: =SUM('FY13 sampling by SC'!H4) -> 0 | H2: =SUM('FY13 sampling by SC'!I4) -> 0 | I2: =SUM('FY13 sampling by SC'!J4) -> 0 | J2: =SUM('FY13 sampling by SC'!B4) -> 170400 | K2: =SUM('FY13 sampling by SC'!C4) -> 70392 | L2: =SUM('FY13 sampling by SC'!D4) -> 16536 | M2: =SUM('FY13 sampling by SC'!K4) -> 13195.897 | N2: =SUM('FY13 sampling by SC'!L4) -> 2902.04
A3: AK | C3: =D3+G3+J3+M3 -> 76100 | D3: =SUM('FY13 sampling by SC'!E5) -> 76100 | E3: =SUM('FY13 sampling by SC'!F5) -> 8469.2 | F3: =SUM('FY13 sampling by SC'!G5) -> 0 | G3: =SUM('FY13 sampling by SC'!H5) -> 0 | H3: =SUM('FY13 sampling by SC'!I5) -> 0 | I3: =SUM('FY13 sampling by SC'!J5) -> 0 | J3: =SUM('FY13 sampling by SC'!B5) -> 0 | K3: =SUM('FY13 sampling by SC'!C5) -> 0 | L3: =SUM('FY13 sampling by SC'!D5) -> 0 | M3: =SUM('FY13 sampling by SC'!K5) -> 0 | N3: =SUM('FY13 sampling by SC'!L5) -> 0
A4: AZ | C4: =D4+G4+J4+M4 -> 133658.48 | D4: =SUM('FY13 sampling by SC'!E6) -> 47800 | E4: =SUM('FY13 sampling by SC'!F6) -> 21524 | F4: =SUM('FY13 sampling by SC'!G6) -> 0 | G4: =SUM('FY13 sampling by SC'!H6) -> 0 | H4: =SUM('FY13 sampling by SC'!I6) -> 0 | I4: =SUM('FY13 sampling by SC'!J6) -> 0 | J4: =SUM('FY13 sampling by SC'!B6) -> 50300 | K4: =SUM('FY13 sampling by SC'!C6) -> 8853 | L4: =SUM('FY13 sampling by SC'!D6) -> 0 | M4: =SUM('FY13 sampling by SC'!K6) -> 35558.483 | N4: =SUM('FY13 sampling by SC'!L6) -> 5804.08
A5: AR | C5: =D5+G5+J5+M5 -> 143160 | D5: =SUM('FY13 sampling by SC'!E7) -> 62100 | E5: =SUM('FY13 sampling by SC'!F7) -> 24486 | F5: =SUM('FY13 sampling by SC'!G7) -> 5510 | G5: =SUM('FY13 sampling by SC'!H7) -> 0 | H5: =SUM('FY13 sampling by SC'!I7) -> 0 | I5: =SUM('FY13 sampling by SC'!J7) -> 0 | J5: =SUM('FY13 sampling by SC'!B7) -> 38600 | K5: =SUM('FY13 sampling by SC'!C7) -> 8853 | L5: =SUM('FY13 sampling by SC'!D7) -> 0 | M5: =SUM('FY13 sampling by SC'!K7) -> 42459.999 | N5: =SUM('FY13 sampling by SC'!L7) -> 5804.08
A6: CA | C6: =D6+G6+J6+M6 -> 429376.11 | D6: =SUM('FY13 sampling by SC'!E8) -> 0 | E6: =SUM('FY13 sampling by SC'!F8) -> 0 | F6: =SUM('FY13 sampling by SC'!G8) -> 0 | G6: =SUM('FY13 sampling by SC'!H8) -> 0 | H6: =SUM('FY13 sampling by SC'!I8) -> 0 | I6: =SUM('FY13 sampling by SC'!J8) -> 0 | J6: =SUM('FY13 sampling by SC'!B8) -> 379500 | K6: =SUM('FY13 sampling by SC'!C8) -> 134580.13 | L6: =SUM('FY13 sampling by SC'!D8) -> 10584 | M6: =SUM('FY13 sampling by SC'!K8) -> 49876.114 | N6: =SUM('FY13 sampling by SC'!L8) -> 8706.12
A7: CO | C7: =D7+G7+J7+M7 -> 262011.33 | D7: =SUM('FY13 sampling by SC'!E9) -> 0 | E7: =SUM('FY13 sampling by SC'!F9) -> 0 | F7: =SUM('FY13 sampling by SC'!G9) -> 0 | G7: =SUM('FY13 sampling by SC'!H9) -> 0 | H7: =SUM('FY13 sampling by SC'!I9) -> 0 | I7: =SUM('FY13 sampling by SC'!J9) -> 0 | J7: =SUM('FY13 sampling by SC'!B9) -> 248300 | K7: =SUM('FY13 sampling by SC'!C9) -> 100802.2 | L7: =SUM('FY13 sampling by SC'!D9) -> 0 | M7: =SUM('FY13 sampling by SC'!K9) -> 13711.333 | N7: =SUM('FY13 sampling by SC'!L9) -> 2902.04
A8: CT | C8: =D8+G8+J8+M8 -> 229488.9 | D8: =SUM('FY13 sampling by SC'!E10) -> 0 | E8: =SUM('FY13 sampling by SC'!F10) -> 0 | F8: =SUM('FY13 sampling by SC'!G10) -> 0 | G8: =SUM('FY13 sampling by SC'!H10) -> 0 | H8: =SUM('FY13 sampling by SC'!I10) -> 0 | I8: =SUM('FY13 sampling by SC'!J10) -> 0 | J8: =SUM('FY13 sampling by SC'!B10) -> 197100 | K8: =SUM('FY13 sampling by SC'!C10) -> 74846.13 | L8: =SUM('FY13 sampling by SC'!D10) -> 0 | M8: =SUM('FY13 sampling by SC'!K10) -> 32388.899 | N8: =SUM('FY13 sampling by SC'!L10) -> 5804.08
A9: FL | C9: =D9+G9+J9+M9 -> 53700 | D9: =SUM('FY13 sampling by SC'!E11) -> 0 | E9: =SUM('FY13 sampling by SC'!F11) -> 0 | F9: =SUM('FY13 sampling by SC'!G11) -> 0 | G9: =SUM('FY13 sampling by SC'!H11) -> 53700 | H9: =SUM('FY13 sampling by SC'!I11) -> 24486.06 | I9: =SUM('FY13 sampling by SC'!J11) -> 0 | J9: =SUM('FY13 sampling by SC'!B11) -> 0 | K9: =SUM('FY13 sampling by SC'!C11) -> 0 | L9: =SUM('FY13 sampling by SC'!D11) -> 0 | M9: =SUM('FY13 sampling by SC'!K11) -> 0 | N9: =SUM('FY13 sampling by SC'!L11) -> 0
A10: GA | C10: =D10+G10+J10+M10 -> 215021.56 | D10: =SUM('FY13 sampling by SC'!E12) -> 67200 | E10: =SUM('FY13 sampling by SC'!F12) -> 24486 | F10: =SUM('FY13 sampling by SC'!G12) -> 24250 | G10: =SUM('FY13 sampling by SC'!H12) -> 0 | H10: =SUM('FY13 sampling by SC'!I12) -> 0 | I10: =SUM('FY13 sampling by SC'!J12) -> 0 | J10: =SUM('FY13 sampling by SC'!B12) -> 121000 | K10: =SUM('FY13 sampling by SC'!C12) -> 44381 | L10: =SUM('FY13 sampling by SC'!D12) -> 14516 | M10: =SUM('FY13 sampling by SC'!K12) -> 26821.565 | N10: =SUM('FY13 sampling by SC'!L12) -> 5804.08
A11: HI | C11: =D11+G11+J11+M11 -> 0 | D11: 0 | E11: 0 | F11: 0 | G11: 0 | H11: 0 | I11: 0 | J11: 0 | K11: 0 | L11: 0 | M11: 0 | N11: 0
A12: ID | C12: =D12+G12+J12+M12 -> 166003.12 | D12: =SUM('FY13 sampling by SC'!E13) -> 0 | E12: =SUM('FY13 sampling by SC'!F13) -> 0 | F12: =SUM('FY13 sampling by SC'!G13) -> 0 | G12: =SUM('FY13 sampling by SC'!H13) -> 0 | H12: =SUM('FY13 sampling by SC'!I13) -> 0 | I12: =SUM('FY13 sampling by SC'!J13) -> 0 | J12: =SUM('FY13 sampling by SC'!B13) -> 147800 | K12: =SUM('FY13 sampling by SC'!C13) -> 64468.06 | L12: =SUM('FY13 sampling by SC'!D13) -> 33910 | M12: =SUM('FY13 sampling by SC'!K13) -> 18203.115 | N12: =SUM('FY13 sampling by SC'!L13) -> 2902.04
A13: IL | C13: =D13+G13+J13+M13 -> 85400 | D13: =SUM('FY13 sampling by SC'!E14) -> 0 | E13: =SUM('FY13 sampling by SC'!F14) -> 0 | F13: =SUM('FY13 sampling by SC'!G14) -> 0 | G13: =SUM('FY13 sampling by SC'!H14) -> 0 | H13: =SUM('FY13 sampling by SC'!I14) -> 0 | I13: =SUM('FY13 sampling by SC'!J14) -> 0 | J13: =SUM('FY13 sampling by SC'!B14) -> 85400 | K13: =SUM('FY13 sampling by SC'!C14) -> 24486 | L13: =SUM('FY13 sampling by SC'!D14) -> 0 | M13: =SUM('FY13 sampling by SC'!K14) -> 0 | N13: =SUM('FY13 sampling by SC'!L14) -> 0
A14: IN | C14: =D14+G14+J14+M14 -> 216351.66 | D14: =SUM('FY13 sampling by SC'!E15) -> 0 | E14: =SUM('FY13 sampling by SC'!F15) -> 0 | F14: =SUM('FY13 sampling by SC'!G15) -> 0 | G14: =SUM('FY13 sampling by SC'!H15) -> 0 | H14: =SUM('FY13 sampling by SC'!I15) -> 0 | I14: =SUM('FY13 sampling by SC'!J15) -> 0 | J14: =SUM('FY13 sampling by SC'!B15) -> 202400 | K14: =SUM('FY13 sampling by SC'!C15) -> 70392.1 | L14: =SUM('FY13 sampling by SC'!D15) -> 10262 | M14: =SUM('FY13 sampling by SC'!K15) -> 13951.655 | N14: =SUM('FY13 sampling by SC'!L15) -> 2902.04
A15: IA | C15: =D15+G15+J15+M15 -> 323000.81 | D15: =SUM('FY13 sampling by SC'!E16) -> 130100 | E15: =SUM('FY13 sampling by SC'!F16) -> 48972.12 | F15: =SUM('FY13 sampling by SC'!G16) -> 0 | G15: =SUM('FY13 sampling by SC'!H16) -> 0 | H15: =SUM('FY13 sampling by SC'!I16) -> 0 | I15: =SUM('FY13 sampling by SC'!J16) -> 0 | J15: =SUM('FY13 sampling by SC'!B16) -> 175800 | K15: =SUM('FY13 sampling by SC'!C16) -> 88954.12 | L15: =SUM('FY13 sampling by SC'!D16) -> 15008 | M15: =SUM('FY13 sampling by SC'!K16) -> 17100.813 | N15: =SUM('FY13 sampling by SC'!L16) -> 2902.04
A16: KS | C16: =D16+G16+J16+M16 -> 0 | D16: =SUM('FY13 sampling by SC'!E17) -> 0 | E16: =SUM('FY13 sampling by SC'!F17) -> 0 | F16: =SUM('FY13 sampling by SC'!G17) -> 0 | G16: =SUM('FY13 sampling by SC'!H17) -> 0 | H16: =SUM('FY13 sampling by SC'!I17) -> 0 | I16: =SUM('FY13 sampling by SC'!J17) -> 0 | J16: =SUM('FY13 sampling by SC'!B17) -> 0 | K16: =SUM('FY13 sampling by SC'!C17) -> 0 | L16: =SUM('FY13 sampling by SC'!D17) -> 0 | M16: =SUM('FY13 sampling by SC'!K17) -> 0 | N16: =SUM('FY13 sampling by SC'!L17) -> 0
A17: KY | C17: =D17+G17+J17+M17 -> 208500 | D17: =SUM('FY13 sampling by SC'!E18) -> 208500 | E17: =SUM('FY13 sampling by SC'!F18) -> 97944.24 | F17: =SUM('FY13 sampling by SC'!G18) -> 27000 | G17: =SUM('FY13 sampling by SC'!H18) -> 0 | H17: =SUM('FY13 sampling by SC'!I18) -> 0 | I17: =SUM('FY13 sampling by SC'!J18) -> 0 | J17: =SUM('FY13 sampling by SC'!B18) -> 0 | K17: =SUM('FY13 sampling by SC'!C18) -> 0 | L17: =SUM('FY13 sampling by SC'!D18) -> 0 | M17: =SUM('FY13 sampling by SC'!K18) -> 0 | N17: =SUM('FY13 sampling by SC'!L18) -> 0
A18: LA | C18: =D18+G18+J18+M18 -> 447912.06 | D18: =SUM('FY13 sampling by SC'!E19) -> 402700 | E18: =SUM('FY13 sampling by SC'!F19) -> 152895 | F18: =SUM('FY13 sampling by SC'!G19) -> 0 | G18: =SUM('FY13 sampling by SC'!H19) -> 0 | H18: =SUM('FY13 sampling by SC'!I19) -> 0 | I18: =SUM('FY13 sampling by SC'!J19) -> 0 | J18: =SUM('FY13 sampling by SC'!B19) -> 24000 | K18: =SUM('FY13 sampling by SC'!C19) -> 4399 | L18: =SUM('FY13 sampling by SC'!D19) -> 0 | M18: =SUM('FY13 sampling by SC'!K19) -> 21212.055 | N18: =SUM('FY13 sampling by SC'!L19) -> 2902.04
A19: MA | C19: =D19+G19+J19+M19 -> 0 | D19: 0 | E19: 0 | F19: 0 | G19: 0 | H19: 0 | I19: 0 | J19: 0 | K19: 0 | L19: 0 | M19: 0 | N19: 0
A20: MD | C20: =D20+G20+J20+M20 -> 235329.13 | D20: =SUM('FY13 sampling by SC'!E20) -> 11900 | E20: =SUM('FY13 sampling by SC'!F20) -> 21524 | F20: =SUM('FY13 sampling by SC'!G20) -> 0 | G20: =SUM('FY13 sampling by SC'!H20) -> 0 | H20: =SUM('FY13 sampling by SC'!I20) -> 0 | I20: =SUM('FY13 sampling by SC'!J20) -> 0 | J20: =SUM('FY13 sampling by SC'!B20) -> 185000 | K20: =SUM('FY13 sampling by SC'!C20) -> 74791 | L20: =SUM('FY13 sampling by SC'!D20) -> 15300 | M20: =SUM('FY13 sampling by SC'!K20) -> 38429.131 | N20: =SUM('FY13 sampling by SC'!L20) -> 5804.08
A21: ME | C21: =D21+G21+J21+M21 -> 0 | D21: 0 | E21: 0 | F21: 0 | G21: 0 | H21: 0 | I21: 0 | J21: 0 | K21: 0 | L21: 0 | M21: 0 | N21: 0
A22: MI | C22: =D22+G22+J22+M22 -> 97000 | D22: =SUM('FY13 sampling by SC'!E21) -> 0 | E22: =SUM('FY13 sampling by SC'!F21) -> 0 | F22: =SUM('FY13 sampling by SC'!G21) -> 0 | G22: =SUM('FY13 sampling by SC'!H21) -> 0 | H22: =SUM('FY13 sampling by SC'!I21) -> 0 | I22: =SUM('FY13 sampling by SC'!J21) -> 0 | J22: =SUM('FY13 sampling by SC'!B21) -> 97000 | K22: =SUM('FY13 sampling by SC'!C21) -> 39982 | L22: =SUM('FY13 sampling by SC'!D21) -> 16000 | M22: =SUM('FY13 sampling by SC'!K21) -> 0 | N22: =SUM('FY13 sampling by SC'!L21) -> 0
A23: MN | C23: =D23+G23+J23+M23 -> 46100 | D23: =SUM('FY13 sampling by SC'!E22) -> 0 | E23: =SUM('FY13 sampling by SC'!F22) -> 0 | F23: =SUM('FY13 sampling by SC'!G22) -> 0 | G23: =SUM('FY13 sampling by SC'!H22) -> 0 | H23: =SUM('FY13 sampling by SC'!I22) -> 0 | I23: =SUM('FY13 sampling by SC'!J22) -> 0 | J23: =SUM('FY13 sampling by SC'!B22) -> 46100 | K23: =SUM('FY13 sampling by SC'!C22) -> 24486.06 | L23: =SUM('FY13 sampling by SC'!D22) -> 4800 | M23: =SUM('FY13 sampling by SC'!K22) -> 0 | N23: =SUM('FY13 sampling by SC'!L22) -> 0
A24: MS | C24: =D24+G24+J24+M24 -> 235491.48 | D24: =SUM('FY13 sampling by SC'!E23) -> 0 | E24: =SUM('FY13 sampling by SC'!F23) -> 0 | F24: =SUM('FY13 sampling by SC'!G23) -> 0 | G24: =SUM('FY13 sampling by SC'!H23) -> 54000 | H24: =SUM('FY13 sampling by SC'!I23) -> 24486 | I24: =SUM('FY13 sampling by SC'!J23) -> 3150 | J24: =SUM('FY13 sampling by SC'!B23) -> 164100 | K24: =SUM('FY13 sampling by SC'!C23) -> 70392.1 | L24: =SUM('FY13 sampling by SC'!D23) -> 0 | M24: =SUM('FY13 sampling by SC'!K23) -> 17391.481 | N24: =SUM('FY13 sampling by SC'!L23) -> 2902.04
A25: MO | C25: =D25+G25+J25+M25 -> 168900 | D25: =SUM('FY13 sampling by SC'!E24) -> 168900 | E25: =SUM('FY13 sampling by SC'!F24) -> 68060 | F25: =SUM('FY13 sampling by SC'!G24) -> 0 | G25: =SUM('FY13 sampling by SC'!H24) -> 0 | H25: =SUM('FY13 sampling by SC'!I24) -> 0 | I25: =SUM('FY13 sampling by SC'!J24) -> 0 | J25: =SUM('FY13 sampling by SC'!B24) -> 0 | K25: =SUM('FY13 sampling by SC'!C24) -> 0 | L25: =SUM('FY13 sampling by SC'!D24) -> 0 | M25: =SUM('FY13 sampling by SC'!K24) -> 0 | N25: =SUM('FY13 sampling by SC'!L24) -> 0
A26: MT | C26: =D26+G26+J26+M26 -> 0 | D26: 0 | E26: 0 | F26: 0 | G26: 0 | H26: 0 | I26: 0 | J26: 0 | K26: 0 | L26: 0 | M26: 0 | N26: 0
A27: NE | C27: =D27+G27+J27+M27 -> 273236.47 | D27: =SUM('FY13 sampling by SC'!E25) -> 0 | E27: =SUM('FY13 sampling by SC'!F25) -> 0 | F27: =SUM('FY13 sampling by SC'!G25) -> 0 | G27: =SUM('FY13 sampling by SC'!H25) -> 0 | H27: =SUM('FY13 sampling by SC'!I25) -> 0 | I27: =SUM('FY13 sampling by SC'!J25) -> 0 | J27: =SUM('FY13 sampling by SC'!B25) -> 230700 | K27: =SUM('FY13 sampling by SC'!C25) -> 99332.19 | L27: =SUM('FY13 sampling by SC'!D25) -> 12093 | M27: =SUM('FY13 sampling by SC'!K25) -> 42536.47 | N27: =SUM('FY13 sampling by SC'!L25) -> 5804.08
A28: NV | C28: =D28+G28+J28+M28 -> 62800 | D28: =SUM('FY13 sampling by SC'!E26) -> 0 | E28: =SUM('FY13 sampling by SC'!F26) -> 0 | F28: =SUM('FY13 sampling by SC'!G26) -> 0 | G28: =SUM('FY13 sampling by SC'!H26) -> 0 | H28: =SUM('FY13 sampling by SC'!I26) -> 0 | I28: =SUM('FY13 sampling by SC'!J26) -> 0 | J28: =SUM('FY13 sampling by SC'!B26) -> 62800 | K28: =SUM('FY13 sampling by SC'!C26) -> 30410.1 | L28: =SUM('FY13 sampling by SC'!D26) -> 0 | M28: =SUM('FY13 sampling by SC'!K26) -> 0 | N28: =SUM('FY13 sampling by SC'!L26) -> 0
A29: NH | C29: =D29+G29+J29+M29 -> 0 | D29: 0 | E29: 0 | F29: 0 | G29: 0 | H29: 0 | I29: 0 | J29: 0 | K29: 0 | L29: 0 | M29: 0 | N29: 0
A30: NJ | C30: =D30+G30+J30+M30 -> 62800 | D30: =SUM('FY13 sampling by SC'!E27) -> 0 | E30: =SUM('FY13 sampling by SC'!F27) -> 0 | F30: =SUM('FY13 sampling by SC'!G27) -> 0 | G30: =SUM('FY13 sampling by SC'!H27) -> 0 | H30: =SUM('FY13 sampling by SC'!I27) -> 0 | I30: =SUM('FY13 sampling by SC'!J27) -> 0 | J30: =SUM('FY13 sampling by SC'!B27) -> 62800 | K30: =SUM('FY13 sampling by SC'!C27) -> 24486 | L30: =SUM('FY13 sampling by SC'!D27) -> 0 | M30: =SUM('FY13 sampling by SC'!K27) -> 0 | N30: =SUM('FY13 sampling by SC'!L27) -> 0
A31: NM | C31: =D31+G31+J31+M31 -> 119712.62 | D31: =SUM('FY13 sampling by SC'!E28) -> 0 | E31: =SUM('FY13 sampling by SC'!F28) -> 0 | F31: =SUM('FY13 sampling by SC'!G28) -> 0 | G31: =SUM('FY13 sampling by SC'!H28) -> 0 | H31: =SUM('FY13 sampling by SC'!I28) -> 0 | I31: =SUM('FY13 sampling by SC'!J28) -> 0 | J31: =SUM('FY13 sampling by SC'!B28) -> 96200 | K31: =SUM('FY13 sampling by SC'!C28) -> 27195.83 | L31: =SUM('FY13 sampling by SC'!D28) -> 0 | M31: =SUM('FY13 sampling by SC'!K28) -> 23512.619 | N31: =SUM('FY13 sampling by SC'!L28) -> 2902.04
A32: NY | C32: =D32+G32+J32+M32 -> 247913.87 | D32: =SUM('FY13 sampling by SC'!E29) -> 54400 | E32: =SUM('FY13 sampling by SC'!F29) -> 24486 | F32: =SUM('FY13 sampling by SC'!G29) -> 0 | G32: =SUM('FY13 sampling by SC'!H29) -> 66400 | H32: =SUM('FY13 sampling by SC'!I29) -> 24486 | I32: =SUM('FY13 sampling by SC'!J29) -> 0 | J32: =SUM('FY13 sampling by SC'!B29) -> 111600 | K32: =SUM('FY13 sampling by SC'!C29) -> 39982 | L32: =SUM('FY13 sampling by SC'!D29) -> 15496 | M32: =SUM('FY13 sampling by SC'!K29) -> 15513.874 | N32: =SUM('FY13 sampling by SC'!L29) -> 2902.04
A33: NC | C33: =D33+G33+J33+M33 -> 257524.62 | D33: =SUM('FY13 sampling by SC'!E30) -> 0 | E33: =SUM('FY13 sampling by SC'!F30) -> 0 | F33: =SUM('FY13 sampling by SC'!G30) -> 0 | G33: =SUM('FY13 sampling by SC'!H30) -> 0 | H33: =SUM('FY13 sampling by SC'!I30) -> 0 | I33: =SUM('FY13 sampling by SC'!J30) -> 0 | J33: =SUM('FY13 sampling by SC'!B30) -> 229900 | K33: =SUM('FY13 sampling by SC'!C30) -> 110374.1 | L33: =SUM('FY13 sampling by SC'!D30) -> 14628 | M33: =SUM('FY13 sampling by SC'!K30) -> 27624.617 | N33: =SUM('FY13 sampling by SC'!L30) -> 5804.08
A34: ND | C34: =D34+G34+J34+M34 -> 0 | D34: =SUM('FY13 sampling by SC'!E31) -> 0 | E34: =SUM('FY13 sampling by SC'!F31) -> 0 | F34: =SUM('FY13 sampling by SC'!G31) -> 0 | G34: =SUM('FY13 sampling by SC'!H31) -> 0 | H34: =SUM('FY13 sampling by SC'!I31) -> 0 | I34: =SUM('FY13 sampling by SC'!J31) -> 0 | J34: =SUM('FY13 sampling by SC'!B31) -> 0 | K34: =SUM('FY13 sampling by SC'!C31) -> 0 | L34: =SUM('FY13 sampling by SC'!D31) -> 0 | M34: =SUM('FY13 sampling by SC'!K31) -> 0 | N34: =SUM('FY13 sampling by SC'!L31) -> 0
A35: OH | C35: =D35+G35+J35+M35 -> 107720.4 | D35: =SUM('FY13 sampling by SC'!E32) -> 0 | E35: =SUM('FY13 sampling by SC'!F32) -> 0 | F35: =SUM('FY13 sampling by SC'!G32) -> 0 | G35: =SUM('FY13 sampling by SC'!H32) -> 0 | H35: =SUM('FY13 sampling by SC'!I32) -> 0 | I35: =SUM('FY13 sampling by SC'!J32) -> 0 | J35: =SUM('FY13 sampling by SC'!B32) -> 83300 | K35: =SUM('FY13 sampling by SC'!C32) -> 30410.1 | L35: =SUM('FY13 sampling by SC'!D32) -> 0 | M35: =SUM('FY13 sampling by SC'!K32) -> 24420.399 | N35: =SUM('FY13 sampling by SC'!L32) -> 2902.04
A36: OK | C36: =D36+G36+J36+M36 -> 0 | D36: =SUM('FY13 sampling by SC'!E33) -> 0 | E36: =SUM('FY13 sampling by SC'!F33) -> 0 | F36: =SUM('FY13 sampling by SC'!G33) -> 0 | G36: =SUM('FY13 sampling by SC'!H33) -> 0 | H36: =SUM('FY13 sampling by SC'!I33) -> 0 | I36: =SUM('FY13 sampling by SC'!J33) -> 0 | J36: =SUM('FY13 sampling by SC'!B33) -> 0 | K36: =SUM('FY13 sampling by SC'!C33) -> 0 | L36: =SUM('FY13 sampling by SC'!D33) -> 0 | M36: =SUM('FY13 sampling by SC'!K33) -> 0 | N36: =SUM('FY13 sampling by SC'!L33) -> 0
A37: OR | C37: =D37+G37+J37+M37 -> 391209.99 | D37: =SUM('FY13 sampling by SC'!E34) -> 63400 | E37: =SUM('FY13 sampling by SC'!F34) -> 21524 | F37: =SUM('FY13 sampling by SC'!G34) -> 0 | G37: =SUM('FY13 sampling by SC'!H34) -> 0 | H37: =SUM('FY13 sampling by SC'!I34) -> 0 | I37: =SUM('FY13 sampling by SC'!J34) -> 0 | J37: =SUM('FY13 sampling by SC'!B34) -> 284900 | K37: =SUM('FY13 sampling by SC'!C34) -> 114828 | L37: =SUM('FY13 sampling by SC'!D34) -> 44250 | M37: =SUM('FY13 sampling by SC'!K34) -> 42909.993 | N37: =SUM('FY13 sampling by SC'!L34) -> 8706.12
A38: PA | C38: =D38+G38+J38+M38 -> 0 | D38: 0 | E38: 0 | F38: 0 | G38: 0 | H38: 0 | I38: 0 | J38: 0 | K38: 0 | L38: 0 | M38: 0 | N38: 0
A39: SC | C39: =D39+G39+J39+M39 -> 134509.4 | D39: =SUM('FY13 sampling by SC'!E35) -> 0 | E39: =SUM('FY13 sampling by SC'!F35) -> 0 | F39: =SUM('FY13 sampling by SC'!G35) -> 0 | G39: =SUM('FY13 sampling by SC'!H35) -> 0 | H39: =SUM('FY13 sampling by SC'!I35) -> 0 | I39: =SUM('FY13 sampling by SC'!J35) -> 0 | J39: =SUM('FY13 sampling by SC'!B35) -> 121400 | K39: =SUM('FY13 sampling by SC'!C35) -> 34809.31 | L39: =SUM('FY13 sampling by SC'!D35) -> 17212 | M39: =SUM('FY13 sampling by SC'!K35) -> 13109.4 | N39: =SUM('FY13 sampling by SC'!L35) -> 2902.04
A40: SD | C40: =D40+G40+J40+M40 -> 0 | D40: 0 | E40: 0 | F40: 0 | G40: 0 | H40: 0 | I40: 0 | J40: 0 | K40: 0 | L40: 0 | M40: 0 | N40: 0
A41: TN | C41: =D41+G41+J41+M41 -> 0 | D41: 0 | E41: 0 | F41: 0 | G41: 0 | H41: 0 | I41: 0 | J41: 0 | K41: 0 | L41: 0 | M41: 0 | N41: 0
A42: TX | C42: =D42+G42+J42+M42 -> 439159.89 | D42: =SUM('FY13 sampling by SC'!E36) -> 75000 | E42: =SUM('FY13 sampling by SC'!F36) -> 21559 | F42: =SUM('FY13 sampling by SC'!G36) -> 0 | G42: =SUM('FY13 sampling by SC'!H36) -> 59800 | H42: =SUM('FY13 sampling by SC'!I36) -> 24486 | I42: =SUM('FY13 sampling by SC'!J36) -> 0 | J42: =SUM('FY13 sampling by SC'!B36) -> 262200 | K42: =SUM('FY13 sampling by SC'!C36) -> 74811 | L42: =SUM('FY13 sampling by SC'!D36) -> 0 | M42: =SUM('FY13 sampling by SC'!K36) -> 42159.887 | N42: =SUM('FY13 sampling by SC'!L36) -> 5804.08
A43: UT | C43: =D43+G43+J43+M43 -> 172959.99 | D43: =SUM('FY13 sampling by SC'!E37) -> 0 | E43: =SUM('FY13 sampling by SC'!F37) -> 0 | F43: =SUM('FY13 sampling by SC'!G37) -> 0 | G43: =SUM('FY13 sampling by SC'!H37) -> 0 | H43: =SUM('FY13 sampling by SC'!I37) -> 0 | I43: =SUM('FY13 sampling by SC'!J37) -> 0 | J43: =SUM('FY13 sampling by SC'!B37) -> 153000 | K43: =SUM('FY13 sampling by SC'!C37) -> 74791.31 | L43: =SUM('FY13 sampling by SC'!D37) -> 15913 | M43: =SUM('FY13 sampling by SC'!K37) -> 19959.987 | N43: =SUM('FY13 sampling by SC'!L37) -> 5804.08
A44: VA | C44: =D44+G44+J44+M44 -> 0 | D44: 0 | E44: 0 | F44: 0 | G44: 0 | H44: 0 | I44: 0 | J44: 0 | K44: 0 | L44: 0 | M44: 0 | N44: 0
A45: WA | C45: =D45+G45+J45+M45 -> 267286.23 | D45: =SUM('FY13 sampling by SC'!E38) -> 0 | E45: =SUM('FY13 sampling by SC'!F38) -> 0 | F45: =SUM('FY13 sampling by SC'!G38) -> 0 | G45: =SUM('FY13 sampling by SC'!H38) -> 0 | H45: =SUM('FY13 sampling by SC'!I38) -> 0 | I45: =SUM('FY13 sampling by SC'!J38) -> 0 | J45: =SUM('FY13 sampling by SC'!B38) -> 240300 | K45: =SUM('FY13 sampling by SC'!C38) -> 74846.13 | L45: =SUM('FY13 sampling by SC'!D38) -> 15518 | M45: =SUM('FY13 sampling by SC'!K38) -> 26986.233 | N45: =SUM('FY13 sampling by SC'!L38) -> 5804.08
A46: WI | C46: =D46+G46+J46+M46 -> 47331.117 | D46: =SUM('FY13 sampling by SC'!E39) -> 0 | E46: =SUM('FY13 sampling by SC'!F39) -> 0 | F46: =SUM('FY13 sampling by SC'!G39) -> 0 | G46: =SUM('FY13 sampling by SC'!H39) -> 0 | H46: =SUM('FY13 sampling by SC'!I39) -> 0 | I46: =SUM('FY13 sampling by SC'!J39) -> 0 | J46: =SUM('FY13 sampling by SC'!B39) -> 25300 | K46: =SUM('FY13 sampling by SC'!C39) -> 4399.21 | L46: =SUM('FY13 sampling by SC'!D39) -> 0 | M46: =SUM('FY13 sampling by SC'!K39) -> 22031.117 | N46: =SUM('FY13 sampling by SC'!L39) -> 2902.04
A47: WV | C47: =D47+G47+J47+M47 -> 0 | D47: 0 | E47: 0 | F47: 0 | G47: 0 | H47: 0 | I47: 0 | J47: 0 | K47: 0 | L47: 0 | M47: 0 | N47: 0
A48: WY | C48: =D48+G48+J48+M48 -> 148779.72 | D48: =SUM('FY13 sampling by SC'!E40) -> 0 | E48: =SUM('FY13 sampling by SC'!F40) -> 0 | F48: =SUM('FY13 sampling by SC'!G40) -> 0 | G48: =SUM('FY13 sampling by SC'!H40) -> 0 | H48: =SUM('FY13 sampling by SC'!I40) -> 0 | I48: =SUM('FY13 sampling by SC'!J40) -> 0 | J48: =SUM('FY13 sampling by SC'!B40) -> 122300 | K48: =SUM('FY13 sampling by SC'!C40) -> 28940.09 | L48: =SUM('FY13 sampling by SC'!D40) -> 0 | M48: =SUM('FY13 sampling by SC'!K40) -> 26479.718 | N48: =SUM('FY13 sampling by SC'!L40) -> 2902.04
A54: Placeholder for SU Funds
A55: FY13 tasks w/ FY12 funds
A56: HQ Account
A57: Column Totals | B57: =SUM(B2:B56) -> 0 | C57: =SUM(C2:C56) -> 6766744.9 | D57: =SUM(D2:D56) -> 1445800 | E57: =SUM(E2:E56) -> 560415.56 | F57: =SUM(F2:F56) -> 56760 | G57: =SUM(G2:G56) -> 233900 | H57: =SUM(H2:H56) -> 97944.06 | I57: =SUM(I2:I56) -> 3150 | ... O57: =SUM(O2:O56) -> 0
A60: Data anal.+reports | C60: =O57 -> 0
A61: Lab | C61: =E57+H57+K57+N57 -> 2446212.5
A62: Gaging | C62: =F57+I57+L57 -> 331936
A63: Sampling (minus lab) | C63: =D57+GF57+J57+M57 -> 6532844.9
A64: Total | C64: =SUM(C60:C63) -> 9310993.3
A65: Total to WSCs | C65: =C64-C61 -> 6864780.9
A70: Lab | C70: =C61 -> 2446212.5
A71: Placeholders
A72: Eco contracts reserve | C72: 10000
A73: Eco equipment reserve | C73: 6000
A74: Eco electroshocking training reserve | C74: 35000
A75: Coordinators
A76: HQ Account
A77: Total | C77: =SUM(C70:C76) -> 2497212.5
A79: TARGET | C79: 11200000

Sheet Targets sorted by Region
A1: Science Center | B1: SW Monitoring and Status Assessment Team | C1: SW Monitoring Data Collection Sum | D1: NASQAN Data Collection | E1: NASQAN Sample Analyses | F1: NASQAN Stream Gaging | G1: NMN Data Collection | H1: NMN Sample Analyses | I1: NMN Stream Gaging | J1: NAWQA SW Status QW Data Collection | K1: NAWQA SW Status QW Sample Analyses | L1: NAWQA SW Status Stream Gaging | M1: NAWQA ECO Data Collection | N1: NAWQA ECO Sample Analyses | O1: NAWQA SWS&T Reports
A2: CT | C2: =D2+G2+J2+M2 -> 229488.9 | D2: =SUM('FY13 sampling by SC'!E10) -> 0 | E2: =SUM('FY13 sampling by SC'!F10) -> 0 | F2: =SUM('FY13 sampling by SC'!G10) -> 0 | G2: =SUM('FY13 sampling by SC'!H10) -> 0 | H2: =SUM('FY13 sampling by SC'!I10) -> 0 | I2: =SUM('FY13 sampling by SC'!J10) -> 0 | J2: =SUM('FY13 sampling by SC'!B10) -> 197100 | K2: =SUM('FY13 sampling by SC'!C10) -> 74846.13 | L2: =SUM('FY13 sampling by SC'!D10) -> 0 | M2: =SUM('FY13 sampling by SC'!K10) -> 32388.899 | N2: =SUM('FY13 sampling by SC'!L10) -> 5804.08
A3: IL | C3: =D3+G3+J3+M3 -> 85400 | D3: =SUM('FY13 sampling by SC'!E14) -> 0 | E3: =SUM('FY13 sampling by SC'!F14) -> 0 | F3: =SUM('FY13 sampling by SC'!G14) -> 0 | G3: =SUM('FY13 sampling by SC'!H14) -> 0 | H3: =SUM('FY13 sampling by SC'!I14) -> 0 | I3: =SUM('FY13 sampling by SC'!J14) -> 0 | J3: =SUM('FY13 sampling by SC'!B14) -> 85400 | K3: =SUM('FY13 sampling by SC'!C14) -> 24486 | L3: =SUM('FY13 sampling by SC'!D14) -> 0 | M3: =SUM('FY13 sampling by SC'!K14) -> 0 | N3: =SUM('FY13 sampling by SC'!L14) -> 0
A4: IN | C4: =D4+G4+J4+M4 -> 216351.66 | D4: =SUM('FY13 sampling by SC'!E15) -> 0 | E4: =SUM('FY13 sampling by SC'!F15) -> 0 | F4: =SUM('FY13 sampling by SC'!G15) -> 0 | G4: =SUM('FY13 sampling by SC'!H15) -> 0 | H4: =SUM('FY13 sampling by SC'!I15) -> 0 | I4: =SUM('FY13 sampling by SC'!J15) -> 0 | J4: =SUM('FY13 sampling by SC'!B15) -> 202400 | K4: =SUM('FY13 sampling by SC'!C15) -> 70392.1 | L4: =SUM('FY13 sampling by SC'!D15) -> 10262 | M4: =SUM('FY13 sampling by SC'!K15) -> 13951.655 | N4: =SUM('FY13 sampling by SC'!L15) -> 2902.04
A5: KY | C5: =D5+G5+J5+M5 -> 208500 | D5: =SUM('FY13 sampling by SC'!E18) -> 208500 | E5: =SUM('FY13 sampling by SC'!F18) -> 97944.24 | F5: =SUM('FY13 sampling by SC'!G18) -> 27000 | G5: =SUM('FY13 sampling by SC'!H18) -> 0 | H5: =SUM('FY13 sampling by SC'!I18) -> 0 | I5: =SUM('FY13 sampling by SC'!J18) -> 0 | J5: =SUM('FY13 sampling by SC'!B18) -> 0 | K5: =SUM('FY13 sampling by SC'!C18) -> 0 | L5: =SUM('FY13 sampling by SC'!D18) -> 0 | M5: =SUM('FY13 sampling by SC'!K18) -> 0 | N5: =SUM('FY13 sampling by SC'!L18) -> 0
A6: MA | C6: =D6+G6+J6+M6 -> 0 | D6: 0 | E6: 0 | F6: 0 | G6: 0 | H6: 0 | I6: 0 | J6: 0 | K6: 0 | L6: 0 | M6: 0 | N6: 0
A7: MD | C7: =D7+G7+J7+M7 -> 235329.13 | D7: =SUM('FY13 sampling by SC'!E20) -> 11900 | E7: =SUM('FY13 sampling by SC'!F20) -> 21524 | F7: =SUM('FY13 sampling by SC'!G20) -> 0 | G7: =SUM('FY13 sampling by SC'!H20) -> 0 | H7: =SUM('FY13 sampling by SC'!I20) -> 0 | I7: =SUM('FY13 sampling by SC'!J20) -> 0 | J7: =SUM('FY13 sampling by SC'!B20) -> 185000 | K7: =SUM('FY13 sampling by SC'!C20) -> 74791 | L7: =SUM('FY13 sampling by SC'!D20) -> 15300 | M7: =SUM('FY13 sampling by SC'!K20) -> 38429.131 | N7: =SUM('FY13 sampling by SC'!L20) -> 5804.08
A8: ME | C8: =D8+G8+J8+M8 -> 0 | D8: 0 | E8: 0 | F8: 0 | G8: 0 | H8: 0 | I8: 0 | J8: 0 | K8: 0 | L8: 0 | M8: 0 | N8: 0
A9: MI | C9: =D9+G9+J9+M9 -> 97000 | D9: =SUM('FY13 sampling by SC'!E21) -> 0 | E9: =SUM('FY13 sampling by SC'!F21) -> 0 | F9: =SUM('FY13 sampling by SC'!G21) -> 0 | G9: =SUM('FY13 sampling by SC'!H21) -> 0 | H9: =SUM('FY13 sampling by SC'!I21) -> 0 | I9: =SUM('FY13 sampling by SC'!J21) -> 0 | J9: =SUM('FY13 sampling by SC'!B21) -> 97000 | K9: =SUM('FY13 sampling by SC'!C21) -> 39982 | L9: =SUM('FY13 sampling by SC'!D21) -> 16000 | M9: =SUM('FY13 sampling by SC'!K21) -> 0 | N9: =SUM('FY13 sampling by SC'!L21) -> 0
A10: NH | C10: =D10+G10+J10+M10 -> 0 | D10: 0 | E10: 0 | F10: 0 | G10: 0 | H10: 0 | I10: 0 | J10: 0 | K10: 0 | L10: 0 | M10: 0 | N10: 0
A11: NJ | C11: =D11+G11+J11+M11 -> 62800 | D11: =SUM('FY13 sampling by SC'!E27) -> 0 | E11: =SUM('FY13 sampling by SC'!F27) -> 0 | F11: =SUM('FY13 sampling by SC'!G27) -> 0 | G11: =SUM('FY13 sampling by SC'!H27) -> 0 | H11: =SUM('FY13 sampling by SC'!I27) -> 0 | I11: =SUM('FY13 sampling by SC'!J27) -> 0 | J11: =SUM('FY13 sampling by SC'!B27) -> 62800 | K11: =SUM('FY13 sampling by SC'!C27) -> 24486 | L11: =SUM('FY13 sampling by SC'!D27) -> 0 | M11: =SUM('FY13 sampling by SC'!K27) -> 0 | N11: =SUM('FY13 sampling by SC'!L27) -> 0
A12: NY | C12: =D12+G12+J12+M12 -> 247913.87 | D12: =SUM('FY13 sampling by SC'!E29) -> 54400 | E12: =SUM('FY13 sampling by SC'!F29) -> 24486 | F12: =SUM('FY13 sampling by SC'!G29) -> 0 | G12: =SUM('FY13 sampling by SC'!H29) -> 66400 | H12: =SUM('FY13 sampling by SC'!I29) -> 24486 | I12: =SUM('FY13 sampling by SC'!J29) -> 0 | J12: =SUM('FY13 sampling by SC'!B29) -> 111600 | K12: =SUM('FY13 sampling by SC'!C29) -> 39982 | L12: =SUM('FY13 sampling by SC'!D29) -> 15496 | M12: =SUM('FY13 sampling by SC'!K29) -> 15513.874 | N12: =SUM('FY13 sampling by SC'!L29) -> 2902.04
A13: OH | C13: =D13+G13+J13+M13 -> 107720.4 | D13: =SUM('FY13 sampling by SC'!E32) -> 0 | E13: =SUM('FY13 sampling by SC'!F32) -> 0 | F13: =SUM('FY13 sampling by SC'!G32) -> 0 | G13: =SUM('FY13 sampling by SC'!H32) -> 0 | H13: =SUM('FY13 sampling by SC'!I32) -> 0 | I13: =SUM('FY13 sampling by SC'!J32) -> 0 | J13: =SUM('FY13 sampling by SC'!B32) -> 83300 | K13: =SUM('FY13 sampling by SC'!C32) -> 30410.1 | L13: =SUM('FY13 sampling by SC'!D32) -> 0 | M13: =SUM('FY13 sampling by SC'!K32) -> 24420.399 | N13: =SUM('FY13 sampling by SC'!L32) -> 2902.04
A14: PA | C14: =D14+G14+J14+M14 -> 0 | D14: 0 | E14: 0 | F14: 0 | G14: 0 | H14: 0 | I14: 0 | J14: 0 | K14: 0 | L14: 0 | M14: 0 | N14: 0
A15: VA | C15: =D15+G15+J15+M15 -> 0 | D15: 0 | E15: 0 | F15: 0 | G15: 0 | H15: 0 | I15: 0 | J15: 0 | K15: 0 | L15: 0 | M15: 0 | N15: 0
A16: WI | C16: =D16+G16+J16+M16 -> 47331.117 | D16: =SUM('FY13 sampling by SC'!E39) -> 0 | E16: =SUM('FY13 sampling by SC'!F39) -> 0 | F16: =SUM('FY13 sampling by SC'!G39) -> 0 | G16: =SUM('FY13 sampling by SC'!H39) -> 0 | H16: =SUM('FY13 sampling by SC'!I39) -> 0 | I16: =SUM('FY13 sampling by SC'!J39) -> 0 | J16: =SUM('FY13 sampling by SC'!B39) -> 25300 | K16: =SUM('FY13 sampling by SC'!C39) -> 4399.21 | L16: =SUM('FY13 sampling by SC'!D39) -> 0 | M16: =SUM('FY13 sampling by SC'!K39) -> 22031.117 | N16: =SUM('FY13 sampling by SC'!L39) -> 2902.04
A17: WV | C17: =D17+G17+J17+M17 -> 0 | D17: 0 | E17: 0 | F17: 0 | G17: 0 | H17: 0 | I17: 0 | J17: 0 | K17: 0 | L17: 0 | M17: 0 | N17: 0
A18: AR | C18: =D18+G18+J18+M18 -> 143160 | D18: =SUM('FY13 sampling by SC'!E7) -> 62100 | E18: =SUM('FY13 sampling by SC'!F7) -> 24486 | F18: =SUM('FY13 sampling by SC'!G7) -> 5510 | G18: =SUM('FY13 sampling by SC'!H7) -> 0 | H18: =SUM('FY13 sampling by SC'!I7) -> 0 | I18: =SUM('FY13 sampling by SC'!J7) -> 0 | J18: =SUM('FY13 sampling by SC'!B7) -> 38600 | K18: =SUM('FY13 sampling by SC'!C7) -> 8853 | L18: =SUM('FY13 sampling by SC'!D7) -> 0 | M18: =SUM('FY13 sampling by SC'!K7) -> 42459.999 | N18: =SUM('FY13 sampling by SC'!L7) -> 5804.08
A19: CO | C19: =D19+G19+J19+M19 -> 262011.33 | D19: =SUM('FY13 sampling by SC'!E9) -> 0 | E19: =SUM('FY13 sampling by SC'!F9) -> 0 | F19: =SUM('FY13 sampling by SC'!G9) -> 0 | G19: =SUM('FY13 sampling by SC'!H9) -> 0 | H19: =SUM('FY13 sampling by SC'!I9) -> 0 | I19: =SUM('FY13 sampling by SC'!J9) -> 0 | J19: =SUM('FY13 sampling by SC'!B9) -> 248300 | K19: =SUM('FY13 sampling by SC'!C9) -> 100802.2 | L19: =SUM('FY13 sampling by SC'!D9) -> 0 | M19: =SUM('FY13 sampling by SC'!K9) -> 13711.333 | N19: =SUM('FY13 sampling by SC'!L9) -> 2902.04
A20: IA | C20: =D20+G20+J20+M20 -> 323000.81 | D20: =SUM('FY13 sampling by SC'!E16) -> 130100 | E20: =SUM('FY13 sampling by SC'!F16) -> 48972.12 | F20: =SUM('FY13 sampling by SC'!G16) -> 0 | G20: =SUM('FY13 sampling by SC'!H16) -> 0 | H20: =SUM('FY13 sampling by SC'!I16) -> 0 | I20: =SUM('FY13 sampling by SC'!J16) -> 0 | J20: =SUM('FY13 sampling by SC'!B16) -> 175800 | K20: =SUM('FY13 sampling by SC'!C16) -> 88954.12 | L20: =SUM('FY13 sampling by SC'!D16) -> 15008 | M20: =SUM('FY13 sampling by SC'!K16) -> 17100.813 | N20: =SUM('FY13 sampling by SC'!L16) -> 2902.04
A21: KS | C21: =D21+G21+J21+M21 -> 0 | D21: =SUM('FY13 sampling by SC'!E17) -> 0 | E21: =SUM('FY13 sampling by SC'!F17) -> 0 | F21: =SUM('FY13 sampling by SC'!G17) -> 0 | G21: =SUM('FY13 sampling by SC'!H17) -> 0 | H21: =SUM('FY13 sampling by SC'!I17) -> 0 | I21: =SUM('FY13 sampling by SC'!J17) -> 0 | J21: =SUM('FY13 sampling by SC'!B17) -> 0 | K21: =SUM('FY13 sampling by SC'!C17) -> 0 | L21: =SUM('FY13 sampling by SC'!D17) -> 0 | M21: =SUM('FY13 sampling by SC'!K17) -> 0 | N21: =SUM('FY13 sampling by SC'!L17) -> 0
A22: LA | C22: =D22+G22+J22+M22 -> 447912.06 | D22: =SUM('FY13 sampling by SC'!E19) -> 402700 | E22: =SUM('FY13 sampling by SC'!F19) -> 152895 | F22: =SUM('FY13 sampling by SC'!G19) -> 0 | G22: =SUM('FY13 sampling by SC'!H19) -> 0 | H22: =SUM('FY13 sampling by SC'!I19) -> 0 | I22: =SUM('FY13 sampling by SC'!J19) -> 0 | J22: =SUM('FY13 sampling by SC'!B19) -> 24000 | K22: =SUM('FY13 sampling by SC'!C19) -> 4399 | L22: =SUM('FY13 sampling by SC'!D19) -> 0 | M22: =SUM('FY13 sampling by SC'!K19) -> 21212.055 | N22: =SUM('FY13 sampling by SC'!L19) -> 2902.04
A23: MN | C23: =D23+G23+J23+M23 -> 46100 | D23: =SUM('FY13 sampling by SC'!E22) -> 0 | E23: =SUM('FY13 sampling by SC'!F22) -> 0 | F23: =SUM('FY13 sampling by SC'!G22) -> 0 | G23: =SUM('FY13 sampling by SC'!H22) -> 0 | H23: =SUM('FY13 sampling by SC'!I22) -> 0 | I23: =SUM('FY13 sampling by SC'!J22) -> 0 | J23: =SUM('FY13 sampling by SC'!B22) -> 46100 | K23: =SUM('FY13 sampling by SC'!C22) -> 24486.06 | L23: =SUM('FY13 sampling by SC'!D22) -> 4800 | M23: =SUM('FY13 sampling by SC'!K22) -> 0 | N23: =SUM('FY13 sampling by SC'!L22) -> 0
A24: MO | C24: =D24+G24+J24+M24 -> 168900 | D24: =SUM('FY13 sampling by SC'!E24) -> 168900 | E24: =SUM('FY13 sampling by SC'!F24) -> 68060 | F24: =SUM('FY13 sampling by SC'!G24) -> 0 | G24: =SUM('FY13 sampling by SC'!H24) -> 0 | H24: =SUM('FY13 sampling by SC'!I24) -> 0 | I24: =SUM('FY13 sampling by SC'!J24) -> 0 | J24: =SUM('FY13 sampling by SC'!B24) -> 0 | K24: =SUM('FY13 sampling by SC'!C24) -> 0 | L24: =SUM('FY13 sampling by SC'!D24) -> 0 | M24: =SUM('FY13 sampling by SC'!K24) -> 0 | N24: =SUM('FY13 sampling by SC'!L24) -> 0
A25: MT | C25: =D25+G25+J25+M25 -> 0 | D25: 0 | E25: 0 | F25: 0 | G25: 0 | H25: 0 | I25: 0 | J25: 0 | K25: 0 | L25: 0 | M25: 0 | N25: 0
A26: ND | C26: =D26+G26+J26+M26 -> 0 | D26: =SUM('FY13 sampling by SC'!E31) -> 0 | E26: =SUM('FY13 sampling by SC'!F31) -> 0 | F26: =SUM('FY13 sampling by SC'!G31) -> 0 | G26: =SUM('FY13 sampling by SC'!H31) -> 0 | H26: =SUM('FY13 sampling by SC'!I31) -> 0 | I26: =SUM('FY13 sampling by SC'!J31) -> 0 | J26: =SUM('FY13 sampling by SC'!B31) -> 0 | K26: =SUM('FY13 sampling by SC'!C31) -> 0 | L26: =SUM('FY13 sampling by SC'!D31) -> 0 | M26: =SUM('FY13 sampling by SC'!K31) -> 0 | N26: =SUM('FY13 sampling by SC'!L31) -> 0
A27: NE | C27: =D27+G27+J27+M27 -> 273236.47 | D27: =SUM('FY13 sampling by SC'!E25) -> 0 | E27: =SUM('FY13 sampling by SC'!F25) -> 0 | F27: =SUM('FY13 sampling by SC'!G25) -> 0 | G27: =SUM('FY13 sampling by SC'!H25) -> 0 | H27: =SUM('FY13 sampling by SC'!I25) -> 0 | I27: =SUM('FY13 sampling by SC'!J25) -> 0 | J27: =SUM('FY13 sampling by SC'!B25) -> 230700 | K27: =SUM('FY13 sampling by SC'!C25) -> 99332.19 | L27: =SUM('FY13 sampling by SC'!D25) -> 12093 | M27: =SUM('FY13 sampling by SC'!K25) -> 42536.47 | N27: =SUM('FY13 sampling by SC'!L25) -> 5804.08
A28: NM | C28: =D28+G28+J28+M28 -> 119712.62 | D28: =SUM('FY13 sampling by SC'!E28) -> 0 | E28: =SUM('FY13 sampling by SC'!F28) -> 0 | F28: =SUM('FY13 sampling by SC'!G28) -> 0 | G28: =SUM('FY13 sampling by SC'!H28) -> 0 | H28: =SUM('FY13 sampling by SC'!I28) -> 0 | I28: =SUM('FY13 sampling by SC'!J28) -> 0 | J28: =SUM('FY13 sampling by SC'!B28) -> 96200 | K28: =SUM('FY13 sampling by SC'!C28) -> 27195.83 | L28: =SUM('FY13 sampling by SC'!D28) -> 0 | M28: =SUM('FY13 sampling by SC'!K28) -> 23512.619 | N28: =SUM('FY13 sampling by SC'!L28) -> 2902.04
A29: OK | C29: =D29+G29+J29+M29 -> 0 | D29: =SUM('FY13 sampling by SC'!E33) -> 0 | E29: =SUM('FY13 sampling by SC'!F33) -> 0 | F29: =SUM('FY13 sampling by SC'!G33) -> 0 | G29: =SUM('FY13 sampling by SC'!H33) -> 0 | H29: =SUM('FY13 sampling by SC'!I33) -> 0 | I29: =SUM('FY13 sampling by SC'!J33) -> 0 | J29: =SUM('FY13 sampling by SC'!B33) -> 0 | K29: =SUM('FY13 sampling by SC'!C33) -> 0 | L29: =SUM('FY13 sampling by SC'!D33) -> 0 | M29: =SUM('FY13 sampling by SC'!K33) -> 0 | N29: =SUM('FY13 sampling by SC'!L33) -> 0
A30: SD | C30: =D30+G30+J30+M30 -> 0 | D30: 0 | E30: 0 | F30: 0 | G30: 0 | H30: 0 | I30: 0 | J30: 0 | K30: 0 | L30: 0 | M30: 0 | N30: 0
A31: TX | C31: =D31+G31+J31+M31 -> 439159.89 | D31: =SUM('FY13 sampling by SC'!E36) -> 75000 | E31: =SUM('FY13 sampling by SC'!F36) -> 21559 | F31: =SUM('FY13 sampling by SC'!G36) -> 0 | G31: =SUM('FY13 sampling by SC'!H36) -> 59800 | H31: =SUM('FY13 sampling by SC'!I36) -> 24486 | I31: =SUM('FY13 sampling by SC'!J36) -> 0 | J31: =SUM('FY13 sampling by SC'!B36) -> 262200 | K31: =SUM('FY13 sampling by SC'!C36) -> 74811 | L31: =SUM('FY13 sampling by SC'!D36) -> 0 | M31: =SUM('FY13 sampling by SC'!K36) -> 42159.887 | N31: =SUM('FY13 sampling by SC'!L36) -> 5804.08
A32: WY | C32: =D32+G32+J32+M32 -> 148779.72 | D32: =SUM('FY13 sampling by SC'!E40) -> 0 | E32: =SUM('FY13 sampling by SC'!F40) -> 0 | F32: =SUM('FY13 sampling by SC'!G40) -> 0 | G32: =SUM('FY13 sampling by SC'!H40) -> 0 | H32: =SUM('FY13 sampling by SC'!I40) -> 0 | I32: =SUM('FY13 sampling by SC'!J40) -> 0 | J32: =SUM('FY13 sampling by SC'!B40) -> 122300 | K32: =SUM('FY13 sampling by SC'!C40) -> 28940.09 | L32: =SUM('FY13 sampling by SC'!D40) -> 0 | M32: =SUM('FY13 sampling by SC'!K40) -> 26479.718 | N32: =SUM('FY13 sampling by SC'!L40) -> 2902.04
A33: AL | C33: =D33+G33+J33+M33 -> 261295.9 | D33: =SUM('FY13 sampling by SC'!E4) -> 77700 | E33: =SUM('FY13 sampling by SC'!F4) -> 24486 | F33: =SUM('FY13 sampling by SC'!G4) -> 0 | G33: =SUM('FY13 sampling by SC'!H4) -> 0 | H33: =SUM('FY13 sampling by SC'!I4) -> 0 | I33: =SUM('FY13 sampling by SC'!J4) -> 0 | J33: =SUM('FY13 sampling by SC'!B4) -> 170400 | K33: =SUM('FY13 sampling by SC'!C4) -> 70392 | L33: =SUM('FY13 sampling by SC'!D4) -> 16536 | M33: =SUM('FY13 sampling by SC'!K4) -> 13195.897 | N33: =SUM('FY13 sampling by SC'!L4) -> 2902.04
A34: FL | C34: =D34+G34+J34+M34 -> 53700 | D34: =SUM('FY13 sampling by SC'!E11) -> 0 | E34: =SUM('FY13 sampling by SC'!F11) -> 0 | F34: =SUM('FY13 sampling by SC'!G11) -> 0 | G34: =SUM('FY13 sampling by SC'!H11) -> 53700 | H34: =SUM('FY13 sampling by SC'!I11) -> 24486.06 | I34: =SUM('FY13 sampling by SC'!J11) -> 0 | J34: =SUM('FY13 sampling by SC'!B11) -> 0 | K34: =SUM('FY13 sampling by SC'!C11) -> 0 | L34: =SUM('FY13 sampling by SC'!D11) -> 0 | M34: =SUM('FY13 sampling by SC'!K11) -> 0 | N34: =SUM('FY13 sampling by SC'!L11) -> 0
A35: GA | C35: =D35+G35+J35+M35 -> 215021.56 | D35: =SUM('FY13 sampling by SC'!E12) -> 67200 | E35: =SUM('FY13 sampling by SC'!F12) -> 24486 | F35: =SUM('FY13 sampling by SC'!G12) -> 24250 | G35: =SUM('FY13 sampling by SC'!H12) -> 0 | H35: =SUM('FY13 sampling by SC'!I12) -> 0 | I35: =SUM('FY13 sampling by SC'!J12) -> 0 | J35: =SUM('FY13 sampling by SC'!B12) -> 121000 | K35: =SUM('FY13 sampling by SC'!C12) -> 44381 | L35: =SUM('FY13 sampling by SC'!D12) -> 14516 | M35: =SUM('FY13 sampling by SC'!K12) -> 26821.565 | N35: =SUM('FY13 sampling by SC'!L12) -> 5804.08
A36: MS | C36: =D36+G36+J36+M36 -> 235491.48 | D36: =SUM('FY13 sampling by SC'!E23) -> 0 | E36: =SUM('FY13 sampling by SC'!F23) -> 0 | F36: =SUM('FY13 sampling by SC'!G23) -> 0 | G36: =SUM('FY13 sampling by SC'!H23) -> 54000 | H36: =SUM('FY13 sampling by SC'!I23) -> 24486 | I36: =SUM('FY13 sampling by SC'!J23) -> 3150 | J36: =SUM('FY13 sampling by SC'!B23) -> 164100 | K36: =SUM('FY13 sampling by SC'!C23) -> 70392.1 | L36: =SUM('FY13 sampling by SC'!D23) -> 0 | M36: =SUM('FY13 sampling by SC'!K23) -> 17391.481 | N36: =SUM('FY13 sampling by SC'!L23) -> 2902.04
A37: NC | C37: =D37+G37+J37+M37 -> 257524.62 | D37: =SUM('FY13 sampling by SC'!E30) -> 0 | E37: =SUM('FY13 sampling by SC'!F30) -> 0 | F37: =SUM('FY13 sampling by SC'!G30) -> 0 | G37: =SUM('FY13 sampling by SC'!H30) -> 0 | H37: =SUM('FY13 sampling by SC'!I30) -> 0 | I37: =SUM('FY13 sampling by SC'!J30) -> 0 | J37: =SUM('FY13 sampling by SC'!B30) -> 229900 | K37: =SUM('FY13 sampling by SC'!C30) -> 110374.1 | L37: =SUM('FY13 sampling by SC'!D30) -> 14628 | M37: =SUM('FY13 sampling by SC'!K30) -> 27624.617 | N37: =SUM('FY13 sampling by SC'!L30) -> 5804.08
A38: SC | C38: =D38+G38+J38+M38 -> 134509.4 | D38: =SUM('FY13 sampling by SC'!E35) -> 0 | E38: =SUM('FY13 sampling by SC'!F35) -> 0 | F38: =SUM('FY13 sampling by SC'!G35) -> 0 | G38: =SUM('FY13 sampling by SC'!H35) -> 0 | H38: =SUM('FY13 sampling by SC'!I35) -> 0 | I38: =SUM('FY13 sampling by SC'!J35) -> 0 | J38: =SUM('FY13 sampling by SC'!B35) -> 121400 | K38: =SUM('FY13 sampling by SC'!C35) -> 34809.31 | L38: =SUM('FY13 sampling by SC'!D35) -> 17212 | M38: =SUM('FY13 sampling by SC'!K35) -> 13109.4 | N38: =SUM('FY13 sampling by SC'!L35) -> 2902.04
A39: TN | C39: =D39+G39+J39+M39 -> 0 | D39: 0 | E39: 0 | F39: 0 | G39: 0 | H39: 0 | I39: 0 | J39: 0 | K39: 0 | L39: 0 | M39: 0 | N39: 0
A40: AK | C40: =D40+G40+J40+M40 -> 76100 | D40: =SUM('FY13 sampling by SC'!E5) -> 76100 | E40: =SUM('FY13 sampling by SC'!F5) -> 8469.2 | F40: =SUM('FY13 sampling by SC'!G5) -> 0 | G40: =SUM('FY13 sampling by SC'!H5) -> 0 | H40: =SUM('FY13 sampling by SC'!I5) -> 0 | I40: =SUM('FY13 sampling by SC'!J5) -> 0 | J40: =SUM('FY13 sampling by SC'!B5) -> 0 | K40: =SUM('FY13 sampling by SC'!C5) -> 0 | L40: =SUM('FY13 sampling by SC'!D5) -> 0 | M40: =SUM('FY13 sampling by SC'!K5) -> 0 | N40: =SUM('FY13 sampling by SC'!L5) -> 0
A41: AZ | C41: =D41+G41+J41+M41 -> 133658.48 | D41: =SUM('FY13 sampling by SC'!E6) -> 47800 | E41: =SUM('FY13 sampling by SC'!F6) -> 21524 | F41: =SUM('FY13 sampling by SC'!G6) -> 0 | G41: =SUM('FY13 sampling by SC'!H6) -> 0 | H41: =SUM('FY13 sampling by SC'!I6) -> 0 | I41: =SUM('FY13 sampling by SC'!J6) -> 0 | J41: =SUM('FY13 sampling by SC'!B6) -> 50300 | K41: =SUM('FY13 sampling by SC'!C6) -> 8853 | L41: =SUM('FY13 sampling by SC'!D6) -> 0 | M41: =SUM('FY13 sampling by SC'!K6) -> 35558.483 | N41: =SUM('FY13 sampling by SC'!L6) -> 5804.08
A42: CA | C42: =D42+G42+J42+M42 -> 429376.11 | D42: =SUM('FY13 sampling by SC'!E8) -> 0 | E42: =SUM('FY13 sampling by SC'!F8) -> 0 | F42: =SUM('FY13 sampling by SC'!G8) -> 0 | G42: =SUM('FY13 sampling by SC'!H8) -> 0 | H42: =SUM('FY13 sampling by SC'!I8) -> 0 | I42: =SUM('FY13 sampling by SC'!J8) -> 0 | J42: =SUM('FY13 sampling by SC'!B8) -> 379500 | K42: =SUM('FY13 sampling by SC'!C8) -> 134580.13 | L42: =SUM('FY13 sampling by SC'!D8) -> 10584 | M42: =SUM('FY13 sampling by SC'!K8) -> 49876.114 | N42: =SUM('FY13 sampling by SC'!L8) -> 8706.12
A43: HI | C43: =D43+G43+J43+M43 -> 0 | D43: 0 | E43: 0 | F43: 0 | G43: 0 | H43: 0 | I43: 0 | J43: 0 | K43: 0 | L43: 0 | M43: 0 | N43: 0
A44: ID | C44: =D44+G44+J44+M44 -> 166003.12 | D44: =SUM('FY13 sampling by SC'!E13) -> 0 | E44: =SUM('FY13 sampling by SC'!F13) -> 0 | F44: =SUM('FY13 sampling by SC'!G13) -> 0 | G44: =SUM('FY13 sampling by SC'!H13) -> 0 | H44: =SUM('FY13 sampling by SC'!I13) -> 0 | I44: =SUM('FY13 sampling by SC'!J13) -> 0 | J44: =SUM('FY13 sampling by SC'!B13) -> 147800 | K44: =SUM('FY13 sampling by SC'!C13) -> 64468.06 | L44: =SUM('FY13 sampling by SC'!D13) -> 33910 | M44: =SUM('FY13 sampling by SC'!K13) -> 18203.115 | N44: =SUM('FY13 sampling by SC'!L13) -> 2902.04
A45: NV | C45: =D45+G45+J45+M45 -> 62800 | D45: =SUM('FY13 sampling by SC'!E26) -> 0 | E45: =SUM('FY13 sampling by SC'!F26) -> 0 | F45: =SUM('FY13 sampling by SC'!G26) -> 0 | G45: =SUM('FY13 sampling by SC'!H26) -> 0 | H45: =SUM('FY13 sampling by SC'!I26) -> 0 | I45: =SUM('FY13 sampling by SC'!J26) -> 0 | J45: =SUM('FY13 sampling by SC'!B26) -> 62800 | K45: =SUM('FY13 sampling by SC'!C26) -> 30410.1 | L45: =SUM('FY13 sampling by SC'!D26) -> 0 | M45: =SUM('FY13 sampling by SC'!K26) -> 0 | N45: =SUM('FY13 sampling by SC'!L26) -> 0
A46: OR | C46: =D46+G46+J46+M46 -> 391209.99 | D46: =SUM('FY13 sampling by SC'!E34) -> 63400 | E46: =SUM('FY13 sampling by SC'!F34) -> 21524 | F46: =SUM('FY13 sampling by SC'!G34) -> 0 | G46: =SUM('FY13 sampling by SC'!H34) -> 0 | H46: =SUM('FY13 sampling by SC'!I34) -> 0 | I46: =SUM('FY13 sampling by SC'!J34) -> 0 | J46: =SUM('FY13 sampling by SC'!B34) -> 284900 | K46: =SUM('FY13 sampling by SC'!C34) -> 114828 | L46: =SUM('FY13 sampling by SC'!D34) -> 44250 | M46: =SUM('FY13 sampling by SC'!K34) -> 42909.993 | N46: =SUM('FY13 sampling by SC'!L34) -> 8706.12
A47: UT | C47: =D47+G47+J47+M47 -> 172959.99 | D47: =SUM('FY13 sampling by SC'!E37) -> 0 | E47: =SUM('FY13 sampling by SC'!F37) -> 0 | F47: =SUM('FY13 sampling by SC'!G37) -> 0 | G47: =SUM('FY13 sampling by SC'!H37) -> 0 | H47: =SUM('FY13 sampling by SC'!I37) -> 0 | I47: =SUM('FY13 sampling by SC'!J37) -> 0 | J47: =SUM('FY13 sampling by SC'!B37) -> 153000 | K47: =SUM('FY13 sampling by SC'!C37) -> 74791.31 | L47: =SUM('FY13 sampling by SC'!D37) -> 15913 | M47: =SUM('FY13 sampling by SC'!K37) -> 19959.987 | N47: =SUM('FY13 sampling by SC'!L37) -> 5804.08
A48: WA | C48: =D48+G48+J48+M48 -> 267286.23 | D48: =SUM('FY13 sampling by SC'!E38) -> 0 | E48: =SUM('FY13 sampling by SC'!F38) -> 0 | F48: =SUM('FY13 sampling by SC'!G38) -> 0 | G48: =SUM('FY13 sampling by SC'!H38) -> 0 | H48: =SUM('FY13 sampling by SC'!I38) -> 0 | I48: =SUM('FY13 sampling by SC'!J38) -> 0 | J48: =SUM('FY13 sampling by SC'!B38) -> 240300 | K48: =SUM('FY13 sampling by SC'!C38) -> 74846.13 | L48: =SUM('FY13 sampling by SC'!D38) -> 15518 | M48: =SUM('FY13 sampling by SC'!K38) -> 26986.233 | N48: =SUM('FY13 sampling by SC'!L38) -> 5804.08
A62: Placeholder for SU Funds
A63: FY13 tasks w/ FY12 funds
A64: HQ Account
A65: Column Totals | B65: =SUM(B1:B64) -> 0 | C65: =SUM(C1:C64) -> 6766744.9 | D65: =SUM(D1:D64) -> 1445800 | E65: =SUM(E1:E64) -> 560415.56 | F65: =SUM(F1:F64) -> 56760 | G65: =SUM(G1:G64) -> 233900 | H65: =SUM(H1:H64) -> 97944.06 | I65: =SUM(I1:I64) -> 3150 | ... O65: =SUM(O1:O64) -> 0
A68: Data anal.+reports | C68: =O65 -> 0
A69: Lab | C69: =E65+H65+K65+N65 -> 2446212.5
A70: Gaging | C70: =F65+I65+L65 -> 331936
A71: Sampling (minus lab) | C71: =D65+GF65+J65+M65 -> 6532844.9
A72: Total | C72: =SUM(C68:C71) -> 9310993.3
A73: Total to WSCs | C73: =C72-C69 -> 6864780.9
A78: Lab | C78: =C69 -> 2446212.5
A79: Placeholders
A80: Coordinators
A81: HQ Account
A82: Total | C82: =SUM(C78:C81) -> 2446212.5
A86: TARGET | C86: 11200000
