Workbook

Sheet chem site information
A1: CYCLE II SU | B1: Science Center (SC) | C1: STATION ID | D1: STATION NAME | E1: CYCLE II SITE (145) | F1: CYCLE II SITE (84) | G1: CYCLE II SITE TYPE | H1: CYCLE II SITE SAMPLING SCHEDULE | I1: SAMPLED FOR ECOLOGY Cycle II | J1: SAMPLED FOR ECOLOGY Cycle III | K1: PROPOSED COST CENTER TO DO SAMPLING | L1: NUMBER OF SAMPLES IN 2013 | M1: SITE OFFICE | N1: SITE SIZE | O1: LOW FLOW SITE TYPE | P1: HIGH FLOW SITE TYPE | Q1: Comments
A2: MOBL | B2: AL | C2: 0242354750 | D2: Cahaba Valley Creek at Pelham, AL | E2: Y | F2: Y | G2: Urban | H2: rotate2 | I2: Y | J2: Y | K2: Montgomery, AL | L2: 24 | M2: Montgomery, AL | N2: small | O2: wading | P2: bridge
A3: NASQAN | B3: AL | C3: 02470500 | D3: Mobile River at Mt. Vernon, AL | E3: N | F3: N | G3: NA | H3: NA | I3: N | J3: N | K3: Montgomery, AL | L3: 14 | M3: Montgomery, AL | N3: large | O3: boat | P3: boat
A4: MOBL | B4: AL | C4: 02469762 | D4: Tombigbee River near Coffeeville, AL | E4: Y | F4: Y | G4: Integ | H4: rotate4 | I4: N | J4: N | K4: Montgomery, AL | L4: 18 | M4: Montgomery, AL | N4: large | O4: boat | P4: boat
A5: NASQAN | B5: AK | C5: 15565447 | D5: Yukon River at Pilot Station, AK | E5: N | F5: N | G5: NA | H5: NA | I5: N | J5: N | K5: Anchorage, AK | L5: 7 | M5: Anchorage, AK | N5: large | O5: boat | P5: boat
A6: CAZB | B6: AZ | C6: 09471000 | D6: San Pedro River at Charleston, AZ | E6: Y | F6: N | G6: Ref | H6: rotate4 | I6: N | J6: Y | K6: Tucson, AZ | L6: 6 | M6: Tucson, AZ | N6: small | O6: wading | P6: bridge
A7: CAZB | B7: AZ | C7: 09505800 | D7: West Clear Creek near Camp Verde, AZ | E7: Y | F7: Y | G7: Ref | H7: rotate4 | I7: Y | J7: Y | K7: Tucson, AZ | L7: 6 | M7: Tucson, AZ | N7: small | O7: wading | P7: cableway
A8: CO-OP | B8: AZ | C8: 09380000 | D8: Colorado River at Lees Ferry, AZ | E8: N | F8: N | G8: NA | H8: NA | I8: N | J8: N | K8: Tucson, AZ | L8: 0 | M8: Flagstaff, AZ | N8: large | O8: boat | P8: cableway
A9: NASQAN | B9: AZ | C9: 09522000 | D9: Colorado River at NIB | E9: N | F9: N | G9: NA | H9: NA | I9: N | J9: N | K9: Tucson, AZ | L9: 12 | M9: Yuma, AZ | N9: large | O9: boat | P9: cableway
A10: NASQAN | B10: AR | C10: 07263620 | D10: Arkansas River at Terry L&D below Little Rock, AR | E10: N | F10: N | G10: NA | H10: NA | I10: N | J10: N | K10: Little Rock, AR | L10: 14 | M10: Little Rock, AR | N10: large | O10: boat | P10: boat
A11: OZRK | B11: AR | C11: 07055646 | D11: Buffalo River near Boxley, AR | E11: Y | F11: N | G11: Ref | H11: rotate4 | I11: N | J11: Y | K11: Little Rock, AR | L11: 6 | M11: Little Rock, AR | N11: medium | O11: wading | P11: bridge
A12: OZRK | B12: AR | C12: 07060710 | D12: North Sylamore Creek near Fifty Six, AR | E12: Y | F12: Y | G12: Ref | H12: rotate4 | I12: Y | J12: Y | K12: Little Rock, AR | L12: 6 | M12: Little Rock, AR | N12: small | O12: wading | P12: bridge
A13: NASQAN/SACR | B13: CA | C13: 11447650 | D13: Sacramento River at Freeport, CA | E13: Y | F13: Y | G13: Integ | H13: rotate4 | I13: N | J13: N | K13: Sacramento, CA | L13: 14 | M13: Sacramento, CA | N13: large | O13: bridge | P13: bridge
... A37: NASQAN | B37: IA | C37: 05420500 | D37: Mississippi River at Clinton, IA | E37: N | F37: N | G37: NA | H37: NA | I37: N | J37: N | K37: Iowa City, IA | L37: 14 | M37: Iowa City, IA | N37: large | O37: boat | P37: boat
A38: NASQAN | B38: IA | C38: 06610000 | D38: Missouri River at Omaha, NE | G38: NA | H38: NA | I38: N | J38: N | K38: Iowa City, IA | L38: 14 | M38: Council Bluffs, IA | N38: large | O38: boat | P38: boat
A39: CO-OP | B39: KS | C39: 06892350 | D39: Kansas River at DeSoto, KS | E39: N | F39: N | G39: NA | H39: NA | I39: N | J39: N | K39: Lawrence, KS | L39: 0 | N39: large
A40: CO-OP | B40: KS | C40: 07144100 | D40: Lower Arkansas River near Sedgwick, KS | E40: N | F40: N | G40: NA | H40: NA | I40: N | J40: N | K40: Lawrence, KS | L40: 0 | N40: large
A41: NASQAN | B41: KY | C41: 03303280 | D41: Ohio River at Cannelton Dam at Cannelton, IN | E41: N | F41: N | G41: NA | H41: NA | I41: N | J41: N | K41: Louisville, KY | L41: 14 | M41: Murray, KY | N41: large | O41: boat | P41: boat
A42: NASQAN | B42: KY | C42: 03378500 | D42: Wabash River at New Harmony, IN | E42: N | F42: N | G42: NA | H42: NA | I42: N | J42: N | K42: Louisville, KY | L42: 14 | M42: Murray, KY | N42: large | O42: boat | P42: boat
A43: NASQAN | B43: KY | C43: 03609750 | D43: Tennessee River at Highway 60 near Paducah, KY | E43: N | F43: N | G43: NA | H43: NA | I43: N | J43: N | K43: Louisville, KY | L43: 14 | M43: Murray, KY | N43: large | O43: boat | P43: boat
A44: NASQAN | B44: KY | C44: 03612500 | D44: Ohio River at Dam 53 near Grand Chain, IL | E44: N | F44: N | G44: NA | H44: NA | I44: N | J44: N | K44: Louisville, KY | L44: 14 | M44: Murray, KY | N44: large | O44: boat | P44: boat
A45: ACAD | B45: LA | C45: 08014500 | D45: Ouiska (Whiskey) Chitto Creek near Oberlin, LA | E45: Y | F45: Y | G45: Ref | H45: rotate4 | I45: Y | J45: Y | K45: Baton Rouge, LA | L45: 6 | M45: Baton Rouge, LA | N45: medium | O45: wading | P45: bridge
A46: NASQAN | B46: LA | C46: 07373420 | D46: Mississippi River near St. Francisville, LA | G46: NA | H46: NA | I46: N | J46: N | K46: Baton Rouge, LA | L46: 16 | M46: Baton Rouge, LA | N46: large | O46: boat | P46: boat
A47: NASQAN | B47: LA | C47: 07374000 | D47: Mississippi River at Baton Rouge, LA | E47: N | F47: N | G47: NA | H47: NA | I47: N | J47: N | K47: Baton Rouge, LA | L47: 14 | M47: Baton Rouge, LA | N47: large | O47: boat | P47: boat
A48: NASQAN | B48: LA | C48: 07374525 | D48: Mississippi River at Belle Chasse, LA | E48: N | F48: N | G48: NA | H48: NA | I48: N | J48: N | K48: Baton Rouge, LA | L48: 14 | M48: Baton Rouge, LA | N48: large | O48: boat | P48: boat
A49: NASQAN | B49: LA | C49: 07381495 | D49: Atchafalaya River at Melville, LA | E49: N | F49: N | G49: NA | H49: NA | I49: N | J49: N | K49: Baton Rouge, LA | L49: 16 | M49: Baton Rouge, LA | N49: large | O49: boat | P49: boat
A50: NASQAN | B50: LA | C50: 07381590 | D50: Wax Lake Outlet at Calumet, LA | E50: N | F50: N | G50: NA | H50: NA | I50: N | J50: N | K50: Baton Rouge, LA | L50: 14 | M50: Baton Rouge, LA | N50: large | O50: boat | P50: boat
A51: NASQAN | B51: LA | C51: 07381600 | D51: Lower Atchafalaya River at Morgan City, LA | E51: N | F51: N | G51: NA | H51: NA | I51: N | J51: N | K51: Baton Rouge, LA | L51: 14 | M51: Baton Rouge, LA | N51: large | O51: boat | P51: boat
A52: NASQAN | B52: MD | C52: 01578310 | D52: Susquehanna River at Conowingo, MD | E52: Y | F52: N | G52: NA | H52: NA | I52: N | J52: N | K52: Baltimore, MD | L52: 12 | M52: Baltimore, MD | N52: large | O52: dam | P52: dam
A53: PODL | B53: MD | C53: 01610400 | D53: Waites Run near Wardensville, WV | E53: Y | F53: Y | G53: Ref | H53: rotate4 | I53: Y | J53: Y | K53: Baltimore, MD | L53: 6 | M53: Frostburg, MD | N53: small | O53: wading | P53: bridge
A54: NASQAN/PODL | B54: MD | C54: 01646580 | D54: Potomac River at Washington, DC | E54: Y | F54: Y | G54: Integ | H54: agcore | I54: N | J54: N | K54: Baltimore, MD | L54: 18 | M54: Frostburg, MD | N54: medium | O54: wading | P54: bridge
A55: PODL | B55: MD | C55: 01654000 | D55: Accotink Creek near Annandale, VA | E55: Y | F55: Y | G55: Urban | H55: rotate2 | I55: Y | J55: Y | K55: Baltimore, MD | L55: 24 | M55: Frostburg, MD | N55: small | O55: wading | P55: bridge
A56: LERI | B56: MI | C56: 04161820 | D56: Clinton River at Sterling Heights, MI | E56: Y | F56: Y | G56: Urban | H56: rotate4 | I56: Y | J56: Y | K56: East Lansing, MI | L56: 24 | M56: Lansing, MI | N56: small | O56: wading | P56: bridge
A57: UMIS | B57: MN | C57: 05331580 | D57: Mississippi River at Hastings, MN | E57: Y | F57: N | G57: Integ | H57: rotate4 | I57: N | J57: N | K57: Mounds View, MN | L57: 14 | M57: Mounds View, MN | N57: large | O57: boat | P57: boat
A58: MISE | B58: MS | C58: 07288650 | D58: Bogue Phalia near Leland, MS | E58: Y | F58: Y | G58: Ag | H58: dropped in 2008 | I58: N | J58: Y | K58: Jackson, MS | L58: 24 | M58: Jackson, MS | N58: medium | O58: bridge | P58: bridge
... A67: NASQAN/CNBR | B67: NE | C67: 06805500 | D67: Platte River at Louisville, NE | E67: Y | F67: Y | G67: Integ | H67: agcore | I67: N | J67: N | K67: Lincoln, NE | L67: 14 | M67: Lincoln, NE | N67: large | O67: bridge | P67: bridge
A68: NVBR | B68: NV | C68: 10350340 | D68: Truckee River at Tracy, NV | E68: Y | F68: Y | H68: rotate4 | I68: N | J68: N | K68: Carson City, NV | L68: 18 | M68: Carson City, NV | N68: large | O68: bridge | P68: bridge
A69: NMN/DELR | B69: NJ | C69: 01463500 | D69: Delaware River at Trenton, NJ | E69: Y | F69: Y | G69: Integ | H69: rotate4 | I69: N | J69: N | K69: West Trenton, NJ | L69: 14 | M69: Trenton, NJ | N69: large | O69: bridge | P69: bridge
A70: RIOG | B70: NM | C70: 08227000 | D70: Saguache Creek near Saguache, CO | E70: Y | F70: N | G70: Ref | H70: eco_only | I70: Y | J70: Y | K70: Albuquerque, NM | L70: 6 | M70: Alberquerque, NM | N70: small | O70: wading | P70: wading
A71: RIOG | B71: NM | C71: 08364000 | D71: Rio Grande at El Paso, TX | E71: Y | F71: Y | G71: Integ | H71: agcore | I71: N | J71: N | K71: Albuquerque, NM | L71: 14 | M71: Alberquerque, NM | N71: medium | O71: bridge | P71: cableway
...

Sheet FY13 chem site costs
A1: SC | B1: STATION ID | C1: STATION NAME | D1: CYCLE 3 SITE TYPE | E1: FY13 sample collection site target NAWQA | F1: FY13 sample collection site target NASQAN | G1: FY13 sample collection site target NMN | H1: FY13 streamgaging site target NAWQA | I1: FY13 streamgaging site target NASQAN | J1: FY13 streamgaging site target NMN
A2: AL | B2: 0242354750 | C2: Cahaba Valley Creek at Pelham, AL | D2: Urban | E2: 84000 | F2: 0 | G2: 0 | H2: 16536 | I2: 0 | J2: 0
A3: AL | B3: 02470500 | C3: Mobile River at Mt. Vernon, AL | D3: Coastal Rivers | E3: 0 | F3: 77700 | G3: 0 | H3: 0 | I3: 0 | J3: 0
A4: AL | B4: 02469762 | C4: Tombigbee River near Coffeeville, AL | D4: Large Inland Rivers | E4: 86400 | F4: 0 | G4: 0 | H4: 0 | I4: 0 | J4: 0
A5: AK | B5: 15565447 | C5: Yukon River at Pilot Station, AK | D5: Coastal Rivers | E5: 0 | F5: 76100 | G5: 0 | H5: 0 | I5: 0 | J5: 0
A6: AZ | B6: 09471000 | C6: San Pedro River at Charleston, AZ | D6: reference | E6: 22500 | F6: 0 | G6: 0 | H6: 0 | I6: 0 | J6: 0
A7: AZ | B7: 09505800 | C7: West Clear Creek near Camp Verde, AZ | D7: reference | E7: 27800 | F7: 0 | G7: 0 | H7: 0 | I7: 0 | J7: 0
A8: AZ | B8: 09380000 | C8: Colorado River at Lees Ferry, AZ | D8: Large Inland Rivers | E8: 0 | F8: 0 | G8: 0 | H8: 0 | I8: 0 | J8: 0
A9: AZ | B9: 09522000 | C9: Colorado River at NIB | D9: Large River | E9: 0 | F9: 47800 | G9: 0 | H9: 0 | I9: 0 | J9: 0
A10: AR | B10: 07263620 | C10: Arkansas River at Terry L&D below Little Rock, AR | D10: Large Inland Rivers | E10: 0 | F10: 62100 | G10: 0 | H10: 0 | I10: 5510 | J10: 0
A11: AR | B11: 07055646 | C11: Buffalo River near Boxley, AR | D11: reference | E11: 22800 | F11: 0 | G11: 0 | H11: 0 | I11: 0 | J11: 0
A12: AR | B12: 07060710 | C12: North Sylamore Creek near Fifty Six, AR | D12: reference | E12: 15800 | F12: 0 | G12: 0 | H12: 0 | I12: 0 | J12: 0
A13: CA | B13: 11447650 | C13: Sacramento River at Freeport, CA | D13: Coastal Rivers | E13: 69400 | F13: 0 | G13: 0 | H13: 0 | I13: 0 | J13: 0
... A72: NY | B72: 01349150 | C72: Canajoharie Creek near Canajoharie, NY | D72: Agriculture | E72: 111600 | F72: 0 | G72: 0 | H72: 15496 | I72: 0 | J72: 0
A73: NY | B73: 4264331 | C73: St. Lawrence River at Cornwall, Ontario | D73: Large Inland Rivers | E73: 0 | F73: 54400 | G73: 0 | H73: 0 | I73: 0 | J73: 0
A74: NY | B74: 01372043 | C74: Hudson River near Poughkeepsie, NY | D74: Coastal Rivers | E74: 0 | F74: 0 | G74: 66400 | H74: 0 | I74: 0 | J74: 0
A75: NC | B75: 02087580 | C75: Swift Creek near Apex, NC | D75: Urban | E75: 72700 | F75: 0 | G75: 0 | H75: 14628 | I75: 0 | J75: 0
A76: NC | B76: 02089500 | C76: Neuse River at Kinston, NC | D76: Large Inland Rivers | E76: 78500 | F76: 0 | G76: 0 | H76: 0 | I76: 0 | J76: 0
A77: NC | B77: 02091500 | C77: Contentnea Creek at Hookerton, NC | D77: Agriculture | E77: 78700 | F77: 0 | G77: 0 | H77: 0 | I77: 0 | J77: 0
A78: ND | B78: 05082500 | C78: Red River of the North at Grand Forks, ND | D78: Large Inland Rivers | E78: 0 | F78: 0 | G78: 0 | H78: 0 | I78: 0 | J78: 0
A79: OH | B79: 04193500 | C79: Maumee River at Waterville, OH | D79: Large Inland Rivers | E79: 83300 | F79: 0 | G79: 0 | H79: 0 | I79: 0 | J79: 0
A80: OK | B80: 07241550 | C80: North Canadian River near Harrah, OK | D80: Large Inland Rivers | E80: 0 | F80: 0 | G80: 0 | H80: 0 | I80: 0 | J80: 0
A81: OR | B81: 14201300 | C81: Zollner Creek near Mt. Angel, OR | D81: Agriculture | E81: 93700 | F81: 0 | G81: 0 | H81: 17700 | I81: 0 | J81: 0
A82: OR | B82: 14205400 | C82: East Fork Dairy Creek near Meachan Corner, OR | D82: reference | E82: 24300 | F82: 0 | G82: 0 | H82: 17700 | I82: 0 | J82: 0
A83: OR | B83: 14206950 | C83: Fanno Creek at Durham, OR | D83: urban | E83: 81700 | F83: 0 | G83: 0 | H83: 8850 | I83: 0 | J83: 0
A84: OR | B84: 14211720 | C84: Willamette River at Portland, OR | D84: Large Inland Rivers | E84: 85200 | F84: 0 | G84: 0 | H84: 0 | I84: 0 | J84: 0
A85: OR | B85: 14246900 | C85: Columbia River near Beaver Army Terminal, OR | D85: Coastal Rivers | E85: 0 | F85: 63400 | G85: 0 | H85: 0 | I85: 0 | J85: 0
... A101: WY | B101: 06329500 | C101: Yellowstone River near Sidney, MT | D101: Large Inland Rivers | E101: 88600 | F101: 0 | G101: 0 | H101: 0 | I101: 0 | J101: 0
F102: =SUM(F2:F101) -> 1445800 | G102: =SUM(G2:G101) -> 233900 | H102: =SUM(H2:H101) -> 272026 | I102: =SUM(I2:I101) -> 56760 | J102: =SUM(J2:J101) -> 3150
E103: =SUM(E2:E101) -> 4419500

Sheet Eco site information
M1: Cycle 3 Sampling Schedule
A2: sc | B2: Station number | C2: Station name | D2: PROPOSED COST CENTER TO DO SAMPLING | E2: Cycle III site type | F2: Eco-region | G2: RTH (Snag or Riffle) | H2: RT Miles to Site | I2: RT Travel Time to Site (hrs) | J2: Fish Rela-tive Rich- ness | K2: Fish Rich- ness factor | L2: Area (sq km) | M2: 2013 | N2: 2014 | O2: 2015 | P2: 2016 | Q2: 2017 | R2: 2018 | S2: 2019 | T2: 2020 | U2: 2021 | V2: 2022
A3: AL | B3: 242354750 | C3: Cahaba Valley Creek at Pelham, AL | D3: Montgomery, AL | E3: Urban | F3: 67 | G3: Riffle | H3: 194 | I3: 3 | J3: Hi | K3: =IF(J3="Lo",0.8,IF(J3="Med",1,(IF(J3="Hi",1.2,"error")))) -> 1.2 | L3: 66.1 | M3: IAFH | N3: IAFH | O3: IAFH | P3: IAFH | Q3: IAFH | R3: IAFH | S3: IAFH | T3: IAFH | U3: IAFH | V3: IAFH
A4: AZ | B4: 09471000 | C4: San Pedro River at Charleston, AZ | D4: Tucson, AZ | E4: Reference | F4: 79 | G4: Riffle | H4: 170 | I4: 3.2 | J4: Med | K4: =IF(J4="Lo",0.8,IF(J4="Med",1,(IF(J4="Hi",1.2,"error")))) -> 1 | M4: IAFH | N4: IAFH | O4: IAFH | P4: IAFH | Q4: IAFH | R4: IAFH | S4: IAFH | T4: IAFH | U4: IAFH | V4: IAFH
A5: AZ | B5: 9505800 | C5: West Clear Creek near Camp Verde, AZ | D5: Tucson, AZ | E5: Reference | F5: 23 | G5: Riffle | H5: 460 | I5: 7 | J5: Lo | K5: =IF(J5="Lo",0.8,IF(J5="Med",1,(IF(J5="Hi",1.2,"error")))) -> 0.8 | L5: 615 | M5: IAFH | N5: IAFH | O5: IAFH | P5: IAFH | Q5: IAFH | R5: IAFH | S5: IAFH | T5: IAFH | U5: IAFH | V5: IAFH
A6: AR | B6: 07055646 | C6: Buffalo River near Boxley, AR | D6: Little Rock, AR | E6: Reference | F6: 38 | G6: Riffle | H6: 380 | I6: 8.2 | J6: Hi | K6: =IF(J6="Lo",0.8,IF(J6="Med",1,(IF(J6="Hi",1.2,"error")))) -> 1.2 | M6: IAFH | N6: IAFH | O6: IAFH | P6: IAFH | Q6: IAFH | R6: IAFH | S6: IAFH | T6: IAFH | U6: IAFH | V6: IAFH
A7: AR | B7: 7060710 | C7: North Sylamore Creek near Fifty Six, AR | D7: Little Rock, AR | E7: Reference | F7: 39 | G7: Riffle | H7: 260 | I7: 6.2 | J7: Med | K7: =IF(J7="Lo",0.8,IF(J7="Med",1,(IF(J7="Hi",1.2,"error")))) -> 1 | L7: 150 | M7: IAFH | N7: IAFH | O7: IAFH | P7: IAFH | Q7: IAFH | R7: IAFH | S7: IAFH | T7: IAFH | U7: IAFH | V7: IAFH
A8: CA | B8: 11274538 | C8: Orestimba Creek near Crows Landing, CA | D8: Sacramento, CA | E8: Agriculture | F8: 5 | G8: Snag | H8: 240 | I8: 3.6 | J8: Lo | K8: =IF(J8="Lo",0.8,IF(J8="Med",1,(IF(J8="Hi",1.2,"error")))) -> 0.8 | L8: 27.9 | M8: IAFH | N8: IAFH | O8: IAFH | P8: IAFH | Q8: IAFH | R8: IAFH | S8: IAFH | T8: IAFH | U8: IAFH | V8: IAFH
A9: CA | B9: 11335000 | C9: Cosumnes River at Michigan Bar, CA | D9: Sacramento, CA | E9: Reference | F9: 7 | G9: Riffle | H9: 82 | I9: 1.8 | J9: Lo | K9: =IF(J9="Lo",0.8,IF(J9="Med",1,(IF(J9="Hi",1.2,"error")))) -> 0.8 | M9: IAFH | N9: IAFH | O9: IAFH | P9: IAFH | Q9: IAFH | R9: IAFH | S9: IAFH | T9: IAFH | U9: IAFH | V9: IAFH
A10: CA | B10: 11049400 | C10: Santa Ana River above Seven Oaks Dam, CA | D10: San Diego, CA | E10: Reference | F10: 8 | G10: Riffle | H10: 240 | I10: 4 | J10: Med | K10: =IF(J10="Lo",0.8,IF(J10="Med",1,(IF(J10="Hi",1.2,"error")))) -> 1 | L10: 452 | M10: IAFH | N10: IAFH | O10: IAFH | P10: IAFH | Q10: IAFH | R10: IAFH | S10: IAFH | T10: IAFH | U10: IAFH | V10: IAFH
A11: CO | B11: 6713500 | C11: Cherry Creek at Denver, CO | D11: Lakewood, CO | E11: Urban | F11: 25 | G11: Riffle | H11: 28 | I11: 0.8 | J11: Lo | K11: =IF(J11="Lo",0.8,IF(J11="Med",1,(IF(J11="Hi",1.2,"error")))) -> 0.8 | L11: 1060 | M11: IAFH | N11: IAFH | O11: IAFH | P11: IAFH | Q11: IAFH | R11: IAFH | S11: IAFH | T11: IAFH | U11: IAFH | V11: IAFH
A12: CT | B12: 1170100 | C12: Green River near Colrain, MA | D12: East Hartford, CT | E12: Reference | F12: 58 | G12: Riffle | H12: 174 | I12: 3.2 | J12: Lo | K12: =IF(J12="Lo",0.8,IF(J12="Med",1,(IF(J12="Hi",1.2,"error")))) -> 0.8 | L12: 107 | M12: IAFH | N12: IAFH | O12: IAFH | P12: IAFH | Q12: IAFH | R12: IAFH | S12: IAFH | T12: IAFH | U12: IAFH | V12: IAFH
A13: CT | B13: 1209710 | C13: Norwalk River at Winnipauk,CT | D13: East Hartford, CT | E13: Urban | F13: 59 | G13: Riffle | H13: 158 | I13: 3 | J13: Med | K13: =IF(J13="Lo",0.8,IF(J13="Med",1,(IF(J13="Hi",1.2,"error")))) -> 1 | L13: 85.1 | M13: IAFH | N13: IAFH | O13: IAFH | P13: IAFH | Q13: IAFH | R13: IAFH | S13: IAFH | T13: IAFH | U13: IAFH | V13: IAFH
A14: GA | B14: 2335870 | C14: Sope Creek near Marietta, GA | D14: Atlanta, GA | E14: Urban | F14: 45 | G14: Riffle | H14: 58 | I14: 1.2 | J14: Med | K14: =IF(J14="Lo",0.8,IF(J14="Med",1,(IF(J14="Hi",1.2,"error")))) -> 1 | L14: 79.5 | M14: IAFH | N14: IAFH | O14: IAFH | P14: IAFH | Q14: IAFH | R14: IAFH | S14: IAFH | T14: IAFH | U14: IAFH | V14: IAFH
A15: GA | B15: 2338523 | C15: Hillibahatchee Creek near Franklin, GA | D15: Atlanta, GA | E15: Reference | F15: 45 | G15: Riffle | H15: 180 | I15: 3.6 | J15: Med | K15: =IF(J15="Lo",0.8,IF(J15="Med",1,(IF(J15="Hi",1.2,"error")))) -> 1 | L15: 43.5 | M15: IAFH | N15: IAFH | O15: IAFH | P15: IAFH | Q15: IAFH | R15: IAFH | S15: IAFH | T15: IAFH | U15: IAFH | V15: IAFH
A16: ID | B16: 13092747 | C16: Rock Creek at Twin Falls, ID | D16: Boise, ID | E16: Agriculture | F16: 12 | G16: Riffle | H16: 300 | I16: 4.4 | J16: Lo | K16: =IF(J16="Lo",0.8,IF(J16="Med",1,(IF(J16="Hi",1.2,"error")))) -> 0.8 | L16: 623 | M16: IAFH | N16: IAFH | O16: IAFH | P16: IAFH | Q16: IAFH | R16: IAFH | S16: IAFH | T16: IAFH | U16: IAFH | V16: IAFH
A17: IN | B17: 394340085524601 | C17: Sugar Creek at New Palestine, IN | D17: Indianapolis, IN | E17: Agriculture | F17: 55 | G17: Riffle | H17: 80 | I17: 1.8 | J17: Hi | K17: =IF(J17="Lo",0.8,IF(J17="Med",1,(IF(J17="Hi",1.2,"error")))) -> 1.2 | L17: 246 | M17: IAFH | N17: IAFH | O17: IAFH | P17: IAFH | Q17: IAFH | R17: IAFH | S17: IAFH | T17: IAFH | U17: IAFH | V17: IAFH
A18: IA | B18: 5451210 | C18: South Fork Iowa River near New Providence, IA | D18: Iowa City, IA | E18: Agriculture | F18: 47 | G18: Snag | H18: 320 | I18: 5.6 | J18: Hi | K18: =IF(J18="Lo",0.8,IF(J18="Med",1,(IF(J18="Hi",1.2,"error")))) -> 1.2 | L18: 581 | M18: IAFH | N18: IAFH | O18: IAFH | P18: IAFH | Q18: IAFH | R18: IAFH | S18: IAFH | T18: IAFH | U18: IAFH | V18: IAFH
A19: LA | B19: 8014500 | C19: Ouiska (Whiskey) Chitto Creek near Oberlin, LA | D19: Baton Rouge, LA | E19: Reference | F19: 35 | G19: Snag | H19: 340 | I19: 5.6 | J19: Med | K19: =IF(J19="Lo",0.8,IF(J19="Med",1,(IF(J19="Hi",1.2,"error")))) -> 1 | L19: 1310 | M19: IAFH | N19: IAFH | O19: IAFH | P19: IAFH | Q19: IAFH | R19: IAFH | S19: IAFH | T19: IAFH | U19: IAFH | V19: IAFH
A20: MD | B20: 1610400 | C20: Waites Run near Wardensville, WV | D20: Baltimore, MD | E20: Reference | F20: 67 | G20: Riffle | H20: 320 | I20: 6.4 | J20: Med | K20: =IF(J20="Lo",0.8,IF(J20="Med",1,(IF(J20="Hi",1.2,"error")))) -> 1 | L20: 32.6 | M20: IAFH | N20: IAFH | O20: IAFH | P20: IAFH | Q20: IAFH | R20: IAFH | S20: IAFH | T20: IAFH | U20: IAFH | V20: IAFH
A21: MD | B21: 1654000 | C21: Accotink Creek near Annandale, VA | D21: Baltimore, MD | E21: Urban | F21: 45 | G21: Riffle | H21: 154 | I21: 2.8 | J21: Med | K21: =IF(J21="Lo",0.8,IF(J21="Med",1,(IF(J21="Hi",1.2,"error")))) -> 1 | L21: 60.7 | M21: IAFH | N21: IAFH | O21: IAFH | P21: IAFH | Q21: IAFH | R21: IAFH | S21: IAFH | T21: IAFH | U21: IAFH | V21: IAFH
A22: MS | B22: 07288650 | C22: Bogue Phalia near Leland, MS | D22: Jackson, MS | E22: Agriculture | F22: 73 | G22: Snag | H22: 250 | I22: 4.5 | J22: Hi | K22: =IF(J22="Lo",0.8,IF(J22="Med",1,(IF(J22="Hi",1.2,"error")))) -> 1.2 | M22: IAFH | N22: IAFH | O22: IAFH | P22: IAFH | Q22: IAFH | R22: IAFH | S22: IAFH | T22: IAFH | U22: IAFH | V22: IAFH
A23: NE | B23: 6775900 | C23: Dismal River near Thedford, NE | D23: Lincoln, NE | E23: Reference | F23: 44 | G23: Snag | H23: 660 | I23: 10.2 | J23: Med | K23: =IF(J23="Lo",0.8,IF(J23="Med",1,(IF(J23="Hi",1.2,"error")))) -> 1 | L23: 2500 | M23: IAFH | N23: IAFH | O23: IAFH | P23: IAFH | Q23: IAFH | R23: IAFH | S23: IAFH | T23: IAFH | U23: IAFH | V23: IAFH
A24: NE | B24: 6800000 | C24: Maple Creek near Nickerson, NE | D24: Lincoln, NE | E24: Agriculture | F24: 47 | G24: Snag | H24: 194 | I24: 3.4 | J24: Med | K24: =IF(J24="Lo",0.8,IF(J24="Med",1,(IF(J24="Hi",1.2,"error")))) -> 1 | L24: 955 | M24: IAFH | N24: IAFH | O24: IAFH | P24: IAFH | Q24: IAFH | R24: IAFH | S24: IAFH | T24: IAFH | U24: IAFH | V24: IAFH
A25: NM | B25: 8227000 | C25: Saguache Creek near Saguache, CO | D25: Albuquerque, NM | E25: Reference | F25: 21 | G25: Riffle | H25: 560 | I25: 10.6 | J25: Lo | K25: =IF(J25="Lo",0.8,IF(J25="Med",1,(IF(J25="Hi",1.2,"error")))) -> 0.8 | L25: 1330 | M25: IAFH | N25: IAFH | O25: IAFH | P25: IAFH | Q25: IAFH | R25: IAFH | S25: IAFH | T25: IAFH | U25: IAFH | V25: IAFH
A26: NY | B26: 1349150 | C26: Canajoharie Creek near Canajoharie, NY | D26: Troy, NY | E26: Agriculture | F26: 83 | G26: Riffle | H26: 140 | I26: 2.4 | J26: Med | K26: =IF(J26="Lo",0.8,IF(J26="Med",1,(IF(J26="Hi",1.2,"error")))) -> 1 | L26: 155 | M26: IAFH | N26: IAFH | O26: IAFH | P26: IAFH | Q26: IAFH | R26: IAFH | S26: IAFH | T26: IAFH | U26: IAFH | V26: IAFH
A27: NC | B27: 2087580 | C27: Swift Creek near Apex, NC | D27: Raleigh, NC | E27: Urban | F27: 65 | G27: Riffle | H27: 40 | I27: 0.8 | J27: Med | K27: =IF(J27="Lo",0.8,IF(J27="Med",1,(IF(J27="Hi",1.2,"error")))) -> 1 | L27: 53.9 | M27: IAFH | N27: IAFH | O27: IAFH | P27: IAFH | Q27: IAFH | R27: IAFH | S27: IAFH | T27: IAFH | U27: IAFH | V27: IAFH
A28: NC | B28: 2091500 | C28: Contentnea Creek at Hookerton, NC | D28: Raleigh, NC | E28: Agriculture | F28: 65 | G28: Snag | H28: 200 | I28: 3.8 | J28: Hi | K28: =IF(J28="Lo",0.8,IF(J28="Med",1,(IF(J28="Hi",1.2,"error")))) -> 1.2 | L28: 1910 | M28: IAFH | N28: IAFH | O28: IAFH | P28: IAFH | Q28: IAFH | R28: IAFH | S28: IAFH | T28: IAFH | U28: IAFH | V28: IAFH
A29: OH | B29: 4161820 | C29: Clinton River at Sterling Heights, MI | D29: Columbus, OH | E29: Urban | F29: 56 | G29: Riffle | H29: 200 | I29: 3.4 | J29: Hi | K29: =IF(J29="Lo",0.8,IF(J29="Med",1,(IF(J29="Hi",1.2,"error")))) -> 1.2 | L29: 803 | M29: IAFH | N29: IAFH | O29: IAFH | P29: IAFH | Q29: IAFH | R29: IAFH | S29: IAFH | T29: IAFH | U29: IAFH | V29: IAFH
A30: OR | B30: 14201300 | C30: Zollner Creek near Mt. Angel, OR | D30: Portland, OR | E30: Agriculture | F30: 3 | G30: Snag | H30: 80 | I30: 2 | J30: Med | K30: =IF(J30="Lo",0.8,IF(J30="Med",1,(IF(J30="Hi",1.2,"error")))) -> 1 | M30: IAFH | N30: IAFH | O30: IAFH | P30: IAFH | Q30: IAFH | R30: IAFH | S30: IAFH | T30: IAFH | U30: IAFH | V30: IAFH
A31: OR | B31: 14205400 | C31: East Fork Dairy Creek near Meachan Corner, OR | D31: Portland, OR | E31: Reference | F31: 3 | G31: Riffle | H31: 90 | I31: 2.2 | J31: Lo | K31: =IF(J31="Lo",0.8,IF(J31="Med",1,(IF(J31="Hi",1.2,"error")))) -> 0.8 | L31: 32.9 | M31: IAFH | N31: IAFH | O31: IAFH | P31: IAFH | Q31: IAFH | R31: IAFH | S31: IAFH | T31: IAFH | U31: IAFH | V31: IAFH
A32: OR | B32: 14206950 | C32: Fanno Creek at Durham, OR | D32: Portland, OR | E32: Urban | F32: 3 | G32: Riffle | H32: 50 | I32: 1.2 | J32: Lo | K32: =IF(J32="Lo",0.8,IF(J32="Med",1,(IF(J32="Hi",1.2,"error")))) -> 0.8 | L32: 80.7 | M32: IAFH | N32: IAFH | O32: IAFH | P32: IAFH | Q32: IAFH | R32: IAFH | S32: IAFH | T32: IAFH | U32: IAFH | V32: IAFH
A33: SC | B33: 2172300 | C33: McTier Creek near Monetta, SC | D33: Columbia, SC | E33: Reference | F33: 65 | G33: Snag | H33: 108 | I33: 1.8 | J33: Med | K33: =IF(J33="Lo",0.8,IF(J33="Med",1,(IF(J33="Hi",1.2,"error")))) -> 1 | L33: 40.4 | M33: IAFH | N33: IAFH | O33: IAFH | P33: IAFH | Q33: IAFH | R33: IAFH | S33: IAFH | T33: IAFH | U33: IAFH | V33: IAFH
A34: TX | B34: 8057200 | C34: White Rock Creek at Dallas, TX | D34: Austin, TX | E34: Urban | F34: 32(pr w /29) | G34: Riffle | H34: 440 | I34: 7 | J34: Hi | K34: =IF(J34="Lo",0.8,IF(J34="Med",1,(IF(J34="Hi",1.2,"error")))) -> 1.2 | L34: 173 | M34: IAFH | N34: IAFH | O34: IAFH | P34: IAFH | Q34: IAFH | R34: IAFH | S34: IAFH | T34: IAFH | U34: IAFH | V34: IAFH
A35: TX | B35: 8195000 | C35: Frio River at Concan, TX | D35: Austin, TX | E35: Reference | F35: 30 | G35: Riffle | H35: 380 | I35: 7.6 | J35: Med | K35: =IF(J35="Lo",0.8,IF(J35="Med",1,(IF(J35="Hi",1.2,"error")))) -> 1 | L35: 1030 | M35: IAFH | N35: IAFH | O35: IAFH | P35: IAFH | Q35: IAFH | R35: IAFH | S35: IAFH | T35: IAFH | U35: IAFH | V35: IAFH
A36: UT | B36: 10168000 | C36: Little Cottonwood Creek at Salt Lake City, UT | D36: West Valley City, UT | E36: Urban | F36: 19 | G36: Depos. | H36: 24 | I36: 0.8 | J36: Lo | K36: =IF(J36="Lo",0.8,IF(J36="Med",1,(IF(J36="Hi",1.2,"error")))) -> 0.8 | L36: 117 | M36: IAFH | N36: IAFH | O36: IAFH | P36: IAFH | Q36: IAFH | R36: IAFH | S36: IAFH | T36: IAFH | U36: IAFH | V36: IAFH
A37: UT | B37: 10172200 | C37: **Red Butte Creek at Fort Douglas, UT | D37: West Valley City, UT | E37: Reference | F37: 19 | G37: Riffle | H37: 34 | I37: 1.2 | J37: Med | K37: =IF(J37="Lo",0.8,IF(J37="Med",1,(IF(J37="Hi",1.2,"error")))) -> 1 | L37: 18.7 | M37: IAH | N37: IAH | O37: IAH | P37: IAH | Q37: IAH | R37: IAH | S37: IAH | T37: IAH | U37: IAH | V37: IAH
A38: WA | B38: 12056500 | C38: *North Fork Skokomish River near Hoodsport, WA | D38: Tacoma, WA | E38: Reference | F38: 1 | G38: Riffle | H38: 156 | I38: 2.8 | J38: Lo | K38: =IF(J38="Lo",0.8,IF(J38="Med",1,(IF(J38="Hi",1.2,"error")))) -> 0.8 | L38: 147 | M38: IAH | N38: IAH | O38: IAH | P38: IAH | Q38: IAH | R38: IAH | S38: IAH | T38: IAH | U38: IAH | V38: IAH
A39: WA | B39: 12505450 | C39: Granger Drain at Granger, WA | D39: Tacoma, WA | E39: Agriculture | F39: 10 | G39: Riffle | H39: 360 | I39: 6 | J39: Lo | K39: =IF(J39="Lo",0.8,IF(J39="Med",1,(IF(J39="Hi",1.2,"error")))) -> 0.8 | L39: 160 | M39: IAFH | N39: IAFH | O39: IAFH | P39: IAFH | Q39: IAFH | R39: IAFH | S39: IAFH | T39: IAFH | U39: IAFH | V39: IAFH
A40: WI | B40: 4063700 | C40: Popple River near Fence, WI | D40: Madison, WI | E40: Reference | F40: 50 | G40: Riffle | H40: 580 | I40: 10.6 | J40: Med | K40: =IF(J40="Lo",0.8,IF(J40="Med",1,(IF(J40="Hi",1.2,"error")))) -> 1 | L40: 363 | M40: IAFH | N40: IAFH | O40: IAFH | P40: IAFH | Q40: IAFH | R40: IAFH | S40: IAFH | T40: IAFH | U40: IAFH | V40: IAFH
...

Sheet FY13 Eco site costs
F1: FY13 $ (Net) | O1: FY13 $ GROSS
A2: SC | B2: Station number | C2: Station name | D2: PROPOSED COST CENTER TO DO SAMPLING | E2: Cycle3 site type | F2: Eco Field Labor Cost (inc 22.4% lv assess) | G2: Eco Field Travel Cost (per diem) | H2: Eco Vehicle costs | I2: Eco Supply costs | J2: Eco Office Labor Costs (inc 22.4% lv assess) | K2: Eco QA / Mgt Labor Costs (inc 22.4% lv assess) | L2: Eco WSC net cost incl 10% contingency | M2: Dist Direct Cost | N2: Over-head Cost | O2: Eco WSC Total Cost
A3: AL | B3: 242354750 | C3: Cahaba Valley Creek at Pelham, AL | D3: Montgomery, AL | E3: Urban | F3: 3987.5335 | G3: 0 | H3: 1293.6 | I3: 780.615 | J3: 2646.0184 | K3: 719.55738 | L3: 10370.057 | M3: 0 | N3: 2825.8405 | O3: 13195.897
A4: AZ | B4: 09471000 | C4: San Pedro River at Charleston, AZ | D4: Tucson, AZ | E4: Reference | F4: 3955.4367 | G4: 1111.88 | H4: 1188 | I4: 780.615 | J4: 2646.0184 | K4: 719.55738 | L4: 11441.658 | M4: 1372.999 | N4: 3549.7882 | O4: 16364.445
A5: AZ | B5: 9505800 | C5: West Clear Creek near Camp Verde, AZ | D5: Tucson, AZ | E5: Reference | F5: 5113.3313 | G5: 476.52 | H5: 2464 | I5: 780.615 | J5: 2646.0184 | K5: 719.55738 | L5: 13420.046 | M5: 1610.4056 | N5: 4163.5855 | O5: 19194.037
A6: AR | B6: 07055646 | C6: Buffalo River near Boxley, AR | D6: Little Rock, AR | E6: Reference | F6: 6186.4168 | G6: 1111.88 | H6: 2112 | I6: 780.615 | J6: 2646.0184 | K6: 719.55738 | L6: 14912.136 | M6: 0 | N6: 7608.172 | O6: 22520.308
A7: AR | B7: 7060710 | C7: North Sylamore Creek near Fifty Six, AR | D7: Little Rock, AR | E7: Reference | F7: 5160.9695 | G7: 1111.88 | H7: 1584 | I7: 780.615 | J7: 2646.0184 | K7: 719.55738 | L7: 13203.344 | M7: 0 | N7: 6736.3463 | O7: 19939.691
A8: CA | B8: 11274538 | C8: Orestimba Creek near Crows Landing, CA | D8: Sacramento, CA | E8: Agriculture | F8: 4116.3055 | G8: 476.52 | H8: 1496 | I8: 780.615 | J8: 2811.9704 | K8: 766.15056 | L8: 11492.318 | M8: 520.60199 | N8: 5508.8847 | O8: 17521.804
A9: CA | B9: 11335000 | C9: Cosumnes River at Michigan Bar, CA | D9: Sacramento, CA | E9: Reference | F9: 3293.5116 | G9: 0 | H9: 800.8 | I9: 780.615 | J9: 2811.9704 | K9: 766.15056 | L9: 9298.3523 | M9: 421.21536 | N9: 4457.1993 | O9: 14176.767
A10: CA | B10: 11049400 | C10: Santa Ana River above Seven Oaks Dam, CA | D10: San Diego, CA | E10: Reference | F10: 4507.2967 | G10: 476.52 | H10: 1496 | I10: 780.615 | J10: 2811.9704 | K10: 766.15056 | L10: 11922.408 | M10: 540.08508 | N10: 5715.05 | O10: 18177.543
A11: CO | B11: 6713500 | C11: Cherry Creek at Denver, CO | D11: Lakewood, CO | E11: Urban | F11: 2904.5797 | G11: 0 | H11: 563.2 | I11: 780.615 | J11: 2818.7593 | K11: 768.08574 | L11: 8618.7637 | M11: 0 | N11: 5092.5689 | O11: 13711.333
A12: CT | B12: 1170100 | C12: Green River near Colrain, MA | D12: East Hartford, CT | E12: Reference | F12: 3942.8865 | G12: 0 | H12: 1205.6 | I12: 780.615 | J12: 2886.6488 | K12: 787.13982 | L12: 10563.179 | M12: 0 | N12: 5548.9436 | O12: 16112.123
A13: CT | B13: 1209710 | C13: Norwalk River at Winnipauk,CT | D13: East Hartford, CT | E13: Urban | F13: 4111.4206 | G13: 0 | H13: 1135.2 | I13: 780.615 | J13: 2886.6488 | K13: 787.13982 | L13: 10671.127 | M13: 0 | N13: 5605.6495 | O13: 16276.776
A14: GA | B14: 2335870 | C14: Sope Creek near Marietta, GA | D14: Atlanta, GA | E14: Urban | F14: 3220.9936 | G14: 0 | H14: 695.2 | I14: 780.615 | J14: 2752.3785 | K14: 749.32938 | L14: 9018.3682 | M14: 0 | N14: 2901.3894 | O14: 11919.758
A15: GA | B15: 2338523 | C15: Hillibahatchee Creek near Franklin, GA | D15: Atlanta, GA | E15: Reference | F15: 4258.7542 | G15: 476.52 | H15: 1232 | I15: 780.615 | J15: 2752.3785 | K15: 749.32938 | L15: 11274.557 | M15: 0 | N15: 3627.2504 | O15: 14901.807
A16: ID | B16: 13092747 | C16: Rock Creek at Twin Falls, ID | D16: Boise, ID | E16: Agriculture | F16: 4164.3169 | G16: 476.52 | H16: 1760 | I16: 780.615 | J16: 2646.0184 | K16: 719.55738 | L16: 11601.73 | M16: 0 | N16: 6601.3846 | O16: 18203.115
A17: IN | B17: 394340085524601 | C17: Sugar Creek at New Palestine, IN | D17: Indianapolis, IN | E17: Agriculture | F17: 3555.6682 | G17: 0 | H17: 792 | I17: 780.615 | J17: 2657.3333 | K17: 722.68344 | L17: 9359.13 | M17: 0 | N17: 4592.5251 | O17: 13951.655
A18: IA | B18: 5451210 | C18: South Fork Iowa River near New Providence, IA | D18: Iowa City, IA | E18: Agriculture | F18: 5045.841 | G18: 476.52 | H18: 1848 | I18: 780.615 | J18: 2646.0184 | K18: 719.55738 | L18: 12668.207 | M18: 0 | N18: 4432.6056 | O18: 17100.813
... A21: MD | B21: 1654000 | C21: Accotink Creek near Annandale, VA | D21: Baltimore, MD | E21: Urban | F21: 3983.6324 | G21: 0 | H21: 1117.6 | I21: 780.615 | J21: 2853.4584 | K21: 777.9105 | L21: 10464.538 | M21: 0 | N21: 5755.4959 | O21: 16220.034
A22: MS | B22: 07288650 | C22: Bogue Phalia near Leland, MS | D22: Jackson, MS | E22: Agriculture | F22: 4699.593 | G22: 1111.88 | H22: 1540 | I22: 780.615 | J22: 2646.0184 | K22: 719.55738 | L22: 12647.43 | M22: 0 | N22: 4744.051 | O22: 17391.481
A23: NE | B23: 6775900 | C23: Dismal River near Thedford, NE | D23: Lincoln, NE | E23: Reference | F23: 6768.3466 | G23: 1111.88 | H23: 3344 | I23: 780.615 | J23: 2646.0184 | K23: 719.55738 | L23: 16907.459 | M23: 0 | N23: 9551.5309 | O23: 26458.99
A24: NE | B24: 6800000 | C24: Maple Creek near Nickerson, NE | D24: Lincoln, NE | E24: Agriculture | F24: 3899.8541 | G24: 0 | H24: 1293.6 | I24: 780.615 | J24: 2646.0184 | K24: 719.55738 | L24: 10273.609 | M24: 0 | N24: 5803.8702 | O24: 16077.48
A25: NM | B25: 8227000 | C25: Saguache Creek near Saguache, CO | D25: Albuquerque, NM | E25: Reference | F25: 6064.3747 | G25: 1111.88 | H25: 2640 | I25: 780.615 | J25: 2646.0184 | K25: 719.55738 | L25: 15358.69 | M25: 767.9345 | N25: 7385.9941 | O25: 23512.619
A26: NY | B26: 1349150 | C26: Canajoharie Creek near Canajoharie, NY | D26: Troy, NY | E26: Agriculture | F26: 3542.5525 | G26: 0 | H26: 1056 | I26: 780.615 | J26: 2646.0184 | K26: 719.55738 | L26: 9619.2177 | M26: 1154.3061 | N26: 4740.3505 | O26: 15513.874
A27: NC | B27: 2087580 | C27: Swift Creek near Apex, NC | D27: Raleigh, NC | E27: Urban | F27: 2947.2932 | G27: 0 | H27: 616 | I27: 780.615 | J27: 2646.0184 | K27: 719.55738 | L27: 8480.4324 | M27: 0 | N27: 3324.4143 | O27: 11804.847
A28: NC | B28: 2091500 | C28: Contentnea Creek at Hookerton, NC | D28: Raleigh, NC | E28: Agriculture | F28: 4388.831 | G28: 476.52 | H28: 1320 | I28: 780.615 | J28: 2646.0184 | K28: 719.55738 | L28: 11364.696 | M28: 0 | N28: 4455.0745 | O28: 15819.77
A29: OH | B29: 4161820 | C29: Clinton River at Sterling Heights, MI | D29: Columbus, OH | E29: Urban | F29: 6249.1501 | G29: 1111.88 | H29: 2376 | I29: 780.615 | J29: 2707.8732 | K29: 736.974 | L29: 15358.742 | M29: 0 | N29: 9061.6575 | O29: 24420.399
A30: OR | B30: 14201300 | C30: Zollner Creek near Mt. Angel, OR | D30: Portland, OR | E30: Agriculture | F30: 3564.1058 | G30: 0 | H30: 792 | I30: 780.615 | J30: 2773.4997 | K30: 755.43264 | L30: 9532.2185 | M30: 0 | N30: 5218.2224 | O30: 14750.441
A31: OR | B31: 14205400 | C31: East Fork Dairy Creek near Meachan Corner, OR | D31: Portland, OR | E31: Reference | F31: 3409.5365 | G31: 0 | H31: 836 | I31: 780.615 | J31: 2773.4997 | K31: 755.43264 | L31: 9410.5923 | M31: 0 | N31: 5151.6405 | O31: 14562.233
A32: OR | B32: 14206950 | C32: Fanno Creek at Durham, OR | D32: Portland, OR | E32: Urban | F32: 3018.6648 | G32: 0 | H32: 660 | I32: 780.615 | J32: 2773.4997 | K32: 755.43264 | L32: 8787.0333 | M32: 0 | N32: 4810.2857 | O32: 13597.319
A33: SC | B33: 2172300 | C33: McTier Creek near Monetta, SC | D33: Columbia, SC | E33: Reference | F33: 3319.3303 | G33: 0 | H33: 915.2 | I33: 780.615 | J33: 2646.0184 | K33: 719.55738 | L33: 9218.7932 | M33: 0 | N33: 3890.6073 | O33: 13109.4
A34: TX | B34: 8057200 | C34: White Rock Creek at Dallas, TX | D34: Austin, TX | E34: Urban | F34: 5328.327 | G34: 0 | H34: 2376 | I34: 780.615 | J34: 2646.0184 | K34: 719.55738 | L34: 13035.57 | M34: 0 | N34: 6993.8438 | O34: 20029.413
A35: TX | B35: 8195000 | C35: Frio River at Concan, TX | D35: Austin, TX | E35: Reference | F35: 5723.5515 | G35: 1111.88 | H35: 2112 | I35: 780.615 | J35: 2646.0184 | K35: 719.55738 | L35: 14402.985 | M35: 0 | N35: 7727.4893 | O35: 22130.474
A36: UT | B36: 10168000 | C36: Little Cottonwood Creek at Salt Lake City, UT | D36: West Valley City, UT | E36: Urban | F36: 2725.5345 | G36: 0 | H36: 545.6 | I36: 780.615 | J36: 2646.0184 | K36: 719.55738 | L36: 8159.0578 | M36: 2039.7644 | N36: 2345.7291 | O36: 12544.551
A37: UT | B37: 10172200 | C37: Red Butte Creek at Fort Douglas, UT | D37: West Valley City, UT | E37: Reference | F37: 1721.2038 | G37: 0 | H37: 294.8 | I37: 455.62 | J37: 1433.26 | K37: 479.70492 | L37: 4823.0476 | M37: 1205.7619 | N37: 1386.6262 | O37: 7415.4357
A38: WA | B38: 12056500 | C38: North Fork Skokomish River near Hoodsport, WA | D38: Tacoma, WA | E38: Reference | F38: 2080.8119 | G38: 0 | H38: 563.2 | I38: 455.62 | J38: 1518.6561 | K38: 509.27844 | L38: 5640.3231 | M38: 0 | N38: 2494.5457 | O38: 8134.8688
A39: WA | B39: 12505450 | C39: Granger Drain at Granger, WA | D39: Tacoma, WA | E39: Agriculture | F39: 5033.6571 | G39: 476.52 | H39: 2024 | I39: 780.615 | J39: 2803.6728 | K39: 763.91766 | L39: 13070.621 | M39: 0 | N39: 5780.7435 | O39: 18851.364
A40: WI | B40: 4063700 | C40: Popple River near Fence, WI | D40: Madison, WI | E40: Reference | F40: 6929.0843 | G40: 1111.88 | H40: 2992 | I40: 780.615 | J40: 2646.0184 | K40: 719.55738 | L40: 16697.071 | M40: 0 | N40: 5334.0462 | O40: 22031.117
A41: WY | B41: 6324970 | C41: Little Powder River near Weston, WY | D41: Cheyenne, WY | E41: Reference | F41: 6205.7646 | G41: 1111.88 | H41: 3080 | I41: 780.615 | J41: 2646.0184 | K41: 719.55738 | L41: 15998.219 | M41: 2140.5617 | N41: 8340.9369 | O41: 26479.718
N42: Total for FY13 = | O42: =SUM(O3:O41) -> 667544.85

Sheet SW sites
A1: SC | B1: 41085 | E1: Type | F1: NAWQA SW STATUS Sample Analyses cost (by SC) | G1: NASQAN Sample Analyses cost (by SC) | H1: NMN Sample Analyses cost (by SC) | I1: NAWQA SW STATUS QW Gross Sampling costs | J1: NASQAN QW Gross Sampling costs | K1: NMN QW Gross Sampling costs | L1: NAWQA SW STATUS Gross Stream gaging costs | M1: NASQAN Gross Stream gaging costs | N1: NMN Gross Stream gaging costs | O1: NAWQA SW STATUS Ecology Sampling Gross Costs | P1: NAWQA SW STATUS Ecology Lab Analysis Costs
B2: Station | C2: Site name | D2: Network | Q2: comments
A4: AL | B4: 0242354750 | C4: Cahaba Valley Creek at Pelham, AL | D4: NAWQA | E4: Urban | F4: 70392 | G4: 24486 | I4: ='FY13 chem site costs'!E2 -> 84000 | J4: ='FY13 chem site costs'!F2 -> 0 | K4: ='FY13 chem site costs'!G2 -> 0 | L4: ='FY13 chem site costs'!H2 -> 16536 | M4: ='FY13 chem site costs'!I2 -> 0 | N4: ='FY13 chem site costs'!J2 -> 0 | O4: ='FY13 Eco site costs'!O3 -> 13195.897 | P4: 2902.04
A5: AL | B5: 02470500 | C5: Mobile River at Mt. Vernon, AL | D5: NASQAN | E5: Large River | I5: ='FY13 chem site costs'!E3 -> 0 | J5: ='FY13 chem site costs'!F3 -> 77700 | K5: ='FY13 chem site costs'!G3 -> 0 | L5: ='FY13 chem site costs'!H3 -> 0 | M5: ='FY13 chem site costs'!I3 -> 0 | N5: ='FY13 chem site costs'!J3 -> 0 | O5: 0
A6: AL | B6: 02469762 | C6: Tombigbee River near Coffeeville, AL | D6: NAWQA | E6: Large River | I6: ='FY13 chem site costs'!E4 -> 86400 | J6: ='FY13 chem site costs'!F4 -> 0 | K6: ='FY13 chem site costs'!G4 -> 0 | L6: ='FY13 chem site costs'!H4 -> 0 | M6: ='FY13 chem site costs'!I4 -> 0 | N6: ='FY13 chem site costs'!J4 -> 0 | O6: 0
A7: AK | B7: 15565447 | C7: Yukon River at Pilot Station, AK | D7: NASQAN | E7: Large River | G7: 8469.2 | I7: ='FY13 chem site costs'!E5 -> 0 | J7: ='FY13 chem site costs'!F5 -> 76100 | K7: ='FY13 chem site costs'!G5 -> 0 | L7: ='FY13 chem site costs'!H5 -> 0 | M7: ='FY13 chem site costs'!I5 -> 0 | N7: ='FY13 chem site costs'!J5 -> 0 | O7: 0
A8: AZ | B8: 09471000 | C8: San Pedro River at Charleston, AZ | D8: NAWQA | E8: reference | F8: 8853 | G8: 21524 | I8: ='FY13 chem site costs'!E6 -> 22500 | J8: ='FY13 chem site costs'!F6 -> 0 | K8: ='FY13 chem site costs'!G6 -> 0 | L8: ='FY13 chem site costs'!H6 -> 0 | M8: ='FY13 chem site costs'!I6 -> 0 | N8: ='FY13 chem site costs'!J6 -> 0 | O8: ='FY13 Eco site costs'!O4 -> 16364.445 | P8: 2902.04
A9: AZ | B9: 09505800 | C9: West Clear Creek near Camp Verde, AZ | D9: NAWQA | E9: reference | I9: ='FY13 chem site costs'!E7 -> 27800 | J9: ='FY13 chem site costs'!F7 -> 0 | K9: ='FY13 chem site costs'!G7 -> 0 | L9: ='FY13 chem site costs'!H7 -> 0 | M9: ='FY13 chem site costs'!I7 -> 0 | N9: ='FY13 chem site costs'!J7 -> 0 | O9: ='FY13 Eco site costs'!O5 -> 19194.037 | P9: 2902.04
A10: AZ | B10: 09380000 | C10: Colorado River at Lees Ferry, AZ | D10: Co-op | E10: Large River | I10: ='FY13 chem site costs'!E8 -> 0 | J10: ='FY13 chem site costs'!F8 -> 0 | K10: ='FY13 chem site costs'!G8 -> 0 | L10: ='FY13 chem site costs'!H8 -> 0 | M10: ='FY13 chem site costs'!I8 -> 0 | N10: ='FY13 chem site costs'!J8 -> 0 | O10: 0
A11: AZ | B11: 09522000 | C11: Colorado River at NIB | D11: NASQAN | E11: Large River | I11: ='FY13 chem site costs'!E9 -> 0 | J11: ='FY13 chem site costs'!F9 -> 47800 | K11: ='FY13 chem site costs'!G9 -> 0 | L11: ='FY13 chem site costs'!H9 -> 0 | M11: ='FY13 chem site costs'!I9 -> 0 | N11: ='FY13 chem site costs'!J9 -> 0 | O11: 0
A12: AR | B12: 07263620 | C12: Arkansas River at Terry L&D below Little Rock, AR | D12: NASQAN | E12: Large River | F12: 8853 | G12: 24486 | I12: ='FY13 chem site costs'!E10 -> 0 | J12: ='FY13 chem site costs'!F10 -> 62100 | K12: ='FY13 chem site costs'!G10 -> 0 | L12: ='FY13 chem site costs'!H10 -> 0 | M12: ='FY13 chem site costs'!I10 -> 5510 | N12: ='FY13 chem site costs'!J10 -> 0 | O12: 0
A13: AR | B13: 07055646 | C13: Buffalo River near Boxley, AR | D13: NAWQA | E13: reference | I13: ='FY13 chem site costs'!E11 -> 22800 | J13: ='FY13 chem site costs'!F11 -> 0 | K13: ='FY13 chem site costs'!G11 -> 0 | L13: ='FY13 chem site costs'!H11 -> 0 | M13: ='FY13 chem site costs'!I11 -> 0 | N13: ='FY13 chem site costs'!J11 -> 0 | O13: ='FY13 Eco site costs'!O6 -> 22520.308 | P13: 2902.04
A14: AR | B14: 07060710 | C14: North Sylamore Creek near Fifty Six, AR | D14: NAWQA | E14: reference | I14: ='FY13 chem site costs'!E12 -> 15800 | J14: ='FY13 chem site costs'!F12 -> 0 | K14: ='FY13 chem site costs'!G12 -> 0 | L14: ='FY13 chem site costs'!H12 -> 0 | M14: ='FY13 chem site costs'!I12 -> 0 | N14: ='FY13 chem site costs'!J12 -> 0 | O14: ='FY13 Eco site costs'!O7 -> 19939.691 | P14: 2902.04
A15: CA | B15: 11447650 | C15: Sacramento River a Freeport, CA | D15: NAWQA | E15: Large River | F15: 134580.13 | I15: ='FY13 chem site costs'!E13 -> 69400 | J15: ='FY13 chem site costs'!F13 -> 0 | K15: ='FY13 chem site costs'!G13 -> 0 | L15: ='FY13 chem site costs'!H13 -> 0 | M15: ='FY13 chem site costs'!I13 -> 0 | N15: ='FY13 chem site costs'!J13 -> 0 | O15: 0
A16: CA | B16: 11274538 | C16: Orestimba Creek near Crows Landing, CA | D16: NAWQA | E16: Agriculture | I16: ='FY13 chem site costs'!E14 -> 107500 | J16: ='FY13 chem site costs'!F14 -> 0 | K16: ='FY13 chem site costs'!G14 -> 0 | L16: ='FY13 chem site costs'!H14 -> 10584 | M16: ='FY13 chem site costs'!I14 -> 0 | N16: ='FY13 chem site costs'!J14 -> 0 | O16: ='FY13 Eco site costs'!O8 -> 17521.804 | P16: 2902.04
A17: CA | B17: 11303500 | C17: San Joaquin River near Vernalis, CA | D17: NAWQA | E17: Large River | I17: ='FY13 chem site costs'!E15 -> 86300 | J17: ='FY13 chem site costs'!F15 -> 0 | K17: ='FY13 chem site costs'!G15 -> 0 | L17: ='FY13 chem site costs'!H15 -> 0 | M17: ='FY13 chem site costs'!I15 -> 0 | N17: ='FY13 chem site costs'!J15 -> 0 | O17: 0
A18: CA | B18: 11335000 | C18: Cosumnes River at Michigan Bar, CA | D18: NAWQA | E18: reference | I18: ='FY13 chem site costs'!E16 -> 26300 | J18: ='FY13 chem site costs'!F16 -> 0 | K18: ='FY13 chem site costs'!G16 -> 0 | L18: ='FY13 chem site costs'!H16 -> 0 | M18: ='FY13 chem site costs'!I16 -> 0 | N18: ='FY13 chem site costs'!J16 -> 0 | O18: ='FY13 Eco site costs'!O9 -> 14176.767 | P18: 2902.04
A19: CA | B19: 11049400 | C19: Santa Ana River above Seven Oaks Dam, CA | D19: NAWQA | E19: reference | I19: ='FY13 chem site costs'!E17 -> 22500 | J19: ='FY13 chem site costs'!F17 -> 0 | K19: ='FY13 chem site costs'!G17 -> 0 | L19: ='FY13 chem site costs'!H17 -> 0 | M19: ='FY13 chem site costs'!I17 -> 0 | N19: ='FY13 chem site costs'!J17 -> 0 | O19: ='FY13 Eco site costs'!O10 -> 18177.543 | P19: 2902.04
A20: CA | B20: 11074000 | C20: Santa Ana River below Prado Dam, CA | D20: NAWQA | E20: Large River | I20: ='FY13 chem site costs'!E18 -> 67500 | J20: ='FY13 chem site costs'!F18 -> 0 | K20: ='FY13 chem site costs'!G18 -> 0 | L20: ='FY13 chem site costs'!H18 -> 0 | M20: ='FY13 chem site costs'!I18 -> 0 | N20: ='FY13 chem site costs'!J18 -> 0 | O20: 0
A21: CO | B21: 06713500 | C21: Cherry Creek at Denver, CO | D21: NAWQA | E21: Urban | F21: 100802.2 | I21: ='FY13 chem site costs'!E19 -> 86900 | J21: ='FY13 chem site costs'!F19 -> 0 | K21: ='FY13 chem site costs'!G19 -> 0 | L21: ='FY13 chem site costs'!H19 -> 0 | M21: ='FY13 chem site costs'!I19 -> 0 | N21: ='FY13 chem site costs'!J19 -> 0 | O21: ='FY13 Eco site costs'!O11 -> 13711.333 | P21: 2902.04
A22: CO | B22: 06754000 | C22: South Platte River near Kersey, CO | D22: NAWQA | E22: Large River | I22: ='FY13 chem site costs'!E20 -> 83800 | J22: ='FY13 chem site costs'!F20 -> 0 | K22: ='FY13 chem site costs'!G20 -> 0 | L22: ='FY13 chem site costs'!H20 -> 0 | M22: ='FY13 chem site costs'!I20 -> 0 | N22: ='FY13 chem site costs'!J20 -> 0 | O22: 0
A23: CO | B23: 09163500 | C23: Colorado River near Colorado-Utah state line | D23: NAWQA | E23: Large River | I23: ='FY13 chem site costs'!E21 -> 77600 | J23: ='FY13 chem site costs'!F21 -> 0 | K23: ='FY13 chem site costs'!G21 -> 0 | L23: ='FY13 chem site costs'!H21 -> 0 | M23: ='FY13 chem site costs'!I21 -> 0 | N23: ='FY13 chem site costs'!J21 -> 0 | O23: 0
A24: CT | B24: 01170100 | C24: Green River near Colrain, MA | D24: NAWQA | E24: reference | F24: 74846.13 | I24: ='FY13 chem site costs'!E22 -> 26400 | J24: ='FY13 chem site costs'!F22 -> 0 | K24: ='FY13 chem site costs'!G22 -> 0 | L24: ='FY13 chem site costs'!H22 -> 0 | M24: ='FY13 chem site costs'!I23 -> 0 | N24: ='FY13 chem site costs'!J23 -> 0 | O24: ='FY13 Eco site costs'!O12 -> 16112.123 | P24: 2902.04
A25: CT | B25: 01184000 | C25: Connecticut River at Thompsonville, CT | D25: NAWQA | E25: Large River | I25: ='FY13 chem site costs'!E23 -> 87400 | J25: ='FY13 chem site costs'!F23 -> 0 | K25: ='FY13 chem site costs'!G23 -> 0 | L25: ='FY13 chem site costs'!H23 -> 0 | M25: ='FY13 chem site costs'!I24 -> 0 | N25: ='FY13 chem site costs'!J24 -> 0 | O25: 0
A26: CT | B26: 01209710 | C26: Norwalk River at Winnipauk,CT | D26: NAWQA | E26: Urban | I26: ='FY13 chem site costs'!E24 -> 83300 | J26: ='FY13 chem site costs'!F24 -> 0 | K26: ='FY13 chem site costs'!G24 -> 0 | L26: ='FY13 chem site costs'!H24 -> 0 | M26: ='FY13 chem site costs'!I25 -> 0 | N26: ='FY13 chem site costs'!J25 -> 0 | O26: ='FY13 Eco site costs'!O13 -> 16276.776 | P26: 2902.04
A27: FL | B27: 02359170 | C27: Apalachicola River near Sumatra, FL | D27: NMN | E27: Large River | H27: 24486.06 | I27: ='FY13 chem site costs'!E25 -> 0 | J27: ='FY13 chem site costs'!F25 -> 0 | K27: ='FY13 chem site costs'!G25 -> 53700 | L27: ='FY13 chem site costs'!H25 -> 0 | M27: ='FY13 chem site costs'!I26 -> 0 | N27: ='FY13 chem site costs'!J25 -> 0 | O27: 0
A28: GA | B28: 02335870 | C28: Sope Creek near Marietta, GA | D28: NAWQA | E28: Urban | F28: 44381 | G28: 24486 | I28: ='FY13 chem site costs'!E26 -> 81800 | J28: ='FY13 chem site costs'!F26 -> 0 | K28: ='FY13 chem site costs'!G26 -> 0 | L28: ='FY13 chem site costs'!H26 -> 0 | M28: ='FY13 chem site costs'!I26 -> 0 | N28: ='FY13 chem site costs'!J26 -> 0 | O28: ='FY13 Eco site costs'!O14 -> 11919.758 | P28: 2902.04
A29: GA | B29: 02338523 | C29: Hillibahatchee Creek near Franklin, GA | D29: NAWQA | E29: reference | I29: ='FY13 chem site costs'!E27 -> 39200 | J29: ='FY13 chem site costs'!F27 -> 0 | K29: ='FY13 chem site costs'!G27 -> 0 | L29: ='FY13 chem site costs'!H27 -> 14516 | M29: ='FY13 chem site costs'!I27 -> 0 | N29: ='FY13 chem site costs'!J27 -> 0 | O29: ='FY13 Eco site costs'!O15 -> 14901.807 | P29: 2902.04
A30: GA | B30: 02226160 | C30: Altamaha River at Everett City, GA | D30: NASQAN | E30: Large River | I30: ='FY13 chem site costs'!E28 -> 0 | J30: ='FY13 chem site costs'!F28 -> 67200 | K30: ='FY13 chem site costs'!G28 -> 0 | L30: ='FY13 chem site costs'!H28 -> 0 | M30: ='FY13 chem site costs'!I28 -> 24250 | N30: ='FY13 chem site costs'!J28 -> 0 | O30: 0
A31: ID | B31: 13092747 | C31: Rock Creek at Twin Falls, ID | D31: NAWQA | E31: Agriculture | F31: 64468.06 | I31: ='FY13 chem site costs'!E29 -> 92400 | J31: ='FY13 chem site costs'!F29 -> 0 | K31: ='FY13 chem site costs'!G29 -> 0 | L31: ='FY13 chem site costs'!H29 -> 16955 | M31: ='FY13 chem site costs'!I30 -> 0 | N31: ='FY13 chem site costs'!J30 -> 0 | O31: ='FY13 Eco site costs'!O16 -> 18203.115 | P31: 2902.04
A32: ID | B32: 13154500 | C32: Snake River at King Hill, ID | D32: NAWQA | E32: Large River | I32: ='FY13 chem site costs'!E30 -> 55400 | J32: ='FY13 chem site costs'!F30 -> 0 | K32: ='FY13 chem site costs'!G30 -> 0 | L32: ='FY13 chem site costs'!H30 -> 16955 | M32: ='FY13 chem site costs'!I31 -> 0 | N32: ='FY13 chem site costs'!J31 -> 0 | O32: 0
A33: IL | B33: 05586100 | C33: Illinois River at Valley City, IL | D33: NASQAN | E33: Large River | F33: 24486 | I33: ='FY13 chem site costs'!E31 -> 85400 | J33: ='FY13 chem site costs'!F31 -> 0 | K33: ='FY13 chem site costs'!G31 -> 0 | L33: ='FY13 chem site costs'!H31 -> 0 | M33: ='FY13 chem site costs'!I31 -> 0 | N33: ='FY13 chem site costs'!J31 -> 0 | O33: 0
A34: IN | B34: 03374100 | C34: White River at Hazleton, IN | D34: NAWQA | E34: Large River | F34: 70392.1 | I34: ='FY13 chem site costs'!E32 -> 100300 | J34: ='FY13 chem site costs'!F32 -> 0 | K34: ='FY13 chem site costs'!G32 -> 0 | L34: ='FY13 chem site costs'!H32 -> 0 | M34: ='FY13 chem site costs'!I33 -> 0 | N34: ='FY13 chem site costs'!J33 -> 0 | O34: 0
A35: IN | B35: 394340085524601 | C35: Sugar Creek at New Palestine, IN | D35: NAWQA | E35: Agriculture | I35: ='FY13 chem site costs'!E33 -> 102100 | J35: ='FY13 chem site costs'!F33 -> 0 | K35: ='FY13 chem site costs'!G33 -> 0 | L35: ='FY13 chem site costs'!H33 -> 10262 | M35: ='FY13 chem site costs'!I34 -> 0 | N35: ='FY13 chem site costs'!J34 -> 0 | O35: ='FY13 Eco site costs'!O17 -> 13951.655 | P35: 2902
A36: IA | B36: 05451210 | C36: South Fork Iowa River near New Providence, IA | D36: NAWQA | E36: Agriculture | F36: 88954.12 | G36: 48972.12 | I36: ='FY13 chem site costs'!E34 -> 89600 | J36: ='FY13 chem site costs'!F34 -> 0 | K36: ='FY13 chem site costs'!G34 -> 0 | L36: ='FY13 chem site costs'!H34 -> 15008 | M36: ='FY13 chem site costs'!I34 -> 0 | N36: ='FY13 chem site costs'!J34 -> 0 | O36: ='FY13 Eco site costs'!O18 -> 17100.813 | P36: 2902.04
A37: IA | B37: 05465500 | C37: Iowa River at Wapello, IA | D37: NAWQA | E37: Large River | I37: ='FY13 chem site costs'!E35 -> 43100 | J37: ='FY13 chem site costs'!F35 -> 0 | K37: ='FY13 chem site costs'!G35 -> 0 | L37: ='FY13 chem site costs'!H35 -> 0 | M37: ='FY13 chem site costs'!I35 -> 0 | N37: ='FY13 chem site costs'!J35 -> 0 | O37: 0
A38: IA | B38: 05490500 | C38: Des Moines at Keosauqua, IA | D38: NAWQA | E38: Large River | I38: ='FY13 chem site costs'!E36 -> 43100 | J38: ='FY13 chem site costs'!F36 -> 0 | K38: ='FY13 chem site costs'!G36 -> 0 | L38: ='FY13 chem site costs'!H36 -> 0 | M38: ='FY13 chem site costs'!I36 -> 0 | N38: ='FY13 chem site costs'!J36 -> 0 | O38: 0
A39: IA | B39: 05420500 | C39: Mississippi River at Clinton, IA | D39: NASQAN | E39: Large River | I39: ='FY13 chem site costs'!E37 -> 0 | J39: ='FY13 chem site costs'!F37 -> 64900 | K39: ='FY13 chem site costs'!G37 -> 0 | L39: ='FY13 chem site costs'!H37 -> 0 | M39: ='FY13 chem site costs'!I37 -> 0 | N39: ='FY13 chem site costs'!J37 -> 0 | O39: 0
A40: IA | B40: 06610000 | C40: Missouri River at Omaha, NE | D40: NASQAN | E40: Large River | I40: ='FY13 chem site costs'!E38 -> 0 | J40: ='FY13 chem site costs'!F38 -> 65200 | K40: ='FY13 chem site costs'!G38 -> 0 | L40: ='FY13 chem site costs'!H38 -> 0 | M40: ='FY13 chem site costs'!I38 -> 0 | N40: ='FY13 chem site costs'!J38 -> 0 | O40: 0
A41: KS | B41: 06892350 | C41: Kansas River at DeSoto, KS | D41: Co-op | E41: Large River | F41: 0 | I41: ='FY13 chem site costs'!E39 -> 0 | J41: ='FY13 chem site costs'!F39 -> 0 | K41: ='FY13 chem site costs'!G39 -> 0 | L41: ='FY13 chem site costs'!H39 -> 0 | M41: ='FY13 chem site costs'!I40 -> 0 | N41: ='FY13 chem site costs'!J40 -> 0 | O41: 0
...

Sheet FY13 sampling by SC
A1: 41082
B2: NAWQA SW Chemistry | E2: NASQAN Chemistry | H2: NMN Chemistry | K2: NAWQA Ecology | M2: NAWQA SW Status Total | P2: NASQAN Total | S2: NMN Total
A3: SC | B3: Sampling & Data Review | C3: Lab Analysis (includes QC) | D3: Streamflow Gaging | E3: Sampling & Data Review | F3: Lab Analysis (includes QC) | G3: Streamflow Gaging | H3: Sampling & Data Review | I3: Lab Analysis (includes QC) | J3: Streamflow Gaging | K3: Sampling & Data Review | L3: Lab Analysis (includes QC) | M3: Lab Analysis | N3: SC Costs | O3: TOTAL | P3: Lab Analysis | Q3: WSC Costs | R3: TOTAL | S3: Lab Analysis | T3: WSC Costs | U3: TOTAL
A4: AL | B4: =SUM('SW sites'!I4:'SW sites'!I6) -> 170400 | C4: =SUM('SW sites'!F4:'SW sites'!F6) -> 70392 | D4: =SUM('SW sites'!L4:'SW sites'!L6) -> 16536 | E4: =SUM('SW sites'!J4:'SW sites'!J6) -> 77700 | F4: =SUM('SW sites'!G4:'SW sites'!G6) -> 24486 | G4: =SUM('SW sites'!M4:'SW sites'!M6) -> 0 | H4: =SUM('SW sites'!K4:'SW sites'!K6) -> 0 | I4: =SUM('SW sites'!H4:'SW sites'!H6) -> 0 | J4: =SUM('SW sites'!N4:'SW sites'!N6) -> 0 | K4: =SUM('SW sites'!O4:'SW sites'!O6) -> 13195.897 | L4: 2902.04 | M4: =C4+L4 -> 73294.04 | N4: =B4+K4+D4 -> 200131.9 | O4: =M4+N4 -> 273425.94 | P4: =F4 -> 24486 | Q4: =E4+G4 -> 77700 | R4: =P4+Q4 -> 102186 | S4: =I4 -> 0 | T4: =H4+J4 -> 0 | U4: =S4+T4 -> 0
A5: AK | B5: =SUM('SW sites'!I7) -> 0 | C5: =SUM('SW sites'!F7) -> 0 | D5: =SUM('SW sites'!L7) -> 0 | E5: =SUM('SW sites'!J7) -> 76100 | F5: =SUM('SW sites'!G7) -> 8469.2 | G5: =SUM('SW sites'!M7) -> 0 | H5: =SUM('SW sites'!K7) -> 0 | I5: =SUM('SW sites'!H7) -> 0 | J5: =SUM('SW sites'!N7) -> 0 | K5: =SUM('SW sites'!O7) -> 0 | L5: 0 | M5: =C5+L5 -> 0 | N5: =B5+K5+D5 -> 0 | O5: =M5+N5 -> 0 | P5: =F5 -> 8469.2 | Q5: =E5+G5 -> 76100 | R5: =P5+Q5 -> 84569.2 | S5: =I5 -> 0 | T5: =H5+J5 -> 0 | U5: =S5+T5 -> 0
A6: AZ | B6: =SUM('SW sites'!I8:'SW sites'!I11) -> 50300 | C6: =SUM('SW sites'!F8:'SW sites'!F11) -> 8853 | D6: =SUM('SW sites'!L8:'SW sites'!L11) -> 0 | E6: =SUM('SW sites'!J8:'SW sites'!J11) -> 47800 | F6: =SUM('SW sites'!G8:'SW sites'!G11) -> 21524 | G6: =SUM('SW sites'!M8:'SW sites'!M11) -> 0 | H6: =SUM('SW sites'!K8:'SW sites'!K11) -> 0 | I6: =SUM('SW sites'!H8:'SW sites'!H11) -> 0 | J6: =SUM('SW sites'!N8:'SW sites'!N11) -> 0 | K6: =SUM('SW sites'!O8:'SW sites'!O11) -> 35558.483 | L6: 5804.08 | M6: =C6+L6 -> 14657.08 | N6: =B6+K6+D6 -> 85858.483 | O6: =M6+N6 -> 100515.56 | P6: =F6 -> 21524 | Q6: =E6+G6 -> 47800 | R6: =P6+Q6 -> 69324 | S6: =I6 -> 0 | T6: =H6+J6 -> 0 | U6: =S6+T6 -> 0
A7: AR | B7: =SUM('SW sites'!I12:'SW sites'!I14) -> 38600 | C7: =SUM('SW sites'!F12:'SW sites'!F14) -> 8853 | D7: =SUM('SW sites'!L12:'SW sites'!L14) -> 0 | E7: =SUM('SW sites'!J12:'SW sites'!J14) -> 62100 | F7: =SUM('SW sites'!G12:'SW sites'!G14) -> 24486 | G7: =SUM('SW sites'!M12:'SW sites'!M14) -> 5510 | H7: =SUM('SW sites'!K12:'SW sites'!K14) -> 0 | I7: =SUM('SW sites'!H12:'SW sites'!H14) -> 0 | J7: =SUM('SW sites'!N12:'SW sites'!N14) -> 0 | K7: =SUM('SW sites'!O12:'SW sites'!O14) -> 42459.999 | L7: 5804.08 | M7: =C7+L7 -> 14657.08 | N7: =B7+K7+D7 -> 81059.999 | O7: =M7+N7 -> 95717.079 | P7: =F7 -> 24486 | Q7: =E7+G7 -> 67610 | R7: =P7+Q7 -> 92096 | S7: =I7 -> 0 | T7: =H7+J7 -> 0 | U7: =S7+T7 -> 0
A8: CA | B8: =SUM('SW sites'!I15:'SW sites'!I20) -> 379500 | C8: =SUM('SW sites'!F15:'SW sites'!F20) -> 134580.13 | D8: =SUM('SW sites'!L15:'SW sites'!L20) -> 10584 | E8: =SUM('SW sites'!J15:'SW sites'!J20) -> 0 | F8: =SUM('SW sites'!G15:'SW sites'!G20) -> 0 | G8: =SUM('SW sites'!M15:'SW sites'!M20) -> 0 | H8: =SUM('SW sites'!K15:'SW sites'!K20) -> 0 | I8: =SUM('SW sites'!H15:'SW sites'!H20) -> 0 | J8: =SUM('SW sites'!N15:'SW sites'!N20) -> 0 | K8: =SUM('SW sites'!O15:'SW sites'!O20) -> 49876.114 | L8: 8706.12 | M8: =C8+L8 -> 143286.25 | N8: =B8+K8+D8 -> 439960.11 | O8: =M8+N8 -> 583246.36 | P8: =F8 -> 0 | Q8: =E8+G8 -> 0 | R8: =P8+Q8 -> 0 | S8: =I8 -> 0 | T8: =H8+J8 -> 0 | U8: =S8+T8 -> 0
A9: CO | B9: =SUM('SW sites'!I21:'SW sites'!I23) -> 248300 | C9: =SUM('SW sites'!F21:'SW sites'!F23) -> 100802.2 | D9: =SUM('SW sites'!L21:'SW sites'!L23) -> 0 | E9: =SUM('SW sites'!J21:'SW sites'!J23) -> 0 | F9: =SUM('SW sites'!G21:'SW sites'!G23) -> 0 | G9: =SUM('SW sites'!M21:'SW sites'!M23) -> 0 | H9: =SUM('SW sites'!K21:'SW sites'!K23) -> 0 | I9: =SUM('SW sites'!H21:'SW sites'!H23) -> 0 | J9: =SUM('SW sites'!N21:'SW sites'!N23) -> 0 | K9: =SUM('SW sites'!O21:'SW sites'!O23) -> 13711.333 | L9: 2902.04 | M9: =C9+L9 -> 103704.24 | N9: =B9+K9+D9 -> 262011.33 | O9: =M9+N9 -> 365715.57 | P9: =F9 -> 0 | Q9: =E9+G9 -> 0 | R9: =P9+Q9 -> 0 | S9: =I9 -> 0 | T9: =H9+J9 -> 0 | U9: =S9+T9 -> 0
A10: CT | B10: =SUM('SW sites'!I24:'SW sites'!I26) -> 197100 | C10: =SUM('SW sites'!F24:'SW sites'!F26) -> 74846.13 | D10: =SUM('SW sites'!L24:'SW sites'!L26) -> 0 | E10: =SUM('SW sites'!J24:'SW sites'!J26) -> 0 | F10: =SUM('SW sites'!G24:'SW sites'!G26) -> 0 | G10: =SUM('SW sites'!M24:'SW sites'!M26) -> 0 | H10: =SUM('SW sites'!K24:'SW sites'!K26) -> 0 | I10: =SUM('SW sites'!H24:'SW sites'!H26) -> 0 | J10: =SUM('SW sites'!N24:'SW sites'!N26) -> 0 | K10: =SUM('SW sites'!O24:'SW sites'!O26) -> 32388.899 | L10: 5804.08 | M10: =C10+L10 -> 80650.21 | N10: =B10+K10+D10 -> 229488.9 | O10: =M10+N10 -> 310139.11 | P10: =F10 -> 0 | Q10: =E10+G10 -> 0 | R10: =P10+Q10 -> 0 | S10: =I10 -> 0 | T10: =H10+J10 -> 0 | U10: =S10+T10 -> 0
A11: FL | B11: =SUM('SW sites'!I27) -> 0 | C11: =SUM('SW sites'!F27) -> 0 | D11: =SUM('SW sites'!L27) -> 0 | E11: =SUM('SW sites'!J27) -> 0 | F11: =SUM('SW sites'!G27) -> 0 | G11: =SUM('SW sites'!M27) -> 0 | H11: =SUM('SW sites'!K27) -> 53700 | I11: =SUM('SW sites'!H27) -> 24486.06 | J11: =SUM('SW sites'!N27) -> 0 | K11: =SUM('SW sites'!O27) -> 0 | L11: 0 | M11: =C11+L11 -> 0 | N11: =B11+K11+D11 -> 0 | O11: =M11+N11 -> 0 | P11: =F11 -> 0 | Q11: =E11+G11 -> 0 | R11: =P11+Q11 -> 0 | S11: =I11 -> 24486.06 | T11: =H11+J11 -> 53700 | U11: =S11+T11 -> 78186.06
A12: GA | B12: =SUM('SW sites'!I28:'SW sites'!I30) -> 121000 | C12: =SUM('SW sites'!F28:'SW sites'!F30) -> 44381 | D12: =SUM('SW sites'!L28:'SW sites'!L30) -> 14516 | E12: =SUM('SW sites'!J28:'SW sites'!J30) -> 67200 | F12: =SUM('SW sites'!G28:'SW sites'!G30) -> 24486 | G12: =SUM('SW sites'!M28:'SW sites'!M30) -> 24250 | H12: =SUM('SW sites'!K28:'SW sites'!K30) -> 0 | I12: =SUM('SW sites'!H28:'SW sites'!H30) -> 0 | J12: =SUM('SW sites'!N28:'SW sites'!N30) -> 0 | K12: =SUM('SW sites'!O28:'SW sites'!O30) -> 26821.565 | L12: 5804.08 | M12: =C12+L12 -> 50185.08 | N12: =B12+K12+D12 -> 162337.56 | O12: =M12+N12 -> 212522.64 | P12: =F12 -> 24486 | Q12: =E12+G12 -> 91450 | R12: =P12+Q12 -> 115936 | S12: =I12 -> 0 | T12: =H12+J12 -> 0 | U12: =S12+T12 -> 0
A13: ID | B13: =SUM('SW sites'!I31:'SW sites'!I32) -> 147800 | C13: =SUM('SW sites'!F31:'SW sites'!F32) -> 64468.06 | D13: =SUM('SW sites'!L31:'SW sites'!L32) -> 33910 | E13: =SUM('SW sites'!J31:'SW sites'!J32) -> 0 | F13: =SUM('SW sites'!G31:'SW sites'!G32) -> 0 | G13: =SUM('SW sites'!M31:'SW sites'!M32) -> 0 | H13: =SUM('SW sites'!K31:'SW sites'!K32) -> 0 | I13: =SUM('SW sites'!H31:'SW sites'!H32) -> 0 | J13: =SUM('SW sites'!N31:'SW sites'!N32) -> 0 | K13: =SUM('SW sites'!O31:'SW sites'!O32) -> 18203.115 | L13: 2902.04 | M13: =C13+L13 -> 67370.1 | N13: =B13+K13+D13 -> 199913.12 | O13: =M13+N13 -> 267283.22 | P13: =F13 -> 0 | Q13: =E13+G13 -> 0 | R13: =P13+Q13 -> 0 | S13: =I13 -> 0 | T13: =H13+J13 -> 0 | U13: =S13+T13 -> 0
