Workbook

Sheet chem site information
A1: MAJOR RIVER BASIN | B1: CYCLE II SU | C1: STATION ID | D1: STATION NAME | E1: CYCLE II SITE (145) | F1: CYCLE II SITE (84) | G1: CYCLE I SITE TYPE | H1: CYCLE II SITE TYPE | I1: NS LAND USE TYPE | J1: NEW CYCLE II SITE TYPE | K1: SAMPLED FOR ECOLOGY | L1: PROPOSED COST CENTER TO DO SAMPLING | M1: SAMPLED IN 2007 | N1: SAMPLED IN 2008 | O1: SAMPLED IN 2009 | P1: SAMPLED IN 2010 | Q1: SAMPLED IN 2011 | R1: SAMPLED IN 2012 | S1: NUMBER OF SAMPLES IN 2007 | T1: NUMBER OF SAMPLES IN 2008 | U1: NUMBER OF SAMPLES IN 2009 | V1: NUMBER OF SAMPLES IN 2010 | W1: NUMBER OF SAMPLES IN 2011 | X1: NUMBER OF SAMPLES IN 2012 | Y1: DISTANCE TO SITE (miles) | Z1: TRAVEL TIME TO SITE (hrs) | AA1: SITE SIZE | AB1: LOW FLOW SITE TYPE | AC1: HIGH FLOW SITE TYPE | AD1: FLAGMEN NEEDED AT LOW FLOW | AE1: FLAGMEN NEEDED AT HIGH FLOW | AF1: NUMBER OF VEHICLES NEEDED (EXCLUDING FLAGMEN) | AG1: LOW FLOW LENGTH OF FIELD DAY (hrs) | AH1: HIGH FLOW LENGTH OF FIELD DAY (hrs) | AI1: LOW FLOW SAMPLE TOTAL HOURS | AJ1: HIGH FLOW SAMPLE TOTAL HOURS | AK1: Comments
A2: 1 | B2: CONN | C2: 01170100 | D2: Green River near Colrain, MA | E2: Y | F2: Y | G2: bfs | H2: Ref | I2: Undev | J2: rotate4 | K2: Y | L2: East Hartford, CT | M2: N | N2: N | O2: Y | P2: N | Q2: N | R2: N | S2: 0 | T2: 0 | U2: 6 | V2: 0 | W2: 0 | X2: 0 | Y2: 174 | Z2: 3.2 | AA2: small | AB2: wading | AC2: bridge | AD2: N | AE2: N | AF2: 1 | AG2: 8 | AH2: 8 | AI2: 34.5 | AJ2: 34.5
A3: 1 | B3: CONN | C3: 01184000 | D3: Connecticut River at Thompsonville, CT | E3: Y | F3: Y | G3: bfs | H3: Integ | I3: Urban / Undev | J3: rotate4 | K3: N | L3: East Hartford, CT | M3: N | N3: Y | O3: N | P3: N | Q3: N | R3: Y | S3: 0 | T3: 16 | U3: 0 | V3: 0 | W3: 0 | X3: 16 | Y3: 56 | Z3: 1.2 | AA3: large | AB3: boat3 | AC3: boat3 | AD3: N | AE3: N | AF3: 2 | AG3: 6 | AH3: 6 | AI3: 38.5 | AJ3: 38.5
A4: 1 | B4: CONN | C4: 01209710 | D4: Norwalk River at Winnipauk,CT | E4: Y | F4: Y | G4: ifs | H4: Urban | I4: Urban 2 | J4: rotate4 | K4: Y | L4: East Hartford, CT | M4: N | N4: N | O4: N | P4: Y | Q4: N | R4: N | S4: 0 | T4: 0 | U4: 0 | V4: 21 | W4: 0 | X4: 0 | Y4: 158 | Z4: 3 | AA4: small | AB4: wading | AC4: bridge | AD4: N | AE4: N | AF4: 1 | AG4: 8 | AH4: 8 | AI4: 34.5 | AJ4: 34.5
A5: 1 | B5: DELR | C5: 01463500 | D5: Delaware River at Trenton, NJ | E5: Y | F5: Y | G5: bfs | H5: Integ | I5: Ag / Urb / Undev | J5: rotate4 | K5: N | L5: West Trenton, NJ | M5: N | N5: Y | O5: N | P5: N | Q5: N | R5: Y | S5: 0 | T5: 16 | U5: 0 | V5: 0 | W5: 0 | X5: 16 | Y5: 30 | Z5: 0.8 | AA5: large | AB5: bridge | AC5: bridge | AD5: Y | AE5: Y | AF5: 1 | AG5: 6 | AH5: 6.5 | AI5: 36.5 | AJ5: 37.5
A6: 1 | B6: DELR | C6: 01464907 | D6: Little Neshaminy Creek near Warminster, PA | E6: Y | F6: N | G6: ifs | H6: Urban | I6: Urban 2 | J6: rotate4 | K6: Y | L6: West Trenton, NJ | M6: N | N6: N | O6: N | P6: Y | Q6: N | R6: N | S6: 0 | T6: 0 | U6: 0 | V6: 21 | W6: 0 | X6: 0 | Y6: 52 | Z6: 1.4 | AA6: small | AB6: wading | AC6: bridge | AD6: N | AE6: N | AF6: 1 | AG6: 6 | AH6: 6 | AI6: 30.5 | AJ6: 30.5
A7: 1 | B7: DELR | C7: 01472157 | D7: French Creek near Phoenixville, PA | E7: Y | F7: N | G7: bfs | H7: Ref | I7: Ag / Undev | J7: rotate4 | K7: Y | L7: West Trenton, NJ | M7: N | N7: N | O7: Y | P7: N | Q7: N | R7: N | S7: 0 | T7: 0 | U7: 21 | V7: 0 | W7: 0 | X7: 0 | Y7: 116 | Z7: 2.6 | AA7: small | AB7: wading | AC7: bridge | AD7: N | AE7: N | AF7: 1 | AG7: 7.5 | AH7: 7.5 | AI7: 33.5 | AJ7: 33.5
A8: 1 | B8: HDSN | C8: 01349150 | D8: Canajoharie Creek near Canajoharie, NY | E8: Y | F8: Y | G8: ifs | H8: Ag | I8: Ag | J8: rotate4 | K8: Y | L8: Troy, NY | M8: Y | N8: N | O8: N | P8: N | Q8: Y | R8: N | S8: 21 | T8: 0 | U8: 0 | V8: 0 | W8: 21 | X8: 0 | Y8: 140 | Z8: 2.4 | AA8: small | AB8: wading | AC8: bridge | AD8: N | AE8: N | AF8: 1 | AG8: 7 | AH8: 7.5 | AI8: 32.5 | AJ8: 33.5
A9: 1 | B9: HDSN | C9: 01356190 | D9: Lisha Kill northwest of Niskayuna, NY | E9: Y | F9: Y | G9: ifs | H9: Urban | I9: Urban 1 | J9: rotate2 | K9: Y | L9: Troy, NY | M9: N | N9: Y | O9: N | P9: Y | Q9: N | R9: Y | S9: 0 | T9: 21 | U9: 0 | V9: 21 | W9: 0 | X9: 21 | Y9: 46 | Z9: 1.2 | AA9: small | AB9: wading | AC9: bridge | AD9: N | AE9: Y | AF9: 1 | AG9: 6 | AH9: 6 | AI9: 30.5 | AJ9: 36.5
A10: 1 | B10: HDSN | C10: 01357500 | D10: Mohawk River at Cohoes, NY | E10: Y | F10: Y | G10: ifs | H10: Integ | I10: Ag / Urb / Undev | J10: rotate4 | K10: N | L10: Troy, NY | M10: N | N10: N | O10: Y | P10: N | Q10: N | R10: N | S10: 0 | T10: 0 | U10: 16 | V10: 0 | W10: 0 | X10: 0 | Y10: 30 | Z10: 1 | AA10: large | AB10: bridge | AC10: bridge | AD10: N | AE10: N | AF10: 1 | AG10: 6.5 | AH10: 6.5 | AI10: 31.5 | AJ10: 31.5
A11: 1 | B11: LINJ | C11: 01403300 | D11: Raritan River at Bound Brook, NJ | E11: Y | F11: Y | G11: bfs | H11: Integ | I11: Ag / Urb / Undev | J11: urbcore | K11: N | L11: West Trenton, NJ | M11: Y | N11: Y | O11: Y | P11: Y | Q11: Y | R11: Y | S11: 21 | T11: 21 | U11: 21 | V11: 21 | W11: 21 | X11: 21 | Y11: 88 | Z11: 2.2 | AA11: large | AB11: bridge | AC11: bridge | AD11: Y | AE11: Y | AF11: 1 | AG11: 7.5 | AH11: 8 | AI11: 42.5 | AJ11: 43.5
A12: 1 | B12: LINJ | C12: 01403900 | D12: Bound Brook at Middlesex, NJ | E12: Y | F12: N | G12: ifs | H12: Urban | I12: Urban 1 | J12: rotate4 | K12: Y | L12: West Trenton, NJ | M12: Y | N12: N | O12: N | P12: N | Q12: Y | R12: N | S12: 21 | T12: 0 | U12: 0 | V12: 0 | W12: 21 | X12: 0 | Y12: 94 | Z12: 2.2 | AA12: small | AB12: wading | AC12: bridge | AD12: N | AE12: Y | AF12: 1 | AG12: 7 | AH12: 7 | AI12: 32.5 | AJ12: 40.5
A13: 1 | B13: NECB/CONN | C13: 01104615 | D13: Charles River near Watertown, MA | E13: Y | F13: Y | G13: ifs | H13: Integ | I13: Urban 1 | J13: rotate4 | K13: N | L13: East Hartford, CT | M13: Y | N13: N | O13: N | P13: N | Q13: Y | R13: N | S13: 21 | T13: 0 | U13: 0 | V13: 0 | W13: 21 | X13: 0 | Y13: 220 | Z13: 3.6 | AA13: small | AB13: bridge | AC13: bridge | AD13: N | AE13: N | AF13: 1 | AG13: 8.5 | AH13: 8.5 | AI13: 35.5 | AJ13: 35.5
... A31: 2 | B31: MOBL | C31: 02469762 | D31: Tombigbee River near Coffeeville, AL | E31: Y | F31: Y | G31: bfs | H31: Integ | I31: Ag / Urb / Undev | J31: rotate4 | K31: N | L31: Montgomery, AL | M31: N | N31: Y | O31: N | P31: N | Q31: N | R31: Y | S31: 0 | T31: 18 | U31: 0 | V31: 0 | W31: 0 | X31: 18 | Y31: 380 | Z31: 6.6 | AA31: large | AB31: boat2 | AC31: boat2 | AD31: N | AE31: N | AF31: 1 | AG31: 12.5 | AH31: 12.5 | AI31: 45.5 | AJ31: 45.5
A32: 2 | B32: SANT | C32: 02169570 | D32: Gills Creek at Columbia, SC | E32: Y | F32: Y | G32: ifs | H32: Urban | I32: Urban 1 | J32: rotate4 | K32: Y | L32: Columbia, SC | M32: N | N32: N | O32: N | P32: Y | Q32: N | R32: N | S32: 0 | T32: 0 | U32: 0 | V32: 18 | W32: 0 | X32: 0 | Y32: 28 | Z32: 0.8 | AA32: small | AB32: wading | AC32: bridge | AD32: N | AE32: N | AF32: 1 | AG32: 5.5 | AH32: 5.5 | AI32: 29.5 | AJ32: 29.5 | AK32: sampling year switched w/ Cow Castle Crk
A33: 2 | B33: SANT | C33: 02172300 | D33: McTier Creek near Monetta, SC | E33: Y | F33: Y | G33: bfs | H33: Ref | I33: Undev | J33: rotate4 | K33: Y | L33: Columbia, SC | M33: N | N33: N | O33: Y | P33: N | Q33: N | R33: N | S33: 0 | T33: 0 | U33: 6 | V33: 0 | W33: 0 | X33: 0 | Y33: 108 | Z33: 1.8 | AA33: small | AB33: wading | AC33: wading | AD33: N | AE33: N | AF33: 1 | AG33: 6.5 | AH33: 6.5 | AI33: 31.5 | AJ33: 31.5
A34: 2 | B34: SANT | C34: 02174250 | D34: Cow Castle Creek near Bowman, SC | E34: Y | F34: Y | G34: ifs | H34: Ag | I34: Ag | J34: rotate4 | K34: Y | L34: Columbia, SC | M34: N | N34: Y | O34: N | P34: N | Q34: N | R34: N | S34: 0 | T34: 18 | U34: 0 | V34: 0 | W34: 0 | X34: 18 | Y34: 140 | Z34: 2.4 | AA34: small | AB34: wading | AC34: wading | AD34: N | AE34: N | AF34: 1 | AG34: 7 | AH34: 7.5 | AI34: 32.5 | AJ34: 33.5 | AK34: sampling year switched w/ Gills Crk
A35: 2 | B35: SANT | C35: 02175000 | D35: Edisto River near Givhans, SC | E35: Y | F35: Y | G35: ifs | H35: Integ | I35: Ag / Undev | J35: rotate4 | K35: N | L35: Columbia, SC | M35: Y | N35: N | O35: N | P35: N | Q35: Y | R35: N | S35: 18 | T35: 0 | U35: 0 | V35: 0 | W35: 18 | X35: 0 | Y35: 220 | Z35: 3.6 | AA35: medium | AB35: boat3 | AC35: boat3 | AD35: N | AE35: N | AF35: 2 | AG35: 8.5 | AH35: 8.5 | AI35: 46 | AJ35: 46
A36: 2 | B36: SOFL | C36: 02281200 | D36: Hillsboro Canal near Shawano, FL | E36: Y | F36: Y | G36: ifs | H36: Ag | I36: Ag | J36: rotate4 | K36: N | L36: Tampa, FL | M36: Y | N36: N | O36: N | P36: N | Q36: Y | R36: N | S36: 18 | T36: 0 | U36: 0 | V36: 0 | W36: 18 | X36: 0 | Y36: 500 | Z36: 9 | AA36: medium | AB36: boat2 | AC36: boat2 | AD36: N | AE36: N | AF36: 1 | AG36: 15 | AH36: 15 | AI36: 50.5 | AJ36: 50.5
A37: 2 | B37: TENN | C37: 03466208 | D37: Big Limestone Creek near Limestone, TN | E37: Y | F37: N | G37: ifs | H37: Ag | I37: Ag | J37: rotate4 | K37: N | L37: Nashville, TN | M37: N | N37: Y | O37: N | P37: N | Q37: N | R37: N | S37: 0 | T37: 26 | U37: 0 | V37: 0 | W37: 0 | X37: 26 | Y37: 600 | Z37: 9.6 | AA37: medium | AB37: bridge | AC37: bridge | AD37: N | AE37: N | AF37: 1 | AG37: 14.5 | AH37: 15 | AI37: 47.5 | AJ37: 48.5
A38: 2 | B38: TENN | C38: 03467609 | D38: Nolichucky River near Lowland, TN | E38: Y | F38: N | G38: ifs | H38: Integ | I38: Ag / Undev | J38: rotate4 | K38: N | L38: Nashville, TN | M38: N | N38: N | O38: N | P38: Y | Q38: N | R38: N | S38: 0 | T38: 0 | U38: 0 | V38: 26 | W38: 0 | X38: 0 | Y38: 520 | Z38: 7.8 | AA38: large | AB38: boat3 | AC38: boat3 | AD38: N | AE38: N | AF38: 2 | AG38: 13 | AH38: 13 | AI38: 59.5 | AJ38: 59.5
A39: 2 | B39: TENN | C39: 0357479650 | D39: Hester Creek near Plevna, AL | E39: Y | F39: Y | G39: ifs | H39: Ag | I39: Ag | J39: rotate4 | K39: Y | L39: Nashville, TN | M39: N | N39: N | O39: Y | P39: N | Q39: N | R39: Y | S39: 0 | T39: 0 | U39: 26 | V39: 0 | W39: 0 | X39: 0 | Y39: 260 | Z39: 4.8 | AA39: small | AB39: wading | AC39: bridge | AD39: N | AE39: N | AF39: 1 | AG39: 9.5 | AH39: 9.5 | AI39: 37.5 | AJ39: 37.5
A40: 2 | B40: TENN | C40: 03575100 | D40: Flint River near Brownsboro, AL | E40: Y | F40: Y | G40: ifs | H40: Integ | I40: Ag | J40: rotate4 | K40: N | L40: Nashville, TN | M40: Y | N40: N | O40: N | P40: N | Q40: Y | R40: N | S40: 26 | T40: 0 | U40: 0 | V40: 0 | W40: 26 | X40: 0 | Y40: 320 | Z40: 4.8 | AA40: large | AB40: bridge | AC40: bridge | AD40: Y | AE40: Y | AF40: 1 | AG40: 10 | AH40: 10.5 | AI40: 52.5 | AJ40: 53.5
A41: 3 | B41: EIWA | C41: 05420680 | D41: Wapsipinicon River near Tripoli, IA | E41: Y | F41: N | G41: bfs | H41: Ref | I41: Ag | J41: rotate4 | K41: Y | L41: Iowa City, IA | M41: N | N41: Y | O41: N | P41: N | Q41: N | R41: Y | S41: 0 | T41: 26 | U41: 0 | V41: 0 | W41: 0 | X41: 26 | Y41: 260 | Z41: 4.6 | AA41: small | AB41: wading | AC41: bridge | AD41: N | AE41: N | AF41: 1 | AG41: 9.5 | AH41: 9.5 | AI41: 37.5 | AJ41: 37.5
A42: 3 | B42: EIWA | C42: 05451210 | D42: South Fork Iowa River near New Providence, IA | E42: Y | F42: Y | G42: bfs | H42: Ag | I42: Ag | J42: rotate2 | K42: Y | L42: Iowa City, IA | M42: Y | N42: N | O42: Y | P42: N | Q42: Y | R42: N | S42: 26 | T42: 0 | U42: 26 | V42: 0 | W42: 26 | X42: 0 | Y42: 320 | Z42: 5.6 | AA42: small | AB42: wading | AC42: bridge | AD42: N | AE42: N | AF42: 1 | AG42: 10.5 | AH42: 10.5 | AI42: 39.5 | AJ42: 39.5
A43: 3 | B43: EIWA | C43: 05465500 | D43: Iowa River at Wapello, IA | E43: Y | F43: Y | G43: ifs | H43: Integ | I43: Ag | J43: rotate4->agcore | K43: N | L43: Iowa City, IA | M43: N | N43: N | O43: N | P43: Y | Q43: Y | R43: Y | S43: 0 | T43: 0 | U43: 0 | V43: 16 | W43: 16 | X43: 16 | Y43: 126 | Z43: 2.8 | AA43: large | AB43: boat3 | AC43: boat3 | AD43: N | AE43: N | AF43: 2 | AG43: 8 | AH43: 8 | AI43: 44.5 | AJ43: 44.5
A44: 3 | B44: EIWA | C44: 05490500 | D44: Des Moines River at Keosauqua, IA | E44: N | F44: N | I44: Ag | J44: agcore | K44: N | L44: Iowa City, IA | M44: N | N44: N | O44: N | P44: Y | Q44: Y | R44: Y | S44: 0 | T44: 0 | U44: 0 | V44: 16 | W44: 16 | X44: 16
A45: 3 | B45: LERI | C45: 04161820 | D45: Clinton River at Sterling Heights, MI | E45: Y | F45: Y | G45: ifs | H45: Urban | I45: Urban / Ag | J45: rotate4 | K45: Y | L45: East Lansing, MI | M45: N | N45: N | O45: Y | P45: N | Q45: N | R45: N | S45: 0 | T45: 0 | U45: 26 | V45: 0 | W45: 0 | X45: 0 | Y45: 200 | Z45: 3.4 | AA45: small | AB45: wading | AC45: bridge | AD45: N | AE45: N | AF45: 1 | AG45: 8 | AH45: 8 | AI45: 34.5 | AJ45: 34.5
A46: 3 | B46: LERI | C46: 04175600 | D46: River Raisin near Manchester, MI | E46: Y | F46: N | G46: bfs | H46: Ref | I46: Ag / Undev | J46: rotate4 | K46: Y | L46: East Lansing, MI | M46: N | N46: N | O46: N | P46: Y | Q46: N | R46: N | S46: 0 | T46: 0 | U46: 0 | V46: 26 | W46: 0 | X46: 0 | Y46: 152 | Z46: 2.6 | AA46: small | AB46: wading | AC46: bridge | AD46: N | AE46: N | AF46: 1 | AG46: 7.5 | AH46: 7.5 | AI46: 33.5 | AJ46: 33.5
A47: 3 | B47: LERI | C47: 04186500 | D47: Auglaize River near Fort Jennings, OH | E47: Y | F47: Y | G47: ifs | H47: Ag | I47: Ag | J47: rotate4 | K47: N | L47: Columbus, OH | M47: N | N47: Y | O47: N | P47: N | Q47: N | R47: Y | S47: 0 | T47: 26 | U47: 0 | V47: 0 | W47: 0 | X47: 26 | Y47: 240 | Z47: 5.2 | AA47: medium | AB47: wading | AC47: bridge | AD47: N | AE47: N | AF47: 1 | AG47: 10 | AH47: 10.5 | AI47: 38.5 | AJ47: 39.5
A48: 3 | B48: LERI | C48: 04193500 | D48: Maumee River at Waterville, OH | E48: Y | F48: Y | G48: ifs | H48: Integ | I48: Ag | J48: rotate4 | K48: N | L48: Columbus, OH | M48: Y | N48: N | O48: N | P48: N | Q48: Y | R48: N | S48: 20 | T48: 0 | U48: 0 | V48: 0 | W48: 20 | X48: 0 | Y48: 280 | Z48: 5.4 | AA48: large | AB48: wading | AC48: bridge | AD48: N | AE48: N | AF48: 1 | AG48: 11 | AH48: 11 | AI48: 40.5 | AJ48: 40.5
A49: 3 | B49: LIRB | C49: 05572000 | D49: Sangamon River at Monticello, IL | E49: Y | F49: Y | G49: ifs | H49: Ag | I49: Ag | J49: rotate4 | K49: N | L49: Urbana, IL | M49: N | N49: Y | O49: N | P49: N | Q49: N | R49: Y | S49: 0 | T49: 26 | U49: 0 | V49: 0 | W49: 0 | X49: 26 | Y49: 68 | Z49: 1.4 | AA49: small | AB49: bridge | AC49: bridge | AD49: N | AE49: N | AF49: 1 | AG49: 6 | AH49: 6 | AI49: 30.5 | AJ49: 30.5
A50: 3 | B50: LIRB | C50: 05586100 | D50: Illinois River at Valley City, IL | E50: Y | F50: Y | G50: ifs | H50: Integ | I50: Ag / Urban | J50: rotate4 | K50: N | L50: Urbana, IL | M50: N | N50: N | O50: N | P50: Y | Q50: N | R50: N | S50: 0 | T50: 0 | U50: 0 | V50: 16 | W50: 0 | X50: 0 | Y50: 360 | Z50: 6.2 | AA50: large | AB50: boat2 | AC50: boat3 | AD50: N | AE50: N | AF50: 2 | AG50: 12 | AH50: 11 | AI50: 44.5 | AJ50: 53.5
A51: 3 | B51: UIRB | C51: 05531500 | D51: Salt Creek at Western Springs, IL | E51: Y | F51: Y | G51: ifs | H51: Urban | I51: Urban 1 | J51: rotate4 | K51: Y | L51: Urbana, IL | M51: Y | N51: N | O51: N | P51: N | Q51: Y | R51: N | S51: 26 | T51: 0 | U51: 0 | V51: 0 | W51: 26 | X51: 0 | Y51: 320 | Z51: 5.4 | AA51: small | AB51: wading | AC51: bridge | AD51: N | AE51: N | AF51: 1 | AG51: 10 | AH51: 10 | AI51: 38.5 | AJ51: 38.5
A52: 3 | B52: UIRB | C52: 05532500 | D52: Des Plaines River at Riverside, IL | E52: Y | F52: N | G52: ifs | H52: Integ | I52: Urban / Ag | J52: rotate4 | K52: N | L52: Urbana, IL | M52: N | N52: N | O52: Y | P52: N | Q52: N | R52: N | S52: 0 | T52: 0 | U52: 26 | V52: 0 | W52: 0 | X52: 0 | Y52: 320 | Z52: 5.6 | AA52: medium | AB52: wading | AC52: bridge | AD52: N | AE52: N | AF52: 1 | AG52: 10.5 | AH52: 11 | AI52: 39.5 | AJ52: 40.5
A53: 3 | B53: UMIS | C53: 05288705 | D53: Shingle Creek at Minneapolis, MN | E53: Y | F53: Y | G53: ifs | H53: Urban | I53: Urban 1 | J53: rotate2 | K53: Y | L53: Mounds View, MN | M53: N | N53: Y | O53: N | P53: Y | Q53: N | R53: Y | S53: 0 | T53: 21 | U53: 0 | V53: 21 | W53: 0 | X53: 21 | Y53: 38 | Z53: 0.8 | AA53: small | AB53: wading | AC53: bridge | AD53: N | AE53: N | AF53: 1 | AG53: 5.5 | AH53: 5.5 | AI53: 29.5 | AJ53: 29.5
A54: 3 | B54: UMIS | C54: 05320270 | D54: Little Cobb River near Beauford, MN | E54: Y | F54: Y | G54: ifs | H54: Ag | I54: Ag | J54: rotate4 | K54: N | L54: Mounds View, MN | M54: Y | N54: N | O54: N | P54: N | Q54: Y | R54: N | S54: 21 | T54: 0 | U54: 0 | V54: 0 | W54: 21 | X54: 0 | Y54: 240 | Z54: 4.6 | AA54: small | AB54: wading | AC54: bridge | AD54: N | AE54: Y | AF54: 1 | AG54: 9.5 | AH54: 9.5 | AI54: 37.5 | AJ54: 49.5
A55: 3 | B55: UMIS | C55: 05331580 | D55: Mississippi River at Hastings, MN | E55: Y | F55: N | G55: ifs | H55: Integ | I55: Ag / Urban | J55: rotate4 | K55: N | L55: Mounds View, MN | M55: N | N55: N | O55: Y | P55: N | Q55: N | R55: N | S55: 0 | T55: 0 | U55: 14 | V55: 0 | W55: 0 | X55: 0 | Y55: 94 | Z55: 1.8 | AA55: large | AB55: boat3 | AC55: boat3 | AD55: N | AE55: N | AF55: 2 | AG55: 7 | AH55: 7 | AI55: 41.5 | AJ55: 41.5
A56: 3 | B56: WHMI | C56: 03267900 | D56: Mad River near Eagle City, OH | E56: Y | F56: N | G56: ifs | H56: Ag | I56: Ag | J56: rotate4 | K56: Y | L56: Indianapolis, IN | M56: N | N56: N | O56: Y | P56: N | Q56: N | R56: N | S56: 0 | T56: 0 | U56: 26 | V56: 0 | W56: 0 | X56: 0 | Y56: 152 | Z56: 2.8 | AA56: medium | AB56: wading | AC56: bridge | AD56: N | AE56: N | AF56: 1 | AG56: 8 | AH56: 8 | AI56: 34.5 | AJ56: 34.5
... A124: 8 | B124: SOCA | C124: 11074000 | D124: Santa Ana River below Prado Dam, CA | E124: Y | F124: Y | G124: bfs | H124: Integ | I124: Urban 2 | J124: urbcore | K124: N | L124: San Diego, CA | M124: Y | N124: Y | O124: Y | P124: Y | Q124: Y | R124: Y | S124: 18 | T124: 18 | U124: 18 | V124: 18 | W124: 18 | X124: 18 | Y124: 200 | Z124: 3.2 | AA124: small | AB124: wading | AC124: cableway | AD124: N | AE124: N | AF124: 1 | AG124: 8 | AH124: 8 | AI124: 34.5 | AJ124: 34.5
...

Sheet FY12 chem site net costs
A1: MAJOR RIVER BASIN | B1: CYCLE II SU | C1: STATION ID | D1: STATION NAME | E1: NEW CYCLE II SITE TYPE | F1: Field labor cost | G1: Field Travel Cost (per diem) | H1: Vehicle costs | I1: Supply costs | J1: Office labor costs | K1: QA/Mgt labor costs | L1: Working capital fund (for replacement of depreciable equipment) | M1: WSC net cost | N1: Distributed direct cost | O1: Overhead cost | Q1: WSC total cost | R1: WSC GAGING COSTS
A2: 1 | B2: CONN | C2: 01170100 | D2: Green River near Colrain, MA | E2: rotate4 | F2: 0 | G2: 0 | H2: 0 | I2: 0 | J2: 0 | K2: 0 | L2: 0 | M2: 0 | N2: 0 | O2: 0 | Q2: 0 | R2: 0
A3: 1 | B3: CONN | C3: 01184000 | D3: Connecticut River at Thompsonville, CT | E3: rotate4 | F3: 18087.68 | G3: 0 | H3: 2719.2 | I3: 1799 | J3: 17588.48 | K3: 4010.24 | L3: 4944 | M3: 49148.6 | N3: 0 | O3: 25817.76 | Q3: 75515 | R3: 0
A4: 1 | B4: CONN | C4: 01209710 | D4: Norwalk River at Winnipauk,CT | E4: rotate4 | F4: 0 | G4: 0 | H4: 0 | I4: 0 | J4: 0 | K4: 0 | L4: 0 | M4: 0 | N4: 0 | O4: 0 | Q4: 0 | R4: 0
A5: 1 | B5: DELR | C5: 01463500 | D5: Delaware River at Trenton, NJ | E5: rotate4 | F5: 16396.64 | G5: 0 | H5: 758.08 | I5: 1799 | J5: 15907.84 | K5: 4093.44 | L5: 4944 | M5: 43899 | N5: 0 | O5: 28556.3 | Q5: 73004 | R5: 0
A6: 1 | B6: DELR | C6: 01464907 | D6: Little Neshaminy Creek near Warminster, PA | E6: rotate4 | F6: 0 | G6: 0 | H6: 0 | I6: 0 | J6: 0 | K6: 0 | L6: 0 | M6: 0 | N6: 0 | O6: 0 | Q6: 0 | R6: 0
A7: 1 | B7: DELR | C7: 01472157 | D7: French Creek near Phoenixville, PA | E7: rotate4 | F7: 0 | G7: 0 | H7: 0 | I7: 0 | J7: 0 | K7: 0 | L7: 0 | M7: 0 | N7: 0 | O7: 0 | Q7: 0 | R7: 0
A8: 1 | B8: HDSN | C8: 01349150 | D8: Canajoharie Creek near Canajoharie, NY | E8: rotate4 | F8: 0 | G8: 0 | H8: 0 | I8: 0 | J8: 0 | K8: 0 | L8: 0 | M8: 0 | N8: 0 | O8: 0 | Q8: 0 | R8: 15496
A9: 1 | B9: HDSN | C9: 01356190 | D9: Lisha Kill northwest of Niskayuna, NY | E9: rotate2 | F9: 15994.16 | G9: 0 | H9: 1009.4 | I9: 2434 | J9: 18738.72 | K9: 4804.8 | L9: 4823.49 | M9: 47804.57 | N9: 5736.5484 | O9: 23558.092 | Q9: 77820 | R9: 14104
A10: 1 | B10: HDSN | C10: 01357500 | D10: Mohawk River at Cohoes, NY | E10: rotate4 | F10: 0 | G10: 0 | H10: 0 | I10: 0 | J10: 0 | K10: 0 | L10: 0 | M10: 0 | N10: 0 | O10: 0 | Q10: 0 | R10: 0
A11: 1 | B11: LINJ | C11: 01403300 | D11: Raritan River at Bound Brook, NJ | E11: urbcore | F11: 28071.68 | G11: 0 | H11: 2920.05 | I11: 2434 | J11: 20879.04 | K11: 5372.64 | L11: 6489 | M11: 66166.41 | N11: 0 | O11: 43041.25 | Q11: 109929 | R11: 0
A12: 1 | B12: LINJ | C12: 01403900 | D12: Bound Brook at Middlesex, NJ | E12: rotate4 | F12: 0 | G12: 0 | H12: 0 | I12: 0 | J12: 0 | K12: 0 | L12: 0 | M12: 0 | N12: 0 | O12: 0 | Q12: 0 | R12: 0
A13: 1 | B13: CONN | C13: 01104615 | D13: Charles River near Watertown, MA | E13: rotate4 | F13: 0 | G13: 0 | H13: 0 | I13: 0 | J13: 0 | K13: 0 | L13: 0 | M13: 0 | N13: 0 | O13: 0 | Q13: 0 | R13: 11999 | S13: 5709
A14: 1 | B14: PODL | C14: 01610400 | D14: Waites Run near Wardensville, WV | E14: rotate4 | F14: 0 | G14: 0 | H14: 0 | I14: 0 | J14: 0 | K14: 0 | L14: 0 | M14: 0 | N14: 0 | O14: 0 | Q14: 0 | R14: 15080
A15: 1 | B15: PODL | C15: 01621050 | D15: Muddy Creek at Mount Clinton, VA | E15: rotate4 | F15: 0 | G15: 0 | H15: 0 | I15: 0 | J15: 0 | K15: 0 | L15: 0 | M15: 0 | N15: 0 | O15: 0 | Q15: 0 | R15: 14612
A16: 1 | B16: PODL | C16: 01646580 | D16: Potomac River at Washington, DC | E16: agcore | F16: 19884.8 | G16: 0 | H16: 1854 | I16: 2307 | J16: 19260.8 | K16: 4950.4 | L16: 3914 | M16: 52171 | N16: 0 | O16: 28694.05 | Q16: 81551 | R16: 0
A17: 1 | B17: PODL | C17: 01654000 | D17: Accotink Creek near Annandale, VA | E17: rotate2 | F17: 26965.12 | G17: 0 | H17: 4132.36 | I17: 3069 | J17: 25039.04 | K17: 6435.52 | L17: 5971.94 | M17: 71612.98 | N17: 0 | O17: 39387.139 | Q17: 111892 | R17: 0
A18: 2 | B18: ACFB | C18: 02335870 | D18: Sope Creek near Marietta, GA | E18: rotate2 | F18: 17247.36 | G18: 0 | H18: 1087.68 | I18: 3049 | J18: 22264.32 | K18: 5715.84 | L18: 4696.8 | M18: 54061 | N18: 0 | O18: 17391.424 | Q18: 72276 | R18: 0
A19: 2 | B19: ACFB | C19: 02338000 | D19: Chattahoochee River near Whitesburg, GA | E19: urbcore | F19: 21072.48 | G19: 0 | H19: 3621.48 | I19: 2287 | J19: 18869.76 | K19: 4286.88 | L19: 4134.42 | M19: 54272.02 | N19: 0 | O19: 17459.309 | Q19: 72349 | R19: 0
A20: 2 | B20: ACFB | C20: 02338523 | D20: Hillibahatchee Creek near Franklin, GA | E20: rotate4 | F20: 0 | G20: 0 | H20: 0 | I20: 0 | J20: 0 | K20: 0 | L20: 0 | M20: 0 | N20: 0 | O20: 0 | Q20: 0 | R20: 14640
A21: 2 | B21: ACFB | C21: 02350080 | D21: Lime Creek near Cobb, GA | E21: rotate4 | F21: 0 | G21: 0 | H21: 0 | I21: 0 | J21: 0 | K21: 0 | L21: 0 | M21: 0 | N21: 0 | O21: 0 | Q21: 0 | R21: 14640
A22: 2 | B22: ALBE | C22: 02084160 | D22: Chicod Cr near Simpson, NC | E22: rotate4 | F22: 0 | G22: 0 | H22: 0 | I22: 0 | J22: 0 | K22: 0 | L22: 0 | M22: 0 | N22: 0 | O22: 0 | Q22: 0 | R22: 0
A23: 2 | B23: ALBE | C23: 02087580 | D23: Swift Creek near Apex, NC | E23: rotate2 | F23: 0 | G23: 0 | H23: 0 | I23: 0 | J23: 0 | K23: 0 | L23: 0 | M23: 0 | N23: 0 | O23: 0 | Q23: 0 | R23: 14627
A24: 2 | B24: ALBE | C24: 02089500 | D24: Neuse River at Kinston, NC | E24: agcore | F24: 19356.48 | G24: 0 | H24: 2836.62 | I24: 2287 | J24: 16061.76 | K24: 4118.4 | L24: 3522.6 | M24: 48182.86 | N24: 0 | O24: 18887.681 | Q24: 67689 | R24: 0
A25: 2 | B25: ALBE | C25: 02091500 | D25: Contentnea Creek at Hookerton, NC | E25: rotate4 | F25: 24585.6 | G25: 0 | H25: 3782.16 | I25: 3049 | J25: 21415.68 | K25: 5491.2 | L25: 4696.8 | M25: 63020.44 | N25: 0 | O25: 24704.012 | Q25: 88548 | R25: 0
... A121: 8 | B121: SOCA | C121: 11074000 | D121: Santa Ana River below Prado Dam, CA | E121: urbcore | F121: 17877.6 | G121: 0 | H121: 2836.62 | I121: 2287 | J121: 17316 | K121: 4455.36 | L121: 3522.6 | M121: 48295.18 | N121: 2187.7717 | O121: 23151.482 | Q121: 74252 | R121: 0
F123: =SUM(F2:F121) -> 825422 | G123: =SUM(G2:G121) -> 30788.76 | H123: =SUM(H2:H121) -> 137776.92 | I123: =SUM(I2:I121) -> 93370 | J123: =SUM(J2:J121) -> 736006.96 | K123: =SUM(K2:K121) -> 184615.6 | L123: =SUM(L2:L121) -> 170480.45 | M123: =SUM(M2:M121) -> 2178460.7 | ... O123: =SUM(O2:O121) -> 1048630.5 | Q123: =SUM(Q2:Q121) -> 3265289.5 | R123: =SUM(R2:R121) -> 521563

Sheet Eco site information
O1: Cycle II sampling prior to implementation of the SWST redesign schedule | T1: Redesign Eco Sampling Schedule for 2007-2012 incl. Variability Study: "-2" = WIP in CY07 orCY08 [FY shown here] (BLUE Shading indicates Years of Intensive Chemical Sampling) | Z1: Y = Included in Variability Study | AA1: "WIP" = Within Index Period (2 samples in Index Period)
A2: MRB | B2: Cycle II Study Unit abbrev | C2: Station number | D2: Station name | E2: PROPOSED COST CENTER TO DO SAMPLING | F2: Cycle II site type | G2: Site group | H2: Eco-region | I2: RTH (Snag or Riffle) | J2: RT Miles to Site | K2: RT Travel Time to Site (hrs) | L2: Fish Rela-tive Rich- ness | M2: Fish Rich- ness factor | N2: Area (sq km) | O2: 2002 | P2: 2003 | Q2: 2004 | R2: 2005 | S2: 2006 | T2: 2007 | U2: 2008 | V2: 2009 | W2: 2010 | X2: 2011 | Y2: 2012 | AA2: "WIP" Sampling in CY07 | AB2: "WIP" Sampling in CY08
A3: 1 | B3: CONN | C3: 1170100 | D3: Green River near Colrain, MA | E3: East Hartford, CT | F3: Reference | G3: rotate4 | H3: 58 | I3: Riffle | J3: 174 | K3: 3.2 | L3: Lo | M3: =IF(L3="Lo",0.8,IF(L3="Med",1,(IF(L3="Hi",1.2,"error")))) -> 0.8 | N3: 107 | O3: IAFH | P3: IAFH | Q3: IAFH | R3: IAFH | S3: IAH | T3: IAFH-2 | U3: IAFH | V3: IAFH | W3: IAH | X3: IAFH | Y3: IAH | Z3: Y | AA3: Yes
A4: 1 | B4: CONN | C4: 1209710 | D4: Norwalk River at Winnipauk,CT | E4: East Hartford, CT | F4: Urb. ind. | G4: rotate4 | H4: 59 | I4: Riffle | J4: 158 | K4: 3 | L4: Med | M4: =IF(L4="Lo",0.8,IF(L4="Med",1,(IF(L4="Hi",1.2,"error")))) -> 1 | N4: 85.1 | O4: IAFH | P4: IAFH | Q4: IAFH | R4: IAFH | S4: IAH | T4: IAFH | U4: IAFH | W4: IAFH | Y4: IAFH
A5: 1 | B5: DELR | C5: 1464907 | D5: Little Neshaminy Creek near Warminster, PA | E5: West Trenton, NJ | F5: Urb. ind. | G5: rotate4 | H5: 64 | I5: Riffle | J5: 52 | K5: 1.4 | L5: Med | M5: =IF(L5="Lo",0.8,IF(L5="Med",1,(IF(L5="Hi",1.2,"error")))) -> 1 | N5: 72.3 | O5: IAFH | P5: IAFH | Q5: IAFH | T5: IAFH | U5: IAFH-2 | W5: IAFH | Y5: IAFH | Z5: Y | AB5: Yes
A6: 1 | B6: DELR | C6: 1472157 | D6: French Creek near Phoenixville, PA | E6: West Trenton, NJ | F6: Reference | G6: rotate4 | H6: 64 | I6: Riffle | J6: 116 | K6: 2.6 | L6: Med | M6: =IF(L6="Lo",0.8,IF(L6="Med",1,(IF(L6="Hi",1.2,"error")))) -> 1 | N6: 152 | O6: IAFH | P6: IAFH | Q6: IAFH | T6: IAFH | U6: IAFH-2 | V6: IAFH | W6: IAH | X6: IAFH | Y6: IAH | Z6: Y | AB6: Yes
A7: 1 | B7: HDSN | C7: 1349150 | D7: Canajoharie Creek near Canajoharie, NY | E7: Troy, NY | F7: Ag. ind. | G7: rotate4 | H7: 83 | I7: Riffle | J7: 140 | K7: 2.4 | L7: Med | M7: =IF(L7="Lo",0.8,IF(L7="Med",1,(IF(L7="Hi",1.2,"error")))) -> 1 | N7: 155 | O7: IAFH | P7: IAFH | Q7: IAFH | R7: IAFH | S7: IAH | T7: IAFH | V7: IAFH | X7: IAFH
A8: 1 | B8: HDSN | C8: 1356190 | D8: Lisha Kill northwest of Niskayuna, NY | E8: Troy, NY | F8: Urb. ind. | G8: rotate2 | H8: 83 | I8: Riffle | J8: 46 | K8: 1.2 | L8: Med | M8: =IF(L8="Lo",0.8,IF(L8="Med",1,(IF(L8="Hi",1.2,"error")))) -> 1 | N8: 40 | O8: IAFH | P8: IAFH | Q8: IAFH | R8: IAFH | S8: IAH | U8: IAFH | W8: IAFH | Y8: IAFH
A9: 1 | B9: LINJ | C9: 1403900 | D9: Bound Brook at Middlesex, NJ | E9: West Trenton, NJ | F9: Urb. ind. | G9: rotate4 | H9: 64 | I9: Riffle | J9: 94 | K9: 2.2 | L9: Hi | M9: =IF(L9="Lo",0.8,IF(L9="Med",1,(IF(L9="Hi",1.2,"error")))) -> 1.2 | N9: 126 | O9: IAFH | P9: IAFH | Q9: IAFH | S9: IAH | T9: IAFH | U9: IAFH-2 | V9: IAFH | X9: IAFH | Z9: Y | AB9: Yes
A10: 1 | B10: PODL | C10: 1610400 | D10: Waites Run near Wardensville, WV | E10: Baltimore, MD | F10: Reference | G10: rotate4 | H10: 67 | I10: Riffle | J10: 320 | K10: 6.4 | L10: Med | M10: =IF(L10="Lo",0.8,IF(L10="Med",1,(IF(L10="Hi",1.2,"error")))) -> 1 | N10: 32.6 | O10: IAFH | P10: IAFH | Q10: IAFH | R10: IAFH | S10: IAH | T10: IAFH | U10: IAFH-2 | V10: IAFH | W10: IAH | X10: IAFH | Y10: IAH | Z10: Y | AB10: Yes
A11: 1 | B11: PODL | C11: 1621050 | D11: Muddy Creek at Mount Clinton, VA | E11: Baltimore, MD | F11: Ag. ind. | G11: rotate4 | H11: 67 | I11: Riffle | J11: 420 | K11: 7.8 | L11: Med | M11: =IF(L11="Lo",0.8,IF(L11="Med",1,(IF(L11="Hi",1.2,"error")))) -> 1 | N11: 37.2 | O11: IAFH | P11: IAFH | Q11: IAFH | R11: IAFH | S11: IAH | T11: IAFH | U11: IAFH-2 | V11: IAFH | X11: IAFH | Z11: Y | AB11: Yes
A12: 1 | B12: PODL | C12: 1654000 | D12: Accotink Creek near Annandale, VA | E12: Baltimore, MD | F12: Urb. ind. | G12: rotate2 | H12: 45 | I12: Riffle | J12: 154 | K12: 2.8 | L12: Med | M12: =IF(L12="Lo",0.8,IF(L12="Med",1,(IF(L12="Hi",1.2,"error")))) -> 1 | N12: 60.7 | O12: IAFH | P12: IAFH | Q12: IAFH | R12: IAFH | S12: IAH | T12: IAFH | U12: IAFH-2 | W12: IAFH | Y12: IAFH | Z12: Y | AB12: Yes
A13: 2 | B13: ACFB | C13: 2335870 | D13: Sope Creek near Marietta, GA | E13: Atlanta, GA | F13: Urb. ind. | G13: rotate2 | H13: 45 | I13: Riffle | J13: 58 | K13: 1.2 | L13: Med | M13: =IF(L13="Lo",0.8,IF(L13="Med",1,(IF(L13="Hi",1.2,"error")))) -> 1 | N13: 79.5 | O13: IAFH | P13: IAFH | Q13: IAFH | R13: IAFH | S13: IAH | T13: IAFH | U13: IAFH-2 | W13: IAFH | Y13: IAFH | Z13: Y | AB13: Yes
A14: 2 | B14: ACFB | C14: 2338523 | D14: Hillibahatchee Creek near Franklin, GA | E14: Atlanta, GA | F14: Reference | G14: rotate4 | H14: 45 | I14: Riffle | J14: 180 | K14: 3.6 | L14: Med | M14: =IF(L14="Lo",0.8,IF(L14="Med",1,(IF(L14="Hi",1.2,"error")))) -> 1 | N14: 43.5 | O14: IAFH | P14: IAFH | Q14: IAFH | R14: IAFH | S14: IAH | T14: IAFH-2 | U14: IAFH | V14: IAFH | W14: IAH | X14: IAFH | Y14: IAH | Z14: Y | AA14: Yes
A15: 2 | B15: ALBE | C15: 2087580 | D15: Swift Creek near Apex, NC | E15: Raleigh, NC | F15: Urb. ind. | G15: rotate2 | H15: 65 | I15: Riffle | J15: 40 | K15: 0.8 | L15: Med | M15: =IF(L15="Lo",0.8,IF(L15="Med",1,(IF(L15="Hi",1.2,"error")))) -> 1 | N15: 53.9 | O15: IAFH | P15: IAFH | Q15: IAFH | R15: IAFH | S15: IAH | T15: IAFH | U15: IAFH-2 | V15: IAFH | X15: IAFH | Z15: Y | AB15: Yes
A16: 2 | B16: ALBE | C16: 2091500 | D16: Contentnea Creek at Hookerton, NC | E16: Raleigh, NC | F16: Ag. ind. | G16: rotate4 | H16: 65 | I16: Snag | J16: 200 | K16: 3.8 | L16: Hi | M16: =IF(L16="Lo",0.8,IF(L16="Med",1,(IF(L16="Hi",1.2,"error")))) -> 1.2 | N16: 1910 | O16: IAFH | P16: IAFH | Q16: IAFH | R16: IAFH | S16: IAH | U16: IAFH | W16: IAFH | Y16: IAFH
A17: 2 | B17: MOBL | C17: 242354750 | D17: Cahaba Valley Creek at Pelham, AL | E17: Montgomery, AL | F17: Urb. ind. | G17: rotate2 | H17: 67 | I17: Riffle | J17: 194 | K17: 3 | L17: Hi | M17: =IF(L17="Lo",0.8,IF(L17="Med",1,(IF(L17="Hi",1.2,"error")))) -> 1.2 | N17: 66.1 | O17: IAFH | P17: IAFH | Q17: IAFH | R17: IAFH | S17: IAH | T17: IAFH | U17: IAFH-2 | V17: IAFH | X17: IAFH | Z17: Y | AB17: Yes
A18: 2 | B18: SANT | C18: 2169570 | D18: Gills Creek at Columbia, SC | E18: Columbia, SC | F18: Urb. ind. | G18: rotate4 | H18: 65 | I18: Snag | J18: 28 | K18: 0.8 | L18: Hi | M18: =IF(L18="Lo",0.8,IF(L18="Med",1,(IF(L18="Hi",1.2,"error")))) -> 1.2 | N18: 154 | O18: IAFH | P18: IAFH | Q18: IAFH | R18: IAFH | S18: IAH | U18: IAFH | W18: IAFH | Y18: IAFH
A19: 2 | B19: SANT | C19: 2172300 | D19: McTier Creek near Monetta, SC | E19: Columbia, SC | F19: Reference | G19: rotate4 | H19: 65 | I19: Snag | J19: 108 | K19: 1.8 | L19: Med | M19: =IF(L19="Lo",0.8,IF(L19="Med",1,(IF(L19="Hi",1.2,"error")))) -> 1 | N19: 40.4 | O19: IAFH | P19: IAFH | Q19: IAFH | R19: IAFH | S19: IAH | T19: IAFH | U19: IAH | V19: IAFH | W19: IAH | X19: IAFH | Y19: IAH
A20: 2 | B20: SANT | C20: 2174250 | D20: Cow Castle Creek near Bowman, SC | E20: Columbia, SC | F20: Ag. ind. | G20: rotate4 | H20: 65 | I20: Snag | J20: 140 | K20: 2.4 | L20: Hi | M20: =IF(L20="Lo",0.8,IF(L20="Med",1,(IF(L20="Hi",1.2,"error")))) -> 1.2 | N20: 61.6 | O20: IAFH | P20: IAFH | Q20: IAFH | R20: IAFH | S20: IAH | U20: IAFH | W20: IAFH | Y20: IAFH
A21: 2 | B21: TENN | C21: 357479650 | D21: Hester Creek near Plevna, AL | E21: Nashville, TN | F21: Ag. ind. | G21: rotate4 | H21: 71 | I21: Riffle | J21: 260 | K21: 4.8 | L21: Hi | M21: =IF(L21="Lo",0.8,IF(L21="Med",1,(IF(L21="Hi",1.2,"error")))) -> 1.2 | N21: 76 | O21: IAFH | P21: IAFH | Q21: IAFH | R21: IAFH | S21: IAH | U21: IAFH | W21: IAFH | X21: IAFH
A22: 3 | B22: EIWA | C22: 5420680 | D22: Wapsipinicon River near Tripoli, IA | E22: Iowa City, IA | F22: Reference | G22: rotate4 | H22: 47 | I22: Snag | J22: 260 | K22: 4.6 | L22: Hi | M22: =IF(L22="Lo",0.8,IF(L22="Med",1,(IF(L22="Hi",1.2,"error")))) -> 1.2 | N22: 897 | O22: IAFH | P22: IAFH | Q22: IAFH | S22: IAH | T22: IAH | U22: IAFH | V22: IAH | W22: IAFH | X22: IAH | Y22: IAFH
A23: 3 | B23: EIWA | C23: 5451210 | D23: South Fork Iowa River near New Providence, IA | E23: Iowa City, IA | F23: Ag. ind. | G23: rotate2 | H23: 47 | I23: Snag | J23: 320 | K23: 5.6 | L23: Hi | M23: =IF(L23="Lo",0.8,IF(L23="Med",1,(IF(L23="Hi",1.2,"error")))) -> 1.2 | N23: 581 | O23: IAFH | P23: IAFH | Q23: IAFH | R23: IAFH | S23: IAH | T23: IAFH | V23: IAFH | X23: IAFH
A24: 3 | B24: LERI | C24: 4161820 | D24: Clinton River at Sterling Heights, MI | E24: Columbus, OH | F24: Urb. ind. | G24: rotate4 | H24: 56 | I24: Riffle | J24: 200 | K24: 3.4 | L24: Hi | M24: =IF(L24="Lo",0.8,IF(L24="Med",1,(IF(L24="Hi",1.2,"error")))) -> 1.2 | N24: 803 | O24: IAFH | P24: IAFH | Q24: IAFH | R24: IAFH | T24: IAFH | U24: IAFH-2 | V24: IAFH | X24: IAFH | Z24: Y | AB24: Yes
A25: 3 | B25: LERI | C25: 4175600 | D25: River Raisin near Manchester, MI | E25: Columbus, OH | F25: Reference | G25: rotate4 | H25: 56 | I25: Riffle | J25: 152 | K25: 2.6 | L25: Med | M25: =IF(L25="Lo",0.8,IF(L25="Med",1,(IF(L25="Hi",1.2,"error")))) -> 1 | N25: 331 | O25: IAFH | P25: IAFH | Q25: IAFH | S25: IAH | T25: IAFH-2 | U25: IAFH | V25: IAH | W25: IAFH | X25: IAH | Y25: IAFH | Z25: Y | AA25: Yes
A26: 3 | B26: UIRB | C26: 5531500 | D26: Salt Creek at Western Springs, IL | E26: Urbana, IL | F26: Urb. ind. | G26: rotate4 | H26: 54 | I26: Snag | J26: 320 | K26: 5.4 | L26: Med | M26: =IF(L26="Lo",0.8,IF(L26="Med",1,(IF(L26="Hi",1.2,"error")))) -> 1 | N26: 291 | O26: IAFH | P26: IAFH | Q26: IAFH | R26: IAFH | S26: IAH | T26: IAFH | V26: IAFH | X26: IAFH
A27: 3 | B27: UMIS | C27: 5288705 | D27: Shingle Creek at Minneapolis, MN | E27: Mounds View, MN | F27: Urb. ind. | G27: rotate2 | H27: 51 | I27: Snag | J27: 38 | K27: 0.8 | L27: Med | M27: =IF(L27="Lo",0.8,IF(L27="Med",1,(IF(L27="Hi",1.2,"error")))) -> 1 | N27: 73 | O27: IAFH | P27: IAFH | Q27: IAFH | R27: IAFH | S27: IAH | U27: IAFH | W27: IAFH | Y27: IAFH
A28: 3 | B28: WHMI | C28: 3267900 | D28: Mad River near Eagle City, OH | E28: Indianapolis, IN | F28: Ag. ind. | G28: rotate4 | H28: 55 | I28: Riffle | J28: 152 | K28: 2.8 | L28: Hi | M28: =IF(L28="Lo",0.8,IF(L28="Med",1,(IF(L28="Hi",1.2,"error")))) -> 1.2 | N28: 802 | O28: IAFH | P28: IAFH | Q28: IAFH | T28: IAFH-2 | U28: IAFH | V28: IAFH | X28: IAFH | Z28: Y | AA28: Yes
A29: 3 | B29: WHMI | C29: 3357330 | D29: Big Walnut Creek near Roachdale, IN | E29: Indianapolis, IN | F29: Reference | G29: rotate4 | H29: 55 | I29: Riffle | J29: 106 | K29: 2.4 | L29: Hi | M29: =IF(L29="Lo",0.8,IF(L29="Med",1,(IF(L29="Hi",1.2,"error")))) -> 1.2 | N29: . | O29: IAFH | P29: IAFH | Q29: IAFH | T29: IAFH-2 | U29: IAFH | V29: IAFH | W29: IAH | X29: IAFH | Y29: IAH | Z29: Y | AA29: Yes
A30: 3 | B30: WHMI | C30: 394340085524601 | D30: Sugar Creek at New Palestine, IN | E30: Indianapolis, IN | F30: Ag. ind. | G30: rotate2 | H30: 55 | I30: Riffle | J30: 80 | K30: 1.8 | L30: Hi | M30: =IF(L30="Lo",0.8,IF(L30="Med",1,(IF(L30="Hi",1.2,"error")))) -> 1.2 | N30: 246 | O30: IAFH | P30: IAFH | Q30: IAFH | R30: IAFH | S30: IAH | T30: IAFH | U30: IAFH-2 | W30: IAFH | Y30: IAFH | Z30: Y | AB30: Yes
A31: 3 | B31: WMIC | C31: 4063700 | D31: Popple River near Fence, WI | E31: Madison, WI | F31: Reference | G31: rotate4 | H31: 50 | I31: Riffle | J31: 580 | K31: 10.6 | L31: Med | M31: =IF(L31="Lo",0.8,IF(L31="Med",1,(IF(L31="Hi",1.2,"error")))) -> 1 | N31: 363 | O31: IAFH | P31: IAFH | Q31: IAFH | R31: IAFH | S31: IAH | T31: IAFH-2 | U31: IAFH | V31: IAH | W31: IAFH | X31: IAH | Y31: IAFH | Z31: Y | AA31: Yes
A32: 3 | B32: WMIC | C32: 4072050 | D32: Duck Creek near Howard, WI | E32: Madison, WI | F32: Ag. ind. | G32: rotate4 | H32: 51 | I32: Riffle | J32: 340 | K32: 6 | L32: Med | M32: =IF(L32="Lo",0.8,IF(L32="Med",1,(IF(L32="Hi",1.2,"error")))) -> 1 | N32: 247 | O32: IAFH | P32: IAFH | Q32: IAFH | U32: IAFH | W32: IAFH | Y32: IAFH
A33: 3 | B33: WMIC | C33: 40869415 | D33: Lincoln Creek at Milwaukee, WI | E33: Madison, WI | F33: Urb. ind. | G33: rotate2 | H33: 53 | I33: Riffle | J33: 220 | K33: 3.6 | L33: Med | M33: =IF(L33="Lo",0.8,IF(L33="Med",1,(IF(L33="Hi",1.2,"error")))) -> 1 | N33: 26 | P33: IAFH | Q33: IAFH | T33: IAFH | V33: IAFH | X33: IAFH
A34: 4 | B34: CNBR | C34: 6775900 | D34: Dismal River near Thedford, NE | E34: Lincoln, NE | F34: Reference | G34: eco_only | H34: 44 | I34: Snag | J34: 660 | K34: 10.2 | L34: Med | M34: =IF(L34="Lo",0.8,IF(L34="Med",1,(IF(L34="Hi",1.2,"error")))) -> 1 | N34: 2500 | O34: IAFH | P34: IAFH | Q34: IAFH | S34: IAFH | T34: IAFH | U34: IAH | V34: IAFH | W34: IAH | X34: IAFH | Y34: IAH
A35: 4 | B35: CNBR | C35: 6800000 | D35: Maple Creek near Nickerson, NE | E35: Lincoln, NE | F35: Ag. ind. | G35: rotate2 | H35: 47 | I35: Snag | J35: 194 | K35: 3.4 | L35: Med | M35: =IF(L35="Lo",0.8,IF(L35="Med",1,(IF(L35="Hi",1.2,"error")))) -> 1 | N35: 955 | O35: IAFH | P35: IAFH | Q35: IAFH | R35: IAH | S35: IAFH | U35: IAFH | W35: IAFH | Y35: IAFH
A36: 4 | B36: SPLT | C36: 6713500 | D36: Cherry Creek at Denver, CO | E36: Lakewood, CO | F36: Urb. ind. | G36: rotate2 | H36: 25 | I36: Riffle | J36: 28 | K36: 0.8 | L36: Lo | M36: =IF(L36="Lo",0.8,IF(L36="Med",1,(IF(L36="Hi",1.2,"error")))) -> 0.8 | N36: 1060 | O36: IAFH | P36: IAFH | Q36: IAFH | R36: IAH | S36: IAFH | T36: IAFH | V36: IAFH | X36: IAFH
A37: 4 | B37: YELL | C37: 6324970 | D37: Little Powder River near Weston, WY | E37: Cheyenne, WY | F37: Reference | G37: rotate4 | H37: 43 | I37: Riffle | J37: 600 | K37: 8.8 | L37: Med | M37: =IF(L37="Lo",0.8,IF(L37="Med",1,(IF(L37="Hi",1.2,"error")))) -> 1 | N37: 3200 | O37: IAFH | P37: IAFH | Q37: IAFH | S37: IAFH | T37: IAFH | U37: IAFH-2 | V37: IAH | W37: IAFH | X37: IAH | Y37: IAFH | Z37: Y | AB37: Yes
A38: 5 | B38: ACAD | C38: 8014500 | D38: Ouiska (Whiskey) Chitto Creek near Oberlin, LA | E38: Baton Rouge, LA | F38: Reference | G38: rotate4 | H38: 35 | I38: Snag | J38: 340 | K38: 5.6 | L38: Med | M38: =IF(L38="Lo",0.8,IF(L38="Med",1,(IF(L38="Hi",1.2,"error")))) -> 1 | N38: 1310 | O38: IAFH | P38: IAFH | Q38: IAFH | R38: IAH | S38: IAFH | T38: IAH | U38: IAFH | V38: IAH | W38: IAFH | X38: IAH | Y38: IAFH
A39: 5 | B39: OZRK | C39: 7053250 | D39: Yocum Creek near Oak Grove, AR | E39: Little Rock, AR | F39: Ag. ind. | G39: rotate4 | H39: 39 | I39: Riffle | J39: 380 | K39: 8.2 | L39: Hi | M39: =IF(L39="Lo",0.8,IF(L39="Med",1,(IF(L39="Hi",1.2,"error")))) -> 1.2 | N39: 134 | O39: IAFH | P39: IAFH | Q39: IAFH | R39: IAH | S39: IAFH | T39: IAFH-2 | U39: IAFH | V39: IAFH | X39: IAFH | Z39: Y | AA39: Yes
A40: 5 | B40: OZRK | C40: 7060710 | D40: North Sylamore Creek near Fifty Six, AR | E40: Little Rock, AR | F40: Reference | G40: rotate4 | H40: 39 | I40: Riffle | J40: 260 | K40: 6.2 | L40: Med | M40: =IF(L40="Lo",0.8,IF(L40="Med",1,(IF(L40="Hi",1.2,"error")))) -> 1 | N40: 150 | O40: IAFH | P40: IAFH | Q40: IAFH | R40: IAH | S40: IAFH | T40: IAFH-2 | U40: IAFH | V40: IAH | W40: IAFH | X40: IAH | Y40: IAFH | Z40: Y | AA40: Yes
...

Sheet FY12 Eco site costs
H1: FY12 $ (Net) | Q1: FY12 $ GROSS
A2: MRB | B2: Cycle II Study Unit abbrev-iation | C2: Station number | D2: Station name | E2: PROPOSED COST CENTER TO DO SAMPLING | F2: Cycle II site type | G2: Site group | H2: Eco Field Labor Cost (inc 22.4% lv assess) | I2: Eco Field Travel Cost (per diem) | J2: Eco Vehicle costs | K2: Eco Supply costs | L2: Eco Office Labor Costs (inc 22.4% lv assess) | M2: Eco QA / Mgt Labor Costs (inc 22.4% lv assess) | N2: Eco WSC net cost incl 10% contingency | O2: Dist Direct Cost | P2: Over-head Cost | Q2: Eco WSC Total Cost
A3: 1 | B3: CONN | C3: 1170100 | D3: Green River near Colrain, MA | E3: East Hartford, CT | F3: Reference | G3: rotate4 | H3: 2209.0934 | I3: 0 | J3: 602.8 | K3: 436.81 | L3: 1563.6014 | M3: 524.75988 | N3: 5870.7712 | O3: 0 | P3: 3083.9748 | Q3: 8954.746
A4: 1 | B4: CONN | C4: 1209710 | D4: Norwalk River at Winnipauk,CT | E4: East Hartford, CT | F4: Urb. ind. | G4: rotate4 | H4: 4111.4206 | I4: 0 | J4: 1135.2 | K4: 748.22 | L4: 2886.6488 | M4: 787.13982 | N4: 10635.492 | O4: 0 | P4: 5586.9304 | Q4: 16222.423
A5: 1 | B5: DELR | C5: 1464907 | D5: Little Neshaminy Creek near Warminster, PA | E5: West Trenton, NJ | F5: Urb. ind. | G5: rotate4 | H5: 3533.1909 | I5: 0 | J5: 668.8 | K5: 748.22 | L5: 2946.2406 | M5: 803.961 | N5: 9570.4538 | O5: 0 | P5: 6225.2931 | Q5: 15795.747
A6: 1 | B6: DELR | C6: 1472157 | D6: French Creek near Phoenixville, PA | E6: West Trenton, NJ | F6: Reference | G6: rotate4 | H6: 2154.7902 | I6: 0 | J6: 475.2 | K6: 436.81 | L6: 1595.8803 | M6: 535.974 | N6: 5718.5199 | O6: 0 | P6: 3719.7257 | Q6: 9438.2456
A7: 1 | B7: HDSN | C7: 1349150 | D7: Canajoharie Creek near Canajoharie, NY | E7: Troy, NY | F7: Ag. ind. | G7: rotate4 | H7: 0 | I7: 0 | J7: 0 | K7: 0 | L7: 0 | M7: 0 | N7: 0 | O7: 0 | P7: 0 | Q7: 0
A8: 1 | B8: HDSN | C8: 1356190 | D8: Lisha Kill northwest of Niskayuna, NY | E8: Troy, NY | F8: Urb. ind. | G8: rotate2 | H8: 3096.108 | I8: 0 | J8: 642.4 | K8: 748.22 | L8: 2646.0184 | M8: 719.55738 | N8: 8637.5342 | O8: 1036.5041 | P8: 4256.5769 | Q8: 13930.615
A9: 1 | B9: LINJ | C9: 1403900 | D9: Bound Brook at Middlesex, NJ | E9: West Trenton, NJ | F9: Urb. ind. | G9: rotate4 | H9: 0 | I9: 0 | J9: 0 | K9: 0 | L9: 0 | M9: 0 | N9: 0 | O9: 0 | P9: 0 | Q9: 0
A10: 1 | B10: PODL | C10: 1610400 | D10: Waites Run near Wardensville, WV | E10: Baltimore, MD | F10: Reference | G10: rotate4 | H10: 2927.8068 | I10: 457.71 | J10: 924 | K10: 436.81 | L10: 1545.6233 | M10: 518.607 | N10: 7491.6127 | O10: 0 | P10: 4120.387 | Q10: 11612
A11: 1 | B11: PODL | C11: 1621050 | D11: Muddy Creek at Mount Clinton, VA | E11: Baltimore, MD | F11: Ag. ind. | G11: rotate4 | H11: 0 | I11: 0 | J11: 0 | K11: 0 | L11: 0 | M11: 0 | N11: 0 | O11: 0 | P11: 0 | Q11: 0
A12: 1 | B12: PODL | C12: 1654000 | D12: Accotink Creek near Annandale, VA | E12: Baltimore, MD | F12: Urb. ind. | G12: rotate2 | H12: 3983.6324 | I12: 0 | J12: 1117.6 | K12: 748.22 | L12: 2853.4584 | M12: 777.9105 | N12: 10428.903 | O12: 0 | P12: 5735.8969 | Q12: 16164.8
A13: 2 | B13: ACFB | C13: 2335870 | D13: Sope Creek near Marietta, GA | E13: Atlanta, GA | F13: Urb. ind. | G13: rotate2 | H13: 3220.9936 | I13: 0 | J13: 695.2 | K13: 748.22 | L13: 2752.3785 | M13: 749.32938 | N13: 8982.7337 | O13: 0 | P13: 2889.9251 | Q13: 11872.659
A14: 2 | B14: ACFB | C14: 2338523 | D14: Hillibahatchee Creek near Franklin, GA | E14: Atlanta, GA | F14: Reference | G14: rotate4 | H14: 2298.1101 | I14: 457.71 | J14: 616 | K14: 436.81 | L14: 1490.8717 | M14: 499.55292 | N14: 6378.9602 | O14: 0 | P14: 2052.2391 | Q14: 8431.1992
... A60: 8 | B60: SOCA | C60: 11049400 | D60: Santa Ana River above Seven Oaks Dam, CA | E60: San Diego, CA | F60: Reference | G60: eco_only | H60: 2461.0323 | I60: 457.71 | J60: 748 | K60: 436.81 | L60: 1545.2147 | M60: 518.50776 | N60: 6784.0023 | O60: 307.3153 | P60: 3251.9364 | Q60: 10343.254
D61: *Fish not collected by USGS due to endangered species issues; annual Fish collections at NF Skokomish by U. Washington | P61: Total for FY12 = | Q61: =SUM(Q3:Q60) -> 599348.38

Sheet SW sites
A1: Study unit | B1: Cycle II start | C1: Region | D1: MRB | E1: 40694 | G1: Type | H1: QW Sampling | I1: WSC Gross Stream gaging costs | J1: Ecology Sampling - Gross Costs
E2: Station | F2: Site name | H2: WSC Gross annual costs | J2: WSC Gross costs | K2: comments
A4: ACFB | B4: 2001 | C4: SE | D4: 2 | E4: 02335870 | F4: Sope Creek near Marietta, GA | G4: rotate2 | H4: ='FY12 chem site net costs'!Q18 -> 72276 | I4: ='FY12 chem site net costs'!R18 -> 0 | J4: ='FY12 Eco site costs'!Q13 -> 11872.659
A5: ACFB | B5: 2001 | C5: SE | D5: 2 | E5: 02338000 | F5: Chattahoochee River near Whitesburg, GA | G5: urbcore | H5: ='FY12 chem site net costs'!Q19 -> 72349 | I5: ='FY12 chem site net costs'!R19 -> 0
A6: ACFB | B6: 2001 | C6: SE | D6: 2 | E6: 02338523 | F6: Hillibahatchee Creek near Franklin, GA | G6: rotate4 | H6: ='FY12 chem site net costs'!Q20 -> 0 | I6: ='FY12 chem site net costs'!R20 -> 14640 | J6: ='FY12 Eco site costs'!Q14 -> 8431.1992
A7: ACFB | B7: 2001 | C7: SE | D7: 2 | E7: 02350080 | F7: Lime Creek near Cobb, GA | G7: rotate4 | H7: ='FY12 chem site net costs'!Q21 -> 0 | I7: ='FY12 chem site net costs'!R21 -> 14640
A8: ACFB | B8: 2001 | C8: SE | D8: 2 | E8: 02318500 | F8: Withlacoochee River near Quitman, GA | G8: rotate4 | H8: 0 | I8: ='FY12 chem site net costs'!R28 -> 14640
A9: ALBE | B9: 2001 | C9: SE | D9: 2 | E9: 02084160 | F9: Chicod Cr near Simpson, NC | G9: rotate4 | H9: ='FY12 chem site net costs'!Q22 -> 0 | I9: ='FY12 chem site net costs'!R22 -> 0
A10: ALBE | B10: 2001 | C10: SE | D10: 2 | E10: 02087580 | F10: Swift Creek near Apex, NC | G10: rotate2 | H10: ='FY12 chem site net costs'!Q23 -> 0 | I10: ='FY12 chem site net costs'!R23 -> 14627 | J10: ='FY12 Eco site costs'!Q15 -> 0
A11: ALBE | B11: 2001 | C11: SE | D11: 2 | E11: 02089500 | F11: Neuse River at Kinston, NC | G11: agcore | H11: ='FY12 chem site net costs'!Q24 -> 67689 | I11: ='FY12 chem site net costs'!R24 -> 0
A12: ALBE | B12: 2001 | C12: SE | D12: 2 | E12: 02091500 | F12: Contentnea Creek at Hookerton, NC | G12: rotate4 | H12: ='FY12 chem site net costs'!Q25 -> 88548 | I12: ='FY12 chem site net costs'!R25 -> 0 | J12: ='FY12 Eco site costs'!Q16 -> 15741.365
A13: CCYK | B13: 2001 | C13: West | D13: 7 | E13: 12464770 | F13: Crab Creek near Ritzville, WA | G13: rotate4 | H13: ='FY12 chem site net costs'!Q101 -> 0 | I13: ='FY12 chem site net costs'!R101 -> 15518 | J13: ='FY12 Eco site costs'!Q49 -> 9431.5765
A14: CCYK | B14: 2001 | C14: West | D14: 7 | E14: 12505450 | F14: Granger Drain at Granger, WA | G14: rotate4 | H14: ='FY12 chem site net costs'!Q102 -> 0 | I14: ='FY12 chem site net costs'!R102 -> 15518 | J14: ='FY12 Eco site costs'!Q50 -> 18770.128
A15: CCYK | B15: 2001 | C15: West | D15: 7 | E15: 12510500 | F15: Yakima River at Kiona, WA | G15: rotate4 | H15: ='FY12 chem site net costs'!Q103 -> 72044 | I15: ='FY12 chem site net costs'!R103 -> 0
A16: CNBR | B16: 2001 | C16: Central | D16: 4 | E16: 06775900 | F16: Dismal River near Thedford, NE | G16: eco_only | H16: 0 | I16: 0 | J16: ='FY12 Eco site costs'!Q34 -> 13559.819
A17: CNBR | B17: 2001 | C17: Central | D17: 4 | E17: 06795500 | F17: Shell Creek near Columbus, NE | G17: rotate4 | H17: ='FY12 chem site net costs'!Q64 -> 0 | I17: ='FY12 chem site net costs'!R64 -> 0
A18: CNBR | B18: 2001 | C18: Central | D18: 4 | E18: 06800000 | F18: Maple Creek near Nickerson, NE | G18: rotate2 | H18: ='FY12 chem site net costs'!Q65 -> 102966 | I18: ='FY12 chem site net costs'!R65 -> 0 | J18: ='FY12 Eco site costs'!Q35 -> 16021.714
A19: CNBR | B19: 2001 | C19: Central | D19: 4 | E19: 06800500 | F19: Elkhorn River at Waterloo, NE | G19: rotate4 | H19: ='FY12 chem site net costs'!Q66 -> 0 | I19: ='FY12 chem site net costs'!R66 -> 0
A20: CNBR | B20: 2001 | C20: Central | D20: 4 | E20: 06805500 | F20: Platte River at Louisville, NE | G20: agcore | H20: ='FY12 chem site net costs'!Q67 -> 60957 | I20: ='FY12 chem site net costs'!R67 -> 12151
A21: CONN | B21: 2001 | C21: NE | D21: 1 | E21: 01170100 | F21: Green River near Colrain, MA | G21: rotate4 | H21: ='FY12 chem site net costs'!Q2 -> 0 | I21: ='FY12 chem site net costs'!R2 -> 0 | J21: ='FY12 Eco site costs'!Q3 -> 8954.746
A22: CONN | B22: 2001 | C22: NE | D22: 1 | E22: 01184000 | F22: Connecticut River at Thompsonville, CT | G22: rotate4 | H22: ='FY12 chem site net costs'!Q3 -> 75515 | I22: ='FY12 chem site net costs'!R3 -> 0
A23: CONN | B23: 2001 | C23: NE | D23: 1 | E23: 01209710 | F23: Norwalk River at Winnipauk,CT | G23: rotate4 | H23: ='FY12 chem site net costs'!Q4 -> 0 | I23: ='FY12 chem site net costs'!R4 -> 0 | J23: ='FY12 Eco site costs'!Q4 -> 16222.423
A24: CONN | C24: NE | D24: 1 | E24: 01104615 | F24: Charles River near Watertown, MA | G24: rotate4 | H24: ='FY12 chem site net costs'!Q13 -> 0 | I24: ='FY12 chem site net costs'!R13 -> 11999 | K24: target off for streamgaging - this site has no streamgage. Years of QW sampling - take stream measure during every sampling trip. Years of no QW sampling - stream measure 6-8 times.
A25: GAFL | B25: 2001 | C25: SE | D25: 2 | E25: 02306774 | F25: Rocky Creek near Citrus Park, FL | G25: rotate4 | H25: ='FY12 chem site net costs'!Q26 -> 0 | I25: ='FY12 chem site net costs'!R26 -> 0
A26: GAFL | B26: 2001 | C26: SE | D26: 2 | E26: 02317797 | F26: Little River near Tifton, GA | G26: rotate4 | H26: ='FY12 chem site net costs'!Q27 -> 0 | I26: ='FY12 chem site net costs'!R27 -> 0
A27: GAFL | B27: 2001 | C27: SE | D27: 2 | E27: 02318500 | F27: Withlacoochee River near Quitman, GA | G27: rotate4 | H27: ='FY12 chem site net costs'!Q28 -> 65122 | I27: 0
A28: NVBR | B28: 2001 | C28: West | D28: 6 | E28: 094196783 | F28: Las Vegas Wash near Las Vegas, NV | G28: rotate2 | H28: ='FY12 chem site net costs'!Q95 -> 0 | I28: ='FY12 chem site net costs'!R95 -> 0
A29: NVBR | B29: 2001 | C29: West | D29: 6 | E29: 10311400 | F29: Carson River near Carson City, NV | G29: rotate4 | H29: ='FY12 chem site net costs'!Q96 -> 0 | I29: ='FY12 chem site net costs'!R96 -> 0
A30: NVBR | B30: 2001 | C30: West | D30: 6 | E30: 10350500 | F30: Truckee River at Clark, NV | G30: rotate4 | H30: ='FY12 chem site net costs'!Q97 -> 66456 | I30: ='FY12 chem site net costs'!R97 -> 0
A31: PODL | B31: 2001 | C31: NE | D31: 1 | E31: 01610400 | F31: Waites Run near Wardensville, WV | G31: rotate4 | H31: ='FY12 chem site net costs'!Q14 -> 0 | I31: ='FY12 chem site net costs'!R14 -> 15080 | J31: ='FY12 Eco site costs'!Q10 -> 11612
A32: PODL | B32: 2001 | C32: NE | D32: 1 | E32: 01621050 | F32: Muddy Creek at Mount Clinton, VA | G32: rotate4 | H32: ='FY12 chem site net costs'!Q15 -> 0 | I32: ='FY12 chem site net costs'!R15 -> 14612 | J32: ='FY12 Eco site costs'!Q11 -> 0
A33: PODL | B33: 2001 | C33: NE | D33: 1 | E33: 01646580 | F33: Potomac River at Washington, DC | G33: agcore | H33: ='FY12 chem site net costs'!Q16 -> 81551 | I33: ='FY12 chem site net costs'!R16 -> 0
A34: PODL | B34: 2001 | C34: NE | D34: 1 | E34: 01654000 | F34: Accotink Creek near Annandale, VA | G34: rotate2 | H34: ='FY12 chem site net costs'!Q17 -> 111892 | I34: ='FY12 chem site net costs'!R17 -> 0 | J34: ='FY12 Eco site costs'!Q12 -> 16164.8
A35: SANJ | B35: 2001 | C35: West | D35: 8 | E35: 11273500 | F35: Merced River near Newman, CA | G35: rotate4 | H35: ='FY12 chem site net costs'!Q116 -> 0 | I35: ='FY12 chem site net costs'!R116 -> 6135 | J35: ='FY12 Eco site costs'!Q57 -> 0
A36: SANJ | B36: 2001 | C36: West | D36: 8 | E36: 11274538 | F36: Orestimba Creek near Crows Landing, CA | G36: rotate4 | H36: ='FY12 chem site net costs'!Q117 -> 0 | I36: ='FY12 chem site net costs'!R117 -> 12171 | J36: ='FY12 Eco site costs'!Q58 -> 17435.927
A37: SANJ | B37: 2001 | C37: West | D37: 8 | E37: 11303500 | F37: San Joaquin River near Vernalis, CA | G37: agcore | H37: ='FY12 chem site net costs'!Q118 -> 98065 | I37: ='FY12 chem site net costs'!R118 -> 0
A38: SANJ | B38: 2001 | C38: West | D38: 8 | E38: 11335000 | F38: Cosumnes River at Michigan Bar, CA | G38: eco_only | H38: ='FY12 chem site net costs'!Q119 -> 0 | I38: ='FY12 chem site net costs'!R119 -> 0 | J38: ='FY12 Eco site costs'!Q59 -> 14122.437
A39: SPLT | B39: 2001 | C39: Central | D39: 4 | E39: 06713500 | F39: Cherry Creek at Denver, CO | G39: rotate2 | H39: ='FY12 chem site net costs'!Q68 -> 0 | I39: ='FY12 chem site net costs'!R68 -> 0 | J39: ='FY12 Eco site costs'!Q36 -> 0
A40: SPLT | B40: 2001 | C40: Central | D40: 4 | E40: 06754000 | F40: South Platte River near Kersey, CO | G40: rotate4 | H40: ='FY12 chem site net costs'!Q69 -> 0 | I40: ='FY12 chem site net costs'!R69 -> 0
A41: TRIN | B41: 2001 | C41: Central | D41: 5 | E41: 08051500 | F41: Clear Creek near Sanger, TX | G41: rotate4 | H41: ='FY12 chem site net costs'!Q85 -> 0 | I41: ='FY12 chem site net costs'!R85 -> 0 | J41: ='FY12 Eco site costs'!Q43 -> 23450.197
...

Sheet FY12 sampling by SU
A1: 40694 | D1: Gross Annual SW S&T Costs (at estimated FY12 NWQL prices (5% increase chem - 4.5% increase Eco) | N1: Gross Annual SW S&T Costs (Costs in columns C-J adjusted to fit within target)
D2: Chemistry | G2: Ecology | I2: Total | N2: Chemistry | Q2: Ecology | S2: Total
A3: Study Unit | C3: MRB | D3: Lab Analysis (includes QC) | E3: Sampling & Data Review | F3: Streamflow Gaging | G3: Lab Analysis (includes QC) | H3: Sampling & Data Review | I3: Lab Analysis | J3: SU Costs | K3: TOTAL | M3: Target Adjustment Factor | N3: Lab Analysis (including QC) | O3: Sampling & Data Review | P3: Streamflow Gaging | Q3: Lab Analysis (including QC) | R3: Sampling & Data Review | S3: Lab Analysis | T3: SU Costs | U3: TOTAL
A4: ACFB | B4: 01 | C4: 2 | D4: 43731.74 | E4: =SUM('SW sites'!H4:'SW sites'!H8) -> 144625 | F4: =SUM('SW sites'!I4:'SW sites'!I8) -> 43920 | G4: 8584.86 | H4: =SUM('SW sites'!J4:'SW sites'!J8) -> 20303.858 | I4: =D4+G4 -> 52316.6 | J4: =E4+H4+F4 -> 208848.86 | K4: =I4+J4 -> 261165.46 | M4: 1 | N4: =D4 -> 43731.74 | O4: =E4*$M4 -> 144625 | P4: =F4*$M4 -> 43920 | Q4: =G4 -> 8584.86 | R4: =H4*$M4 -> 20303.858 | S4: =N4+Q4 -> 52316.6 | T4: =O4+R4+P4 -> 208848.86 | U4: =S4+T4 -> 261165.46
A5: ALBE | B5: 01 | C5: 2 | D5: 42334.24 | E5: =SUM('SW sites'!H9:'SW sites'!H12) -> 156237 | F5: =SUM('SW sites'!I9:'SW sites'!I12) -> 14627 | G5: 4292.43 | H5: =SUM('SW sites'!J9:'SW sites'!J12) -> 15741.365 | I5: =D5+G5 -> 46626.67 | J5: =E5+H5+F5 -> 186605.36 | K5: =I5+J5 -> 233232.03 | M5: 1 | N5: =D5 -> 42334.24 | O5: =E5*$M5 -> 156237 | P5: =F5*$M5 -> 14627 | Q5: =G5 -> 4292.43 | R5: =H5*$M5 -> 15741.365 | S5: =N5+Q5 -> 46626.67 | T5: =O5+R5+P5 -> 186605.36 | U5: =S5+T5 -> 233232.03
A6: CCYK | B6: 01 | C6: 7 | D6: 12091.5 | E6: =SUM('SW sites'!H13:'SW sites'!H15) -> 72044 | F6: =SUM('SW sites'!I13:'SW sites'!I15) -> 31036 | G6: 8584.86 | H6: =SUM('SW sites'!J13:'SW sites'!J15) -> 28201.704 | I6: =D6+G6 -> 20676.36 | J6: =E6+H6+F6 -> 131281.7 | K6: =I6+J6 -> 151958.06 | M6: 1 | N6: =D6 -> 12091.5 | O6: =E6*$M6 -> 72044 | P6: =F6*$M6 -> 31036 | Q6: =G6 -> 8584.86 | R6: =H6*$M6 -> 28201.704 | S6: =N6+Q6 -> 20676.36 | T6: =O6+R6+P6 -> 131281.7 | U6: =S6+T6 -> 151958.06
A7: CNBR | B7: 01 | C7: 4 | D7: 40490.63 | E7: =SUM('SW sites'!H16:'SW sites'!H20) -> 163923 | F7: =SUM('SW sites'!I16:'SW sites'!I20) -> 12151 | G7: 8584.86 | H7: =SUM('SW sites'!J16:'SW sites'!J20) -> 29581.533 | I7: =D7+G7 -> 49075.49 | J7: =E7+H7+F7 -> 205655.53 | K7: =I7+J7 -> 254731.02 | M7: 1 | N7: =D7 -> 40490.63 | O7: =E7*$M7 -> 163923 | P7: =F7*$M7 -> 12151 | Q7: =G7 -> 8584.86 | R7: =H7*$M7 -> 29581.533 | S7: =N7+Q7 -> 49075.49 | T7: =O7+R7+P7 -> 205655.53 | U7: =S7+T7 -> 254731.02
A8: CONN | B8: 01 | C8: 1 | D8: 12091.5 | E8: =SUM('SW sites'!H21:'SW sites'!H24) -> 75515 | F8: =SUM('SW sites'!I21:'SW sites'!I24) -> 11999 | G8: 8584.86 | H8: =SUM('SW sites'!J21:'SW sites'!J24) -> 25177.169 | I8: =D8+G8 -> 20676.36 | J8: =E8+H8+F8 -> 112691.17 | K8: =I8+J8 -> 133367.53 | M8: 1 | N8: =D8 -> 12091.5 | O8: =E8*$M8 -> 75515 | P8: =F8*$M8 -> 11999 | Q8: =G8 -> 8584.86 | R8: =H8*$M8 -> 25177.169 | S8: =N8+Q8 -> 20676.36 | T8: =O8+R8+P8 -> 112691.17 | U8: =S8+T8 -> 133367.53
A9: GAFL | B9: 01 | C9: 2 | D9: 15447.02 | E9: =SUM('SW sites'!H25:'SW sites'!H27) -> 65122 | F9: =SUM('SW sites'!I25:'SW sites'!I27) -> 0 | G9: 0 | H9: =SUM('SW sites'!J25:'SW sites'!J27) -> 0 | I9: =D9+G9 -> 15447.02 | J9: =E9+H9+F9 -> 65122 | K9: =I9+J9 -> 80569.02 | M9: 1 | N9: =D9 -> 15447.02 | O9: =E9*$M9 -> 65122 | P9: =F9*$M9 -> 0 | Q9: =G9 -> 0 | R9: =H9*$M9 -> 0 | S9: =N9+Q9 -> 15447.02 | T9: =O9+R9+P9 -> 65122 | U9: =S9+T9 -> 80569.02
A10: NVBR | B10: 01 | C10: 6 | D10: 15447.02 | E10: =SUM('SW sites'!H28:'SW sites'!H30) -> 66456 | F10: =SUM('SW sites'!I28:'SW sites'!I30) -> 0 | G10: 0 | H10: =SUM('SW sites'!J28:'SW sites'!J30) -> 0 | I10: =D10+G10 -> 15447.02 | J10: =E10+H10+F10 -> 66456 | K10: =I10+J10 -> 81903.02 | M10: 1 | N10: =D10 -> 15447.02 | O10: =E10*$M10 -> 66456 | P10: =F10*$M10 -> 0 | Q10: =G10 -> 0 | R10: =H10*$M10 -> 0 | S10: =N10+Q10 -> 15447.02 | T10: =O10+R10+P10 -> 66456 | U10: =S10+T10 -> 81903.02
A11: PODL | B11: 01 | C11: 1 | D11: 49774.74 | E11: =SUM('SW sites'!H31:'SW sites'!H34) -> 193443 | F11: =SUM('SW sites'!I31:'SW sites'!I34) -> 29692 | G11: 8584.86 | H11: =SUM('SW sites'!J31:'SW sites'!J34) -> 27776.8 | I11: =D11+G11 -> 58359.6 | J11: =E11+H11+F11 -> 250911.8 | K11: =I11+J11 -> 309271.4 | M11: 1 | N11: =D11 -> 49774.74 | O11: =E11*$M11 -> 193443 | P11: =F11*$M11 -> 29692 | Q11: =G11 -> 8584.86 | R11: =H11*$M11 -> 27776.8 | S11: =N11+Q11 -> 58359.6 | T11: =O11+R11+P11 -> 250911.8 | U11: =S11+T11 -> 309271.4
A12: SANJ | B12: 01 | C12: 8 | D12: 26769.96 | E12: =SUM('SW sites'!H35:'SW sites'!H38) -> 98065 | F12: =SUM('SW sites'!I35:'SW sites'!I38) -> 18306 | G12: 8584.86 | H12: =SUM('SW sites'!J35:'SW sites'!J38) -> 31558.364 | I12: =D12+G12 -> 35354.82 | J12: =E12+H12+F12 -> 147929.36 | K12: =I12+J12 -> 183284.18 | M12: 1 | N12: =D12 -> 26769.96 | O12: =E12*$M12 -> 98065 | P12: =F12*$M12 -> 18306 | Q12: =G12 -> 8584.86 | R12: =H12*$M12 -> 31558.364 | S12: =N12+Q12 -> 35354.82 | T12: =O12+R12+P12 -> 147929.36 | U12: =S12+T12 -> 183284.18
A13: SPLT | B13: 01 | C13: 4 | D13: 0 | E13: =SUM('SW sites'!H39:'SW sites'!H40) -> 0 | F13: =SUM('SW sites'!I39:'SW sites'!I40) -> 0 | G13: 0 | H13: =SUM('SW sites'!J39:'SW sites'!J40) -> 0 | I13: =D13+G13 -> 0 | J13: =E13+H13+F13 -> 0 | K13: =I13+J13 -> 0 | M13: 1 | N13: =D13 -> 0 | O13: =E13*$M13 -> 0 | P13: =F13*$M13 -> 0 | Q13: =G13 -> 0 | R13: =H13*$M13 -> 0 | S13: =N13+Q13 -> 0 | T13: =O13+R13+P13 -> 0 | U13: =S13+T13 -> 0
A14: TRIN | B14: 01 | C14: 5 | D14: 15447.02 | E14: =SUM('SW sites'!H41:'SW sites'!H43) -> 99018 | F14: =SUM('SW sites'!I41:'SW sites'!I43) -> 0 | G14: 4292.43 | H14: =SUM('SW sites'!J41:'SW sites'!J43) -> 23450.197 | I14: =D14+G14 -> 19739.45 | J14: =E14+H14+F14 -> 122468.2 | K14: =I14+J14 -> 142207.65 | M14: 1 | N14: =D14 -> 15447.02 | O14: =E14*$M14 -> 99018 | P14: =F14*$M14 -> 0 | Q14: =G14 -> 4292.43 | R14: =H14*$M14 -> 23450.197 | S14: =N14+Q14 -> 19739.45 | T14: =O14+R14+P14 -> 122468.2 | U14: =S14+T14 -> 142207.65
A15: WHMI | B15: 01 | C15: 3 | D15: 49774.74 | E15: =SUM('SW sites'!H44:'SW sites'!H47) -> 199154 | F15: =SUM('SW sites'!I44:'SW sites'!I47) -> 12552 | G15: 8584.86 | H15: =SUM('SW sites'!J44:'SW sites'!J47) -> 21639.192 | I15: =D15+G15 -> 58359.6 | J15: =E15+H15+F15 -> 233345.19 | K15: =I15+J15 -> 291704.79 | M15: 1 | N15: =D15 -> 49774.74 | O15: =E15*$M15 -> 199154 | P15: =F15*$M15 -> 12552 | Q15: =G15 -> 8584.86 | R15: =H15*$M15 -> 21639.192 | S15: =N15+Q15 -> 58359.6 | T15: =O15+R15+P15 -> 233345.19 | U15: =S15+T15 -> 291704.79
A16: WILL | B16: 01 | C16: 7 | D16: 41934.36 | E16: =SUM('SW sites'!H48:'SW sites'!H51) -> 175670 | F16: =SUM('SW sites'!I48:'SW sites'!I51) -> 37930 | G16: 4292.43 | H16: =SUM('SW sites'!J48:'SW sites'!J51) -> 14507.091 | I16: =D16+G16 -> 46226.79 | J16: =E16+H16+F16 -> 228107.09 | K16: =I16+J16 -> 274333.88 | M16: 1 | N16: =D16 -> 41934.36 | O16: =E16*$M16 -> 175670 | P16: =F16*$M16 -> 37930 | Q16: =G16 -> 4292.43 | R16: =H16*$M16 -> 14507.091 | S16: =N16+Q16 -> 46226.79 | T16: =O16+R16+P16 -> 228107.09 | U16: =S16+T16 -> 274333.88
A17: WMIC | B17: 01 | C17: 3 | D17: 15965.57 | E17: =SUM('SW sites'!H52:'SW sites'!H54) -> 81933 | F17: =SUM('SW sites'!I52:'SW sites'!I54) -> 14144 | G17: 8584.86 | H17: =SUM('SW sites'!J52:'SW sites'!J54) -> 39625.208 | I17: =D17+G17 -> 24550.43 | J17: =E17+H17+F17 -> 135702.21 | K17: =I17+J17 -> 160252.64 | M17: 1 | N17: =D17 -> 15965.57 | O17: =E17*$M17 -> 81933 | P17: =F17*$M17 -> 14144 | Q17: =G17 -> 8584.86 | R17: =H17*$M17 -> 39625.208 | S17: =N17+Q17 -> 24550.43 | T17: =O17+R17+P17 -> 135702.21 | U17: =S17+T17 -> 160252.64
