Workbook

Sheet chem site information
A1: MAJOR RIVER BASIN | B1: CYCLE II SU | C1: STATION ID | D1: STATION NAME | E1: CYCLE II SITE (145) | F1: CYCLE II SITE (84) | G1: CYCLE I SITE TYPE | H1: CYCLE II SITE TYPE | I1: NS LAND USE TYPE | J1: NEW CYCLE II SITE TYPE | K1: SAMPLED FOR ECOLOGY | L1: PROPOSED COST CENTER TO DO SAMPLING | M1: SAMPLED IN 2007 | N1: SAMPLED IN 2008 | O1: SAMPLED IN 2009 | P1: SAMPLED IN 2010 | Q1: SAMPLED IN 2011 | R1: SAMPLED IN 2012 | S1: NUMBER OF SAMPLES IN 2007 | T1: NUMBER OF SAMPLES IN 2008 | U1: NUMBER OF SAMPLES IN 2009 | V1: NUMBER OF SAMPLES IN 2010 | W1: NUMBER OF SAMPLES IN 2011 | X1: NUMBER OF SAMPLES IN 2012 | Y1: DISTANCE TO SITE (miles) | Z1: TRAVEL TIME TO SITE (hrs) | AA1: SITE SIZE | AB1: LOW FLOW SITE TYPE | AC1: HIGH FLOW SITE TYPE | AD1: FLAGMEN NEEDED AT LOW FLOW | AE1: FLAGMEN NEEDED AT HIGH FLOW | AF1: NUMBER OF VEHICLES NEEDED (EXCLUDING FLAGMEN) | AG1: LOW FLOW LENGTH OF FIELD DAY (hrs) | AH1: HIGH FLOW LENGTH OF FIELD DAY (hrs) | AI1: LOW FLOW SAMPLE TOTAL HOURS | AJ1: HIGH FLOW SAMPLE TOTAL HOURS | AK1: Comments
A2: 1 | B2: CONN | C2: 01170100 | D2: Green River near Colrain, MA | E2: Y | F2: Y | G2: bfs | H2: Ref | I2: Undev | J2: rotate4 | K2: Y | L2: East Hartford, CT | M2: N | N2: N | O2: Y | P2: N | Q2: N | R2: N | S2: 0 | T2: 0 | U2: 6 | V2: 0 | W2: 0 | X2: 0 | Y2: 174 | Z2: 3.2 | AA2: small | AB2: wading | AC2: bridge | AD2: N | AE2: N | AF2: 1 | AG2: 8 | AH2: 8 | AI2: 34.5 | AJ2: 34.5
A3: 1 | B3: CONN | C3: 01184000 | D3: Connecticut River at Thompsonville, CT | E3: Y | F3: Y | G3: bfs | H3: Integ | I3: Urban / Undev | J3: rotate4 | K3: N | L3: East Hartford, CT | M3: N | N3: Y | O3: N | P3: N | Q3: N | R3: Y | S3: 0 | T3: 16 | U3: 0 | V3: 0 | W3: 0 | X3: 16 | Y3: 56 | Z3: 1.2 | AA3: large | AB3: boat3 | AC3: boat3 | AD3: N | AE3: N | AF3: 2 | AG3: 6 | AH3: 6 | AI3: 38.5 | AJ3: 38.5
A4: 1 | B4: CONN | C4: 01209710 | D4: Norwalk River at Winnipauk,CT | E4: Y | F4: Y | G4: ifs | H4: Urban | I4: Urban 2 | J4: rotate4 | K4: Y | L4: East Hartford, CT | M4: N | N4: N | O4: N | P4: Y | Q4: N | R4: N | S4: 0 | T4: 0 | U4: 0 | V4: 21 | W4: 0 | X4: 0 | Y4: 158 | Z4: 3 | AA4: small | AB4: wading | AC4: bridge | AD4: N | AE4: N | AF4: 1 | AG4: 8 | AH4: 8 | AI4: 34.5 | AJ4: 34.5
A5: 1 | B5: DELR | C5: 01463500 | D5: Delaware River at Trenton, NJ | E5: Y | F5: Y | G5: bfs | H5: Integ | I5: Ag / Urb / Undev | J5: rotate4 | K5: N | L5: West Trenton, NJ | M5: N | N5: Y | O5: N | P5: N | Q5: N | R5: Y | S5: 0 | T5: 16 | U5: 0 | V5: 0 | W5: 0 | X5: 16 | Y5: 30 | Z5: 0.8 | AA5: large | AB5: bridge | AC5: bridge | AD5: Y | AE5: Y | AF5: 1 | AG5: 6 | AH5: 6.5 | AI5: 36.5 | AJ5: 37.5
A6: 1 | B6: DELR | C6: 01464907 | D6: Little Neshaminy Creek near Warminster, PA | E6: Y | F6: N | G6: ifs | H6: Urban | I6: Urban 2 | J6: rotate4 | K6: Y | L6: West Trenton, NJ | M6: N | N6: N | O6: N | P6: Y | Q6: N | R6: N | S6: 0 | T6: 0 | U6: 0 | V6: 21 | W6: 0 | X6: 0 | Y6: 52 | Z6: 1.4 | AA6: small | AB6: wading | AC6: bridge | AD6: N | AE6: N | AF6: 1 | AG6: 6 | AH6: 6 | AI6: 30.5 | AJ6: 30.5
A7: 1 | B7: DELR | C7: 01472157 | D7: French Creek near Phoenixville, PA | E7: Y | F7: N | G7: bfs | H7: Ref | I7: Ag / Undev | J7: rotate4 | K7: Y | L7: West Trenton, NJ | M7: N | N7: N | O7: Y | P7: N | Q7: N | R7: N | S7: 0 | T7: 0 | U7: 21 | V7: 0 | W7: 0 | X7: 0 | Y7: 116 | Z7: 2.6 | AA7: small | AB7: wading | AC7: bridge | AD7: N | AE7: N | AF7: 1 | AG7: 7.5 | AH7: 7.5 | AI7: 33.5 | AJ7: 33.5
A8: 1 | B8: HDSN | C8: 01349150 | D8: Canajoharie Creek near Canajoharie, NY | E8: Y | F8: Y | G8: ifs | H8: Ag | I8: Ag | J8: rotate4 | K8: Y | L8: Troy, NY | M8: Y | N8: N | O8: N | P8: N | Q8: Y | R8: N | S8: 21 | T8: 0 | U8: 0 | V8: 0 | W8: 21 | X8: 0 | Y8: 140 | Z8: 2.4 | AA8: small | AB8: wading | AC8: bridge | AD8: N | AE8: N | AF8: 1 | AG8: 7 | AH8: 7.5 | AI8: 32.5 | AJ8: 33.5
A9: 1 | B9: HDSN | C9: 01356190 | D9: Lisha Kill northwest of Niskayuna, NY | E9: Y | F9: Y | G9: ifs | H9: Urban | I9: Urban 1 | J9: rotate2 | K9: Y | L9: Troy, NY | M9: N | N9: Y | O9: N | P9: Y | Q9: N | R9: Y | S9: 0 | T9: 21 | U9: 0 | V9: 21 | W9: 0 | X9: 21 | Y9: 46 | Z9: 1.2 | AA9: small | AB9: wading | AC9: bridge | AD9: N | AE9: Y | AF9: 1 | AG9: 6 | AH9: 6 | AI9: 30.5 | AJ9: 36.5
A10: 1 | B10: HDSN | C10: 01357500 | D10: Mohawk River at Cohoes, NY | E10: Y | F10: Y | G10: ifs | H10: Integ | I10: Ag / Urb / Undev | J10: rotate4 | K10: N | L10: Troy, NY | M10: N | N10: N | O10: Y | P10: N | Q10: N | R10: N | S10: 0 | T10: 0 | U10: 16 | V10: 0 | W10: 0 | X10: 0 | Y10: 30 | Z10: 1 | AA10: large | AB10: bridge | AC10: bridge | AD10: N | AE10: N | AF10: 1 | AG10: 6.5 | AH10: 6.5 | AI10: 31.5 | AJ10: 31.5
A11: 1 | B11: LINJ | C11: 01403300 | D11: Raritan River at Bound Brook, NJ | E11: Y | F11: Y | G11: bfs | H11: Integ | I11: Ag / Urb / Undev | J11: urbcore | K11: N | L11: West Trenton, NJ | M11: Y | N11: Y | O11: Y | P11: Y | Q11: Y | R11: Y | S11: 21 | T11: 21 | U11: 21 | V11: 21 | W11: 21 | X11: 21 | Y11: 88 | Z11: 2.2 | AA11: large | AB11: bridge | AC11: bridge | AD11: Y | AE11: Y | AF11: 1 | AG11: 7.5 | AH11: 8 | AI11: 42.5 | AJ11: 43.5
A12: 1 | B12: LINJ | C12: 01403900 | D12: Bound Brook at Middlesex, NJ | E12: Y | F12: N | G12: ifs | H12: Urban | I12: Urban 1 | J12: rotate4 | K12: Y | L12: West Trenton, NJ | M12: Y | N12: N | O12: N | P12: N | Q12: Y | R12: N | S12: 21 | T12: 0 | U12: 0 | V12: 0 | W12: 21 | X12: 0 | Y12: 94 | Z12: 2.2 | AA12: small | AB12: wading | AC12: bridge | AD12: N | AE12: Y | AF12: 1 | AG12: 7 | AH12: 7 | AI12: 32.5 | AJ12: 40.5
A13: 1 | B13: NECB/CONN | C13: 01104615 | D13: Charles River near Watertown, MA | E13: Y | F13: Y | G13: ifs | H13: Integ | I13: Urban 1 | J13: rotate4 | K13: N | L13: East Hartford, CT | M13: Y | N13: N | O13: N | P13: N | Q13: Y | R13: N | S13: 21 | T13: 0 | U13: 0 | V13: 0 | W13: 21 | X13: 0 | Y13: 220 | Z13: 3.6 | AA13: small | AB13: bridge | AC13: bridge | AD13: N | AE13: N | AF13: 1 | AG13: 8.5 | AH13: 8.5 | AI13: 35.5 | AJ13: 35.5
... A31: 2 | B31: MOBL | C31: 02469762 | D31: Tombigbee River near Coffeeville, AL | E31: Y | F31: Y | G31: bfs | H31: Integ | I31: Ag / Urb / Undev | J31: rotate4 | K31: N | L31: Montgomery, AL | M31: N | N31: Y | O31: N | P31: N | Q31: N | R31: Y | S31: 0 | T31: 18 | U31: 0 | V31: 0 | W31: 0 | X31: 18 | Y31: 380 | Z31: 6.6 | AA31: large | AB31: boat2 | AC31: boat2 | AD31: N | AE31: N | AF31: 1 | AG31: 12.5 | AH31: 12.5 | AI31: 45.5 | AJ31: 45.5
A32: 2 | B32: SANT | C32: 02169570 | D32: Gills Creek at Columbia, SC | E32: Y | F32: Y | G32: ifs | H32: Urban | I32: Urban 1 | J32: rotate4 | K32: Y | L32: Columbia, SC | M32: N | N32: N | O32: N | P32: Y | Q32: N | R32: N | S32: 0 | T32: 0 | U32: 0 | V32: 18 | W32: 0 | X32: 0 | Y32: 28 | Z32: 0.8 | AA32: small | AB32: wading | AC32: bridge | AD32: N | AE32: N | AF32: 1 | AG32: 5.5 | AH32: 5.5 | AI32: 29.5 | AJ32: 29.5 | AK32: sampling year switched w/ Cow Castle Crk
A33: 2 | B33: SANT | C33: 02172300 | D33: McTier Creek near Monetta, SC | E33: Y | F33: Y | G33: bfs | H33: Ref | I33: Undev | J33: rotate4 | K33: Y | L33: Columbia, SC | M33: N | N33: N | O33: Y | P33: N | Q33: N | R33: N | S33: 0 | T33: 0 | U33: 6 | V33: 0 | W33: 0 | X33: 0 | Y33: 108 | Z33: 1.8 | AA33: small | AB33: wading | AC33: wading | AD33: N | AE33: N | AF33: 1 | AG33: 6.5 | AH33: 6.5 | AI33: 31.5 | AJ33: 31.5
A34: 2 | B34: SANT | C34: 02174250 | D34: Cow Castle Creek near Bowman, SC | E34: Y | F34: Y | G34: ifs | H34: Ag | I34: Ag | J34: rotate4 | K34: Y | L34: Columbia, SC | M34: N | N34: Y | O34: N | P34: N | Q34: N | R34: N | S34: 0 | T34: 18 | U34: 0 | V34: 0 | W34: 0 | X34: 0 | Y34: 140 | Z34: 2.4 | AA34: small | AB34: wading | AC34: wading | AD34: N | AE34: N | AF34: 1 | AG34: 7 | AH34: 7.5 | AI34: 32.5 | AJ34: 33.5 | AK34: sampling year switched w/ Gills Crk
A35: 2 | B35: SANT | C35: 02175000 | D35: Edisto River near Givhans, SC | E35: Y | F35: Y | G35: ifs | H35: Integ | I35: Ag / Undev | J35: rotate4 | K35: N | L35: Columbia, SC | M35: Y | N35: N | O35: N | P35: N | Q35: Y | R35: N | S35: 18 | T35: 0 | U35: 0 | V35: 0 | W35: 18 | X35: 0 | Y35: 220 | Z35: 3.6 | AA35: medium | AB35: boat3 | AC35: boat3 | AD35: N | AE35: N | AF35: 2 | AG35: 8.5 | AH35: 8.5 | AI35: 46 | AJ35: 46
A36: 2 | B36: SOFL | C36: 02281200 | D36: Hillsboro Canal near Shawano, FL | E36: Y | F36: Y | G36: ifs | H36: Ag | I36: Ag | J36: rotate4 | K36: N | L36: Tampa, FL | M36: Y | N36: N | O36: N | P36: N | Q36: Y | R36: N | S36: 18 | T36: 0 | U36: 0 | V36: 0 | W36: 18 | X36: 0 | Y36: 500 | Z36: 9 | AA36: medium | AB36: boat2 | AC36: boat2 | AD36: N | AE36: N | AF36: 1 | AG36: 15 | AH36: 15 | AI36: 50.5 | AJ36: 50.5
A37: 2 | B37: TENN | C37: 03466208 | D37: Big Limestone Creek near Limestone, TN | E37: Y | F37: N | G37: ifs | H37: Ag | I37: Ag | J37: rotate4 | K37: N | L37: Nashville, TN | M37: N | N37: Y | O37: N | P37: N | Q37: N | R37: N | S37: 0 | T37: 0 | U37: 0 | V37: 26 | W37: 0 | X37: 0 | Y37: 600 | Z37: 9.6 | AA37: medium | AB37: bridge | AC37: bridge | AD37: N | AE37: N | AF37: 1 | AG37: 14.5 | AH37: 15 | AI37: 47.5 | AJ37: 48.5
A38: 2 | B38: TENN | C38: 03467609 | D38: Nolichucky River near Lowland, TN | E38: Y | F38: N | G38: ifs | H38: Integ | I38: Ag / Undev | J38: rotate4 | K38: N | L38: Nashville, TN | M38: N | N38: N | O38: N | P38: Y | Q38: N | R38: N | S38: 0 | T38: 0 | U38: 26 | V38: 0 | W38: 0 | X38: 0 | Y38: 520 | Z38: 7.8 | AA38: large | AB38: boat3 | AC38: boat3 | AD38: N | AE38: N | AF38: 2 | AG38: 13 | AH38: 13 | AI38: 59.5 | AJ38: 59.5
A39: 2 | B39: TENN | C39: 0357479650 | D39: Hester Creek near Plevna, AL | E39: Y | F39: Y | G39: ifs | H39: Ag | I39: Ag | J39: rotate4 | K39: Y | L39: Nashville, TN | M39: N | N39: N | O39: Y | P39: N | Q39: N | R39: Y | S39: 0 | T39: 26 | U39: 0 | V39: 0 | W39: 0 | X39: 26 | Y39: 260 | Z39: 4.8 | AA39: small | AB39: wading | AC39: bridge | AD39: N | AE39: N | AF39: 1 | AG39: 9.5 | AH39: 9.5 | AI39: 37.5 | AJ39: 37.5
A40: 2 | B40: TENN | C40: 03575100 | D40: Flint River near Brownsboro, AL | E40: Y | F40: Y | G40: ifs | H40: Integ | I40: Ag | J40: rotate4 | K40: N | L40: Nashville, TN | M40: Y | N40: N | O40: N | P40: N | Q40: Y | R40: N | S40: 26 | T40: 0 | U40: 0 | V40: 0 | W40: 26 | X40: 0 | Y40: 320 | Z40: 4.8 | AA40: large | AB40: bridge | AC40: bridge | AD40: Y | AE40: Y | AF40: 1 | AG40: 10 | AH40: 10.5 | AI40: 52.5 | AJ40: 53.5
A41: 3 | B41: EIWA | C41: 05420680 | D41: Wapsipinicon River near Tripoli, IA | E41: Y | F41: N | G41: bfs | H41: Ref | I41: Ag | J41: rotate4 | K41: Y | L41: Iowa City, IA | M41: N | N41: Y | O41: N | P41: N | Q41: N | R41: Y | S41: 0 | T41: 26 | U41: 0 | V41: 0 | W41: 0 | X41: 26 | Y41: 260 | Z41: 4.6 | AA41: small | AB41: wading | AC41: bridge | AD41: N | AE41: N | AF41: 1 | AG41: 9.5 | AH41: 9.5 | AI41: 37.5 | AJ41: 37.5
A42: 3 | B42: EIWA | C42: 05451210 | D42: South Fork Iowa River near New Providence, IA | E42: Y | F42: Y | G42: bfs | H42: Ag | I42: Ag | J42: rotate2 | K42: Y | L42: Iowa City, IA | M42: Y | N42: N | O42: Y | P42: N | Q42: Y | R42: N | S42: 26 | T42: 0 | U42: 26 | V42: 0 | W42: 26 | X42: 0 | Y42: 320 | Z42: 5.6 | AA42: small | AB42: wading | AC42: bridge | AD42: N | AE42: N | AF42: 1 | AG42: 10.5 | AH42: 10.5 | AI42: 39.5 | AJ42: 39.5
A43: 3 | B43: EIWA | C43: 05465500 | D43: Iowa River at Wapello, IA | E43: Y | F43: Y | G43: ifs | H43: Integ | I43: Ag | J43: rotate4 | K43: N | L43: Iowa City, IA | M43: N | N43: N | O43: N | P43: Y | Q43: N | R43: N | S43: 0 | T43: 0 | U43: 0 | V43: 16 | W43: 16 | Y43: 126 | Z43: 2.8 | AA43: large | AB43: boat3 | AC43: boat3 | AD43: N | AE43: N | AF43: 2 | AG43: 8 | AH43: 8 | AI43: 44.5 | AJ43: 44.5
A44: 3 | B44: EIWA | C44: 05490500 | D44: Des Moines River at Keosauqua, IA | E44: N | F44: N | I44: Ag | J44: agcore | K44: N | L44: Iowa City, IA | M44: N | N44: N | O44: N | P44: Y | Q44: Y | R44: Y | S44: 0 | T44: 0 | U44: 0 | V44: 16 | W44: 16
A45: 3 | B45: LERI | C45: 04161820 | D45: Clinton River at Sterling Heights, MI | E45: Y | F45: Y | G45: ifs | H45: Urban | I45: Urban / Ag | J45: rotate4 | K45: Y | L45: East Lansing, MI | M45: N | N45: N | O45: Y | P45: N | Q45: N | R45: N | S45: 0 | T45: 0 | U45: 26 | V45: 0 | W45: 0 | X45: 0 | Y45: 200 | Z45: 3.4 | AA45: small | AB45: wading | AC45: bridge | AD45: N | AE45: N | AF45: 1 | AG45: 8 | AH45: 8 | AI45: 34.5 | AJ45: 34.5
A46: 3 | B46: LERI | C46: 04175600 | D46: River Raisin near Manchester, MI | E46: Y | F46: N | G46: bfs | H46: Ref | I46: Ag / Undev | J46: rotate4 | K46: Y | L46: East Lansing, MI | M46: N | N46: N | O46: N | P46: Y | Q46: N | R46: N | S46: 0 | T46: 0 | U46: 0 | V46: 26 | W46: 0 | X46: 0 | Y46: 152 | Z46: 2.6 | AA46: small | AB46: wading | AC46: bridge | AD46: N | AE46: N | AF46: 1 | AG46: 7.5 | AH46: 7.5 | AI46: 33.5 | AJ46: 33.5
A47: 3 | B47: LERI | C47: 04186500 | D47: Auglaize River near Fort Jennings, OH | E47: Y | F47: Y | G47: ifs | H47: Ag | I47: Ag | J47: rotate4 | K47: N | L47: Columbus, OH | M47: N | N47: Y | O47: N | P47: N | Q47: N | R47: Y | S47: 0 | T47: 26 | U47: 0 | V47: 0 | W47: 0 | X47: 26 | Y47: 240 | Z47: 5.2 | AA47: medium | AB47: wading | AC47: bridge | AD47: N | AE47: N | AF47: 1 | AG47: 10 | AH47: 10.5 | AI47: 38.5 | AJ47: 39.5
A48: 3 | B48: LERI | C48: 04193500 | D48: Maumee River at Waterville, OH | E48: Y | F48: Y | G48: ifs | H48: Integ | I48: Ag | J48: rotate4 | K48: N | L48: Columbus, OH | M48: Y | N48: N | O48: N | P48: N | Q48: Y | R48: N | S48: 20 | T48: 0 | U48: 0 | V48: 0 | W48: 20 | X48: 0 | Y48: 280 | Z48: 5.4 | AA48: large | AB48: wading | AC48: bridge | AD48: N | AE48: N | AF48: 1 | AG48: 11 | AH48: 11 | AI48: 40.5 | AJ48: 40.5
A49: 3 | B49: LIRB | C49: 05572000 | D49: Sangamon River at Monticello, IL | E49: Y | F49: Y | G49: ifs | H49: Ag | I49: Ag | J49: rotate4 | K49: N | L49: Urbana, IL | M49: N | N49: Y | O49: N | P49: N | Q49: N | R49: Y | S49: 0 | T49: 26 | U49: 0 | V49: 0 | W49: 0 | X49: 26 | Y49: 68 | Z49: 1.4 | AA49: small | AB49: bridge | AC49: bridge | AD49: N | AE49: N | AF49: 1 | AG49: 6 | AH49: 6 | AI49: 30.5 | AJ49: 30.5
A50: 3 | B50: LIRB | C50: 05586100 | D50: Illinois River at Valley City, IL | E50: Y | F50: Y | G50: ifs | H50: Integ | I50: Ag / Urban | J50: rotate4 | K50: N | L50: Urbana, IL | M50: N | N50: N | O50: N | P50: Y | Q50: N | R50: N | S50: 0 | T50: 0 | U50: 0 | V50: 16 | W50: 0 | X50: 0 | Y50: 360 | Z50: 6.2 | AA50: large | AB50: boat2 | AC50: boat3 | AD50: N | AE50: N | AF50: 2 | AG50: 12 | AH50: 11 | AI50: 44.5 | AJ50: 53.5
A51: 3 | B51: UIRB | C51: 05531500 | D51: Salt Creek at Western Springs, IL | E51: Y | F51: Y | G51: ifs | H51: Urban | I51: Urban 1 | J51: rotate4 | K51: Y | L51: Urbana, IL | M51: Y | N51: N | O51: N | P51: N | Q51: Y | R51: N | S51: 26 | T51: 0 | U51: 0 | V51: 0 | W51: 26 | X51: 0 | Y51: 320 | Z51: 5.4 | AA51: small | AB51: wading | AC51: bridge | AD51: N | AE51: N | AF51: 1 | AG51: 10 | AH51: 10 | AI51: 38.5 | AJ51: 38.5
A52: 3 | B52: UIRB | C52: 05532500 | D52: Des Plaines River at Riverside, IL | E52: Y | F52: N | G52: ifs | H52: Integ | I52: Urban / Ag | J52: rotate4 | K52: N | L52: Urbana, IL | M52: N | N52: N | O52: Y | P52: N | Q52: N | R52: N | S52: 0 | T52: 0 | U52: 26 | V52: 0 | W52: 0 | X52: 0 | Y52: 320 | Z52: 5.6 | AA52: medium | AB52: wading | AC52: bridge | AD52: N | AE52: N | AF52: 1 | AG52: 10.5 | AH52: 11 | AI52: 39.5 | AJ52: 40.5
A53: 3 | B53: UMIS | C53: 05288705 | D53: Shingle Creek at Minneapolis, MN | E53: Y | F53: Y | G53: ifs | H53: Urban | I53: Urban 1 | J53: rotate2 | K53: Y | L53: Mounds View, MN | M53: N | N53: Y | O53: N | P53: Y | Q53: N | R53: Y | S53: 0 | T53: 21 | U53: 0 | V53: 21 | W53: 0 | X53: 21 | Y53: 38 | Z53: 0.8 | AA53: small | AB53: wading | AC53: bridge | AD53: N | AE53: N | AF53: 1 | AG53: 5.5 | AH53: 5.5 | AI53: 29.5 | AJ53: 29.5
A54: 3 | B54: UMIS | C54: 05320270 | D54: Little Cobb River near Beauford, MN | E54: Y | F54: Y | G54: ifs | H54: Ag | I54: Ag | J54: rotate4 | K54: N | L54: Mounds View, MN | M54: Y | N54: N | O54: N | P54: N | Q54: Y | R54: N | S54: 21 | T54: 0 | U54: 0 | V54: 0 | W54: 21 | X54: 0 | Y54: 240 | Z54: 4.6 | AA54: small | AB54: wading | AC54: bridge | AD54: N | AE54: Y | AF54: 1 | AG54: 9.5 | AH54: 9.5 | AI54: 37.5 | AJ54: 49.5
A55: 3 | B55: UMIS | C55: 05331580 | D55: Mississippi River at Hastings, MN | E55: Y | F55: N | G55: ifs | H55: Integ | I55: Ag / Urban | J55: rotate4 | K55: N | L55: Mounds View, MN | M55: N | N55: N | O55: Y | P55: N | Q55: N | R55: N | S55: 0 | T55: 0 | U55: 14 | V55: 0 | W55: 0 | X55: 0 | Y55: 94 | Z55: 1.8 | AA55: large | AB55: boat3 | AC55: boat3 | AD55: N | AE55: N | AF55: 2 | AG55: 7 | AH55: 7 | AI55: 41.5 | AJ55: 41.5
A56: 3 | B56: WHMI | C56: 03267900 | D56: Mad River near Eagle City, OH | E56: Y | F56: N | G56: ifs | H56: Ag | I56: Ag | J56: rotate4 | K56: Y | L56: Indianapolis, IN | M56: N | N56: N | O56: Y | P56: N | Q56: N | R56: N | S56: 0 | T56: 0 | U56: 26 | V56: 0 | W56: 0 | X56: 0 | Y56: 152 | Z56: 2.8 | AA56: medium | AB56: wading | AC56: bridge | AD56: N | AE56: N | AF56: 1 | AG56: 8 | AH56: 8 | AI56: 34.5 | AJ56: 34.5
... A124: 8 | B124: SOCA | C124: 11074000 | D124: Santa Ana River below Prado Dam, CA | E124: Y | F124: Y | G124: bfs | H124: Integ | I124: Urban 2 | J124: urbcore | K124: N | L124: San Diego, CA | M124: Y | N124: Y | O124: Y | P124: Y | Q124: Y | R124: Y | S124: 18 | T124: 18 | U124: 18 | V124: 18 | W124: 18 | X124: 18 | Y124: 200 | Z124: 3.2 | AA124: small | AB124: wading | AC124: cableway | AD124: N | AE124: N | AF124: 1 | AG124: 8 | AH124: 8 | AI124: 34.5 | AJ124: 34.5
...

Sheet FY11 chem site net costs
A1: MAJOR RIVER BASIN | B1: CYCLE II SU | C1: STATION ID | D1: STATION NAME | E1: NEW CYCLE II SITE TYPE | F1: Field labor cost | G1: Field Travel Cost (per diem) | H1: Vehicle costs | I1: Supply costs | J1: Office labor costs | K1: QA/Mgt labor costs | L1: Working capital fund (for replacement of depreciable equipment) | M1: WSC net cost | O1: Distributed direct cost | P1: Overhead cost | R1: WSC total cost | S1: WSC GAGING COSTS 2010 (SU budgets)
A2: 1 | B2: CONN | C2: 01170100 | D2: Green River near Colrain, MA | E2: rotate4 | F2: 0 | G2: 0 | H2: 0 | I2: 0 | J2: 0 | K2: 0 | L2: 0 | M2: 0 | O2: 0 | P2: 0 | R2: 0 | S2: 0
A3: 1 | B3: CONN | C3: 01184000 | D3: Connecticut River at Thompsonville, CT | E3: rotate4 | F3: 0 | G3: 0 | H3: 0 | I3: 0 | J3: 0 | K3: 0 | L3: 0 | M3: 0 | O3: 0 | P3: 0 | R3: 0 | S3: 0
A4: 1 | B4: CONN | C4: 01209710 | D4: Norwalk River at Winnipauk,CT | E4: rotate4 | F4: 0 | G4: 0 | H4: 0 | I4: 0 | J4: 0 | K4: 0 | L4: 0 | M4: 0 | O4: 0 | P4: 0 | R4: 0 | S4: 0
A5: 1 | B5: DELR | C5: 01463500 | D5: Delaware River at Trenton, NJ | E5: rotate4 | F5: 0 | G5: 0 | H5: 0 | I5: 0 | J5: 0 | K5: 0 | L5: 0 | M5: 0 | O5: 0 | P5: 0 | R5: 0 | S5: 0
A6: 1 | B6: DELR | C6: 01464907 | D6: Little Neshaminy Creek near Warminster, PA | E6: rotate4 | F6: 0 | G6: 0 | H6: 0 | I6: 0 | J6: 0 | K6: 0 | L6: 0 | M6: 0 | O6: 0 | P6: 0 | R6: 0 | S6: 0
A7: 1 | B7: DELR | C7: 01472157 | D7: French Creek near Phoenixville, PA | E7: rotate4 | F7: 0 | G7: 0 | H7: 0 | I7: 0 | J7: 0 | K7: 0 | L7: 0 | M7: 0 | O7: 0 | P7: 0 | R7: 0 | S7: 0
A8: 1 | B8: HDSN | C8: 01349150 | D8: Canajoharie Creek near Canajoharie, NY | E8: rotate4 | F8: 17243.1 | G8: 0 | H8: 2314.41 | I8: 2492 | J8: 18648.63 | K8: 4781.7 | L8: 4109.7 | M8: 49589.54 | O8: 18348.13 | P8: 29892.575 | R8: 98456 | S8: 15421
A9: 1 | B9: HDSN | C9: 01356190 | D9: Lisha Kill northwest of Niskayuna, NY | E9: rotate2 | F9: 0 | G9: 0 | H9: 0 | I9: 0 | J9: 0 | K9: 0 | L9: 0 | M9: 0 | O9: 0 | P9: 0 | R9: 0 | S9: 14037
A10: 1 | B10: HDSN | C10: 01357500 | D10: Mohawk River at Cohoes, NY | E10: rotate4 | F10: 0 | G10: 0 | H10: 0 | I10: 0 | J10: 0 | K10: 0 | L10: 0 | M10: 0 | O10: 0 | P10: 0 | R10: 0 | S10: 0
A11: 1 | B11: LINJ | C11: 01403300 | D11: Raritan River at Bound Brook, NJ | E11: urbcore | F11: 27936.72 | G11: 0 | H11: 2920.05 | I11: 2492 | J11: 20778.66 | K11: 5346.81 | L11: 6489 | M11: 65963.24 | O11: 21985.548 | P11: 22117.361 | R11: 110692 | S11: 0
A12: 1 | B12: LINJ | C12: 01403900 | D12: Bound Brook at Middlesex, NJ | E12: rotate4 | F12: 20945.295 | G12: 0 | H12: 2076.48 | I12: 2492 | J12: 20778.66 | K12: 5346.81 | L12: 4823.49 | M12: 56462.735 | O12: 18819.03 | P12: 18931.858 | R12: 94840 | S12: 0
A13: 1 | B13: CONN | C13: 01104615 | D13: Charles River near Watertown, MA | E13: rotate4 | F13: 22017.555 | G13: 0 | H13: 3633.84 | I13: 2492 | J13: 20191.815 | K13: 5194.665 | L13: 4109.7 | M13: 57639.575 | O13: 0 | P13: 36189.584 | R13: 94455 | S13: 5681 | T13: MARI
A14: 1 | B14: PODL | C14: 01610400 | D14: Waites Run near Wardensville, WV | E14: rotate4 | F14: 7942.59 | G14: 0 | H14: 1514.1 | I14: 540 | J14: 5750.46 | K14: 1477.98 | L14: 1174.2 | M14: 18399.33 | O14: 0 | P14: 10119.631 | R14: 28698 | S14: 15007
A15: 1 | B15: PODL | C15: 01621050 | D15: Muddy Creek at Mount Clinton, VA | E15: rotate4 | F15: 0 | G15: 0 | H15: 0 | I15: 0 | J15: 0 | K15: 0 | L15: 0 | M15: 0 | O15: 0 | P15: 0 | R15: 0 | S15: 14542
A16: 1 | B16: PODL | C16: 01646580 | D16: Potomac River at Washington, DC | E16: agcore | F16: 19789.2 | G16: 0 | H16: 1854 | I16: 2362 | J16: 19168.2 | K16: 4926.6 | L16: 3914 | M16: 52014 | O16: 0 | P16: 28607.7 | R16: 81219 | S16: 0
A17: 1 | B17: PODL | C17: 01654000 | D17: Accotink Creek near Annandale, VA | E17: rotate2 | F17: 0 | G17: 0 | H17: 0 | I17: 0 | J17: 0 | K17: 0 | L17: 0 | M17: 0 | O17: 0 | P17: 0 | R17: 0 | S17: 0
A18: 2 | B18: ACFB | C18: 02335870 | D18: Sope Creek near Marietta, GA | E18: rotate2 | F18: 0 | G18: 0 | H18: 0 | I18: 0 | J18: 0 | K18: 0 | L18: 0 | M18: 0 | O18: 0 | P18: 0 | R18: 0 | S18: 0
A19: 2 | B19: ACFB | C19: 02338000 | D19: Chattahoochee River near Whitesburg, GA | E19: urbcore | F19: 20971.17 | G19: 0 | H19: 3621.48 | I19: 2343 | J19: 18779.04 | K19: 4266.27 | L19: 4134.42 | M19: 54115.38 | O19: 9740.7684 | P19: 17879.722 | R19: 82273 | S19: 0
A20: 2 | B20: ACFB | C20: 02338523 | D20: Hillibahatchee Creek near Franklin, GA | E20: rotate4 | F20: 0 | G20: 0 | H20: 0 | I20: 0 | J20: 0 | K20: 0 | L20: 0 | M20: 0 | O20: 0 | P20: 0 | R20: 0 | S20: 14570
A21: 2 | B21: ACFB | C21: 02350080 | D21: Lime Creek near Cobb, GA | E21: rotate4 | F21: 30578.04 | G21: 0 | H21: 7193.52 | I21: 3124 | J21: 22157.28 | K21: 5688.36 | L21: 4696.8 | M21: 73438 | O21: 13218.84 | P21: 24263.915 | R21: 111637 | S21: 14570
A22: 2 | B22: ALBE | C22: 02084160 | D22: Chicod Cr near Simpson, NC | E22: rotate4 | F22: 0 | G22: 0 | H22: 0 | I22: 0 | J22: 0 | K22: 0 | L22: 0 | M22: 0 | O22: 0 | P22: 0 | R22: 0 | S22: 0
A23: 2 | B23: ALBE | C23: 02087580 | D23: Swift Creek near Apex, NC | E23: rotate2 | F23: 15127.56 | G23: 0 | H23: 766.32 | I23: 3124 | J23: 21312.72 | K23: 5464.8 | L23: 4696.8 | M23: 50492.2 | O23: 9593.518 | P23: 12377.658 | R23: 73179 | S23: 14556
A24: 2 | B24: ALBE | C24: 02089500 | D24: Neuse River at Kinston, NC | E24: agcore | F24: 19263.42 | G24: 0 | H24: 2836.62 | I24: 2343 | J24: 15984.54 | K24: 4098.6 | L24: 3522.6 | M24: 48048.78 | O24: 9129.2682 | P24: 11778.678 | R24: 69494 | S24: 0
A25: 2 | B25: ALBE | C25: 02091500 | D25: Contentnea Creek at Hookerton, NC | E25: rotate4 | F25: 0 | G25: 0 | H25: 0 | I25: 0 | J25: 0 | K25: 0 | L25: 0 | M25: 0 | O25: 0 | P25: 0 | R25: 0 | S25: 0
... A27: 2 | B27: GAFL | C27: 02317797 | D27: Little River near Tifton, GA | E27: rotate4 | F27: 0 | G27: 0 | H27: 0 | I27: 0 | J27: 0 | K27: 0 | L27: 0 | M27: 0 | O27: 0 | P27: 0 | R27: 0 | S27: 0
A28: 2 | B28: GAFL | C28: 02318500 | D28: Withlacoochee River near Quitman, GA | E28: rotate4 | F28: 0 | G28: 0 | H28: 0 | I28: 0 | J28: 0 | K28: 0 | L28: 0 | M28: 0 | O28: 0 | P28: 0 | R28: 0 | S28: 14570 | T28: ACFB
A29: 2 | B29: MOBL | C29: 0242354750 | D29: Cahaba Valley Creek at Pelham, AL | E29: rotate2 | F29: 24550.2 | G29: 0 | H29: 4886.32 | I29: 3124 | J29: 21312.72 | K29: 5464.8 | L29: 5512.56 | M29: 64850.6 | O29: 0 | P29: 16212.65 | R29: 81779 | S29: 16456
A30: 2 | B30: MOBL | C30: 02424000 | D30: Cahaba River at Centreville, AL | E30: rotate4 | F30: 0 | G30: 0 | H30: 0 | I30: 0 | J30: 0 | K30: 0 | L30: 0 | M30: 0 | O30: 0 | P30: 0 | R30: 0 | S30: 0
A31: 2 | B31: MOBL | C31: 02469762 | D31: Tombigbee River near Coffeeville, AL | E31: rotate4 | F31: 0 | G31: 0 | H31: 0 | I31: 0 | J31: 0 | K31: 0 | L31: 0 | M31: 0 | O31: 0 | P31: 0 | R31: 0 | S31: 0
A32: 2 | B32: SANT | C32: 02169570 | D32: Gills Creek at Columbia, SC | E32: rotate4 | F32: 0 | G32: 0 | H32: 0 | I32: 0 | J32: 0 | K32: 0 | L32: 0 | M32: 0 | O32: 0 | P32: 0 | R32: 0 | S32: 17247
A33: 2 | B33: SANT | C33: 02172300 | D33: McTier Creek near Monetta, SC | E33: rotate4 | F33: 0 | G33: 0 | H33: 0 | I33: 0 | J33: 0 | K33: 0 | L33: 0 | M33: 0 | O33: 0 | P33: 0 | R33: 0 | S33: 17247
A34: 2 | B34: SANT | C34: 02174250 | D34: Cow Castle Creek near Bowman, SC | E34: rotate4 | F34: 0 | G34: 0 | H34: 0 | I34: 0 | J34: 0 | K34: 0 | L34: 0 | M34: 0 | O34: 0 | P34: 0 | R34: 0 | S34: 17247
A35: 2 | B35: SANT | C35: 02175000 | D35: Edisto River near Givhans, SC | E35: rotate4 | F35: 26137.89 | G35: 0 | H35: 7916.58 | I35: 2343 | J35: 18052.47 | K35: 4098.6 | L35: 5562 | M35: 64110.54 | O35: 16668.74 | P35: 19063.91 | R35: 100380 | S35: 0
A36: 2 | B36: SOFL | C36: 02281200 | D36: Hillsboro Canal near Shawano, FL | E36: rotate4 | F36: 30944.43 | G36: 5895.72 | H36: 9140.22 | I36: 2343 | J36: 18052.47 | K36: 4098.6 | L36: 3522.6 | M36: 73997.04 | O36: 14799.408 | P36: 14207.432 | R36: 103541 | S36: 0
A37: 2 | B37: TENN | C37: 03466208 | D37: Big Limestone Creek near Limestone, TN | E37: rotate4 | F37: 0 | G37: 0 | H37: 0 | I37: 0 | J37: 0 | K37: 0 | L37: 0 | M37: 0 | O37: 0 | P37: 0 | R37: 0 | S37: 0
A38: 2 | B38: TENN | C38: 03467609 | D38: Nolichucky River near Lowland, TN | E38: rotate4 | F38: 0 | G38: 0 | H38: 0 | I38: 0 | J38: 0 | K38: 0 | L38: 0 | M38: 0 | O38: 0 | P38: 0 | R38: 0 | S38: 0
A39: 2 | B39: TENN | C39: 0357479650 | D39: Hester Creek near Plevna, AL | E39: rotate4 | F39: 0 | G39: 0 | H39: 0 | I39: 0 | J39: 0 | K39: 0 | L39: 0 | M39: 0 | O39: 0 | P39: 0 | R39: 0 | S39: 16552
A40: 2 | B40: TENN | C40: 03575100 | D40: Flint River near Brownsboro, AL | E40: rotate4 | F40: 42439.14 | G40: 0 | H40: 13122.2 | I40: 3143 | J40: 23088.78 | K40: 5920.2 | L40: 8034 | M40: 95747.32 | O40: 18000.496 | P40: 27890.965 | R40: 142415 | S40: 0
... A55: 3 | B55: UMIS | C55: 05331580 | D55: Mississippi River at Hastings, MN | E55: rotate4 | F55: 0 | G55: 0 | H55: 0 | I55: 0 | J55: 0 | K55: 0 | L55: 0 | M55: 0 | O55: 0 | P55: 0 | R55: 0 | S55: 3930
...

Sheet Eco site information
O1: Cycle II sampling prior to implementation of the SWST redesign schedule | T1: Redesign Eco Sampling Schedule for 2007-2012 incl. Variability Study: "-2" = WIP in CY07 orCY08 [FY shown here] (BLUE Shading indicates Years of Intensive Chemical Sampling) | Z1: Y = Included in Variability Study | AA1: "WIP" = Within Index Period (2 samples in Index Period)
A2: MRB | B2: Cycle II Study Unit abbrev | C2: Station number | D2: Station name | E2: PROPOSED COST CENTER TO DO SAMPLING | F2: Cycle II site type | G2: Site group | H2: Eco-region | I2: RTH (Snag or Riffle) | J2: RT Miles to Site | K2: RT Travel Time to Site (hrs) | L2: Fish Rela-tive Rich- ness | M2: Fish Rich- ness factor | N2: Area (sq km) | O2: 2002 | P2: 2003 | Q2: 2004 | R2: 2005 | S2: 2006 | T2: 2007 | U2: 2008 | V2: 2009 | W2: 2010 | X2: 2011 | Y2: 2012 | AA2: "WIP" Sampling in CY07 | AB2: "WIP" Sampling in CY08
A3: 1 | B3: CONN | C3: 1170100 | D3: Green River near Colrain, MA | E3: East Hartford, CT | F3: Reference | G3: rotate4 | H3: 58 | I3: Riffle | J3: 174 | K3: 3.2 | L3: Lo | M3: =IF(L3="Lo",0.8,IF(L3="Med",1,(IF(L3="Hi",1.2,"error")))) -> 0.8 | N3: 107 | O3: IAFH | P3: IAFH | Q3: IAFH | R3: IAFH | S3: IAH | T3: IAFH-2 | U3: IAFH | V3: IAFH | W3: IAH | X3: IAFH | Y3: IAH | Z3: Y | AA3: Yes
A4: 1 | B4: CONN | C4: 1209710 | D4: Norwalk River at Winnipauk,CT | E4: East Hartford, CT | F4: Urb. ind. | G4: rotate4 | H4: 59 | I4: Riffle | J4: 158 | K4: 3 | L4: Med | M4: =IF(L4="Lo",0.8,IF(L4="Med",1,(IF(L4="Hi",1.2,"error")))) -> 1 | N4: 85.1 | O4: IAFH | P4: IAFH | Q4: IAFH | R4: IAFH | S4: IAH | T4: IAFH | U4: IAFH | W4: IAFH | Y4: IAFH
A5: 1 | B5: DELR | C5: 1464907 | D5: Little Neshaminy Creek near Warminster, PA | E5: West Trenton, NJ | F5: Urb. ind. | G5: rotate4 | H5: 64 | I5: Riffle | J5: 52 | K5: 1.4 | L5: Med | M5: =IF(L5="Lo",0.8,IF(L5="Med",1,(IF(L5="Hi",1.2,"error")))) -> 1 | N5: 72.3 | O5: IAFH | P5: IAFH | Q5: IAFH | T5: IAFH | U5: IAFH-2 | W5: IAFH | Y5: IAFH | Z5: Y | AB5: Yes
A6: 1 | B6: DELR | C6: 1472157 | D6: French Creek near Phoenixville, PA | E6: West Trenton, NJ | F6: Reference | G6: rotate4 | H6: 64 | I6: Riffle | J6: 116 | K6: 2.6 | L6: Med | M6: =IF(L6="Lo",0.8,IF(L6="Med",1,(IF(L6="Hi",1.2,"error")))) -> 1 | N6: 152 | O6: IAFH | P6: IAFH | Q6: IAFH | T6: IAFH | U6: IAFH-2 | V6: IAFH | W6: IAH | X6: IAFH | Y6: IAH | Z6: Y | AB6: Yes
A7: 1 | B7: HDSN | C7: 1349150 | D7: Canajoharie Creek near Canajoharie, NY | E7: Troy, NY | F7: Ag. ind. | G7: rotate4 | H7: 83 | I7: Riffle | J7: 140 | K7: 2.4 | L7: Med | M7: =IF(L7="Lo",0.8,IF(L7="Med",1,(IF(L7="Hi",1.2,"error")))) -> 1 | N7: 155 | O7: IAFH | P7: IAFH | Q7: IAFH | R7: IAFH | S7: IAH | T7: IAFH | V7: IAFH | X7: IAFH
A8: 1 | B8: HDSN | C8: 1356190 | D8: Lisha Kill northwest of Niskayuna, NY | E8: Troy, NY | F8: Urb. ind. | G8: rotate2 | H8: 83 | I8: Riffle | J8: 46 | K8: 1.2 | L8: Med | M8: =IF(L8="Lo",0.8,IF(L8="Med",1,(IF(L8="Hi",1.2,"error")))) -> 1 | N8: 40 | O8: IAFH | P8: IAFH | Q8: IAFH | R8: IAFH | S8: IAH | U8: IAFH | W8: IAFH | Y8: IAFH
A9: 1 | B9: LINJ | C9: 1403900 | D9: Bound Brook at Middlesex, NJ | E9: West Trenton, NJ | F9: Urb. ind. | G9: rotate4 | H9: 64 | I9: Riffle | J9: 94 | K9: 2.2 | L9: Hi | M9: =IF(L9="Lo",0.8,IF(L9="Med",1,(IF(L9="Hi",1.2,"error")))) -> 1.2 | N9: 126 | O9: IAFH | P9: IAFH | Q9: IAFH | S9: IAH | T9: IAFH | U9: IAFH-2 | V9: IAFH | X9: IAFH | Z9: Y | AB9: Yes
A10: 1 | B10: PODL | C10: 1610400 | D10: Waites Run near Wardensville, WV | E10: Baltimore, MD | F10: Reference | G10: rotate4 | H10: 67 | I10: Riffle | J10: 320 | K10: 6.4 | L10: Med | M10: =IF(L10="Lo",0.8,IF(L10="Med",1,(IF(L10="Hi",1.2,"error")))) -> 1 | N10: 32.6 | O10: IAFH | P10: IAFH | Q10: IAFH | R10: IAFH | S10: IAH | T10: IAFH | U10: IAFH-2 | V10: IAFH | W10: IAH | X10: IAFH | Y10: IAH | Z10: Y | AB10: Yes
A11: 1 | B11: PODL | C11: 1621050 | D11: Muddy Creek at Mount Clinton, VA | E11: Baltimore, MD | F11: Ag. ind. | G11: rotate4 | H11: 67 | I11: Riffle | J11: 420 | K11: 7.8 | L11: Med | M11: =IF(L11="Lo",0.8,IF(L11="Med",1,(IF(L11="Hi",1.2,"error")))) -> 1 | N11: 37.2 | O11: IAFH | P11: IAFH | Q11: IAFH | R11: IAFH | S11: IAH | T11: IAFH | U11: IAFH-2 | V11: IAFH | X11: IAFH | Z11: Y | AB11: Yes
A12: 1 | B12: PODL | C12: 1654000 | D12: Accotink Creek near Annandale, VA | E12: Baltimore, MD | F12: Urb. ind. | G12: rotate2 | H12: 45 | I12: Riffle | J12: 154 | K12: 2.8 | L12: Med | M12: =IF(L12="Lo",0.8,IF(L12="Med",1,(IF(L12="Hi",1.2,"error")))) -> 1 | N12: 60.7 | O12: IAFH | P12: IAFH | Q12: IAFH | R12: IAFH | S12: IAH | T12: IAFH | U12: IAFH-2 | W12: IAFH | Y12: IAFH | Z12: Y | AB12: Yes
A13: 2 | B13: ACFB | C13: 2335870 | D13: Sope Creek near Marietta, GA | E13: Atlanta, GA | F13: Urb. ind. | G13: rotate2 | H13: 45 | I13: Riffle | J13: 58 | K13: 1.2 | L13: Med | M13: =IF(L13="Lo",0.8,IF(L13="Med",1,(IF(L13="Hi",1.2,"error")))) -> 1 | N13: 79.5 | O13: IAFH | P13: IAFH | Q13: IAFH | R13: IAFH | S13: IAH | T13: IAFH | U13: IAFH-2 | W13: IAFH | Y13: IAFH | Z13: Y | AB13: Yes
A14: 2 | B14: ACFB | C14: 2338523 | D14: Hillibahatchee Creek near Franklin, GA | E14: Atlanta, GA | F14: Reference | G14: rotate4 | H14: 45 | I14: Riffle | J14: 180 | K14: 3.6 | L14: Med | M14: =IF(L14="Lo",0.8,IF(L14="Med",1,(IF(L14="Hi",1.2,"error")))) -> 1 | N14: 43.5 | O14: IAFH | P14: IAFH | Q14: IAFH | R14: IAFH | S14: IAH | T14: IAFH-2 | U14: IAFH | V14: IAFH | W14: IAH | X14: IAFH | Y14: IAH | Z14: Y | AA14: Yes
A15: 2 | B15: ALBE | C15: 2087580 | D15: Swift Creek near Apex, NC | E15: Raleigh, NC | F15: Urb. ind. | G15: rotate2 | H15: 65 | I15: Riffle | J15: 40 | K15: 0.8 | L15: Med | M15: =IF(L15="Lo",0.8,IF(L15="Med",1,(IF(L15="Hi",1.2,"error")))) -> 1 | N15: 53.9 | O15: IAFH | P15: IAFH | Q15: IAFH | R15: IAFH | S15: IAH | T15: IAFH | U15: IAFH-2 | V15: IAFH | X15: IAFH | Z15: Y | AB15: Yes
A16: 2 | B16: ALBE | C16: 2091500 | D16: Contentnea Creek at Hookerton, NC | E16: Raleigh, NC | F16: Ag. ind. | G16: rotate4 | H16: 65 | I16: Snag | J16: 200 | K16: 3.8 | L16: Hi | M16: =IF(L16="Lo",0.8,IF(L16="Med",1,(IF(L16="Hi",1.2,"error")))) -> 1.2 | N16: 1910 | O16: IAFH | P16: IAFH | Q16: IAFH | R16: IAFH | S16: IAH | U16: IAFH | W16: IAFH | Y16: IAFH
A17: 2 | B17: MOBL | C17: 242354750 | D17: Cahaba Valley Creek at Pelham, AL | E17: Montgomery, AL | F17: Urb. ind. | G17: rotate2 | H17: 67 | I17: Riffle | J17: 194 | K17: 3 | L17: Hi | M17: =IF(L17="Lo",0.8,IF(L17="Med",1,(IF(L17="Hi",1.2,"error")))) -> 1.2 | N17: 66.1 | O17: IAFH | P17: IAFH | Q17: IAFH | R17: IAFH | S17: IAH | T17: IAFH | U17: IAFH-2 | V17: IAFH | X17: IAFH | Z17: Y | AB17: Yes
A18: 2 | B18: SANT | C18: 2169570 | D18: Gills Creek at Columbia, SC | E18: Columbia, SC | F18: Urb. ind. | G18: rotate4 | H18: 65 | I18: Snag | J18: 28 | K18: 0.8 | L18: Hi | M18: =IF(L18="Lo",0.8,IF(L18="Med",1,(IF(L18="Hi",1.2,"error")))) -> 1.2 | N18: 154 | O18: IAFH | P18: IAFH | Q18: IAFH | R18: IAFH | S18: IAH | U18: IAFH | W18: IAFH | Y18: IAFH
A19: 2 | B19: SANT | C19: 2172300 | D19: McTier Creek near Monetta, SC | E19: Columbia, SC | F19: Reference | G19: rotate4 | H19: 65 | I19: Snag | J19: 108 | K19: 1.8 | L19: Med | M19: =IF(L19="Lo",0.8,IF(L19="Med",1,(IF(L19="Hi",1.2,"error")))) -> 1 | N19: 40.4 | O19: IAFH | P19: IAFH | Q19: IAFH | R19: IAFH | S19: IAH | T19: IAFH | U19: IAH | V19: IAFH | W19: IAH | X19: IAFH | Y19: IAH
A20: 2 | B20: SANT | C20: 2174250 | D20: Cow Castle Creek near Bowman, SC | E20: Columbia, SC | F20: Ag. ind. | G20: rotate4 | H20: 65 | I20: Snag | J20: 140 | K20: 2.4 | L20: Hi | M20: =IF(L20="Lo",0.8,IF(L20="Med",1,(IF(L20="Hi",1.2,"error")))) -> 1.2 | N20: 61.6 | O20: IAFH | P20: IAFH | Q20: IAFH | R20: IAFH | S20: IAH | U20: IAFH | W20: IAFH | Y20: IAFH
A21: 2 | B21: TENN | C21: 357479650 | D21: Hester Creek near Plevna, AL | E21: Nashville, TN | F21: Ag. ind. | G21: rotate4 | H21: 71 | I21: Riffle | J21: 260 | K21: 4.8 | L21: Hi | M21: =IF(L21="Lo",0.8,IF(L21="Med",1,(IF(L21="Hi",1.2,"error")))) -> 1.2 | N21: 76 | O21: IAFH | P21: IAFH | Q21: IAFH | R21: IAFH | S21: IAH | U21: IAFH | W21: IAFH | Y21: IAFH
A22: 3 | B22: EIWA | C22: 5420680 | D22: Wapsipinicon River near Tripoli, IA | E22: Iowa City, IA | F22: Reference | G22: rotate4 | H22: 47 | I22: Snag | J22: 260 | K22: 4.6 | L22: Hi | M22: =IF(L22="Lo",0.8,IF(L22="Med",1,(IF(L22="Hi",1.2,"error")))) -> 1.2 | N22: 897 | O22: IAFH | P22: IAFH | Q22: IAFH | S22: IAH | T22: IAH | U22: IAFH | V22: IAH | W22: IAFH | X22: IAH | Y22: IAFH
A23: 3 | B23: EIWA | C23: 5451210 | D23: South Fork Iowa River near New Providence, IA | E23: Iowa City, IA | F23: Ag. ind. | G23: rotate2 | H23: 47 | I23: Snag | J23: 320 | K23: 5.6 | L23: Hi | M23: =IF(L23="Lo",0.8,IF(L23="Med",1,(IF(L23="Hi",1.2,"error")))) -> 1.2 | N23: 581 | O23: IAFH | P23: IAFH | Q23: IAFH | R23: IAFH | S23: IAH | T23: IAFH | V23: IAFH | X23: IAFH
A24: 3 | B24: LERI | C24: 4161820 | D24: Clinton River at Sterling Heights, MI | E24: Columbus, OH | F24: Urb. ind. | G24: rotate4 | H24: 56 | I24: Riffle | J24: 200 | K24: 3.4 | L24: Hi | M24: =IF(L24="Lo",0.8,IF(L24="Med",1,(IF(L24="Hi",1.2,"error")))) -> 1.2 | N24: 803 | O24: IAFH | P24: IAFH | Q24: IAFH | R24: IAFH | T24: IAFH | U24: IAFH-2 | V24: IAFH | X24: IAFH | Z24: Y | AB24: Yes
A25: 3 | B25: LERI | C25: 4175600 | D25: River Raisin near Manchester, MI | E25: Columbus, OH | F25: Reference | G25: rotate4 | H25: 56 | I25: Riffle | J25: 152 | K25: 2.6 | L25: Med | M25: =IF(L25="Lo",0.8,IF(L25="Med",1,(IF(L25="Hi",1.2,"error")))) -> 1 | N25: 331 | O25: IAFH | P25: IAFH | Q25: IAFH | S25: IAH | T25: IAFH-2 | U25: IAFH | V25: IAH | W25: IAFH | X25: IAH | Y25: IAFH | Z25: Y | AA25: Yes
A26: 3 | B26: UIRB | C26: 5531500 | D26: Salt Creek at Western Springs, IL | E26: Urbana, IL | F26: Urb. ind. | G26: rotate4 | H26: 54 | I26: Snag | J26: 320 | K26: 5.4 | L26: Med | M26: =IF(L26="Lo",0.8,IF(L26="Med",1,(IF(L26="Hi",1.2,"error")))) -> 1 | N26: 291 | O26: IAFH | P26: IAFH | Q26: IAFH | R26: IAFH | S26: IAH | T26: IAFH | V26: IAFH | X26: IAFH
A27: 3 | B27: UMIS | C27: 5288705 | D27: Shingle Creek at Minneapolis, MN | E27: Mounds View, MN | F27: Urb. ind. | G27: rotate2 | H27: 51 | I27: Snag | J27: 38 | K27: 0.8 | L27: Med | M27: =IF(L27="Lo",0.8,IF(L27="Med",1,(IF(L27="Hi",1.2,"error")))) -> 1 | N27: 73 | O27: IAFH | P27: IAFH | Q27: IAFH | R27: IAFH | S27: IAH | U27: IAFH | W27: IAFH | Y27: IAFH
A28: 3 | B28: WHMI | C28: 3267900 | D28: Mad River near Eagle City, OH | E28: Indianapolis, IN | F28: Ag. ind. | G28: rotate4 | H28: 55 | I28: Riffle | J28: 152 | K28: 2.8 | L28: Hi | M28: =IF(L28="Lo",0.8,IF(L28="Med",1,(IF(L28="Hi",1.2,"error")))) -> 1.2 | N28: 802 | O28: IAFH | P28: IAFH | Q28: IAFH | T28: IAFH-2 | U28: IAFH | V28: IAFH | X28: IAFH | Z28: Y | AA28: Yes
A29: 3 | B29: WHMI | C29: 3357330 | D29: Big Walnut Creek near Roachdale, IN | E29: Indianapolis, IN | F29: Reference | G29: rotate4 | H29: 55 | I29: Riffle | J29: 106 | K29: 2.4 | L29: Hi | M29: =IF(L29="Lo",0.8,IF(L29="Med",1,(IF(L29="Hi",1.2,"error")))) -> 1.2 | N29: . | O29: IAFH | P29: IAFH | Q29: IAFH | T29: IAFH-2 | U29: IAFH | V29: IAFH | W29: IAH | X29: IAFH | Y29: IAH | Z29: Y | AA29: Yes
A30: 3 | B30: WHMI | C30: 394340085524601 | D30: Sugar Creek at New Palestine, IN | E30: Indianapolis, IN | F30: Ag. ind. | G30: rotate2 | H30: 55 | I30: Riffle | J30: 80 | K30: 1.8 | L30: Hi | M30: =IF(L30="Lo",0.8,IF(L30="Med",1,(IF(L30="Hi",1.2,"error")))) -> 1.2 | N30: 246 | O30: IAFH | P30: IAFH | Q30: IAFH | R30: IAFH | S30: IAH | T30: IAFH | U30: IAFH-2 | W30: IAFH | Y30: IAFH | Z30: Y | AB30: Yes
A31: 3 | B31: WMIC | C31: 4063700 | D31: Popple River near Fence, WI | E31: Madison, WI | F31: Reference | G31: rotate4 | H31: 50 | I31: Riffle | J31: 580 | K31: 10.6 | L31: Med | M31: =IF(L31="Lo",0.8,IF(L31="Med",1,(IF(L31="Hi",1.2,"error")))) -> 1 | N31: 363 | O31: IAFH | P31: IAFH | Q31: IAFH | R31: IAFH | S31: IAH | T31: IAFH-2 | U31: IAFH | V31: IAH | W31: IAFH | X31: IAH | Y31: IAFH | Z31: Y | AA31: Yes
A32: 3 | B32: WMIC | C32: 4072050 | D32: Duck Creek near Howard, WI | E32: Madison, WI | F32: Ag. ind. | G32: rotate4 | H32: 51 | I32: Riffle | J32: 340 | K32: 6 | L32: Med | M32: =IF(L32="Lo",0.8,IF(L32="Med",1,(IF(L32="Hi",1.2,"error")))) -> 1 | N32: 247 | O32: IAFH | P32: IAFH | Q32: IAFH | U32: IAFH | W32: IAFH | Y32: IAFH
A33: 3 | B33: WMIC | C33: 40869415 | D33: Lincoln Creek at Milwaukee, WI | E33: Madison, WI | F33: Urb. ind. | G33: rotate2 | H33: 53 | I33: Riffle | J33: 220 | K33: 3.6 | L33: Med | M33: =IF(L33="Lo",0.8,IF(L33="Med",1,(IF(L33="Hi",1.2,"error")))) -> 1 | N33: 26 | P33: IAFH | Q33: IAFH | T33: IAFH | V33: IAFH | X33: IAFH
A34: 4 | B34: CNBR | C34: 6775900 | D34: Dismal River near Thedford, NE | E34: Lincoln, NE | F34: Reference | G34: eco_only | H34: 44 | I34: Snag | J34: 660 | K34: 10.2 | L34: Med | M34: =IF(L34="Lo",0.8,IF(L34="Med",1,(IF(L34="Hi",1.2,"error")))) -> 1 | N34: 2500 | O34: IAFH | P34: IAFH | Q34: IAFH | S34: IAFH | T34: IAFH | U34: IAH | V34: IAFH | W34: IAH | X34: IAFH | Y34: IAH
A35: 4 | B35: CNBR | C35: 6800000 | D35: Maple Creek near Nickerson, NE | E35: Lincoln, NE | F35: Ag. ind. | G35: rotate2 | H35: 47 | I35: Snag | J35: 194 | K35: 3.4 | L35: Med | M35: =IF(L35="Lo",0.8,IF(L35="Med",1,(IF(L35="Hi",1.2,"error")))) -> 1 | N35: 955 | O35: IAFH | P35: IAFH | Q35: IAFH | R35: IAH | S35: IAFH | U35: IAFH | W35: IAFH | Y35: IAFH
A36: 4 | B36: SPLT | C36: 6713500 | D36: Cherry Creek at Denver, CO | E36: Lakewood, CO | F36: Urb. ind. | G36: rotate2 | H36: 25 | I36: Riffle | J36: 28 | K36: 0.8 | L36: Lo | M36: =IF(L36="Lo",0.8,IF(L36="Med",1,(IF(L36="Hi",1.2,"error")))) -> 0.8 | N36: 1060 | O36: IAFH | P36: IAFH | Q36: IAFH | R36: IAH | S36: IAFH | T36: IAFH | V36: IAFH | X36: IAFH
A37: 4 | B37: YELL | C37: 6324970 | D37: Little Powder River near Weston, WY | E37: Cheyenne, WY | F37: Reference | G37: rotate4 | H37: 43 | I37: Riffle | J37: 600 | K37: 8.8 | L37: Med | M37: =IF(L37="Lo",0.8,IF(L37="Med",1,(IF(L37="Hi",1.2,"error")))) -> 1 | N37: 3200 | O37: IAFH | P37: IAFH | Q37: IAFH | S37: IAFH | T37: IAFH | U37: IAFH-2 | V37: IAH | W37: IAFH | X37: IAH | Y37: IAFH | Z37: Y | AB37: Yes
A38: 5 | B38: ACAD | C38: 8014500 | D38: Ouiska (Whiskey) Chitto Creek near Oberlin, LA | E38: Baton Rouge, LA | F38: Reference | G38: rotate4 | H38: 35 | I38: Snag | J38: 340 | K38: 5.6 | L38: Med | M38: =IF(L38="Lo",0.8,IF(L38="Med",1,(IF(L38="Hi",1.2,"error")))) -> 1 | N38: 1310 | O38: IAFH | P38: IAFH | Q38: IAFH | R38: IAH | S38: IAFH | T38: IAH | U38: IAFH | V38: IAH | W38: IAFH | X38: IAH | Y38: IAFH
A39: 5 | B39: OZRK | C39: 7053250 | D39: Yocum Creek near Oak Grove, AR | E39: Little Rock, AR | F39: Ag. ind. | G39: rotate4 | H39: 39 | I39: Riffle | J39: 380 | K39: 8.2 | L39: Hi | M39: =IF(L39="Lo",0.8,IF(L39="Med",1,(IF(L39="Hi",1.2,"error")))) -> 1.2 | N39: 134 | O39: IAFH | P39: IAFH | Q39: IAFH | R39: IAH | S39: IAFH | T39: IAFH-2 | U39: IAFH | V39: IAFH | X39: IAFH | Z39: Y | AA39: Yes
A40: 5 | B40: OZRK | C40: 7060710 | D40: North Sylamore Creek near Fifty Six, AR | E40: Little Rock, AR | F40: Reference | G40: rotate4 | H40: 39 | I40: Riffle | J40: 260 | K40: 6.2 | L40: Med | M40: =IF(L40="Lo",0.8,IF(L40="Med",1,(IF(L40="Hi",1.2,"error")))) -> 1 | N40: 150 | O40: IAFH | P40: IAFH | Q40: IAFH | R40: IAH | S40: IAFH | T40: IAFH-2 | U40: IAFH | V40: IAH | W40: IAFH | X40: IAH | Y40: IAFH | Z40: Y | AA40: Yes
...

Sheet FY11 Eco site net costs
H1: FY11 $ (Net) | Q1: FY11 $ GROSS
A2: MRB | B2: Cycle II Study Unit abbrev-iation | C2: Station number | D2: Station name | E2: PROPOSED COST CENTER TO DO SAMPLING | F2: Cycle II site type | G2: Site group | H2: Eco Field Labor Cost (inc 22.4% lv assess) | I2: Eco Field Travel Cost (per diem) | J2: Eco Vehicle costs | K2: Eco Supply costs | L2: Eco Office Labor Costs (inc 22.4% lv assess) | M2: Eco QA / Mgt Labor Costs (inc 22.4% lv assess) | N2: Eco WSC net cost incl 10% contingency | O2: Dist Direct Cost | P2: Over-head Cost | Q2: Eco WSC Total Cost
A3: 1 | B3: CONN | C3: 1170100 | D3: Green River near Colrain, MA | E3: East Hartford, CT | F3: Reference | G3: rotate4 | H3: 3942.8865 | I3: 0 | J3: 1145.32 | K3: 715.52195 | L3: 2886.6488 | M3: 787.13982 | N3: 10425.269 | O3: 0 | P3: 5316.8871 | Q3: 15742.156
A4: 1 | B4: CONN | C4: 1209710 | D4: Norwalk River at Winnipauk,CT | E4: East Hartford, CT | F4: Urb. ind. | G4: rotate4 | H4: 0 | I4: 0 | J4: 0 | K4: 0 | L4: 0 | M4: 0 | N4: 0 | O4: 0 | P4: 0 | Q4: 0
A5: 1 | B5: DELR | C5: 1464907 | D5: Little Neshaminy Creek near Warminster, PA | E5: West Trenton, NJ | F5: Urb. ind. | G5: rotate4 | H5: 0 | I5: 0 | J5: 0 | K5: 0 | L5: 0 | M5: 0 | N5: 0 | O5: 0 | P5: 0 | Q5: 0
A6: 1 | B6: DELR | C6: 1472157 | D6: French Creek near Phoenixville, PA | E6: West Trenton, NJ | F6: Reference | G6: rotate4 | H6: 4031.2528 | I6: 0 | J6: 902.88 | K6: 715.52195 | L6: 2946.2406 | M6: 803.961 | N6: 10339.842 | O6: 3446.2694 | P6: 3466.9313 | Q6: 17253.043
A7: 1 | B7: HDSN | C7: 1349150 | D7: Canajoharie Creek near Canajoharie, NY | E7: Troy, NY | F7: Ag. ind. | G7: rotate4 | H7: 3542.5525 | I7: 0 | J7: 1003.2 | K7: 715.52195 | L7: 2646.0184 | M7: 719.55738 | N7: 9489.5353 | O7: 3511.1281 | P7: 5720.2919 | Q7: 18720.955
A8: 1 | B8: HDSN | C8: 1356190 | D8: Lisha Kill northwest of Niskayuna, NY | E8: Troy, NY | F8: Urb. ind. | G8: rotate2 | H8: 0 | I8: 0 | J8: 0 | K8: 0 | L8: 0 | M8: 0 | N8: 0 | O8: 0 | P8: 0 | Q8: 0
A9: 1 | B9: LINJ | C9: 1403900 | D9: Bound Brook at Middlesex, NJ | E9: West Trenton, NJ | F9: Urb. ind. | G9: rotate4 | H9: 4112.1352 | I9: 0 | J9: 810.92 | K9: 715.52195 | L9: 2946.2406 | M9: 803.961 | N9: 10327.657 | O9: 3442.208 | P9: 3462.8456 | Q9: 17232.71
A10: 1 | B10: PODL | C10: 1610400 | D10: Waites Run near Wardensville, WV | E10: Baltimore, MD | F10: Reference | G10: rotate4 | H10: 5653.9994 | I10: 1016.785 | J10: 1755.6 | K10: 715.52195 | L10: 2853.4584 | M10: 777.9105 | N10: 14050.603 | O10: 0 | P10: 7727.8315 | Q10: 21778.434
A11: 1 | B11: PODL | C11: 1621050 | D11: Muddy Creek at Mount Clinton, VA | E11: Baltimore, MD | F11: Ag. ind. | G11: rotate4 | H11: 5804.0044 | I11: 0 | J11: 2173.6 | K11: 715.52195 | L11: 2853.4584 | M11: 777.9105 | N11: 13556.945 | O11: 0 | P11: 7456.3196 | Q11: 21013.264
A12: 1 | B12: PODL | C12: 1654000 | D12: Accotink Creek near Annandale, VA | E12: Baltimore, MD | F12: Urb. ind. | G12: rotate2 | H12: 0 | I12: 0 | J12: 0 | K12: 0 | L12: 0 | M12: 0 | N12: 0 | O12: 0 | P12: 0 | Q12: 0
A13: 2 | B13: ACFB | C13: 2335870 | D13: Sope Creek near Marietta, GA | E13: Atlanta, GA | F13: Urb. ind. | G13: rotate2 | H13: 0 | I13: 0 | J13: 0 | K13: 0 | L13: 0 | M13: 0 | N13: 0 | O13: 0 | P13: 0 | Q13: 0
A14: 2 | B14: ACFB | C14: 2338523 | D14: Hillibahatchee Creek near Franklin, GA | E14: Atlanta, GA | F14: Reference | G14: rotate4 | H14: 4258.7542 | I14: 435.765 | J14: 1170.4 | K14: 715.52195 | L14: 2752.3785 | M14: 749.32938 | N14: 11090.364 | O14: 1996.2655 | P14: 3664.2563 | Q14: 16750.886
... A60: 8 | B60: SOCA | C60: 11049400 | D60: Santa Ana River above Seven Oaks Dam, CA | E60: San Diego, CA | F60: Reference | G60: eco_only | H60: 4573.491 | I60: 435.765 | J60: 1421.2 | K60: 715.52195 | L60: 2852.7041 | M60: 777.76164 | N60: 11854.088 | O60: 1229.2689 | P60: 5433.5181 | Q60: 18516.875
D61: *Fish not collected by USGS due to endangered species issues; annual Fish collections at NF Skokomish by U. Washington | P61: Total for FY11 = | Q61: =SUM(Q3:Q60) -> 598844.62

Sheet SW sites
A1: Study unit | B1: Cycle II start | C1: Region | D1: MRB | E1: 39954 | G1: Type | H1: QW Sampling | I1: WSC Gross Stream gaging costs | J1: Ecology Sampling - Gross Costs
E2: Station | F2: Site name | H2: WSC Gross annual costs | J2: WSC Gross costs | K2: comments
A4: ACFB | B4: 2001 | C4: SE | D4: 2 | E4: 02335870 | F4: Sope Creek near Marietta, GA | G4: rotate2 | H4: ='FY11 chem site net costs'!R18 -> 0 | I4: ='FY11 chem site net costs'!S18 -> 0 | J4: ='FY11 Eco site net costs'!Q13 -> 0
A5: ACFB | B5: 2001 | C5: SE | D5: 2 | E5: 02338000 | F5: Chattahoochee River near Whitesburg, GA | G5: urbcore | H5: ='FY11 chem site net costs'!R19 -> 82273 | I5: ='FY11 chem site net costs'!S19 -> 0
A6: ACFB | B6: 2001 | C6: SE | D6: 2 | E6: 02338523 | F6: Hillibahatchee Creek near Franklin, GA | G6: rotate4 | H6: ='FY11 chem site net costs'!R20 -> 0 | I6: ='FY11 chem site net costs'!S20 -> 14570 | J6: ='FY11 Eco site net costs'!Q14 -> 16750.886
A7: ACFB | B7: 2001 | C7: SE | D7: 2 | E7: 02350080 | F7: Lime Creek near Cobb, GA | G7: rotate4 | H7: ='FY11 chem site net costs'!R21 -> 111637 | I7: ='FY11 chem site net costs'!S21 -> 14570
A8: ACFB | B8: 2001 | C8: SE | D8: 2 | E8: 02318500 | F8: Withlacoochee River near Quitman, GA | G8: rotate4 | H8: ='FY11 chem site net costs'!R28 -> 0 | I8: ='FY11 chem site net costs'!S28 -> 14570
A9: ALBE | B9: 2001 | C9: SE | D9: 2 | E9: 02084160 | F9: Chicod Cr near Simpson, NC | G9: rotate4 | H9: ='FY11 chem site net costs'!R22 -> 0 | I9: ='FY11 chem site net costs'!S22 -> 0
A10: ALBE | B10: 2001 | C10: SE | D10: 2 | E10: 02087580 | F10: Swift Creek near Apex, NC | G10: rotate2 | H10: ='FY11 chem site net costs'!R23 -> 73179 | I10: ='FY11 chem site net costs'!S23 -> 14556 | J10: ='FY11 Eco site net costs'!Q15 -> 12019.226
A11: ALBE | B11: 2001 | C11: SE | D11: 2 | E11: 02089500 | F11: Neuse River at Kinston, NC | G11: agcore | H11: ='FY11 chem site net costs'!R24 -> 69494 | I11: ='FY11 chem site net costs'!S24 -> 0
A12: ALBE | B12: 2001 | C12: SE | D12: 2 | E12: 02091500 | F12: Contentnea Creek at Hookerton, NC | G12: rotate4 | H12: ='FY11 chem site net costs'!R25 -> 0 | I12: ='FY11 chem site net costs'!S25 -> 0 | J12: ='FY11 Eco site net costs'!Q16 -> 0
A13: CCYK | B13: 2001 | C13: West | D13: 7 | E13: 12464770 | F13: Crab Creek near Ritzville, WA | G13: rotate4 | H13: ='FY11 chem site net costs'!R99 -> 0 | I13: ='FY11 chem site net costs'!S99 -> 15443 | J13: ='FY11 Eco site net costs'!Q49 -> 15907.017
A14: CCYK | B14: 2001 | C14: West | D14: 7 | E14: 12505450 | F14: Granger Drain at Granger, WA | G14: rotate4 | H14: ='FY11 chem site net costs'!R100 -> 0 | I14: ='FY11 chem site net costs'!S100 -> 15443 | J14: ='FY11 Eco site net costs'!Q50 -> 0
A15: CCYK | B15: 2001 | C15: West | D15: 7 | E15: 12510500 | F15: Yakima River at Kiona, WA | G15: rotate4 | H15: ='FY11 chem site net costs'!R101 -> 0 | I15: ='FY11 chem site net costs'!S101 -> 0
A16: CNBR | B16: 2001 | C16: Central | D16: 4 | E16: 06775900 | F16: Dismal River near Thedford, NE | G16: eco_only | H16: 0 | I16: 0 | J16: ='FY11 Eco site net costs'!Q34 -> 25920.403
A17: CNBR | B17: 2001 | C17: Central | D17: 4 | E17: 06795500 | F17: Shell Creek near Columbus, NE | G17: rotate4 | H17: ='FY11 chem site net costs'!R63 -> 0 | I17: ='FY11 chem site net costs'!S63 -> 0
A18: CNBR | B18: 2001 | C18: Central | D18: 4 | E18: 06800000 | F18: Maple Creek near Nickerson, NE | G18: rotate2 | H18: ='FY11 chem site net costs'!R64 -> 0 | I18: ='FY11 chem site net costs'!S64 -> 0 | J18: ='FY11 Eco site net costs'!Q35 -> 0
A19: CNBR | B19: 2001 | C19: Central | D19: 4 | E19: 06800500 | F19: Elkhorn River at Waterloo, NE | G19: rotate4 | H19: ='FY11 chem site net costs'!R65 -> 77564 | I19: ='FY11 chem site net costs'!S65 -> 0
A20: CNBR | B20: 2001 | C20: Central | D20: 4 | E20: 06805500 | F20: Platte River at Louisville, NE | G20: agcore | H20: ='FY11 chem site net costs'!R66 -> 60769 | I20: ='FY11 chem site net costs'!S66 -> 12093
A21: CONN | B21: 2001 | C21: NE | D21: 1 | E21: 01170100 | F21: Green River near Colrain, MA | G21: rotate4 | H21: ='FY11 chem site net costs'!R2 -> 0 | I21: ='FY11 chem site net costs'!S2 -> 0 | J21: ='FY11 Eco site net costs'!Q3 -> 15742.156
A22: CONN | B22: 2001 | C22: NE | D22: 1 | E22: 01184000 | F22: Connecticut River at Thompsonville, CT | G22: rotate4 | H22: ='FY11 chem site net costs'!R3 -> 0 | I22: ='FY11 chem site net costs'!S3 -> 0
A23: CONN | B23: 2001 | C23: NE | D23: 1 | E23: 01209710 | F23: Norwalk River at Winnipauk,CT | G23: rotate4 | H23: ='FY11 chem site net costs'!R4 -> 0 | I23: ='FY11 chem site net costs'!S4 -> 0 | J23: ='FY11 Eco site net costs'!Q4 -> 0
A24: CONN | C24: NE | D24: 1 | E24: 01104615 | F24: Charles River near Watertown, MA | G24: rotate4 | H24: ='FY11 chem site net costs'!R13 -> 94455 | I24: ='FY11 chem site net costs'!S13 -> 5681
A25: GAFL | B25: 2001 | C25: SE | D25: 2 | E25: 02306774 | F25: Rocky Creek near Citrus Park, FL | G25: rotate4 | H25: ='FY11 chem site net costs'!R26 -> 0 | I25: ='FY11 chem site net costs'!S26 -> 0
A26: GAFL | B26: 2001 | C26: SE | D26: 2 | E26: 02317797 | F26: Little River near Tifton, GA | G26: rotate4 | H26: ='FY11 chem site net costs'!R27 -> 0 | I26: ='FY11 chem site net costs'!S27 -> 0
A27: GAFL | B27: 2001 | C27: SE | D27: 2 | E27: 02318500 | F27: Withlacoochee River near Quitman, GA | G27: rotate4 | H27: ='FY11 chem site net costs'!R28 -> 0 | I27: 0
A28: NVBR | B28: 2001 | C28: West | D28: 6 | E28: 094196783 | F28: Las Vegas Wash near Las Vegas, NV | G28: rotate2 | H28: ='FY11 chem site net costs'!R93 -> 59827 | I28: ='FY11 chem site net costs'!S93 -> 0
A29: NVBR | B29: 2001 | C29: West | D29: 6 | E29: 10311400 | F29: Carson River near Carson City, NV | G29: rotate4 | H29: ='FY11 chem site net costs'!R94 -> 0 | I29: ='FY11 chem site net costs'!S94 -> 0
A30: NVBR | B30: 2001 | C30: West | D30: 6 | E30: 10350500 | F30: Truckee River at Clark, NV | G30: rotate4 | H30: ='FY11 chem site net costs'!R95 -> 0 | I30: ='FY11 chem site net costs'!S95 -> 0
A31: PODL | B31: 2001 | C31: NE | D31: 1 | E31: 01610400 | F31: Waites Run near Wardensville, WV | G31: rotate4 | H31: ='FY11 chem site net costs'!R14 -> 28698 | I31: ='FY11 chem site net costs'!S14 -> 15007 | J31: ='FY11 Eco site net costs'!Q10 -> 21778.434
A32: PODL | B32: 2001 | C32: NE | D32: 1 | E32: 01621050 | F32: Muddy Creek at Mount Clinton, VA | G32: rotate4 | H32: ='FY11 chem site net costs'!R15 -> 0 | I32: ='FY11 chem site net costs'!S15 -> 14542 | J32: ='FY11 Eco site net costs'!Q11 -> 21013.264
A33: PODL | B33: 2001 | C33: NE | D33: 1 | E33: 01646580 | F33: Potomac River at Washington, DC | G33: agcore | H33: ='FY11 chem site net costs'!R16 -> 81219 | I33: ='FY11 chem site net costs'!S16 -> 0
A34: PODL | B34: 2001 | C34: NE | D34: 1 | E34: 01654000 | F34: Accotink Creek near Annandale, VA | G34: rotate2 | H34: ='FY11 chem site net costs'!R17 -> 0 | I34: ='FY11 chem site net costs'!S17 -> 0 | J34: ='FY11 Eco site net costs'!Q12 -> 0
A35: SANJ | B35: 2001 | C35: West | D35: 8 | E35: 11273500 | F35: Merced River near Newman, CA | G35: rotate4 | H35: ='FY11 chem site net costs'!R114 -> 0 | I35: ='FY11 chem site net costs'!S114 -> 6105 | J35: ='FY11 Eco site net costs'!Q57 -> 18313.193
A36: SANJ | B36: 2001 | C36: West | D36: 8 | E36: 11274538 | F36: Orestimba Creek near Crows Landing, CA | G36: rotate4 | H36: ='FY11 chem site net costs'!R115 -> 0 | I36: ='FY11 chem site net costs'!S115 -> 12113 | J36: ='FY11 Eco site net costs'!Q58 -> 0
A37: SANJ | B37: 2001 | C37: West | D37: 8 | E37: 11303500 | F37: San Joaquin River near Vernalis, CA | G37: agcore | H37: ='FY11 chem site net costs'!R116 -> 100070 | I37: ='FY11 chem site net costs'!S116 -> 0
A38: SANJ | B38: 2001 | C38: West | D38: 8 | E38: 11335000 | F38: Cosumnes River at Michigan Bar, CA | G38: eco_only | H38: ='FY11 chem site net costs'!R117 -> 0 | I38: ='FY11 chem site net costs'!S117 -> 0 | J38: ='FY11 Eco site net costs'!Q59 -> 8176.2611
A39: SPLT | B39: 2001 | C39: Central | D39: 4 | E39: 06713500 | F39: Cherry Creek at Denver, CO | G39: rotate2 | H39: ='FY11 chem site net costs'!R67 -> 84652 | I39: ='FY11 chem site net costs'!S67 -> 0 | J39: ='FY11 Eco site net costs'!Q36 -> 13548.399
A40: SPLT | B40: 2001 | C40: Central | D40: 4 | E40: 06754000 | F40: South Platte River near Kersey, CO | G40: rotate4 | H40: ='FY11 chem site net costs'!R68 -> 0 | I40: ='FY11 chem site net costs'!S68 -> 0
A41: TRIN | B41: 2001 | C41: Central | D41: 5 | E41: 08051500 | F41: Clear Creek near Sanger, TX | G41: rotate4 | H41: ='FY11 chem site net costs'!R83 -> 0 | I41: ='FY11 chem site net costs'!S83 -> 0 | J41: ='FY11 Eco site net costs'!Q43 -> 12050.518
...

Sheet FY11 sampling by SU
A1: 40318 | D1: Gross Annual SW S&T Costs (at FY10 NWQL prices) | N1: Gross Annual SW S&T Costs (Costs in columns C-J adjusted to fit within target)
D2: Chemistry | G2: Ecology | I2: Total | N2: Chemistry | Q2: Ecology | S2: Total
A3: Study Unit | C3: MRB | D3: Lab Analysis (includes QC) | E3: Sampling & Data Review | F3: Streamflow Gaging | G3: Lab Analysis (includes QC) | H3: Sampling & Data Review | I3: Lab Analysis | J3: SU Costs | K3: TOTAL | M3: Target Adjustment Factor | N3: Lab Analysis (including QC) | O3: Sampling & Data Review | P3: Streamflow Gaging | Q3: Lab Analysis (including QC) | R3: Sampling & Data Review | S3: Lab Analysis | T3: SU Costs | U3: TOTAL
A4: ACFB | B4: 01 | C4: 2 | D4: 31967.59 | E4: =SUM('SW sites'!H4:'SW sites'!H8) -> 193910 | F4: =SUM('SW sites'!I4:'SW sites'!I8) -> 43710 | G4: 3896.28 | H4: =SUM('SW sites'!J4:'SW sites'!J8) -> 16750.886 | I4: =D4+G4 -> 35863.87 | J4: =E4+H4+F4 -> 254370.89 | K4: =I4+J4 -> 290234.76 | M4: 1 | N4: =D4 -> 31967.59 | O4: =E4*$M4 -> 193910 | P4: =F4*$M4 -> 43710 | Q4: =G4 -> 3896.28 | R4: =H4*$M4 -> 16750.886 | S4: =N4+Q4 -> 35863.87 | T4: =O4+R4+P4 -> 254370.89 | U4: =S4+T4 -> 290234.76
A5: ALBE | B5: 01 | C5: 2 | D5: 38467.59 | E5: =SUM('SW sites'!H9:'SW sites'!H12) -> 142673 | F5: =SUM('SW sites'!I9:'SW sites'!I12) -> 14556 | G5: 3896.28 | H5: =SUM('SW sites'!J9:'SW sites'!J12) -> 12019.226 | I5: =D5+G5 -> 42363.87 | J5: =E5+H5+F5 -> 169248.23 | K5: =I5+J5 -> 211612.1 | M5: 1 | N5: =D5 -> 38467.59 | O5: =E5*$M5 -> 142673 | P5: =F5*$M5 -> 14556 | Q5: =G5 -> 3896.28 | R5: =H5*$M5 -> 12019.226 | S5: =N5+Q5 -> 42363.87 | T5: =O5+R5+P5 -> 169248.23 | U5: =S5+T5 -> 211612.1
A6: CCYK | B6: 01 | C6: 7 | D6: 0 | E6: =SUM('SW sites'!H13:'SW sites'!H15) -> 0 | F6: =SUM('SW sites'!I13:'SW sites'!I15) -> 30886 | G6: 3896.28 | H6: =SUM('SW sites'!J13:'SW sites'!J15) -> 15907.017 | I6: =D6+G6 -> 3896.28 | J6: =E6+H6+F6 -> 46793.017 | K6: =I6+J6 -> 50689.297 | M6: 1 | N6: =D6 -> 0 | O6: =E6*$M6 -> 0 | P6: =F6*$M6 -> 30886 | Q6: =G6 -> 3896.28 | R6: =H6*$M6 -> 15907.017 | S6: =N6+Q6 -> 3896.28 | T6: =O6+R6+P6 -> 46793.017 | U6: =S6+T6 -> 50689.297
A7: CNBR | B7: 01 | C7: 4 | D7: 35750.13 | E7: =SUM('SW sites'!H16:'SW sites'!H20) -> 138333 | F7: =SUM('SW sites'!I16:'SW sites'!I20) -> 12093 | G7: 3896.28 | H7: =SUM('SW sites'!J16:'SW sites'!J20) -> 25920.403 | I7: =D7+G7 -> 39646.41 | J7: =E7+H7+F7 -> 176346.4 | K7: =I7+J7 -> 215992.81 | M7: 1 | N7: =D7 -> 35750.13 | O7: =E7*$M7 -> 138333 | P7: =F7*$M7 -> 12093 | Q7: =G7 -> 3896.28 | R7: =H7*$M7 -> 25920.403 | S7: =N7+Q7 -> 39646.41 | T7: =O7+R7+P7 -> 176346.4 | U7: =S7+T7 -> 215992.81
A8: CONN | B8: 01 | C8: 1 | D8: 14179.31 | E8: =SUM('SW sites'!H21:'SW sites'!H24) -> 94455 | F8: =SUM('SW sites'!I21:'SW sites'!I24) -> 5681 | G8: 3896.28 | H8: =SUM('SW sites'!J21:'SW sites'!J24) -> 15742.156 | I8: =D8+G8 -> 18075.59 | J8: =E8+H8+F8 -> 115878.16 | K8: =I8+J8 -> 133953.75 | M8: 1 | N8: =D8 -> 14179.31 | O8: =E8*$M8 -> 94455 | P8: =F8*$M8 -> 5681 | Q8: =G8 -> 3896.28 | R8: =H8*$M8 -> 15742.156 | S8: =N8+Q8 -> 18075.59 | T8: =O8+R8+P8 -> 115878.16 | U8: =S8+T8 -> 133953.75
A9: GAFL | B9: 01 | C9: 2 | D9: 0 | E9: =SUM('SW sites'!H25:'SW sites'!H27) -> 0 | F9: =SUM('SW sites'!I25:'SW sites'!I27) -> 0 | G9: 0 | H9: =SUM('SW sites'!J25:'SW sites'!J27) -> 0 | I9: =D9+G9 -> 0 | J9: =E9+H9+F9 -> 0 | K9: =I9+J9 -> 0 | M9: 1 | N9: =D9 -> 0 | O9: =E9*$M9 -> 0 | P9: =F9*$M9 -> 0 | Q9: =G9 -> 0 | R9: =H9*$M9 -> 0 | S9: =N9+Q9 -> 0 | T9: =O9+R9+P9 -> 0 | U9: =S9+T9 -> 0
A10: NVBR | B10: 01 | C10: 6 | D10: 20209.31 | E10: =SUM('SW sites'!H28:'SW sites'!H30) -> 59827 | F10: =SUM('SW sites'!I28:'SW sites'!I30) -> 0 | G10: 0 | H10: =SUM('SW sites'!J28:'SW sites'!J30) -> 0 | I10: =D10+G10 -> 20209.31 | J10: =E10+H10+F10 -> 59827 | K10: =I10+J10 -> 80036.31 | M10: 1 | N10: =D10 -> 20209.31 | O10: =E10*$M10 -> 59827 | P10: =F10*$M10 -> 0 | Q10: =G10 -> 0 | R10: =H10*$M10 -> 0 | S10: =N10+Q10 -> 20209.31 | T10: =O10+R10+P10 -> 59827 | U10: =S10+T10 -> 80036.31
A11: PODL | B11: 01 | C11: 1 | D11: 22486.12 | E11: =SUM('SW sites'!H31:'SW sites'!H34) -> 109917 | F11: =SUM('SW sites'!I31:'SW sites'!I34) -> 29549 | G11: 7792.56 | H11: =SUM('SW sites'!J31:'SW sites'!J34) -> 42791.699 | I11: =D11+G11 -> 30278.68 | J11: =E11+H11+F11 -> 182257.7 | K11: =I11+J11 -> 212536.38 | M11: 1 | N11: =D11 -> 22486.12 | O11: =E11*$M11 -> 109917 | P11: =F11*$M11 -> 29549 | Q11: =G11 -> 7792.56 | R11: =H11*$M11 -> 42791.699 | S11: =N11+Q11 -> 30278.68 | T11: =O11+R11+P11 -> 182257.7 | U11: =S11+T11 -> 212536.38
A12: SANJ | B12: 01 | C12: 8 | D12: 24824.94 | E12: =SUM('SW sites'!H35:'SW sites'!H38) -> 100070 | F12: =SUM('SW sites'!I35:'SW sites'!I38) -> 18218 | G12: 7792.56 | H12: =SUM('SW sites'!J35:'SW sites'!J38) -> 26489.454 | I12: =D12+G12 -> 32617.5 | J12: =E12+H12+F12 -> 144777.45 | K12: =I12+J12 -> 177394.95 | M12: 1 | N12: =D12 -> 24824.94 | O12: =E12*$M12 -> 100070 | P12: =F12*$M12 -> 18218 | Q12: =G12 -> 7792.56 | R12: =H12*$M12 -> 26489.454 | S12: =N12+Q12 -> 32617.5 | T12: =O12+R12+P12 -> 144777.45 | U12: =S12+T12 -> 177394.95
